Workbook

Sheet 1.общ.депозиты
A1: Раздел "Статистика" / "Банковская статистика" / "Депозиты в коммерческих банках, на конец периода"
A3: Таблица 1. Общий объем и средневзвешенные процентные ставки депозитов в действующих коммерческих банках (на конец периода)
A5: (тыс. сомов / проценты)
A6: Период | B6: Общий объем | C6: Средневз. ставка | D6: в том числе:
D7: в нац.валюте | F7: в иностр.валюте
D8: объем | E8: ставка | F8: объем | G8: ставка
A9: Январь 1996 г. | B9: =D9+F9 -> 356635.6 | C9: =(D9*E9+F9*G9)/(D9+F9) -> 22.951274 | D9: ='6.по срокам в нацвал'!B9 -> 235164.8 | E9: ='6.по срокам в нацвал'!C9 -> 28.422674 | F9: ='10.по срокам в инвал'!B9 -> 121470.8 | G9: ='10.по срокам в инвал'!C9 -> 12.358763
A10: Февраль | B10: =D10+F10 -> 431197.7 | C10: =(D10*E10+F10*G10)/(D10+F10) -> 20.448335 | D10: ='6.по срокам в нацвал'!B10 -> 298119.3 | E10: ='6.по срокам в нацвал'!C10 -> 24.767898 | F10: ='10.по срокам в инвал'!B10 -> 133078.4 | G10: ='10.по срокам в инвал'!C10 -> 10.771746
A11: Март | B11: =D11+F11 -> 547935.9 | C11: =(D11*E11+F11*G11)/(D11+F11) -> 16.923477 | D11: ='6.по срокам в нацвал'!B11 -> 389434.2 | E11: ='6.по срокам в нацвал'!C11 -> 17.787702 | F11: ='10.по срокам в инвал'!B11 -> 158501.7 | G11: ='10.по срокам в инвал'!C11 -> 14.800099
A12: Апрель | B12: =D12+F12 -> 764634.7 | C12: =(D12*E12+F12*G12)/(D12+F12) -> 12.261244 | D12: ='6.по срокам в нацвал'!B12 -> 583944.3 | E12: ='6.по срокам в нацвал'!C12 -> 11.613944 | F12: ='10.по срокам в инвал'!B12 -> 180690.4 | G12: ='10.по срокам в инвал'!C12 -> 14.353148
A13: Май | B13: =D13+F13 -> 514295.1 | C13: =(D13*E13+F13*G13)/(D13+F13) -> 16.102905 | D13: ='6.по срокам в нацвал'!B13 -> 348348.9 | E13: ='6.по срокам в нацвал'!C13 -> 15.778603 | F13: ='10.по срокам в инвал'!B13 -> 165946.2 | G13: ='10.по срокам в инвал'!C13 -> 16.783671
A14: Июнь | B14: =D14+F14 -> 550400.8 | C14: =(D14*E14+F14*G14)/(D14+F14) -> 15.187572 | D14: ='6.по срокам в нацвал'!B14 -> 422538.5 | E14: ='6.по срокам в нацвал'!C14 -> 14.975184 | F14: ='10.по срокам в инвал'!B14 -> 127862.3 | G14: ='10.по срокам в инвал'!C14 -> 15.88944
A15: Июль | B15: =D15+F15 -> 740365.3 | C15: =(D15*E15+F15*G15)/(D15+F15) -> 11.186106 | D15: ='6.по срокам в нацвал'!B15 -> 503768.8 | E15: ='6.по срокам в нацвал'!C15 -> 12.343408 | F15: ='10.по срокам в инвал'!B15 -> 236596.5 | G15: ='10.по срокам в инвал'!C15 -> 8.7219435
A16: Август | B16: =D16+F16 -> 665643.9 | C16: =(D16*E16+F16*G16)/(D16+F16) -> 12.473021 | D16: ='6.по срокам в нацвал'!B16 -> 448908.2 | E16: ='6.по срокам в нацвал'!C16 -> 14.081075 | F16: ='10.по срокам в инвал'!B16 -> 216735.7 | G16: ='10.по срокам в инвал'!C16 -> 9.1423802
A17: Сентябрь | B17: =D17+F17 -> 682368.7 | C17: =(D17*E17+F17*G17)/(D17+F17) -> 13.293665 | D17: ='6.по срокам в нацвал'!B17 -> 426418.2 | E17: ='6.по срокам в нацвал'!C17 -> 16.451625 | F17: ='10.по срокам в инвал'!B17 -> 255950.5 | G17: ='10.по срокам в инвал'!C17 -> 8.0324454
A18: Октябрь | B18: =D18+F18 -> 854244.4 | C18: =(D18*E18+F18*G18)/(D18+F18) -> 10.796218 | D18: ='6.по срокам в нацвал'!B18 -> 456755.5 | E18: ='6.по срокам в нацвал'!C18 -> 15.023193 | F18: ='10.по срокам в инвал'!B18 -> 397488.9 | G18: ='10.по срокам в инвал'!C18 -> 5.9389892
A19: Ноябрь | B19: =D19+F19 -> 850056.5 | C19: =(D19*E19+F19*G19)/(D19+F19) -> 11.957075 | D19: ='6.по срокам в нацвал'!B19 -> 463683.6 | E19: ='6.по срокам в нацвал'!C19 -> 16.201452 | F19: ='10.по срокам в инвал'!B19 -> 386372.9 | G19: ='10.по срокам в инвал'!C19 -> 6.8634269
A20: Декабрь | B20: =D20+F20 -> 874677.4 | C20: =(D20*E20+F20*G20)/(D20+F20) -> 11.703016 | D20: ='6.по срокам в нацвал'!B20 -> 483932.4 | E20: ='6.по срокам в нацвал'!C20 -> 15.573179 | F20: ='10.по срокам в инвал'!B20 -> 390745 | G20: ='10.по срокам в инвал'!C20 -> 6.9098715
... A380: Декабрь | B380: =D380+F380 -> 0 | C380: =(D380*E380+F380*G380)/(D380+F380) -> #DIV/0! | D380: ='6.по срокам в нацвал'!B380 -> 0 | E380: ='6.по срокам в нацвал'!C380 -> #DIV/0! | F380: ='10.по срокам в инвал'!B380 -> 0 | G380: ='10.по срокам в инвал'!C380 -> #DIV/0!
A382: * данные приведены без учета ОАО "АзияУниверсалБанк" в связи с отзывом лицензии
A383: **- предварительные данные

Sheet 2.общ.по срокам 
A1: Раздел "Статистика" / "Банковская статистика" / "Депозиты в коммерческих банках, на конец периода"
A3: Таблица 2. Общий объем и средневзвешенные процентные ставки депозитов в коммерческих банках (на конец периода)
A5: (тыс. сомов / проценты)
A6: Период | B6: Общий объем | C6: Средневз. cтавка | D6: Расчетные счета* | F6: До востребования | H6: Срочные депозиты | J6: в том числе, по срокам:
J7: 0 - 1 месяца | L7: 1 - 3 месяца | N7: 3 - 6 месяцев | P7: 6 - 12 месяцев | R7: 1 - 3 года | T7: более 3 лет
D8: объем | E8: средневзв. ставка | F8: объем | G8: средневзв. ставка | H8: объем | I8: средневзв. ставка | J8: объем | K8: средневзв. ставка | L8: объем | M8: средневзв. ставка | N8: объем | O8: средневзв. ставка | P8: объем | Q8: средневзв. ставка | R8: объем | S8: средневзв. ставка | T8: объем | U8: средневзв. ставка
A9: Январь 1996 г. | B9: ='3.физ-всего'!B9+'4.юрид-всего'!B9 -> 356635.6 | C9: =('3.физ-всего'!B9*'3.физ-всего'!C9+'4.юрид-всего'!B9*'4.юрид-всего'!C9)/('3.физ-всего'!B9+'4.юрид-всего'!B9) -> 22.951274 | F9: ='3.физ-всего'!F9+'4.юрид-всего'!F9 -> 139312.2 | G9: =('3.физ-всего'!F9*'3.физ-всего'!G9+'4.юрид-всего'!F9*'4.юрид-всего'!G9)/('3.физ-всего'!F9+'4.юрид-всего'!F9) -> 8.7794117 | H9: =J9+L9+N9+P9+R9+T9 -> 217323.4 | I9: =(J9*K9+L9*M9+N9*O9+P9*Q9+R9*S9+T9*U9)/(J9+L9+N9+P9+R9+T9) -> 32.035953 | J9: ='3.физ-всего'!J9+'4.юрид-всего'!J9 -> 18456.2 | K9: =('3.физ-всего'!J9*'3.физ-всего'!K9+'4.юрид-всего'!J9*'4.юрид-всего'!K9)/('3.физ-всего'!J9+'4.юрид-всего'!J9) -> 31.556716 | L9: ='3.физ-всего'!L9+'4.юрид-всего'!L9 -> 65410.3 | M9: =('3.физ-всего'!L9*'3.физ-всего'!M9+'4.юрид-всего'!L9*'4.юрид-всего'!M9)/('3.физ-всего'!L9+'4.юрид-всего'!L9) -> 29.444254 | N9: ='3.физ-всего'!N9+'4.юрид-всего'!N9 -> 77058.1 | O9: =('3.физ-всего'!N9*'3.физ-всего'!O9+'4.юрид-всего'!N9*'4.юрид-всего'!O9)/('3.физ-всего'!N9+'4.юрид-всего'!N9) -> 35.723914 | P9: ='3.физ-всего'!P9+'4.юрид-всего'!P9 -> 37489.7 | Q9: =('3.физ-всего'!P9*'3.физ-всего'!Q9+'4.юрид-всего'!P9*'4.юрид-всего'!Q9)/('3.физ-всего'!P9+'4.юрид-всего'!P9) -> 24.831538 | R9: ='3.физ-всего'!R9+'4.юрид-всего'!R9 -> 18909.1 | S9: =('3.физ-всего'!R9*'3.физ-всего'!S9+'4.юрид-всего'!R9*'4.юрид-всего'!S9)/('3.физ-всего'!R9+'4.юрид-всего'!R9) -> 40.723445
A10: Февраль | B10: ='3.физ-всего'!B10+'4.юрид-всего'!B10 -> 431197.7 | C10: =('3.физ-всего'!B10*'3.физ-всего'!C10+'4.юрид-всего'!B10*'4.юрид-всего'!C10)/('3.физ-всего'!B10+'4.юрид-всего'!B10) -> 20.448335 | F10: ='3.физ-всего'!F10+'4.юрид-всего'!F10 -> 203903.9 | G10: =('3.физ-всего'!F10*'3.физ-всего'!G10+'4.юрид-всего'!F10*'4.юрид-всего'!G10)/('3.физ-всего'!F10+'4.юрид-всего'!F10) -> 7.3198689 | H10: =J10+L10+N10+P10+R10+T10 -> 227293.8 | I10: =(J10*K10+L10*M10+N10*O10+P10*Q10+R10*S10+T10*U10)/(J10+L10+N10+P10+R10+T10) -> 32.225803 | J10: ='3.физ-всего'!J10+'4.юрид-всего'!J10 -> 12802.3 | K10: =('3.физ-всего'!J10*'3.физ-всего'!K10+'4.юрид-всего'!J10*'4.юрид-всего'!K10)/('3.физ-всего'!J10+'4.юрид-всего'!J10) -> 24.421448 | L10: ='3.физ-всего'!L10+'4.юрид-всего'!L10 -> 71762 | M10: =('3.физ-всего'!L10*'3.физ-всего'!M10+'4.юрид-всего'!L10*'4.юрид-всего'!M10)/('3.физ-всего'!L10+'4.юрид-всего'!L10) -> 29.335911 | N10: ='3.физ-всего'!N10+'4.юрид-всего'!N10 -> 80912.3 | O10: =('3.физ-всего'!N10*'3.физ-всего'!O10+'4.юрид-всего'!N10*'4.юрид-всего'!O10)/('3.физ-всего'!N10+'4.юрид-всего'!N10) -> 35.66666 | P10: ='3.физ-всего'!P10+'4.юрид-всего'!P10 -> 50843.1 | Q10: =('3.физ-всего'!P10*'3.физ-всего'!Q10+'4.юрид-всего'!P10*'4.юрид-всего'!Q10)/('3.физ-всего'!P10+'4.юрид-всего'!P10) -> 31.289049 | R10: ='3.физ-всего'!R10+'4.юрид-всего'!R10 -> 10974.1 | S10: =('3.физ-всего'!R10*'3.физ-всего'!S10+'4.юрид-всего'!R10*'4.юрид-всего'!S10)/('3.физ-всего'!R10+'4.юрид-всего'!R10) -> 39.198403
A11: Март | B11: ='3.физ-всего'!B11+'4.юрид-всего'!B11 -> 547935.9 | C11: =('3.физ-всего'!B11*'3.физ-всего'!C11+'4.юрид-всего'!B11*'4.юрид-всего'!C11)/('3.физ-всего'!B11+'4.юрид-всего'!B11) -> 16.923477 | F11: ='3.физ-всего'!F11+'4.юрид-всего'!F11 -> 319773.5 | G11: =('3.физ-всего'!F11*'3.физ-всего'!G11+'4.юрид-всего'!F11*'4.юрид-всего'!G11)/('3.физ-всего'!F11+'4.юрид-всего'!F11) -> 6.4940511 | H11: =J11+L11+N11+P11+R11+T11 -> 228162.4 | I11: =(J11*K11+L11*M11+N11*O11+P11*Q11+R11*S11+T11*U11)/(J11+L11+N11+P11+R11+T11) -> 31.540495 | J11: ='3.физ-всего'!J11+'4.юрид-всего'!J11 -> 15829.6 | K11: =('3.физ-всего'!J11*'3.физ-всего'!K11+'4.юрид-всего'!J11*'4.юрид-всего'!K11)/('3.физ-всего'!J11+'4.юрид-всего'!J11) -> 24.775919 | L11: ='3.физ-всего'!L11+'4.юрид-всего'!L11 -> 78416.6 | M11: =('3.физ-всего'!L11*'3.физ-всего'!M11+'4.юрид-всего'!L11*'4.юрид-всего'!M11)/('3.физ-всего'!L11+'4.юрид-всего'!L11) -> 28.878591 | N11: ='3.физ-всего'!N11+'4.юрид-всего'!N11 -> 89255.9 | O11: =('3.физ-всего'!N11*'3.физ-всего'!O11+'4.юрид-всего'!N11*'4.юрид-всего'!O11)/('3.физ-всего'!N11+'4.юрид-всего'!N11) -> 33.980482 | P11: ='3.физ-всего'!P11+'4.юрид-всего'!P11 -> 39579.4 | Q11: =('3.физ-всего'!P11*'3.физ-всего'!Q11+'4.юрид-всего'!P11*'4.юрид-всего'!Q11)/('3.физ-всего'!P11+'4.юрид-всего'!P11) -> 32.968811 | R11: ='3.физ-всего'!R11+'4.юрид-всего'!R11 -> 5080.9 | S11: =('3.физ-всего'!R11*'3.физ-всего'!S11+'4.юрид-всего'!R11*'4.юрид-всего'!S11)/('3.физ-всего'!R11+'4.юрид-всего'!R11) -> 39.708886
A12: Апрель | B12: ='3.физ-всего'!B12+'4.юрид-всего'!B12 -> 764634.7 | C12: =('3.физ-всего'!B12*'3.физ-всего'!C12+'4.юрид-всего'!B12*'4.юрид-всего'!C12)/('3.физ-всего'!B12+'4.юрид-всего'!B12) -> 12.261244 | F12: ='3.физ-всего'!F12+'4.юрид-всего'!F12 -> 500733 | G12: =('3.физ-всего'!F12*'3.физ-всего'!G12+'4.юрид-всего'!F12*'4.юрид-всего'!G12)/('3.физ-всего'!F12+'4.юрид-всего'!F12) -> 2.6003252 | H12: =J12+L12+N12+P12+R12+T12 -> 263901.7 | I12: =(J12*K12+L12*M12+N12*O12+P12*Q12+R12*S12+T12*U12)/(J12+L12+N12+P12+R12+T12) -> 30.592088 | J12: ='3.физ-всего'!J12+'4.юрид-всего'!J12 -> 15300.4 | K12: =('3.физ-всего'!J12*'3.физ-всего'!K12+'4.юрид-всего'!J12*'4.юрид-всего'!K12)/('3.физ-всего'!J12+'4.юрид-всего'!J12) -> 21.999403 | L12: ='3.физ-всего'!L12+'4.юрид-всего'!L12 -> 86398.2 | M12: =('3.физ-всего'!L12*'3.физ-всего'!M12+'4.юрид-всего'!L12*'4.юрид-всего'!M12)/('3.физ-всего'!L12+'4.юрид-всего'!L12) -> 29.96065 | N12: ='3.физ-всего'!N12+'4.юрид-всего'!N12 -> 110268.2 | O12: =('3.физ-всего'!N12*'3.физ-всего'!O12+'4.юрид-всего'!N12*'4.юрид-всего'!O12)/('3.физ-всего'!N12+'4.юрид-всего'!N12) -> 31.224158 | P12: ='3.физ-всего'!P12+'4.юрид-всего'!P12 -> 47081.3 | Q12: =('3.физ-всего'!P12*'3.физ-всего'!Q12+'4.юрид-всего'!P12*'4.юрид-всего'!Q12)/('3.физ-всего'!P12+'4.юрид-всего'!P12) -> 32.606631 | R12: ='3.физ-всего'!R12+'4.юрид-всего'!R12 -> 4853.6 | S12: =('3.физ-всего'!R12*'3.физ-всего'!S12+'4.юрид-всего'!R12*'4.юрид-всего'!S12)/('3.физ-всего'!R12+'4.юрид-всего'!R12) -> 35.018106
A13: Май | B13: ='3.физ-всего'!B13+'4.юрид-всего'!B13 -> 514295.1 | C13: =('3.физ-всего'!B13*'3.физ-всего'!C13+'4.юрид-всего'!B13*'4.юрид-всего'!C13)/('3.физ-всего'!B13+'4.юрид-всего'!B13) -> 16.102905 | F13: ='3.физ-всего'!F13+'4.юрид-всего'!F13 -> 276871.4 | G13: =('3.физ-всего'!F13*'3.физ-всего'!G13+'4.юрид-всего'!F13*'4.юрид-всего'!G13)/('3.физ-всего'!F13+'4.юрид-всего'!F13) -> 4.1755961 | H13: =J13+L13+N13+P13+R13+T13 -> 237423.7 | I13: =(J13*K13+L13*M13+N13*O13+P13*Q13+R13*S13+T13*U13)/(J13+L13+N13+P13+R13+T13) -> 30.011925 | J13: ='3.физ-всего'!J13+'4.юрид-всего'!J13 -> 15033.1 | K13: =('3.физ-всего'!J13*'3.физ-всего'!K13+'4.юрид-всего'!J13*'4.юрид-всего'!K13)/('3.физ-всего'!J13+'4.юрид-всего'!J13) -> 20.653959 | L13: ='3.физ-всего'!L13+'4.юрид-всего'!L13 -> 71788.3 | M13: =('3.физ-всего'!L13*'3.физ-всего'!M13+'4.юрид-всего'!L13*'4.юрид-всего'!M13)/('3.физ-всего'!L13+'4.юрид-всего'!L13) -> 28.4506 | N13: ='3.физ-всего'!N13+'4.юрид-всего'!N13 -> 104497.8 | O13: =('3.физ-всего'!N13*'3.физ-всего'!O13+'4.юрид-всего'!N13*'4.юрид-всего'!O13)/('3.физ-всего'!N13+'4.юрид-всего'!N13) -> 30.722948 | P13: ='3.физ-всего'!P13+'4.юрид-всего'!P13 -> 40611.6 | Q13: =('3.физ-всего'!P13*'3.физ-всего'!Q13+'4.юрид-всего'!P13*'4.юрид-всего'!Q13)/('3.физ-всего'!P13+'4.юрид-всего'!P13) -> 33.860934 | R13: ='3.физ-всего'!R13+'4.юрид-всего'!R13 -> 5492.9 | S13: =('3.физ-всего'!R13*'3.физ-всего'!S13+'4.юрид-всего'!R13*'4.юрид-всего'!S13)/('3.физ-всего'!R13+'4.юрид-всего'!R13) -> 34.044261
A14: Июнь | B14: ='3.физ-всего'!B14+'4.юрид-всего'!B14 -> 550400.8 | C14: =('3.физ-всего'!B14*'3.физ-всего'!C14+'4.юрид-всего'!B14*'4.юрид-всего'!C14)/('3.физ-всего'!B14+'4.юрид-всего'!B14) -> 15.187572 | F14: ='3.физ-всего'!F14+'4.юрид-всего'!F14 -> 324135.3 | G14: =('3.физ-всего'!F14*'3.физ-всего'!G14+'4.юрид-всего'!F14*'4.юрид-всего'!G14)/('3.физ-всего'!F14+'4.юрид-всего'!F14) -> 4.3432216 | H14: =J14+L14+N14+P14+R14+T14 -> 226265.5 | I14: =(J14*K14+L14*M14+N14*O14+P14*Q14+R14*S14+T14*U14)/(J14+L14+N14+P14+R14+T14) -> 30.722583 | J14: ='3.физ-всего'!J14+'4.юрид-всего'!J14 -> 12140.1 | K14: =('3.физ-всего'!J14*'3.физ-всего'!K14+'4.юрид-всего'!J14*'4.юрид-всего'!K14)/('3.физ-всего'!J14+'4.юрид-всего'!J14) -> 13.615972 | L14: ='3.физ-всего'!L14+'4.юрид-всего'!L14 -> 70616.8 | M14: =('3.физ-всего'!L14*'3.физ-всего'!M14+'4.юрид-всего'!L14*'4.юрид-всего'!M14)/('3.физ-всего'!L14+'4.юрид-всего'!L14) -> 25.896432 | N14: ='3.физ-всего'!N14+'4.юрид-всего'!N14 -> 83037.9 | O14: =('3.физ-всего'!N14*'3.физ-всего'!O14+'4.юрид-всего'!N14*'4.юрид-всего'!O14)/('3.физ-всего'!N14+'4.юрид-всего'!N14) -> 35.228618 | P14: ='3.физ-всего'!P14+'4.юрид-всего'!P14 -> 54131.3 | Q14: =('3.физ-всего'!P14*'3.физ-всего'!Q14+'4.юрид-всего'!P14*'4.юрид-всего'!Q14)/('3.физ-всего'!P14+'4.юрид-всего'!P14) -> 32.275651 | R14: ='3.физ-всего'!R14+'4.юрид-всего'!R14 -> 6339.4 | S14: =('3.физ-всего'!R14*'3.физ-всего'!S14+'4.юрид-всего'!R14*'4.юрид-всего'!S14)/('3.физ-всего'!R14+'4.юрид-всего'!R14) -> 44.957671
A15: Июль | B15: ='3.физ-всего'!B15+'4.юрид-всего'!B15 -> 740365.3 | C15: =('3.физ-всего'!B15*'3.физ-всего'!C15+'4.юрид-всего'!B15*'4.юрид-всего'!C15)/('3.физ-всего'!B15+'4.юрид-всего'!B15) -> 11.186106 | F15: ='3.физ-всего'!F15+'4.юрид-всего'!F15 -> 503970.9 | G15: =('3.физ-всего'!F15*'3.физ-всего'!G15+'4.юрид-всего'!F15*'4.юрид-всего'!G15)/('3.физ-всего'!F15+'4.юрид-всего'!F15) -> 3.6053998 | H15: =J15+L15+N15+P15+R15+T15 -> 236394.4 | I15: =(J15*K15+L15*M15+N15*O15+P15*Q15+R15*S15+T15*U15)/(J15+L15+N15+P15+R15+T15) -> 27.347468 | J15: ='3.физ-всего'!J15+'4.юрид-всего'!J15 -> 33968.8 | K15: =('3.физ-всего'!J15*'3.физ-всего'!K15+'4.юрид-всего'!J15*'4.юрид-всего'!K15)/('3.физ-всего'!J15+'4.юрид-всего'!J15) -> 12.073082 | L15: ='3.физ-всего'!L15+'4.юрид-всего'!L15 -> 64892.4 | M15: =('3.физ-всего'!L15*'3.физ-всего'!M15+'4.юрид-всего'!L15*'4.юрид-всего'!M15)/('3.физ-всего'!L15+'4.юрид-всего'!L15) -> 24.875196 | N15: ='3.физ-всего'!N15+'4.юрид-всего'!N15 -> 75688.4 | O15: =('3.физ-всего'!N15*'3.физ-всего'!O15+'4.юрид-всего'!N15*'4.юрид-всего'!O15)/('3.физ-всего'!N15+'4.юрид-всего'!N15) -> 34.93142 | P15: ='3.физ-всего'!P15+'4.юрид-всего'!P15 -> 56799.7 | Q15: =('3.физ-всего'!P15*'3.физ-всего'!Q15+'4.юрид-всего'!P15*'4.юрид-всего'!Q15)/('3.физ-всего'!P15+'4.юрид-всего'!P15) -> 28.546539 | R15: ='3.физ-всего'!R15+'4.юрид-всего'!R15 -> 5045.1 | S15: =('3.физ-всего'!R15*'3.физ-всего'!S15+'4.юрид-всего'!R15*'4.юрид-всего'!S15)/('3.физ-всего'!R15+'4.юрид-всего'!R15) -> 34.713064
A16: Август | B16: ='3.физ-всего'!B16+'4.юрид-всего'!B16 -> 665643.9 | C16: =('3.физ-всего'!B16*'3.физ-всего'!C16+'4.юрид-всего'!B16*'4.юрид-всего'!C16)/('3.физ-всего'!B16+'4.юрид-всего'!B16) -> 12.473021 | F16: ='3.физ-всего'!F16+'4.юрид-всего'!F16 -> 443638.7 | G16: =('3.физ-всего'!F16*'3.физ-всего'!G16+'4.юрид-всего'!F16*'4.юрид-всего'!G16)/('3.физ-всего'!F16+'4.юрид-всего'!F16) -> 3.3661002 | H16: =J16+L16+N16+P16+R16+T16 -> 222005.2 | I16: =(J16*K16+L16*M16+N16*O16+P16*Q16+R16*S16+T16*U16)/(J16+L16+N16+P16+R16+T16) -> 30.671615 | J16: ='3.физ-всего'!J16+'4.юрид-всего'!J16 -> 18468.6 | K16: =('3.физ-всего'!J16*'3.физ-всего'!K16+'4.юрид-всего'!J16*'4.юрид-всего'!K16)/('3.физ-всего'!J16+'4.юрид-всего'!J16) -> 11.310045 | L16: ='3.физ-всего'!L16+'4.юрид-всего'!L16 -> 63491.8 | M16: =('3.физ-всего'!L16*'3.физ-всего'!M16+'4.юрид-всего'!L16*'4.юрид-всего'!M16)/('3.физ-всего'!L16+'4.юрид-всего'!L16) -> 28.076107 | N16: ='3.физ-всего'!N16+'4.юрид-всего'!N16 -> 89604.7 | O16: =('3.физ-всего'!N16*'3.физ-всего'!O16+'4.юрид-всего'!N16*'4.юрид-всего'!O16)/('3.физ-всего'!N16+'4.юрид-всего'!N16) -> 37.824135 | P16: ='3.физ-всего'!P16+'4.юрид-всего'!P16 -> 39853.6 | Q16: =('3.физ-всего'!P16*'3.физ-всего'!Q16+'4.юрид-всего'!P16*'4.юрид-всего'!Q16)/('3.физ-всего'!P16+'4.юрид-всего'!P16) -> 30.277148 | R16: ='3.физ-всего'!R16+'4.юрид-всего'!R16 -> 10586.5 | S16: =('3.физ-всего'!R16*'3.физ-всего'!S16+'4.юрид-всего'!R16*'4.юрид-всего'!S16)/('3.физ-всего'!R16+'4.юрид-всего'!R16) -> 20.960765
A17: Сентябрь | B17: ='3.физ-всего'!B17+'4.юрид-всего'!B17 -> 682368.7 | C17: =('3.физ-всего'!B17*'3.физ-всего'!C17+'4.юрид-всего'!B17*'4.юрид-всего'!C17)/('3.физ-всего'!B17+'4.юрид-всего'!B17) -> 13.293665 | F17: ='3.физ-всего'!F17+'4.юрид-всего'!F17 -> 440415.9 | G17: =('3.физ-всего'!F17*'3.физ-всего'!G17+'4.юрид-всего'!F17*'4.юрид-всего'!G17)/('3.физ-всего'!F17+'4.юрид-всего'!F17) -> 4.4325444 | H17: =J17+L17+N17+P17+R17+T17 -> 241952.8 | I17: =(J17*K17+L17*M17+N17*O17+P17*Q17+R17*S17+T17*U17)/(J17+L17+N17+P17+R17+T17) -> 29.423167 | J17: ='3.физ-всего'!J17+'4.юрид-всего'!J17 -> 19657.2 | K17: =('3.физ-всего'!J17*'3.физ-всего'!K17+'4.юрид-всего'!J17*'4.юрид-всего'!K17)/('3.физ-всего'!J17+'4.юрид-всего'!J17) -> 18.274846 | L17: ='3.физ-всего'!L17+'4.юрид-всего'!L17 -> 67982.9 | M17: =('3.физ-всего'!L17*'3.физ-всего'!M17+'4.юрид-всего'!L17*'4.юрид-всего'!M17)/('3.физ-всего'!L17+'4.юрид-всего'!L17) -> 27.550662 | N17: ='3.физ-всего'!N17+'4.юрид-всего'!N17 -> 93759.6 | O17: =('3.физ-всего'!N17*'3.физ-всего'!O17+'4.юрид-всего'!N17*'4.юрид-всего'!O17)/('3.физ-всего'!N17+'4.юрид-всего'!N17) -> 33.909659 | P17: ='3.физ-всего'!P17+'4.юрид-всего'!P17 -> 50680.1 | Q17: =('3.физ-всего'!P17*'3.физ-всего'!Q17+'4.юрид-всего'!P17*'4.юрид-всего'!Q17)/('3.физ-всего'!P17+'4.юрид-всего'!P17) -> 29.995037 | R17: ='3.физ-всего'!R17+'4.юрид-всего'!R17 -> 9873 | S17: =('3.физ-всего'!R17*'3.физ-всего'!S17+'4.юрид-всего'!R17*'4.юрид-всего'!S17)/('3.физ-всего'!R17+'4.юрид-всего'!R17) -> 18.971324
A18: Октябрь | B18: ='3.физ-всего'!B18+'4.юрид-всего'!B18 -> 854244.4 | C18: =('3.физ-всего'!B18*'3.физ-всего'!C18+'4.юрид-всего'!B18*'4.юрид-всего'!C18)/('3.физ-всего'!B18+'4.юрид-всего'!B18) -> 10.796218 | F18: ='3.физ-всего'!F18+'4.юрид-всего'!F18 -> 676641 | G18: =('3.физ-всего'!F18*'3.физ-всего'!G18+'4.юрид-всего'!F18*'4.юрид-всего'!G18)/('3.физ-всего'!F18+'4.юрид-всего'!F18) -> 6.4956744 | H18: =J18+L18+N18+P18+R18+T18 -> 177603.4 | I18: =(J18*K18+L18*M18+N18*O18+P18*Q18+R18*S18+T18*U18)/(J18+L18+N18+P18+R18+T18) -> 27.18061 | J18: ='3.физ-всего'!J18+'4.юрид-всего'!J18 -> 17645.4 | K18: =('3.физ-всего'!J18*'3.физ-всего'!K18+'4.юрид-всего'!J18*'4.юрид-всего'!K18)/('3.физ-всего'!J18+'4.юрид-всего'!J18) -> 15.061597 | L18: ='3.физ-всего'!L18+'4.юрид-всего'!L18 -> 46564.6 | M18: =('3.физ-всего'!L18*'3.физ-всего'!M18+'4.юрид-всего'!L18*'4.юрид-всего'!M18)/('3.физ-всего'!L18+'4.юрид-всего'!L18) -> 26.266652 | N18: ='3.физ-всего'!N18+'4.юрид-всего'!N18 -> 62531.7 | O18: =('3.физ-всего'!N18*'3.физ-всего'!O18+'4.юрид-всего'!N18*'4.юрид-всего'!O18)/('3.физ-всего'!N18+'4.юрид-всего'!N18) -> 31.026449 | P18: ='3.физ-всего'!P18+'4.юрид-всего'!P18 -> 41121 | Q18: =('3.физ-всего'!P18*'3.физ-всего'!Q18+'4.юрид-всего'!P18*'4.юрид-всего'!Q18)/('3.физ-всего'!P18+'4.юрид-всего'!P18) -> 30.077177 | R18: ='3.физ-всего'!R18+'4.юрид-всего'!R18 -> 9740.7 | S18: =('3.физ-всего'!R18*'3.физ-всего'!S18+'4.юрид-всего'!R18*'4.юрид-всего'!S18)/('3.физ-всего'!R18+'4.юрид-всего'!R18) -> 16.586553
A19: Ноябрь | B19: ='3.физ-всего'!B19+'4.юрид-всего'!B19 -> 850056.5 | C19: =('3.физ-всего'!B19*'3.физ-всего'!C19+'4.юрид-всего'!B19*'4.юрид-всего'!C19)/('3.физ-всего'!B19+'4.юрид-всего'!B19) -> 11.957075 | F19: ='3.физ-всего'!F19+'4.юрид-всего'!F19 -> 558407.7 | G19: =('3.физ-всего'!F19*'3.физ-всего'!G19+'4.юрид-всего'!F19*'4.юрид-всего'!G19)/('3.физ-всего'!F19+'4.юрид-всего'!F19) -> 3.3720608 | H19: =J19+L19+N19+P19+R19+T19 -> 291648.8 | I19: =(J19*K19+L19*M19+N19*O19+P19*Q19+R19*S19+T19*U19)/(J19+L19+N19+P19+R19+T19) -> 28.394442 | J19: ='3.физ-всего'!J19+'4.юрид-всего'!J19 -> 24238.9 | K19: =('3.физ-всего'!J19*'3.физ-всего'!K19+'4.юрид-всего'!J19*'4.юрид-всего'!K19)/('3.физ-всего'!J19+'4.юрид-всего'!J19) -> 13.914129 | L19: ='3.физ-всего'!L19+'4.юрид-всего'!L19 -> 81856.4 | M19: =('3.физ-всего'!L19*'3.физ-всего'!M19+'4.юрид-всего'!L19*'4.юрид-всего'!M19)/('3.физ-всего'!L19+'4.юрид-всего'!L19) -> 25.973476 | N19: ='3.физ-всего'!N19+'4.юрид-всего'!N19 -> 90623.8 | O19: =('3.физ-всего'!N19*'3.физ-всего'!O19+'4.юрид-всего'!N19*'4.юрид-всего'!O19)/('3.физ-всего'!N19+'4.юрид-всего'!N19) -> 37.02013 | P19: ='3.физ-всего'!P19+'4.юрид-всего'!P19 -> 83215.5 | Q19: =('3.физ-всего'!P19*'3.физ-всего'!Q19+'4.юрид-всего'!P19*'4.юрид-всего'!Q19)/('3.физ-всего'!P19+'4.юрид-всего'!P19) -> 27.605691 | R19: ='3.физ-всего'!R19+'4.юрид-всего'!R19 -> 11714.2 | S19: =('3.физ-всего'!R19*'3.физ-всего'!S19+'4.юрид-всего'!R19*'4.юрид-всего'!S19)/('3.физ-всего'!R19+'4.юрид-всего'!R19) -> 14.146954
A20: Декабрь | B20: ='3.физ-всего'!B20+'4.юрид-всего'!B20 -> 874677.4 | C20: =('3.физ-всего'!B20*'3.физ-всего'!C20+'4.юрид-всего'!B20*'4.юрид-всего'!C20)/('3.физ-всего'!B20+'4.юрид-всего'!B20) -> 11.703016 | F20: ='3.физ-всего'!F20+'4.юрид-всего'!F20 -> 592031.3 | G20: =('3.физ-всего'!F20*'3.физ-всего'!G20+'4.юрид-всего'!F20*'4.юрид-всего'!G20)/('3.физ-всего'!F20+'4.юрид-всего'!F20) -> 3.3098121 | H20: =J20+L20+N20+P20+R20+T20 -> 282646.1 | I20: =(J20*K20+L20*M20+N20*O20+P20*Q20+R20*S20+T20*U20)/(J20+L20+N20+P20+R20+T20) -> 29.283444 | J20: ='3.физ-всего'!J20+'4.юрид-всего'!J20 -> 16073.6 | K20: =('3.физ-всего'!J20*'3.физ-всего'!K20+'4.юрид-всего'!J20*'4.юрид-всего'!K20)/('3.физ-всего'!J20+'4.юрид-всего'!J20) -> 12.894672 | L20: ='3.физ-всего'!L20+'4.юрид-всего'!L20 -> 78407.8 | M20: =('3.физ-всего'!L20*'3.физ-всего'!M20+'4.юрид-всего'!L20*'4.юрид-всего'!M20)/('3.физ-всего'!L20+'4.юрид-всего'!L20) -> 27.09675 | N20: ='3.физ-всего'!N20+'4.юрид-всего'!N20 -> 120301 | O20: =('3.физ-всего'!N20*'3.физ-всего'!O20+'4.юрид-всего'!N20*'4.юрид-всего'!O20)/('3.физ-всего'!N20+'4.юрид-всего'!N20) -> 33.542223 | P20: ='3.физ-всего'!P20+'4.юрид-всего'!P20 -> 58556.1 | Q20: =('3.физ-всего'!P20*'3.физ-всего'!Q20+'4.юрид-всего'!P20*'4.юрид-всего'!Q20)/('3.физ-всего'!P20+'4.юрид-всего'!P20) -> 29.509139 | R20: ='3.физ-всего'!R20+'4.юрид-всего'!R20 -> 9307.6 | S20: =('3.физ-всего'!R20*'3.физ-всего'!S20+'4.юрид-всего'!R20*'4.юрид-всего'!S20)/('3.физ-всего'!R20+'4.юрид-всего'!R20) -> 19.541867
... A97: Май | B97: ='3.физ-всего'!B97+'4.юрид-всего'!B97 -> 4089167.4 | C97: =('3.физ-всего'!B97*'3.физ-всего'!C97+'4.юрид-всего'!B97*'4.юрид-всего'!C97)/('3.физ-всего'!B97+'4.юрид-всего'!B97) -> 2.7111207 | F97: ='3.физ-всего'!F97+'4.юрид-всего'!F97 -> 2558817.5 | G97: =('3.физ-всего'!F97*'3.физ-всего'!G97+'4.юрид-всего'!F97*'4.юрид-всего'!G97)/('3.физ-всего'!F97+'4.юрид-всего'!F97) -> 0.44075029 | H97: =J97+L97+N97+P97+R97+T97 -> 1530349.9 | I97: =(J97*K97+L97*M97+N97*O97+P97*Q97+R97*S97+T97*U97)/(J97+L97+N97+P97+R97+T97) -> 6.5072875 | J97: ='3.физ-всего'!J97+'4.юрид-всего'!J97 -> 147529.6 | K97: =('3.физ-всего'!J97*'3.физ-всего'!K97+'4.юрид-всего'!J97*'4.юрид-всего'!K97)/('3.физ-всего'!J97+'4.юрид-всего'!J97) -> 6.4474644 | L97: ='3.физ-всего'!L97+'4.юрид-всего'!L97 -> 225766.9 | M97: =('3.физ-всего'!L97*'3.физ-всего'!M97+'4.юрид-всего'!L97*'4.юрид-всего'!M97)/('3.физ-всего'!L97+'4.юрид-всего'!L97) -> 8.7924339 | N97: ='3.физ-всего'!N97+'4.юрид-всего'!N97 -> 270543.1 | O97: =('3.физ-всего'!N97*'3.физ-всего'!O97+'4.юрид-всего'!N97*'4.юрид-всего'!O97)/('3.физ-всего'!N97+'4.юрид-всего'!N97) -> 9.3933635 | P97: ='3.физ-всего'!P97+'4.юрид-всего'!P97 -> 499658.2 | Q97: =('3.физ-всего'!P97*'3.физ-всего'!Q97+'4.юрид-всего'!P97*'4.юрид-всего'!Q97)/('3.физ-всего'!P97+'4.юрид-всего'!P97) -> 6.9356032 | R97: ='3.физ-всего'!R97+'4.юрид-всего'!R97 -> 386852.1 | S97: =('3.физ-всего'!R97*'3.физ-всего'!S97+'4.юрид-всего'!R97*'4.юрид-всего'!S97)/('3.физ-всего'!R97+'4.юрид-всего'!R97) -> 2.6249146
A98: Июнь | B98: ='3.физ-всего'!B98+'4.юрид-всего'!B98 -> 3617222.8 | C98: =('3.физ-всего'!B98*'3.физ-всего'!C98+'4.юрид-всего'!B98*'4.юрид-всего'!C98)/('3.физ-всего'!B98+'4.юрид-всего'!B98) -> 2.9298488 | F98: ='3.физ-всего'!F98+'4.юрид-всего'!F98 -> 2250253.8 | G98: =('3.физ-всего'!F98*'3.физ-всего'!G98+'4.юрид-всего'!F98*'4.юрид-всего'!G98)/('3.физ-всего'!F98+'4.юрид-всего'!F98) -> 0.36687281 | H98: =J98+L98+N98+P98+R98+T98 -> 1366969 | I98: =(J98*K98+L98*M98+N98*O98+P98*Q98+R98*S98+T98*U98)/(J98+L98+N98+P98+R98+T98) -> 7.1489251 | J98: ='3.физ-всего'!J98+'4.юрид-всего'!J98 -> 123053.3 | K98: =('3.физ-всего'!J98*'3.физ-всего'!K98+'4.юрид-всего'!J98*'4.юрид-всего'!K98)/('3.физ-всего'!J98+'4.юрид-всего'!J98) -> 9.4057056 | L98: ='3.физ-всего'!L98+'4.юрид-всего'!L98 -> 213604.1 | M98: =('3.физ-всего'!L98*'3.физ-всего'!M98+'4.юрид-всего'!L98*'4.юрид-всего'!M98)/('3.физ-всего'!L98+'4.юрид-всего'!L98) -> 8.3011273 | N98: ='3.физ-всего'!N98+'4.юрид-всего'!N98 -> 265580.6 | O98: =('3.физ-всего'!N98*'3.физ-всего'!O98+'4.юрид-всего'!N98*'4.юрид-всего'!O98)/('3.физ-всего'!N98+'4.юрид-всего'!N98) -> 9.1366159 | P98: ='3.физ-всего'!P98+'4.юрид-всего'!P98 -> 268814.2 | Q98: =('3.физ-всего'!P98*'3.физ-всего'!Q98+'4.юрид-всего'!P98*'4.юрид-всего'!Q98)/('3.физ-всего'!P98+'4.юрид-всего'!P98) -> 10.596205 | R98: ='3.физ-всего'!R98+'4.юрид-всего'!R98 -> 411906.8 | S98: =('3.физ-всего'!R98*'3.физ-всего'!S98+'4.юрид-всего'!R98*'4.юрид-всего'!S98)/('3.физ-всего'!R98+'4.юрид-всего'!R98) -> 3.565348 | T98: ='3.физ-всего'!T98+'4.юрид-всего'!T98 -> 84010 | U98: =('3.физ-всего'!T98*'3.физ-всего'!U98+'4.юрид-всего'!T98*'4.юрид-всего'!U98)/('3.физ-всего'!T98+'4.юрид-всего'!T98) -> 1.17
A99: Июль | B99: ='3.физ-всего'!B99+'4.юрид-всего'!B99 -> 4114661.2 | C99: =('3.физ-всего'!B99*'3.физ-всего'!C99+'4.юрид-всего'!B99*'4.юрид-всего'!C99)/('3.физ-всего'!B99+'4.юрид-всего'!B99) -> 2.7601055 | F99: ='3.физ-всего'!F99+'4.юрид-всего'!F99 -> 2673683 | G99: =('3.физ-всего'!F99*'3.физ-всего'!G99+'4.юрид-всего'!F99*'4.юрид-всего'!G99)/('3.физ-всего'!F99+'4.юрид-всего'!F99) -> 0.47637827 | H99: =J99+L99+N99+P99+R99+T99 -> 1440978.2 | I99: =(J99*K99+L99*M99+N99*O99+P99*Q99+R99*S99+T99*U99)/(J99+L99+N99+P99+R99+T99) -> 6.9974788 | J99: ='3.физ-всего'!J99+'4.юрид-всего'!J99 -> 138854.5 | K99: =('3.физ-всего'!J99*'3.физ-всего'!K99+'4.юрид-всего'!J99*'4.юрид-всего'!K99)/('3.физ-всего'!J99+'4.юрид-всего'!J99) -> 8.0408172 | L99: ='3.физ-всего'!L99+'4.юрид-всего'!L99 -> 262376.9 | M99: =('3.физ-всего'!L99*'3.физ-всего'!M99+'4.юрид-всего'!L99*'4.юрид-всего'!M99)/('3.физ-всего'!L99+'4.юрид-всего'!L99) -> 8.383016 | N99: ='3.физ-всего'!N99+'4.юрид-всего'!N99 -> 214181.7 | O99: =('3.физ-всего'!N99*'3.физ-всего'!O99+'4.юрид-всего'!N99*'4.юрид-всего'!O99)/('3.физ-всего'!N99+'4.юрид-всего'!N99) -> 9.1090445 | P99: ='3.физ-всего'!P99+'4.юрид-всего'!P99 -> 303710 | Q99: =('3.физ-всего'!P99*'3.физ-всего'!Q99+'4.юрид-всего'!P99*'4.юрид-всего'!Q99)/('3.физ-всего'!P99+'4.юрид-всего'!P99) -> 10.254916 | R99: ='3.физ-всего'!R99+'4.юрид-всего'!R99 -> 461061.1 | S99: =('3.физ-всего'!R99*'3.физ-всего'!S99+'4.юрид-всего'!R99*'4.юрид-всего'!S99)/('3.физ-всего'!R99+'4.юрид-всего'!R99) -> 3.5259912 | T99: ='3.физ-всего'!T99+'4.юрид-всего'!T99 -> 60794 | U99: =('3.физ-всего'!T99*'3.физ-всего'!U99+'4.юрид-всего'!T99*'4.юрид-всего'!U99)/('3.физ-всего'!T99+'4.юрид-всего'!T99) -> 1.25
A100: Август | B100: ='3.физ-всего'!B100+'4.юрид-всего'!B100 -> 4234963.6 | C100: =('3.физ-всего'!B100*'3.физ-всего'!C100+'4.юрид-всего'!B100*'4.юрид-всего'!C100)/('3.физ-всего'!B100+'4.юрид-всего'!B100) -> 2.5555636 | F100: ='3.физ-всего'!F100+'4.юрид-всего'!F100 -> 2811547.5 | G100: =('3.физ-всего'!F100*'3.физ-всего'!G100+'4.юрид-всего'!F100*'4.юрид-всего'!G100)/('3.физ-всего'!F100+'4.юрид-всего'!F100) -> 0.42267938 | H100: =J100+L100+N100+P100+R100+T100 -> 1423416.1 | I100: =(J100*K100+L100*M100+N100*O100+P100*Q100+R100*S100+T100*U100)/(J100+L100+N100+P100+R100+T100) -> 6.7684606 | J100: ='3.физ-всего'!J100+'4.юрид-всего'!J100 -> 155091.3 | K100: =('3.физ-всего'!J100*'3.физ-всего'!K100+'4.юрид-всего'!J100*'4.юрид-всего'!K100)/('3.физ-всего'!J100+'4.юрид-всего'!J100) -> 7.0434217 | L100: ='3.физ-всего'!L100+'4.юрид-всего'!L100 -> 227942 | M100: =('3.физ-всего'!L100*'3.физ-всего'!M100+'4.юрид-всего'!L100*'4.юрид-всего'!M100)/('3.физ-всего'!L100+'4.юрид-всего'!L100) -> 8.0643346 | N100: ='3.физ-всего'!N100+'4.юрид-всего'!N100 -> 222140.8 | O100: =('3.физ-всего'!N100*'3.физ-всего'!O100+'4.юрид-всего'!N100*'4.юрид-всего'!O100)/('3.физ-всего'!N100+'4.юрид-всего'!N100) -> 9.2146497 | P100: ='3.физ-всего'!P100+'4.юрид-всего'!P100 -> 303551.9 | Q100: =('3.физ-всего'!P100*'3.физ-всего'!Q100+'4.юрид-всего'!P100*'4.юрид-всего'!Q100)/('3.физ-всего'!P100+'4.юрид-всего'!P100) -> 9.8030986 | R100: ='3.физ-всего'!R100+'4.юрид-всего'!R100 -> 455481.1 | S100: =('3.физ-всего'!R100*'3.физ-всего'!S100+'4.юрид-всего'!R100*'4.юрид-всего'!S100)/('3.физ-всего'!R100+'4.юрид-всего'!R100) -> 3.528251 | T100: ='3.физ-всего'!T100+'4.юрид-всего'!T100 -> 59209 | U100: =('3.физ-всего'!T100*'3.физ-всего'!U100+'4.юрид-всего'!T100*'4.юрид-всего'!U100)/('3.физ-всего'!T100+'4.юрид-всего'!T100) -> 1.25
A101: Сентябрь | B101: ='3.физ-всего'!B101+'4.юрид-всего'!B101 -> 4285061.9 | C101: =('3.физ-всего'!B101*'3.физ-всего'!C101+'4.юрид-всего'!B101*'4.юрид-всего'!C101)/('3.физ-всего'!B101+'4.юрид-всего'!B101) -> 2.5529999 | F101: ='3.физ-всего'!F101+'4.юрид-всего'!F101 -> 2810934 | G101: =('3.физ-всего'!F101*'3.физ-всего'!G101+'4.юрид-всего'!F101*'4.юрид-всего'!G101)/('3.физ-всего'!F101+'4.юрид-всего'!F101) -> 0.40938373 | H101: =J101+L101+N101+P101+R101+T101 -> 1474127.9 | I101: =(J101*K101+L101*M101+N101*O101+P101*Q101+R101*S101+T101*U101)/(J101+L101+N101+P101+R101+T101) -> 6.6405447 | J101: ='3.физ-всего'!J101+'4.юрид-всего'!J101 -> 171562.2 | K101: =('3.физ-всего'!J101*'3.физ-всего'!K101+'4.юрид-всего'!J101*'4.юрид-всего'!K101)/('3.физ-всего'!J101+'4.юрид-всего'!J101) -> 8.4784374 | L101: ='3.физ-всего'!L101+'4.юрид-всего'!L101 -> 233416.1 | M101: =('3.физ-всего'!L101*'3.физ-всего'!M101+'4.юрид-всего'!L101*'4.юрид-всего'!M101)/('3.физ-всего'!L101+'4.юрид-всего'!L101) -> 6.9989161 | N101: ='3.физ-всего'!N101+'4.юрид-всего'!N101 -> 203938 | O101: =('3.физ-всего'!N101*'3.физ-всего'!O101+'4.юрид-всего'!N101*'4.юрид-всего'!O101)/('3.физ-всего'!N101+'4.юрид-всего'!N101) -> 9.7802381 | P101: ='3.физ-всего'!P101+'4.юрид-всего'!P101 -> 311552.9 | Q101: =('3.физ-всего'!P101*'3.физ-всего'!Q101+'4.юрид-всего'!P101*'4.юрид-всего'!Q101)/('3.физ-всего'!P101+'4.юрид-всего'!P101) -> 9.638158 | R101: ='3.физ-всего'!R101+'4.юрид-всего'!R101 -> 553658.7 | S101: =('3.физ-всего'!R101*'3.физ-всего'!S101+'4.юрид-всего'!R101*'4.юрид-всего'!S101)/('3.физ-всего'!R101+'4.юрид-всего'!R101) -> 3.0766514
A102: Октябрь | B102: ='3.физ-всего'!B102+'4.юрид-всего'!B102 -> 4599377.1 | C102: =('3.физ-всего'!B102*'3.физ-всего'!C102+'4.юрид-всего'!B102*'4.юрид-всего'!C102)/('3.физ-всего'!B102+'4.юрид-всего'!B102) -> 2.5957736 | F102: ='3.физ-всего'!F102+'4.юрид-всего'!F102 -> 3100798.4 | G102: =('3.физ-всего'!F102*'3.физ-всего'!G102+'4.юрид-всего'!F102*'4.юрид-всего'!G102)/('3.физ-всего'!F102+'4.юрид-всего'!F102) -> 0.57948034 | H102: =J102+L102+N102+P102+R102+T102 -> 1498578.7 | I102: =(J102*K102+L102*M102+N102*O102+P102*Q102+R102*S102+T102*U102)/(J102+L102+N102+P102+R102+T102) -> 6.7678061 | J102: ='3.физ-всего'!J102+'4.юрид-всего'!J102 -> 144098.6 | K102: =('3.физ-всего'!J102*'3.физ-всего'!K102+'4.юрид-всего'!J102*'4.юрид-всего'!K102)/('3.физ-всего'!J102+'4.юрид-всего'!J102) -> 8.2597546 | L102: ='3.физ-всего'!L102+'4.юрид-всего'!L102 -> 253679.2 | M102: =('3.физ-всего'!L102*'3.физ-всего'!M102+'4.юрид-всего'!L102*'4.юрид-всего'!M102)/('3.физ-всего'!L102+'4.юрид-всего'!L102) -> 7.1905643 | N102: ='3.физ-всего'!N102+'4.юрид-всего'!N102 -> 260500.9 | O102: =('3.физ-всего'!N102*'3.физ-всего'!O102+'4.юрид-всего'!N102*'4.юрид-всего'!O102)/('3.физ-всего'!N102+'4.юрид-всего'!N102) -> 9.7535435 | P102: ='3.физ-всего'!P102+'4.юрид-всего'!P102 -> 293955.5 | Q102: =('3.физ-всего'!P102*'3.физ-всего'!Q102+'4.юрид-всего'!P102*'4.юрид-всего'!Q102)/('3.физ-всего'!P102+'4.юрид-всего'!P102) -> 9.8172932 | R102: ='3.физ-всего'!R102+'4.юрид-всего'!R102 -> 546344.5 | S102: =('3.физ-всего'!R102*'3.физ-всего'!S102+'4.юрид-всего'!R102*'4.юрид-всего'!S102)/('3.физ-всего'!R102+'4.юрид-всего'!R102) -> 3.1136402
A103: Ноябрь | B103: ='3.физ-всего'!B103+'4.юрид-всего'!B103 -> 4792161.4 | C103: =('3.физ-всего'!B103*'3.физ-всего'!C103+'4.юрид-всего'!B103*'4.юрид-всего'!C103)/('3.физ-всего'!B103+'4.юрид-всего'!B103) -> 2.5158095 | F103: ='3.физ-всего'!F103+'4.юрид-всего'!F103 -> 3210907.9 | G103: =('3.физ-всего'!F103*'3.физ-всего'!G103+'4.юрид-всего'!F103*'4.юрид-всего'!G103)/('3.физ-всего'!F103+'4.юрид-всего'!F103) -> 0.45240042 | H103: =J103+L103+N103+P103+R103+T103 -> 1581253.5 | I103: =(J103*K103+L103*M103+N103*O103+P103*Q103+R103*S103+T103*U103)/(J103+L103+N103+P103+R103+T103) -> 6.7057871 | J103: ='3.физ-всего'!J103+'4.юрид-всего'!J103 -> 158742.1 | K103: =('3.физ-всего'!J103*'3.физ-всего'!K103+'4.юрид-всего'!J103*'4.юрид-всего'!K103)/('3.физ-всего'!J103+'4.юрид-всего'!J103) -> 7.5713606 | L103: ='3.физ-всего'!L103+'4.юрид-всего'!L103 -> 233892.2 | M103: =('3.физ-всего'!L103*'3.физ-всего'!M103+'4.юрид-всего'!L103*'4.юрид-всего'!M103)/('3.физ-всего'!L103+'4.юрид-всего'!L103) -> 8.7210754 | N103: ='3.физ-всего'!N103+'4.юрид-всего'!N103 -> 271501.2 | O103: =('3.физ-всего'!N103*'3.физ-всего'!O103+'4.юрид-всего'!N103*'4.юрид-всего'!O103)/('3.физ-всего'!N103+'4.юрид-всего'!N103) -> 9.0107406 | P103: ='3.физ-всего'!P103+'4.юрид-всего'!P103 -> 304261.2 | Q103: =('3.физ-всего'!P103*'3.физ-всего'!Q103+'4.юрид-всего'!P103*'4.юрид-всего'!Q103)/('3.физ-всего'!P103+'4.юрид-всего'!P103) -> 9.3857253 | R103: ='3.физ-всего'!R103+'4.юрид-всего'!R103 -> 612856.8 | S103: =('3.физ-всего'!R103*'3.физ-всего'!S103+'4.юрид-всего'!R103*'4.юрид-всего'!S103)/('3.физ-всего'!R103+'4.юрид-всего'!R103) -> 3.3608588
A104: Декабрь | B104: ='3.физ-всего'!B104+'4.юрид-всего'!B104 -> 5018663.5 | C104: =('3.физ-всего'!B104*'3.физ-всего'!C104+'4.юрид-всего'!B104*'4.юрид-всего'!C104)/('3.физ-всего'!B104+'4.юрид-всего'!B104) -> 2.6856665 | F104: ='3.физ-всего'!F104+'4.юрид-всего'!F104 -> 3408202.7 | G104: =('3.физ-всего'!F104*'3.физ-всего'!G104+'4.юрид-всего'!F104*'4.юрид-всего'!G104)/('3.физ-всего'!F104+'4.юрид-всего'!F104) -> 0.38492642 | H104: =J104+L104+N104+P104+R104+T104 -> 1610460.8 | I104: =(J104*K104+L104*M104+N104*O104+P104*Q104+R104*S104+T104*U104)/(J104+L104+N104+P104+R104+T104) -> 7.5547005 | J104: ='3.физ-всего'!J104+'4.юрид-всего'!J104 -> 140616.8 | K104: =('3.физ-всего'!J104*'3.физ-всего'!K104+'4.юрид-всего'!J104*'4.юрид-всего'!K104)/('3.физ-всего'!J104+'4.юрид-всего'!J104) -> 8.379923 | L104: ='3.физ-всего'!L104+'4.юрид-всего'!L104 -> 223091.5 | M104: =('3.физ-всего'!L104*'3.физ-всего'!M104+'4.юрид-всего'!L104*'4.юрид-всего'!M104)/('3.физ-всего'!L104+'4.юрид-всего'!L104) -> 8.0097675 | N104: ='3.физ-всего'!N104+'4.юрид-всего'!N104 -> 305001.4 | O104: =('3.физ-всего'!N104*'3.физ-всего'!O104+'4.юрид-всего'!N104*'4.юрид-всего'!O104)/('3.физ-всего'!N104+'4.юрид-всего'!N104) -> 8.6836217 | P104: ='3.физ-всего'!P104+'4.юрид-всего'!P104 -> 322537.9 | Q104: =('3.физ-всего'!P104*'3.физ-всего'!Q104+'4.юрид-всего'!P104*'4.юрид-всего'!Q104)/('3.физ-всего'!P104+'4.юрид-всего'!P104) -> 9.2319272 | R104: ='3.физ-всего'!R104+'4.юрид-всего'!R104 -> 618020.6 | S104: =('3.физ-всего'!R104*'3.физ-всего'!S104+'4.юрид-всего'!R104*'4.юрид-всего'!S104)/('3.физ-всего'!R104+'4.юрид-всего'!R104) -> 5.7727463 | T104: ='3.физ-всего'!T104+'4.юрид-всего'!T104 -> 1192.6 | U104: =('3.физ-всего'!T104*'3.физ-всего'!U104+'4.юрид-всего'!T104*'4.юрид-всего'!U104)/('3.физ-всего'!T104+'4.юрид-всего'!T104) -> 6.2390324
A105: Январь 2004 г. | B105: ='3.физ-всего'!B105+'4.юрид-всего'!B105 -> 5254798.8 | C105: =('3.физ-всего'!B105*'3.физ-всего'!C105+'4.юрид-всего'!B105*'4.юрид-всего'!C105)/('3.физ-всего'!B105+'4.юрид-всего'!B105) -> 2.7434423 | F105: ='3.физ-всего'!F105+'4.юрид-всего'!F105 -> 3651984 | G105: =('3.физ-всего'!F105*'3.физ-всего'!G105+'4.юрид-всего'!F105*'4.юрид-всего'!G105)/('3.физ-всего'!F105+'4.юрид-всего'!F105) -> 0.69538043 | H105: =J105+L105+N105+P105+R105+T105 -> 1602814.8 | I105: =(J105*K105+L105*M105+N105*O105+P105*Q105+R105*S105+T105*U105)/(J105+L105+N105+P105+R105+T105) -> 7.4099136 | J105: ='3.физ-всего'!J105+'4.юрид-всего'!J105 -> 145374.9 | K105: =('3.физ-всего'!J105*'3.физ-всего'!K105+'4.юрид-всего'!J105*'4.юрид-всего'!K105)/('3.физ-всего'!J105+'4.юрид-всего'!J105) -> 8.9685305 | L105: ='3.физ-всего'!L105+'4.юрид-всего'!L105 -> 287369.8 | M105: =('3.физ-всего'!L105*'3.физ-всего'!M105+'4.юрид-всего'!L105*'4.юрид-всего'!M105)/('3.физ-всего'!L105+'4.юрид-всего'!L105) -> 7.3148362 | N105: ='3.физ-всего'!N105+'4.юрид-всего'!N105 -> 272491.6 | O105: =('3.физ-всего'!N105*'3.физ-всего'!O105+'4.юрид-всего'!N105*'4.юрид-всего'!O105)/('3.физ-всего'!N105+'4.юрид-всего'!N105) -> 8.6359103 | P105: ='3.физ-всего'!P105+'4.юрид-всего'!P105 -> 338772 | Q105: =('3.физ-всего'!P105*'3.физ-всего'!Q105+'4.юрид-всего'!P105*'4.юрид-всего'!Q105)/('3.физ-всего'!P105+'4.юрид-всего'!P105) -> 9.4020871 | R105: ='3.физ-всего'!R105+'4.юрид-всего'!R105 -> 558806.5 | S105: =('3.физ-всего'!R105*'3.физ-всего'!S105+'4.юрид-всего'!R105*'4.юрид-всего'!S105)/('3.физ-всего'!R105+'4.юрид-всего'!R105) -> 5.2477559
A106: Февраль | B106: ='3.физ-всего'!B106+'4.юрид-всего'!B106 -> 5573933.6 | C106: =('3.физ-всего'!B106*'3.физ-всего'!C106+'4.юрид-всего'!B106*'4.юрид-всего'!C106)/('3.физ-всего'!B106+'4.юрид-всего'!B106) -> 2.7211599 | F106: ='3.физ-всего'!F106+'4.юрид-всего'!F106 -> 3907057 | G106: =('3.физ-всего'!F106*'3.физ-всего'!G106+'4.юрид-всего'!F106*'4.юрид-всего'!G106)/('3.физ-всего'!F106+'4.юрид-всего'!F106) -> 0.78448111 | H106: =J106+L106+N106+P106+R106+T106 -> 1666876.6 | I106: =(J106*K106+L106*M106+N106*O106+P106*Q106+R106*S106+T106*U106)/(J106+L106+N106+P106+R106+T106) -> 7.2606168 | J106: ='3.физ-всего'!J106+'4.юрид-всего'!J106 -> 126355 | K106: =('3.физ-всего'!J106*'3.физ-всего'!K106+'4.юрид-всего'!J106*'4.юрид-всего'!K106)/('3.физ-всего'!J106+'4.юрид-всего'!J106) -> 7.3407475 | L106: ='3.физ-всего'!L106+'4.юрид-всего'!L106 -> 294414.7 | M106: =('3.физ-всего'!L106*'3.физ-всего'!M106+'4.юрид-всего'!L106*'4.юрид-всего'!M106)/('3.физ-всего'!L106+'4.юрид-всего'!L106) -> 7.6316708 | N106: ='3.физ-всего'!N106+'4.юрид-всего'!N106 -> 311834.9 | O106: =('3.физ-всего'!N106*'3.физ-всего'!O106+'4.юрид-всего'!N106*'4.юрид-всего'!O106)/('3.физ-всего'!N106+'4.юрид-всего'!N106) -> 8.3250937 | P106: ='3.физ-всего'!P106+'4.юрид-всего'!P106 -> 328287 | Q106: =('3.физ-всего'!P106*'3.физ-всего'!Q106+'4.юрид-всего'!P106*'4.юрид-всего'!Q106)/('3.физ-всего'!P106+'4.юрид-всего'!P106) -> 9.5888341 | R106: ='3.физ-всего'!R106+'4.юрид-всего'!R106 -> 605985 | S106: =('3.физ-всего'!R106*'3.физ-всего'!S106+'4.юрид-всего'!R106*'4.юрид-всего'!S106)/('3.физ-всего'!R106+'4.юрид-всего'!R106) -> 5.2545718
A107: Март | B107: ='3.физ-всего'!B107+'4.юрид-всего'!B107 -> 5331882.4 | C107: =('3.физ-всего'!B107*'3.физ-всего'!C107+'4.юрид-всего'!B107*'4.юрид-всего'!C107)/('3.физ-всего'!B107+'4.юрид-всего'!B107) -> 2.7267924 | F107: ='3.физ-всего'!F107+'4.юрид-всего'!F107 -> 3561363.5 | G107: =('3.физ-всего'!F107*'3.физ-всего'!G107+'4.юрид-всего'!F107*'4.юрид-всего'!G107)/('3.физ-всего'!F107+'4.юрид-всего'!F107) -> 0.42857163 | H107: =J107+L107+N107+P107+R107+T107 -> 1770518.9 | I107: =(J107*K107+L107*M107+N107*O107+P107*Q107+R107*S107+T107*U107)/(J107+L107+N107+P107+R107+T107) -> 7.3496178 | J107: ='3.физ-всего'!J107+'4.юрид-всего'!J107 -> 198810.6 | K107: =('3.физ-всего'!J107*'3.физ-всего'!K107+'4.юрид-всего'!J107*'4.юрид-всего'!K107)/('3.физ-всего'!J107+'4.юрид-всего'!J107) -> 7.3116126 | L107: ='3.физ-всего'!L107+'4.юрид-всего'!L107 -> 279236.2 | M107: =('3.физ-всего'!L107*'3.физ-всего'!M107+'4.юрид-всего'!L107*'4.юрид-всего'!M107)/('3.физ-всего'!L107+'4.юрид-всего'!L107) -> 6.7684516 | N107: ='3.физ-всего'!N107+'4.юрид-всего'!N107 -> 281971.1 | O107: =('3.физ-всего'!N107*'3.физ-всего'!O107+'4.юрид-всего'!N107*'4.юрид-всего'!O107)/('3.физ-всего'!N107+'4.юрид-всего'!N107) -> 8.957961 | P107: ='3.физ-всего'!P107+'4.юрид-всего'!P107 -> 360764.9 | Q107: =('3.физ-всего'!P107*'3.физ-всего'!Q107+'4.юрид-всего'!P107*'4.юрид-всего'!Q107)/('3.физ-всего'!P107+'4.юрид-всего'!P107) -> 9.8555734 | R107: ='3.физ-всего'!R107+'4.юрид-всего'!R107 -> 649736.1 | S107: =('3.физ-всего'!R107*'3.физ-всего'!S107+'4.юрид-всего'!R107*'4.юрид-всего'!S107)/('3.физ-всего'!R107+'4.юрид-всего'!R107) -> 5.5216007
A108: Апрель | B108: ='3.физ-всего'!B108+'4.юрид-всего'!B108 -> 5661295.6 | C108: =('3.физ-всего'!B108*'3.физ-всего'!C108+'4.юрид-всего'!B108*'4.юрид-всего'!C108)/('3.физ-всего'!B108+'4.юрид-всего'!B108) -> 2.5867336 | F108: ='3.физ-всего'!F108+'4.юрид-всего'!F108 -> 3888338.8 | G108: =('3.физ-всего'!F108*'3.физ-всего'!G108+'4.юрид-всего'!F108*'4.юрид-всего'!G108)/('3.физ-всего'!F108+'4.юрид-всего'!F108) -> 0.43945391 | H108: =J108+L108+N108+P108+R108+T108 -> 1772956.8 | I108: =(J108*K108+L108*M108+N108*O108+P108*Q108+R108*S108+T108*U108)/(J108+L108+N108+P108+R108+T108) -> 7.2960142 | J108: ='3.физ-всего'!J108+'4.юрид-всего'!J108 -> 131027.1 | K108: =('3.физ-всего'!J108*'3.физ-всего'!K108+'4.юрид-всего'!J108*'4.юрид-всего'!K108)/('3.физ-всего'!J108+'4.юрид-всего'!J108) -> 7.2166255 | L108: ='3.физ-всего'!L108+'4.юрид-всего'!L108 -> 322977.5 | M108: =('3.физ-всего'!L108*'3.физ-всего'!M108+'4.юрид-всего'!L108*'4.юрид-всего'!M108)/('3.физ-всего'!L108+'4.юрид-всего'!L108) -> 6.6702724 | N108: ='3.физ-всего'!N108+'4.юрид-всего'!N108 -> 302250.2 | O108: =('3.физ-всего'!N108*'3.физ-всего'!O108+'4.юрид-всего'!N108*'4.юрид-всего'!O108)/('3.физ-всего'!N108+'4.юрид-всего'!N108) -> 8.9688312 | P108: ='3.физ-всего'!P108+'4.юрид-всего'!P108 -> 375386.7 | Q108: =('3.физ-всего'!P108*'3.физ-всего'!Q108+'4.юрид-всего'!P108*'4.юрид-всего'!Q108)/('3.физ-всего'!P108+'4.юрид-всего'!P108) -> 9.59449 | R108: ='3.физ-всего'!R108+'4.юрид-всего'!R108 -> 641315.3 | S108: =('3.физ-всего'!R108*'3.физ-всего'!S108+'4.юрид-всего'!R108*'4.юрид-всего'!S108)/('3.физ-всего'!R108+'4.юрид-всего'!R108) -> 5.4935874
A109: Май | B109: ='3.физ-всего'!B109+'4.юрид-всего'!B109 -> 6202149.7 | C109: =('3.физ-всего'!B109*'3.физ-всего'!C109+'4.юрид-всего'!B109*'4.юрид-всего'!C109)/('3.физ-всего'!B109+'4.юрид-всего'!B109) -> 2.6035529 | F109: ='3.физ-всего'!F109+'4.юрид-всего'!F109 -> 4342653.7 | G109: =('3.физ-всего'!F109*'3.физ-всего'!G109+'4.юрид-всего'!F109*'4.юрид-всего'!G109)/('3.физ-всего'!F109+'4.юрид-всего'!F109) -> 0.70815484 | H109: =J109+L109+N109+P109+R109+T109 -> 1859496 | I109: =(J109*K109+L109*M109+N109*O109+P109*Q109+R109*S109+T109*U109)/(J109+L109+N109+P109+R109+T109) -> 7.030052 | J109: ='3.физ-всего'!J109+'4.юрид-всего'!J109 -> 243783.6 | K109: =('3.физ-всего'!J109*'3.физ-всего'!K109+'4.юрид-всего'!J109*'4.юрид-всего'!K109)/('3.физ-всего'!J109+'4.юрид-всего'!J109) -> 5.4800376 | L109: ='3.физ-всего'!L109+'4.юрид-всего'!L109 -> 269397.1 | M109: =('3.физ-всего'!L109*'3.физ-всего'!M109+'4.юрид-всего'!L109*'4.юрид-всего'!M109)/('3.физ-всего'!L109+'4.юрид-всего'!L109) -> 7.5141121 | N109: ='3.физ-всего'!N109+'4.юрид-всего'!N109 -> 310160.1 | O109: =('3.физ-всего'!N109*'3.физ-всего'!O109+'4.юрид-всего'!N109*'4.юрид-всего'!O109)/('3.физ-всего'!N109+'4.юрид-всего'!N109) -> 8.8651534 | P109: ='3.физ-всего'!P109+'4.юрид-всего'!P109 -> 363749.7 | Q109: =('3.физ-всего'!P109*'3.физ-всего'!Q109+'4.юрид-всего'!P109*'4.юрид-всего'!Q109)/('3.физ-всего'!P109+'4.юрид-всего'!P109) -> 9.9901632 | R109: ='3.физ-всего'!R109+'4.юрид-всего'!R109 -> 672405.5 | S109: =('3.физ-всего'!R109*'3.физ-всего'!S109+'4.юрид-всего'!R109*'4.юрид-всего'!S109)/('3.физ-всего'!R109+'4.юрид-всего'!R109) -> 4.9502787
A110: Июнь | B110: ='3.физ-всего'!B110+'4.юрид-всего'!B110 -> 5800594.9 | C110: =('3.физ-всего'!B110*'3.физ-всего'!C110+'4.юрид-всего'!B110*'4.юрид-всего'!C110)/('3.физ-всего'!B110+'4.юрид-всего'!B110) -> 2.745627 | F110: ='3.физ-всего'!F110+'4.юрид-всего'!F110 -> 3952569.8 | G110: =('3.физ-всего'!F110*'3.физ-всего'!G110+'4.юрид-всего'!F110*'4.юрид-всего'!G110)/('3.физ-всего'!F110+'4.юрид-всего'!F110) -> 0.47856099 | H110: =J110+L110+N110+P110+R110+T110 -> 1848025.1 | I110: =(J110*K110+L110*M110+N110*O110+P110*Q110+R110*S110+T110*U110)/(J110+L110+N110+P110+R110+T110) -> 7.5944445 | J110: ='3.физ-всего'!J110+'4.юрид-всего'!J110 -> 184392.4 | K110: =('3.физ-всего'!J110*'3.физ-всего'!K110+'4.юрид-всего'!J110*'4.юрид-всего'!K110)/('3.физ-всего'!J110+'4.юрид-всего'!J110) -> 6.7534131 | L110: ='3.физ-всего'!L110+'4.юрид-всего'!L110 -> 264944.7 | M110: =('3.физ-всего'!L110*'3.физ-всего'!M110+'4.юрид-всего'!L110*'4.юрид-всего'!M110)/('3.физ-всего'!L110+'4.юрид-всего'!L110) -> 7.5440007 | N110: ='3.физ-всего'!N110+'4.юрид-всего'!N110 -> 338315.9 | O110: =('3.физ-всего'!N110*'3.физ-всего'!O110+'4.юрид-всего'!N110*'4.юрид-всего'!O110)/('3.физ-всего'!N110+'4.юрид-всего'!N110) -> 8.6558403 | P110: ='3.физ-всего'!P110+'4.юрид-всего'!P110 -> 369623.4 | Q110: =('3.физ-всего'!P110*'3.физ-всего'!Q110+'4.юрид-всего'!P110*'4.юрид-всего'!Q110)/('3.физ-всего'!P110+'4.юрид-всего'!P110) -> 9.8377285 | R110: ='3.физ-всего'!R110+'4.юрид-всего'!R110 -> 690748.7 | S110: =('3.физ-всего'!R110*'3.физ-всего'!S110+'4.юрид-всего'!R110*'4.юрид-всего'!S110)/('3.физ-всего'!R110+'4.юрид-всего'!R110) -> 6.118057
A111: Июль | B111: ='3.физ-всего'!B111+'4.юрид-всего'!B111 -> 6167067.7 | C111: =('3.физ-всего'!B111*'3.физ-всего'!C111+'4.юрид-всего'!B111*'4.юрид-всего'!C111)/('3.физ-всего'!B111+'4.юрид-всего'!B111) -> 3.0314719 | F111: ='3.физ-всего'!F111+'4.юрид-всего'!F111 -> 4227180.6 | G111: =('3.физ-всего'!F111*'3.физ-всего'!G111+'4.юрид-всего'!F111*'4.юрид-всего'!G111)/('3.физ-всего'!F111+'4.юрид-всего'!F111) -> 0.89508422 | H111: =J111+L111+N111+P111+R111+T111 -> 1939887.1 | I111: =(J111*K111+L111*M111+N111*O111+P111*Q111+R111*S111+T111*U111)/(J111+L111+N111+P111+R111+T111) -> 7.6868441 | J111: ='3.физ-всего'!J111+'4.юрид-всего'!J111 -> 171162.3 | K111: =('3.физ-всего'!J111*'3.физ-всего'!K111+'4.юрид-всего'!J111*'4.юрид-всего'!K111)/('3.физ-всего'!J111+'4.юрид-всего'!J111) -> 6.6443842 | L111: ='3.физ-всего'!L111+'4.юрид-всего'!L111 -> 281305.6 | M111: =('3.физ-всего'!L111*'3.физ-всего'!M111+'4.юрид-всего'!L111*'4.юрид-всего'!M111)/('3.физ-всего'!L111+'4.юрид-всего'!L111) -> 7.7094021 | N111: ='3.физ-всего'!N111+'4.юрид-всего'!N111 -> 345394.9 | O111: =('3.физ-всего'!N111*'3.физ-всего'!O111+'4.юрид-всего'!N111*'4.юрид-всего'!O111)/('3.физ-всего'!N111+'4.юрид-всего'!N111) -> 8.4386108 | P111: ='3.физ-всего'!P111+'4.юрид-всего'!P111 -> 453155.8 | Q111: =('3.физ-всего'!P111*'3.физ-всего'!Q111+'4.юрид-всего'!P111*'4.юрид-всего'!Q111)/('3.физ-всего'!P111+'4.юрид-всего'!P111) -> 9.9422943 | R111: ='3.физ-всего'!R111+'4.юрид-всего'!R111 -> 688867.7 | S111: =('3.физ-всего'!R111*'3.физ-всего'!S111+'4.юрид-всего'!R111*'4.юрид-всего'!S111)/('3.физ-всего'!R111+'4.юрид-всего'!R111) -> 6.0760181 | T111: ='3.физ-всего'!T111+'4.юрид-всего'!T111 -> 0.8 | U111: =('3.физ-всего'!T111*'3.физ-всего'!U111+'4.юрид-всего'!T111*'4.юрид-всего'!U111)/('3.физ-всего'!T111+'4.юрид-всего'!T111) -> 12
A112: Август | B112: ='3.физ-всего'!B112+'4.юрид-всего'!B112 -> 6940996.4 | C112: =('3.физ-всего'!B112*'3.физ-всего'!C112+'4.юрид-всего'!B112*'4.юрид-всего'!C112)/('3.физ-всего'!B112+'4.юрид-всего'!B112) -> 2.8465433 | F112: ='3.физ-всего'!F112+'4.юрид-всего'!F112 -> 4926615.4 | G112: =('3.физ-всего'!F112*'3.физ-всего'!G112+'4.юрид-всего'!F112*'4.юрид-всего'!G112)/('3.физ-всего'!F112+'4.юрид-всего'!F112) -> 0.85692914 | H112: =J112+L112+N112+P112+R112+T112 -> 2014381 | I112: =(J112*K112+L112*M112+N112*O112+P112*Q112+R112*S112+T112*U112)/(J112+L112+N112+P112+R112+T112) -> 7.7125859 | J112: ='3.физ-всего'!J112+'4.юрид-всего'!J112 -> 178746 | K112: =('3.физ-всего'!J112*'3.физ-всего'!K112+'4.юрид-всего'!J112*'4.юрид-всего'!K112)/('3.физ-всего'!J112+'4.юрид-всего'!J112) -> 6.656298 | L112: ='3.физ-всего'!L112+'4.юрид-всего'!L112 -> 346584.3 | M112: =('3.физ-всего'!L112*'3.физ-всего'!M112+'4.юрид-всего'!L112*'4.юрид-всего'!M112)/('3.физ-всего'!L112+'4.юрид-всего'!L112) -> 7.5049875 | N112: ='3.физ-всего'!N112+'4.юрид-всего'!N112 -> 315931.3 | O112: =('3.физ-всего'!N112*'3.физ-всего'!O112+'4.юрид-всего'!N112*'4.юрид-всего'!O112)/('3.физ-всего'!N112+'4.юрид-всего'!N112) -> 8.4898338 | P112: ='3.физ-всего'!P112+'4.юрид-всего'!P112 -> 424902.4 | Q112: =('3.физ-всего'!P112*'3.физ-всего'!Q112+'4.юрид-всего'!P112*'4.юрид-всего'!Q112)/('3.физ-всего'!P112+'4.юрид-всего'!P112) -> 10.124213 | R112: ='3.физ-всего'!R112+'4.юрид-всего'!R112 -> 748216.2 | S112: =('3.физ-всего'!R112*'3.физ-всего'!S112+'4.юрид-всего'!R112*'4.юрид-всего'!S112)/('3.физ-всего'!R112+'4.юрид-всего'!R112) -> 6.363365 | T112: ='3.физ-всего'!T112+'4.юрид-всего'!T112 -> 0.8 | U112: =('3.физ-всего'!T112*'3.физ-всего'!U112+'4.юрид-всего'!T112*'4.юрид-всего'!U112)/('3.физ-всего'!T112+'4.юрид-всего'!T112) -> 12
A113: Сентябрь | B113: ='3.физ-всего'!B113+'4.юрид-всего'!B113 -> 6603878.2 | C113: =('3.физ-всего'!B113*'3.физ-всего'!C113+'4.юрид-всего'!B113*'4.юрид-всего'!C113)/('3.физ-всего'!B113+'4.юрид-всего'!B113) -> 3.1097241 | F113: ='3.физ-всего'!F113+'4.юрид-всего'!F113 -> 4400626.6 | G113: =('3.физ-всего'!F113*'3.физ-всего'!G113+'4.юрид-всего'!F113*'4.юрид-всего'!G113)/('3.физ-всего'!F113+'4.юрид-всего'!F113) -> 0.83958111 | H113: =J113+L113+N113+P113+R113+T113 -> 2203251.6 | I113: =(J113*K113+L113*M113+N113*O113+P113*Q113+R113*S113+T113*U113)/(J113+L113+N113+P113+R113+T113) -> 7.643955 | J113: ='3.физ-всего'!J113+'4.юрид-всего'!J113 -> 247935.8 | K113: =('3.физ-всего'!J113*'3.физ-всего'!K113+'4.юрид-всего'!J113*'4.юрид-всего'!K113)/('3.физ-всего'!J113+'4.юрид-всего'!J113) -> 6.486003 | L113: ='3.физ-всего'!L113+'4.юрид-всего'!L113 -> 313890 | M113: =('3.физ-всего'!L113*'3.физ-всего'!M113+'4.юрид-всего'!L113*'4.юрид-всего'!M113)/('3.физ-всего'!L113+'4.юрид-всего'!L113) -> 7.3393361 | N113: ='3.физ-всего'!N113+'4.юрид-всего'!N113 -> 310258.5 | O113: =('3.физ-всего'!N113*'3.физ-всего'!O113+'4.юрид-всего'!N113*'4.юрид-всего'!O113)/('3.физ-всего'!N113+'4.юрид-всего'!N113) -> 9.0132603 | P113: ='3.физ-всего'!P113+'4.юрид-всего'!P113 -> 467416.1 | Q113: =('3.физ-всего'!P113*'3.физ-всего'!Q113+'4.юрид-всего'!P113*'4.юрид-всего'!Q113)/('3.физ-всего'!P113+'4.юрид-всего'!P113) -> 9.498608 | R113: ='3.физ-всего'!R113+'4.юрид-всего'!R113 -> 800627.1 | S113: =('3.физ-всего'!R113*'3.физ-всего'!S113+'4.юрид-всего'!R113*'4.юрид-всего'!S113)/('3.физ-всего'!R113+'4.юрид-всего'!R113) -> 7.1112298 | T113: ='3.физ-всего'!T113+'4.юрид-всего'!T113 -> 63124.1 | U113: =('3.физ-всего'!T113*'3.физ-всего'!U113+'4.юрид-всего'!T113*'4.юрид-всего'!U113)/('3.физ-всего'!T113+'4.юрид-всего'!T113) -> 0.00020911189
A114: Октябрь | B114: ='3.физ-всего'!B114+'4.юрид-всего'!B114 -> 6976675.2 | C114: =('3.физ-всего'!B114*'3.физ-всего'!C114+'4.юрид-всего'!B114*'4.юрид-всего'!C114)/('3.физ-всего'!B114+'4.юрид-всего'!B114) -> 2.8607217 | F114: ='3.физ-всего'!F114+'4.юрид-всего'!F114 -> 4873818.8 | G114: =('3.физ-всего'!F114*'3.физ-всего'!G114+'4.юрид-всего'!F114*'4.юрид-всего'!G114)/('3.физ-всего'!F114+'4.юрид-всего'!F114) -> 0.95006695 | H114: =J114+L114+N114+P114+R114+T114 -> 2102856.4 | I114: =(J114*K114+L114*M114+N114*O114+P114*Q114+R114*S114+T114*U114)/(J114+L114+N114+P114+R114+T114) -> 7.2890722 | J114: ='3.физ-всего'!J114+'4.юрид-всего'!J114 -> 247567.4 | K114: =('3.физ-всего'!J114*'3.физ-всего'!K114+'4.юрид-всего'!J114*'4.юрид-всего'!K114)/('3.физ-всего'!J114+'4.юрид-всего'!J114) -> 6.5491331 | L114: ='3.физ-всего'!L114+'4.юрид-всего'!L114 -> 345761.1 | M114: =('3.физ-всего'!L114*'3.физ-всего'!M114+'4.юрид-всего'!L114*'4.юрид-всего'!M114)/('3.физ-всего'!L114+'4.юрид-всего'!L114) -> 7.203929 | N114: ='3.физ-всего'!N114+'4.юрид-всего'!N114 -> 332971.6 | O114: =('3.физ-всего'!N114*'3.физ-всего'!O114+'4.юрид-всего'!N114*'4.юрид-всего'!O114)/('3.физ-всего'!N114+'4.юрид-всего'!N114) -> 8.772163 | P114: ='3.физ-всего'!P114+'4.юрид-всего'!P114 -> 457061.6 | Q114: =('3.физ-всего'!P114*'3.физ-всего'!Q114+'4.юрид-всего'!P114*'4.юрид-всего'!Q114)/('3.физ-всего'!P114+'4.юрид-всего'!P114) -> 9.8194685 | R114: ='3.физ-всего'!R114+'4.юрид-всего'!R114 -> 657052.1 | S114: =('3.физ-всего'!R114*'3.физ-всего'!S114+'4.юрид-всего'!R114*'4.юрид-всего'!S114)/('3.физ-всего'!R114+'4.юрид-всего'!R114) -> 5.7935735 | T114: ='3.физ-всего'!T114+'4.юрид-всего'!T114 -> 62442.6 | U114: =('3.физ-всего'!T114*'3.физ-всего'!U114+'4.юрид-всего'!T114*'4.юрид-всего'!U114)/('3.физ-всего'!T114+'4.юрид-всего'!T114) -> 0.00030748239
A115: Ноябрь | B115: ='3.физ-всего'!B115+'4.юрид-всего'!B115 -> 7708613.3 | C115: =('3.физ-всего'!B115*'3.физ-всего'!C115+'4.юрид-всего'!B115*'4.юрид-всего'!C115)/('3.физ-всего'!B115+'4.юрид-всего'!B115) -> 2.6194189 | F115: ='3.физ-всего'!F115+'4.юрид-всего'!F115 -> 5579720.9 | G115: =('3.физ-всего'!F115*'3.физ-всего'!G115+'4.юрид-всего'!F115*'4.юрид-всего'!G115)/('3.физ-всего'!F115+'4.юрид-всего'!F115) -> 0.86522701 | H115: =J115+L115+N115+P115+R115+T115 -> 2128892.4 | I115: =(J115*K115+L115*M115+N115*O115+P115*Q115+R115*S115+T115*U115)/(J115+L115+N115+P115+R115+T115) -> 7.2170684 | J115: ='3.физ-всего'!J115+'4.юрид-всего'!J115 -> 208480.6 | K115: =('3.физ-всего'!J115*'3.физ-всего'!K115+'4.юрид-всего'!J115*'4.юрид-всего'!K115)/('3.физ-всего'!J115+'4.юрид-всего'!J115) -> 5.536871 | L115: ='3.физ-всего'!L115+'4.юрид-всего'!L115 -> 363920.2 | M115: =('3.физ-всего'!L115*'3.физ-всего'!M115+'4.юрид-всего'!L115*'4.юрид-всего'!M115)/('3.физ-всего'!L115+'4.юрид-всего'!L115) -> 6.9227411 | N115: ='3.физ-всего'!N115+'4.юрид-всего'!N115 -> 381638.6 | O115: =('3.физ-всего'!N115*'3.физ-всего'!O115+'4.юрид-всего'!N115*'4.юрид-всего'!O115)/('3.физ-всего'!N115+'4.юрид-всего'!N115) -> 8.5522716 | P115: ='3.физ-всего'!P115+'4.юрид-всего'!P115 -> 448863.4 | Q115: =('3.физ-всего'!P115*'3.физ-всего'!Q115+'4.юрид-всего'!P115*'4.юрид-всего'!Q115)/('3.физ-всего'!P115+'4.юрид-всего'!P115) -> 9.7970092 | R115: ='3.физ-всего'!R115+'4.юрид-всего'!R115 -> 664642.7 | S115: =('3.физ-всего'!R115*'3.физ-всего'!S115+'4.юрид-всего'!R115*'4.юрид-всего'!S115)/('3.физ-всего'!R115+'4.юрид-всего'!R115) -> 6.0623368 | T115: ='3.физ-всего'!T115+'4.юрид-всего'!T115 -> 61346.9 | U115: =('3.физ-всего'!T115*'3.физ-всего'!U115+'4.юрид-всего'!T115*'4.юрид-всего'!U115)/('3.физ-всего'!T115+'4.юрид-всего'!T115) -> 0.00037165692
A116: Декабрь | B116: ='3.физ-всего'!B116+'4.юрид-всего'!B116 -> 8205967.7 | C116: =('3.физ-всего'!B116*'3.физ-всего'!C116+'4.юрид-всего'!B116*'4.юрид-всего'!C116)/('3.физ-всего'!B116+'4.юрид-всего'!B116) -> 2.5400352 | F116: ='3.физ-всего'!F116+'4.юрид-всего'!F116 -> 5869653.8 | G116: =('3.физ-всего'!F116*'3.физ-всего'!G116+'4.юрид-всего'!F116*'4.юрид-всего'!G116)/('3.физ-всего'!F116+'4.юрид-всего'!F116) -> 0.69272982 | H116: =J116+L116+N116+P116+R116+T116 -> 2336313.9 | I116: =(J116*K116+L116*M116+N116*O116+P116*Q116+R116*S116+T116*U116)/(J116+L116+N116+P116+R116+T116) -> 7.1811253 | J116: ='3.физ-всего'!J116+'4.юрид-всего'!J116 -> 318032.2 | K116: =('3.физ-всего'!J116*'3.физ-всего'!K116+'4.юрид-всего'!J116*'4.юрид-всего'!K116)/('3.физ-всего'!J116+'4.юрид-всего'!J116) -> 5.4710832 | L116: ='3.физ-всего'!L116+'4.юрид-всего'!L116 -> 281248 | M116: =('3.физ-всего'!L116*'3.физ-всего'!M116+'4.юрид-всего'!L116*'4.юрид-всего'!M116)/('3.физ-всего'!L116+'4.юрид-всего'!L116) -> 7.6553738 | N116: ='3.физ-всего'!N116+'4.юрид-всего'!N116 -> 397533.5 | O116: =('3.физ-всего'!N116*'3.физ-всего'!O116+'4.юрид-всего'!N116*'4.юрид-всего'!O116)/('3.физ-всего'!N116+'4.юрид-всего'!N116) -> 8.4207534 | P116: ='3.физ-всего'!P116+'4.юрид-всего'!P116 -> 472872.7 | Q116: =('3.физ-всего'!P116*'3.физ-всего'!Q116+'4.юрид-всего'!P116*'4.юрид-всего'!Q116)/('3.физ-всего'!P116+'4.юрид-всего'!P116) -> 9.9189678 | R116: ='3.физ-всего'!R116+'4.юрид-всего'!R116 -> 805159.1 | S116: =('3.физ-всего'!R116*'3.физ-всего'!S116+'4.юрид-всего'!R116*'4.юрид-всего'!S116)/('3.физ-всего'!R116+'4.юрид-всего'!R116) -> 6.0190769 | T116: ='3.физ-всего'!T116+'4.юрид-всего'!T116 -> 61468.4 | U116: =('3.физ-всего'!T116*'3.физ-всего'!U116+'4.юрид-всего'!T116*'4.юрид-всего'!U116)/('3.физ-всего'!T116+'4.юрид-всего'!T116) -> 0.0011127669
A117: Январь 2005 г. | B117: ='3.физ-всего'!B117+'4.юрид-всего'!B117 -> 9196500.5 | C117: =('3.физ-всего'!B117*'3.физ-всего'!C117+'4.юрид-всего'!B117*'4.юрид-всего'!C117)/('3.физ-всего'!B117+'4.юрид-всего'!B117) -> 2.509064 | F117: ='3.физ-всего'!F117+'4.юрид-всего'!F117 -> 6404521.8 | G117: =('3.физ-всего'!F117*'3.физ-всего'!G117+'4.юрид-всего'!F117*'4.юрид-всего'!G117)/('3.физ-всего'!F117+'4.юрид-всего'!F117) -> 0.64917245 | H117: =J117+L117+N117+P117+R117+T117 -> 2791978.7 | I117: =(J117*K117+L117*M117+N117*O117+P117*Q117+R117*S117+T117*U117)/(J117+L117+N117+P117+R117+T117) -> 6.7754705 | J117: ='3.физ-всего'!J117+'4.юрид-всего'!J117 -> 146833.6 | K117: =('3.физ-всего'!J117*'3.физ-всего'!K117+'4.юрид-всего'!J117*'4.юрид-всего'!K117)/('3.физ-всего'!J117+'4.юрид-всего'!J117) -> 7.2213538 | L117: ='3.физ-всего'!L117+'4.юрид-всего'!L117 -> 375606 | M117: =('3.физ-всего'!L117*'3.физ-всего'!M117+'4.юрид-всего'!L117*'4.юрид-всего'!M117)/('3.физ-всего'!L117+'4.юрид-всего'!L117) -> 7.6270302 | N117: ='3.физ-всего'!N117+'4.юрид-всего'!N117 -> 453642.4 | O117: =('3.физ-всего'!N117*'3.физ-всего'!O117+'4.юрид-всего'!N117*'4.юрид-всего'!O117)/('3.физ-всего'!N117+'4.юрид-всего'!N117) -> 9.2245715 | P117: ='3.физ-всего'!P117+'4.юрид-всего'!P117 -> 453076.2 | Q117: =('3.физ-всего'!P117*'3.физ-всего'!Q117+'4.юрид-всего'!P117*'4.юрид-всего'!Q117)/('3.физ-всего'!P117+'4.юрид-всего'!P117) -> 10.151508 | R117: ='3.физ-всего'!R117+'4.юрид-всего'!R117 -> 1302486.9 | S117: =('3.физ-всего'!R117*'3.физ-всего'!S117+'4.юрид-всего'!R117*'4.юрид-всего'!S117)/('3.физ-всего'!R117+'4.юрид-всего'!R117) -> 4.7660663 | T117: ='3.физ-всего'!T117+'4.юрид-всего'!T117 -> 60333.6 | U117: =('3.физ-всего'!T117*'3.физ-всего'!U117+'4.юрид-всего'!T117*'4.юрид-всего'!U117)/('3.физ-всего'!T117+'4.юрид-всего'!T117) -> 0.0011767904
A118: Февраль | B118: ='3.физ-всего'!B118+'4.юрид-всего'!B118 -> 8458919.4 | C118: =('3.физ-всего'!B118*'3.физ-всего'!C118+'4.юрид-всего'!B118*'4.юрид-всего'!C118)/('3.физ-всего'!B118+'4.юрид-всего'!B118) -> 2.8939011 | F118: ='3.физ-всего'!F118+'4.юрид-всего'!F118 -> 5498108.2 | G118: =('3.физ-всего'!F118*'3.физ-всего'!G118+'4.юрид-всего'!F118*'4.юрид-всего'!G118)/('3.физ-всего'!F118+'4.юрид-всего'!F118) -> 0.7913132 | H118: =J118+L118+N118+P118+R118+T118 -> 2960811.2 | I118: =(J118*K118+L118*M118+N118*O118+P118*Q118+R118*S118+T118*U118)/(J118+L118+N118+P118+R118+T118) -> 6.798323 | J118: ='3.физ-всего'!J118+'4.юрид-всего'!J118 -> 216395.3 | K118: =('3.физ-всего'!J118*'3.физ-всего'!K118+'4.юрид-всего'!J118*'4.юрид-всего'!K118)/('3.физ-всего'!J118+'4.юрид-всего'!J118) -> 6.8381315 | L118: ='3.физ-всего'!L118+'4.юрид-всего'!L118 -> 355770.6 | M118: =('3.физ-всего'!L118*'3.физ-всего'!M118+'4.юрид-всего'!L118*'4.юрид-всего'!M118)/('3.физ-всего'!L118+'4.юрид-всего'!L118) -> 7.4207003 | N118: ='3.физ-всего'!N118+'4.юрид-всего'!N118 -> 500823.5 | O118: =('3.физ-всего'!N118*'3.физ-всего'!O118+'4.юрид-всего'!N118*'4.юрид-всего'!O118)/('3.физ-всего'!N118+'4.юрид-всего'!N118) -> 9.1579983 | P118: ='3.физ-всего'!P118+'4.юрид-всего'!P118 -> 527540.7 | Q118: =('3.физ-всего'!P118*'3.физ-всего'!Q118+'4.юрид-всего'!P118*'4.юрид-всего'!Q118)/('3.физ-всего'!P118+'4.юрид-всего'!P118) -> 10.069777 | R118: ='3.физ-всего'!R118+'4.юрид-всего'!R118 -> 1299605.2 | S118: =('3.физ-всего'!R118*'3.физ-всего'!S118+'4.юрид-всего'!R118*'4.юрид-всего'!S118)/('3.физ-всего'!R118+'4.юрид-всего'!R118) -> 4.70136 | T118: ='3.физ-всего'!T118+'4.юрид-всего'!T118 -> 60675.9 | U118: =('3.физ-всего'!T118*'3.физ-всего'!U118+'4.юрид-всего'!T118*'4.юрид-всего'!U118)/('3.физ-всего'!T118+'4.юрид-всего'!T118) -> 0.0012294832
A119: Март | B119: ='3.физ-всего'!B119+'4.юрид-всего'!B119 -> 8721994.5 | C119: =('3.физ-всего'!B119*'3.физ-всего'!C119+'4.юрид-всего'!B119*'4.юрид-всего'!C119)/('3.физ-всего'!B119+'4.юрид-всего'!B119) -> 2.6679549 | F119: ='3.физ-всего'!F119+'4.юрид-всего'!F119 -> 5788349.1 | G119: =('3.физ-всего'!F119*'3.физ-всего'!G119+'4.юрид-всего'!F119*'4.юрид-всего'!G119)/('3.физ-всего'!F119+'4.юрид-всего'!F119) -> 0.59906499 | H119: =J119+L119+N119+P119+R119+T119 -> 2933645.4 | I119: =(J119*K119+L119*M119+N119*O119+P119*Q119+R119*S119+T119*U119)/(J119+L119+N119+P119+R119+T119) -> 6.7500629 | J119: ='3.физ-всего'!J119+'4.юрид-всего'!J119 -> 228798.4 | K119: =('3.физ-всего'!J119*'3.физ-всего'!K119+'4.юрид-всего'!J119*'4.юрид-всего'!K119)/('3.физ-всего'!J119+'4.юрид-всего'!J119) -> 6.9189662 | L119: ='3.физ-всего'!L119+'4.юрид-всего'!L119 -> 306539.2 | M119: =('3.физ-всего'!L119*'3.физ-всего'!M119+'4.юрид-всего'!L119*'4.юрид-всего'!M119)/('3.физ-всего'!L119+'4.юрид-всего'!L119) -> 7.7253637 | N119: ='3.физ-всего'!N119+'4.юрид-всего'!N119 -> 451420.5 | O119: =('3.физ-всего'!N119*'3.физ-всего'!O119+'4.юрид-всего'!N119*'4.юрид-всего'!O119)/('3.физ-всего'!N119+'4.юрид-всего'!N119) -> 9.2832505 | P119: ='3.физ-всего'!P119+'4.юрид-всего'!P119 -> 532292.2 | Q119: =('3.физ-всего'!P119*'3.физ-всего'!Q119+'4.юрид-всего'!P119*'4.юрид-всего'!Q119)/('3.физ-всего'!P119+'4.юрид-всего'!P119) -> 9.9862159 | R119: ='3.физ-всего'!R119+'4.юрид-всего'!R119 -> 1353976.8 | S119: =('3.физ-всего'!R119*'3.физ-всего'!S119+'4.юрид-всего'!R119*'4.юрид-всего'!S119)/('3.физ-всего'!R119+'4.юрид-всего'!R119) -> 4.6860492 | T119: ='3.физ-всего'!T119+'4.юрид-всего'!T119 -> 60618.3 | U119: =('3.физ-всего'!T119*'3.физ-всего'!U119+'4.юрид-всего'!T119*'4.юрид-всего'!U119)/('3.физ-всего'!T119+'4.юрид-всего'!T119) -> 0.0013098355
A120: Апрель | B120: ='3.физ-всего'!B120+'4.юрид-всего'!B120 -> 9196027.7 | C120: =('3.физ-всего'!B120*'3.физ-всего'!C120+'4.юрид-всего'!B120*'4.юрид-всего'!C120)/('3.физ-всего'!B120+'4.юрид-всего'!B120) -> 2.7871624 | F120: ='3.физ-всего'!F120+'4.юрид-всего'!F120 -> 6069508.3 | G120: =('3.физ-всего'!F120*'3.физ-всего'!G120+'4.юрид-всего'!F120*'4.юрид-всего'!G120)/('3.физ-всего'!F120+'4.юрид-всего'!F120) -> 0.73688085 | H120: =J120+L120+N120+P120+R120+T120 -> 3126519.4 | I120: =(J120*K120+L120*M120+N120*O120+P120*Q120+R120*S120+T120*U120)/(J120+L120+N120+P120+R120+T120) -> 6.7673713 | J120: ='3.физ-всего'!J120+'4.юрид-всего'!J120 -> 159817.6 | K120: =('3.физ-всего'!J120*'3.физ-всего'!K120+'4.юрид-всего'!J120*'4.юрид-всего'!K120)/('3.физ-всего'!J120+'4.юрид-всего'!J120) -> 7.3566952 | L120: ='3.физ-всего'!L120+'4.юрид-всего'!L120 -> 544881.4 | M120: =('3.физ-всего'!L120*'3.физ-всего'!M120+'4.юрид-всего'!L120*'4.юрид-всего'!M120)/('3.физ-всего'!L120+'4.юрид-всего'!L120) -> 7.4549742 | N120: ='3.физ-всего'!N120+'4.юрид-всего'!N120 -> 354973.4 | O120: =('3.физ-всего'!N120*'3.физ-всего'!O120+'4.юрид-всего'!N120*'4.юрид-всего'!O120)/('3.физ-всего'!N120+'4.юрид-всего'!N120) -> 8.7854862 | P120: ='3.физ-всего'!P120+'4.юрид-всего'!P120 -> 499069.5 | Q120: =('3.физ-всего'!P120*'3.физ-всего'!Q120+'4.юрид-всего'!P120*'4.юрид-всего'!Q120)/('3.физ-всего'!P120+'4.юрид-всего'!P120) -> 10.353493 | R120: ='3.физ-всего'!R120+'4.юрид-всего'!R120 -> 1507147.9 | S120: =('3.физ-всего'!R120*'3.физ-всего'!S120+'4.юрид-всего'!R120*'4.юрид-всего'!S120)/('3.физ-всего'!R120+'4.юрид-всего'!R120) -> 5.0656622 | T120: ='3.физ-всего'!T120+'4.юрид-всего'!T120 -> 60629.6 | U120: =('3.физ-всего'!T120*'3.физ-всего'!U120+'4.юрид-всего'!T120*'4.юрид-всего'!U120)/('3.физ-всего'!T120+'4.юрид-всего'!T120) -> 0.0013689683
A121: Май | B121: ='3.физ-всего'!B121+'4.юрид-всего'!B121 -> 9917992.1 | C121: =('3.физ-всего'!B121*'3.физ-всего'!C121+'4.юрид-всего'!B121*'4.юрид-всего'!C121)/('3.физ-всего'!B121+'4.юрид-всего'!B121) -> 2.5654907 | F121: ='3.физ-всего'!F121+'4.юрид-всего'!F121 -> 6853692.8 | G121: =('3.физ-всего'!F121*'3.физ-всего'!G121+'4.юрид-всего'!F121*'4.юрид-всего'!G121)/('3.физ-всего'!F121+'4.юрид-всего'!F121) -> 0.68124653 | H121: =J121+L121+N121+P121+R121+T121 -> 3064299.3 | I121: =(J121*K121+L121*M121+N121*O121+P121*Q121+R121*S121+T121*U121)/(J121+L121+N121+P121+R121+T121) -> 6.779841 | J121: ='3.физ-всего'!J121+'4.юрид-всего'!J121 -> 167230.7 | K121: =('3.физ-всего'!J121*'3.физ-всего'!K121+'4.юрид-всего'!J121*'4.юрид-всего'!K121)/('3.физ-всего'!J121+'4.юрид-всего'!J121) -> 7.3120489 | L121: ='3.физ-всего'!L121+'4.юрид-всего'!L121 -> 551614.6 | M121: =('3.физ-всего'!L121*'3.физ-всего'!M121+'4.юрид-всего'!L121*'4.юрид-всего'!M121)/('3.физ-всего'!L121+'4.юрид-всего'!L121) -> 7.3552038 | N121: ='3.физ-всего'!N121+'4.юрид-всего'!N121 -> 339414.1 | O121: =('3.физ-всего'!N121*'3.физ-всего'!O121+'4.юрид-всего'!N121*'4.юрид-всего'!O121)/('3.физ-всего'!N121+'4.юрид-всего'!N121) -> 8.8946565 | P121: ='3.физ-всего'!P121+'4.юрид-всего'!P121 -> 503646.5 | Q121: =('3.физ-всего'!P121*'3.физ-всего'!Q121+'4.юрид-всего'!P121*'4.юрид-всего'!Q121)/('3.физ-всего'!P121+'4.юрид-всего'!P121) -> 10.012375 | R121: ='3.физ-всего'!R121+'4.юрид-всего'!R121 -> 1442198.1 | S121: =('3.физ-всего'!R121*'3.физ-всего'!S121+'4.юрид-всего'!R121*'4.юрид-всего'!S121)/('3.физ-всего'!R121+'4.юрид-всего'!R121) -> 5.1539495 | T121: ='3.физ-всего'!T121+'4.юрид-всего'!T121 -> 60195.3 | U121: =('3.физ-всего'!T121*'3.физ-всего'!U121+'4.юрид-всего'!T121*'4.юрид-всего'!U121)/('3.физ-всего'!T121+'4.юрид-всего'!T121) -> 0.012289464
A122: Июнь | B122: ='3.физ-всего'!B122+'4.юрид-всего'!B122 -> 10264279 | C122: =('3.физ-всего'!B122*'3.физ-всего'!C122+'4.юрид-всего'!B122*'4.юрид-всего'!C122)/('3.физ-всего'!B122+'4.юрид-всего'!B122) -> 2.2867567 | F122: ='3.физ-всего'!F122+'4.юрид-всего'!F122 -> 7275241 | G122: =('3.физ-всего'!F122*'3.физ-всего'!G122+'4.юрид-всего'!F122*'4.юрид-всего'!G122)/('3.физ-всего'!F122+'4.юрид-всего'!F122) -> 0.53361842 | H122: =J122+L122+N122+P122+R122+T122 -> 2989038.1 | I122: =(J122*K122+L122*M122+N122*O122+P122*Q122+R122*S122+T122*U122)/(J122+L122+N122+P122+R122+T122) -> 6.5538496 | J122: ='3.физ-всего'!J122+'4.юрид-всего'!J122 -> 315868.3 | K122: =('3.физ-всего'!J122*'3.физ-всего'!K122+'4.юрид-всего'!J122*'4.юрид-всего'!K122)/('3.физ-всего'!J122+'4.юрид-всего'!J122) -> 7.7160195 | L122: ='3.физ-всего'!L122+'4.юрид-всего'!L122 -> 440685.1 | M122: =('3.физ-всего'!L122*'3.физ-всего'!M122+'4.юрид-всего'!L122*'4.юрид-всего'!M122)/('3.физ-всего'!L122+'4.юрид-всего'!L122) -> 6.3243482 | N122: ='3.физ-всего'!N122+'4.юрид-всего'!N122 -> 395044.7 | O122: =('3.физ-всего'!N122*'3.физ-всего'!O122+'4.юрид-всего'!N122*'4.юрид-всего'!O122)/('3.физ-всего'!N122+'4.юрид-всего'!N122) -> 8.8422384 | P122: ='3.физ-всего'!P122+'4.юрид-всего'!P122 -> 488417.7 | Q122: =('3.физ-всего'!P122*'3.физ-всего'!Q122+'4.юрид-всего'!P122*'4.юрид-всего'!Q122)/('3.физ-всего'!P122+'4.юрид-всего'!P122) -> 10.017161 | R122: ='3.физ-всего'!R122+'4.юрид-всего'!R122 -> 1289124.7 | S122: =('3.физ-всего'!R122*'3.физ-всего'!S122+'4.юрид-всего'!R122*'4.юрид-всего'!S122)/('3.физ-всего'!R122+'4.юрид-всего'!R122) -> 4.6375832 | T122: ='3.физ-всего'!T122+'4.юрид-всего'!T122 -> 59897.6 | U122: =('3.физ-всего'!T122*'3.физ-всего'!U122+'4.юрид-всего'!T122*'4.юрид-всего'!U122)/('3.физ-всего'!T122+'4.юрид-всего'!T122) -> 0.022586882
... A176: Декабрь | B176: ='3.физ-всего'!B176+'4.юрид-всего'!B176 -> 39604433 | C176: =('3.физ-всего'!B176*'3.физ-всего'!C176+'4.юрид-всего'!B176*'4.юрид-всего'!C176)/('3.физ-всего'!B176+'4.юрид-всего'!B176) -> 3.324991 | F176: ='3.физ-всего'!F176+'4.юрид-всего'!F176 -> 27748827 | G176: =('3.физ-всего'!F176*'3.физ-всего'!G176+'4.юрид-всего'!F176*'4.юрид-всего'!G176)/('3.физ-всего'!F176+'4.юрид-всего'!F176) -> 0.66783935 | H176: =J176+L176+N176+P176+R176+T176 -> 11855606 | I176: =(J176*K176+L176*M176+N176*O176+P176*Q176+R176*S176+T176*U176)/(J176+L176+N176+P176+R176+T176) -> 9.5442295 | J176: ='3.физ-всего'!J176+'4.юрид-всего'!J176 -> 1086530.5 | K176: =('3.физ-всего'!J176*'3.физ-всего'!K176+'4.юрид-всего'!J176*'4.юрид-всего'!K176)/('3.физ-всего'!J176+'4.юрид-всего'!J176) -> 6.653474 | L176: ='3.физ-всего'!L176+'4.юрид-всего'!L176 -> 2522367.4 | M176: =('3.физ-всего'!L176*'3.физ-всего'!M176+'4.юрид-всего'!L176*'4.юрид-всего'!M176)/('3.физ-всего'!L176+'4.юрид-всего'!L176) -> 7.3423053 | N176: ='3.физ-всего'!N176+'4.юрид-всего'!N176 -> 2135961.2 | O176: =('3.физ-всего'!N176*'3.физ-всего'!O176+'4.юрид-всего'!N176*'4.юрид-всего'!O176)/('3.физ-всего'!N176+'4.юрид-всего'!N176) -> 9.594524 | P176: ='3.физ-всего'!P176+'4.юрид-всего'!P176 -> 4170369.1 | Q176: =('3.физ-всего'!P176*'3.физ-всего'!Q176+'4.юрид-всего'!P176*'4.юрид-всего'!Q176)/('3.физ-всего'!P176+'4.юрид-всего'!P176) -> 10.281232 | R176: ='3.физ-всего'!R176+'4.юрид-всего'!R176 -> 1765559.2 | S176: =('3.физ-всего'!R176*'3.физ-всего'!S176+'4.юрид-всего'!R176*'4.юрид-всего'!S176)/('3.физ-всего'!R176+'4.юрид-всего'!R176) -> 13.548405 | T176: ='3.физ-всего'!T176+'4.юрид-всего'!T176 -> 174818.4 | U176: =('3.физ-всего'!T176*'3.физ-всего'!U176+'4.юрид-всего'!T176*'4.юрид-всего'!U176)/('3.физ-всего'!T176+'4.юрид-всего'!T176) -> 0.64555509
A177: Январь 2010 г. | B177: ='3.физ-всего'!B177+'4.юрид-всего'!B177+'5.нерез-всего'!B9 -> 42733412 | C177: =('3.физ-всего'!B177*'3.физ-всего'!C177+'4.юрид-всего'!B177*'4.юрид-всего'!C177+'5.нерез-всего'!B9*'5.нерез-всего'!C9)/('3.физ-всего'!B177+'4.юрид-всего'!B177+'5.нерез-всего'!B9) -> 3.2327122 | D177: ='3.физ-всего'!D177+'4.юрид-всего'!D177+'5.нерез-всего'!D9 -> 25976333 | E177: =('3.физ-всего'!D177*'3.физ-всего'!E177+'4.юрид-всего'!D177*'4.юрид-всего'!E177+'5.нерез-всего'!D9*'5.нерез-всего'!E9)/('3.физ-всего'!D177+'4.юрид-всего'!D177+'5.нерез-всего'!D9) -> 0.64289212 | F177: ='3.физ-всего'!F177+'4.юрид-всего'!F177+'5.нерез-всего'!F9 -> 4564607.3 | G177: =('3.физ-всего'!F177*'3.физ-всего'!G177+'4.юрид-всего'!F177*'4.юрид-всего'!G177+'5.нерез-всего'!F9*'5.нерез-всего'!G9)/('3.физ-всего'!F177+'4.юрид-всего'!F177+'5.нерез-всего'!F9) -> 0.77595747 | H177: =J177+L177+N177+P177+R177+T177 -> 12192472 | I177: =(J177*K177+L177*M177+N177*O177+P177*Q177+R177*S177+T177*U177)/(J177+L177+N177+P177+R177+T177) -> 9.6701392 | J177: ='3.физ-всего'!J177+'4.юрид-всего'!J177+'5.нерез-всего'!J9 -> 1364542.5 | K177: =('3.физ-всего'!J177*'3.физ-всего'!K177+'4.юрид-всего'!J177*'4.юрид-всего'!K177+'5.нерез-всего'!J9*'5.нерез-всего'!K9)/('3.физ-всего'!J177+'4.юрид-всего'!J177+'5.нерез-всего'!J9) -> 7.915445 | L177: ='3.физ-всего'!L177+'4.юрид-всего'!L177+'5.нерез-всего'!L9 -> 2601444.1 | M177: =('3.физ-всего'!L177*'3.физ-всего'!M177+'4.юрид-всего'!L177*'4.юрид-всего'!M177+'5.нерез-всего'!L9*'5.нерез-всего'!M9)/('3.физ-всего'!L177+'4.юрид-всего'!L177+'5.нерез-всего'!L9) -> 7.0276971 | N177: ='3.физ-всего'!N177+'4.юрид-всего'!N177+'5.нерез-всего'!N9 -> 2096357.5 | O177: =('3.физ-всего'!N177*'3.физ-всего'!O177+'4.юрид-всего'!N177*'4.юрид-всего'!O177+'5.нерез-всего'!N9*'5.нерез-всего'!O9)/('3.физ-всего'!N177+'4.юрид-всего'!N177+'5.нерез-всего'!N9) -> 9.8713966 | P177: ='3.физ-всего'!P177+'4.юрид-всего'!P177+'5.нерез-всего'!P9 -> 4183801.4 | Q177: =('3.физ-всего'!P177*'3.физ-всего'!Q177+'4.юрид-всего'!P177*'4.юрид-всего'!Q177+'5.нерез-всего'!P9*'5.нерез-всего'!Q9)/('3.физ-всего'!P177+'4.юрид-всего'!P177+'5.нерез-всего'!P9) -> 10.433063 | R177: ='3.физ-всего'!R177+'4.юрид-всего'!R177+'5.нерез-всего'!R9 -> 1773932.1 | S177: =('3.физ-всего'!R177*'3.физ-всего'!S177+'4.юрид-всего'!R177*'4.юрид-всего'!S177+'5.нерез-всего'!R9*'5.нерез-всего'!S9)/('3.физ-всего'!R177+'4.юрид-всего'!R177+'5.нерез-всего'!R9) -> 13.731008 | T177: ='3.физ-всего'!T177+'4.юрид-всего'!T177+'5.нерез-всего'!T9 -> 172394.5 | U177: =('3.физ-всего'!T177*'3.физ-всего'!U177+'4.юрид-всего'!T177*'4.юрид-всего'!U177+'5.нерез-всего'!T9*'5.нерез-всего'!U9)/('3.физ-всего'!T177+'4.юрид-всего'!T177+'5.нерез-всего'!T9) -> 0.68484616
A178: Февраль | B178: ='3.физ-всего'!B178+'4.юрид-всего'!B178+'5.нерез-всего'!B10 -> 42186195 | C178: =('3.физ-всего'!B178*'3.физ-всего'!C178+'4.юрид-всего'!B178*'4.юрид-всего'!C178+'5.нерез-всего'!B10*'5.нерез-всего'!C10)/('3.физ-всего'!B178+'4.юрид-всего'!B178+'5.нерез-всего'!B10) -> 3.3234205 | D178: ='3.физ-всего'!D178+'4.юрид-всего'!D178+'5.нерез-всего'!D10 -> 24908421 | E178: =('3.физ-всего'!D178*'3.физ-всего'!E178+'4.юрид-всего'!D178*'4.юрид-всего'!E178+'5.нерез-всего'!D10*'5.нерез-всего'!E10)/('3.физ-всего'!D178+'4.юрид-всего'!D178+'5.нерез-всего'!D10) -> 0.62464037 | F178: ='3.физ-всего'!F178+'4.юрид-всего'!F178+'5.нерез-всего'!F10 -> 4771118.8 | G178: =('3.физ-всего'!F178*'3.физ-всего'!G178+'4.юрид-всего'!F178*'4.юрид-всего'!G178+'5.нерез-всего'!F10*'5.нерез-всего'!G10)/('3.физ-всего'!F178+'4.юрид-всего'!F178+'5.нерез-всего'!F10) -> 0.73471247 | H178: =J178+L178+N178+P178+R178+T178 -> 12506656 | I178: =(J178*K178+L178*M178+N178*O178+P178*Q178+R178*S178+T178*U178)/(J178+L178+N178+P178+R178+T178) -> 9.6859036 | J178: ='3.физ-всего'!J178+'4.юрид-всего'!J178+'5.нерез-всего'!J10 -> 1877428.9 | K178: =('3.физ-всего'!J178*'3.физ-всего'!K178+'4.юрид-всего'!J178*'4.юрид-всего'!K178+'5.нерез-всего'!J10*'5.нерез-всего'!K10)/('3.физ-всего'!J178+'4.юрид-всего'!J178+'5.нерез-всего'!J10) -> 6.2704885 | L178: ='3.физ-всего'!L178+'4.юрид-всего'!L178+'5.нерез-всего'!L10 -> 1846570.1 | M178: =('3.физ-всего'!L178*'3.физ-всего'!M178+'4.юрид-всего'!L178*'4.юрид-всего'!M178+'5.нерез-всего'!L10*'5.нерез-всего'!M10)/('3.физ-всего'!L178+'4.юрид-всего'!L178+'5.нерез-всего'!L10) -> 8.6489762 | N178: ='3.физ-всего'!N178+'4.юрид-всего'!N178+'5.нерез-всего'!N10 -> 2297601 | O178: =('3.физ-всего'!N178*'3.физ-всего'!O178+'4.юрид-всего'!N178*'4.юрид-всего'!O178+'5.нерез-всего'!N10*'5.нерез-всего'!O10)/('3.физ-всего'!N178+'4.юрид-всего'!N178+'5.нерез-всего'!N10) -> 9.5152708 | P178: ='3.физ-всего'!P178+'4.юрид-всего'!P178+'5.нерез-всего'!P10 -> 4470652.1 | Q178: =('3.физ-всего'!P178*'3.физ-всего'!Q178+'4.юрид-всего'!P178*'4.юрид-всего'!Q178+'5.нерез-всего'!P10*'5.нерез-всего'!Q10)/('3.физ-всего'!P178+'4.юрид-всего'!P178+'5.нерез-всего'!P10) -> 10.317502 | R178: ='3.физ-всего'!R178+'4.юрид-всего'!R178+'5.нерез-всего'!R10 -> 1857015.3 | S178: =('3.физ-всего'!R178*'3.физ-всего'!S178+'4.юрид-всего'!R178*'4.юрид-всего'!S178+'5.нерез-всего'!R10*'5.нерез-всего'!S10)/('3.физ-всего'!R178+'4.юрид-всего'!R178+'5.нерез-всего'!R10) -> 13.624888 | T178: ='3.физ-всего'!T178+'4.юрид-всего'!T178+'5.нерез-всего'!T10 -> 157388.2 | U178: =('3.физ-всего'!T178*'3.физ-всего'!U178+'4.юрид-всего'!T178*'4.юрид-всего'!U178+'5.нерез-всего'!T10*'5.нерез-всего'!U10)/('3.физ-всего'!T178+'4.юрид-всего'!T178+'5.нерез-всего'!T10) -> 0.66740035
A179: Март | B179: ='3.физ-всего'!B179+'4.юрид-всего'!B179+'5.нерез-всего'!B11 -> 43509139 | C179: =('3.физ-всего'!B179*'3.физ-всего'!C179+'4.юрид-всего'!B179*'4.юрид-всего'!C179+'5.нерез-всего'!B11*'5.нерез-всего'!C11)/('3.физ-всего'!B179+'4.юрид-всего'!B179+'5.нерез-всего'!B11) -> 3.3602845 | D179: ='3.физ-всего'!D179+'4.юрид-всего'!D179+'5.нерез-всего'!D11 -> 24823873 | E179: =('3.физ-всего'!D179*'3.физ-всего'!E179+'4.юрид-всего'!D179*'4.юрид-всего'!E179+'5.нерез-всего'!D11*'5.нерез-всего'!E11)/('3.физ-всего'!D179+'4.юрид-всего'!D179+'5.нерез-всего'!D11) -> 0.65235875 | F179: ='3.физ-всего'!F179+'4.юрид-всего'!F179+'5.нерез-всего'!F11 -> 5044181.3 | G179: =('3.физ-всего'!F179*'3.физ-всего'!G179+'4.юрид-всего'!F179*'4.юрид-всего'!G179+'5.нерез-всего'!F11*'5.нерез-всего'!G11)/('3.физ-всего'!F179+'4.юрид-всего'!F179+'5.нерез-всего'!F11) -> 0.67001017 | H179: =J179+L179+N179+P179+R179+T179 -> 13641085 | I179: =(J179*K179+L179*M179+N179*O179+P179*Q179+R179*S179+T179*U179)/(J179+L179+N179+P179+R179+T179) -> 9.2829395 | J179: ='3.физ-всего'!J179+'4.юрид-всего'!J179+'5.нерез-всего'!J11 -> 1719379.2 | K179: =('3.физ-всего'!J179*'3.физ-всего'!K179+'4.юрид-всего'!J179*'4.юрид-всего'!K179+'5.нерез-всего'!J11*'5.нерез-всего'!K11)/('3.физ-всего'!J179+'4.юрид-всего'!J179+'5.нерез-всего'!J11) -> 6.4563552 | L179: ='3.физ-всего'!L179+'4.юрид-всего'!L179+'5.нерез-всего'!L11 -> 1626061.1 | M179: =('3.физ-всего'!L179*'3.физ-всего'!M179+'4.юрид-всего'!L179*'4.юрид-всего'!M179+'5.нерез-всего'!L11*'5.нерез-всего'!M11)/('3.физ-всего'!L179+'4.юрид-всего'!L179+'5.нерез-всего'!L11) -> 8.6998499 | N179: ='3.физ-всего'!N179+'4.юрид-всего'!N179+'5.нерез-всего'!N11 -> 2973629.7 | O179: =('3.физ-всего'!N179*'3.физ-всего'!O179+'4.юрид-всего'!N179*'4.юрид-всего'!O179+'5.нерез-всего'!N11*'5.нерез-всего'!O11)/('3.физ-всего'!N179+'4.юрид-всего'!N179+'5.нерез-всего'!N11) -> 9.6493839 | P179: ='3.физ-всего'!P179+'4.юрид-всего'!P179+'5.нерез-всего'!P11 -> 4338454.2 | Q179: =('3.физ-всего'!P179*'3.физ-всего'!Q179+'4.юрид-всего'!P179*'4.юрид-всего'!Q179+'5.нерез-всего'!P11*'5.нерез-всего'!Q11)/('3.физ-всего'!P179+'4.юрид-всего'!P179+'5.нерез-всего'!P11) -> 9.6243099 | R179: ='3.физ-всего'!R179+'4.юрид-всего'!R179+'5.нерез-всего'!R11 -> 2159238.1 | S179: =('3.физ-всего'!R179*'3.физ-всего'!S179+'4.юрид-всего'!R179*'4.юрид-всего'!S179+'5.нерез-всего'!R11*'5.нерез-всего'!S11)/('3.физ-всего'!R179+'4.юрид-всего'!R179+'5.нерез-всего'!R11) -> 12.396299 | T179: ='3.физ-всего'!T179+'4.юрид-всего'!T179+'5.нерез-всего'!T11 -> 824322.4 | U179: =('3.физ-всего'!T179*'3.физ-всего'!U179+'4.юрид-всего'!T179*'4.юрид-всего'!U179+'5.нерез-всего'!T11*'5.нерез-всего'!U11)/('3.физ-всего'!T179+'4.юрид-всего'!T179+'5.нерез-всего'!T11) -> 5.0551446
A180: Апрель | B180: ='3.физ-всего'!B180+'4.юрид-всего'!B180+'5.нерез-всего'!B12 -> 29808355 | C180: =('3.физ-всего'!B180*'3.физ-всего'!C180+'4.юрид-всего'!B180*'4.юрид-всего'!C180+'5.нерез-всего'!B12*'5.нерез-всего'!C12)/('3.физ-всего'!B180+'4.юрид-всего'!B180+'5.нерез-всего'!B12) -> 4.4530071 | D180: ='3.физ-всего'!D180+'4.юрид-всего'!D180+'5.нерез-всего'!D12 -> 12388198 | E180: =('3.физ-всего'!D180*'3.физ-всего'!E180+'4.юрид-всего'!D180*'4.юрид-всего'!E180+'5.нерез-всего'!D12*'5.нерез-всего'!E12)/('3.физ-всего'!D180+'4.юрид-всего'!D180+'5.нерез-всего'!D12) -> 0.85545499 | F180: ='3.физ-всего'!F180+'4.юрид-всего'!F180+'5.нерез-всего'!F12 -> 4781204.6 | G180: =('3.физ-всего'!F180*'3.физ-всего'!G180+'4.юрид-всего'!F180*'4.юрид-всего'!G180+'5.нерез-всего'!F12*'5.нерез-всего'!G12)/('3.физ-всего'!F180+'4.юрид-всего'!F180+'5.нерез-всего'!F12) -> 0.61936824 | H180: =J180+L180+N180+P180+R180+T180 -> 12638952 | I180: =(J180*K180+L180*M180+N180*O180+P180*Q180+R180*S180+T180*U180)/(J180+L180+N180+P180+R180+T180) -> 9.4294165 | J180: ='3.физ-всего'!J180+'4.юрид-всего'!J180+'5.нерез-всего'!J12 -> 878881.7 | K180: =('3.физ-всего'!J180*'3.физ-всего'!K180+'4.юрид-всего'!J180*'4.юрид-всего'!K180+'5.нерез-всего'!J12*'5.нерез-всего'!K12)/('3.физ-всего'!J180+'4.юрид-всего'!J180+'5.нерез-всего'!J12) -> 8.3902255 | L180: ='3.физ-всего'!L180+'4.юрид-всего'!L180+'5.нерез-всего'!L12 -> 1905700.1 | M180: =('3.физ-всего'!L180*'3.физ-всего'!M180+'4.юрид-всего'!L180*'4.юрид-всего'!M180+'5.нерез-всего'!L12*'5.нерез-всего'!M12)/('3.физ-всего'!L180+'4.юрид-всего'!L180+'5.нерез-всего'!L12) -> 7.8947658 | N180: ='3.физ-всего'!N180+'4.юрид-всего'!N180+'5.нерез-всего'!N12 -> 2599175.7 | O180: =('3.физ-всего'!N180*'3.физ-всего'!O180+'4.юрид-всего'!N180*'4.юрид-всего'!O180+'5.нерез-всего'!N12*'5.нерез-всего'!O12)/('3.физ-всего'!N180+'4.юрид-всего'!N180+'5.нерез-всего'!N12) -> 9.6415393 | P180: ='3.физ-всего'!P180+'4.юрид-всего'!P180+'5.нерез-всего'!P12 -> 4512580.4 | Q180: =('3.физ-всего'!P180*'3.физ-всего'!Q180+'4.юрид-всего'!P180*'4.юрид-всего'!Q180+'5.нерез-всего'!P12*'5.нерез-всего'!Q12)/('3.физ-всего'!P180+'4.юрид-всего'!P180+'5.нерез-всего'!P12) -> 9.2724809 | R180: ='3.физ-всего'!R180+'4.юрид-всего'!R180+'5.нерез-всего'!R12 -> 1925284.6 | S180: =('3.физ-всего'!R180*'3.физ-всего'!S180+'4.юрид-всего'!R180*'4.юрид-всего'!S180+'5.нерез-всего'!R12*'5.нерез-всего'!S12)/('3.физ-всего'!R180+'4.юрид-всего'!R180+'5.нерез-всего'!R12) -> 13.343299 | T180: ='3.физ-всего'!T180+'4.юрид-всего'!T180+'5.нерез-всего'!T12 -> 817329.9 | U180: =('3.физ-всего'!T180*'3.физ-всего'!U180+'4.юрид-всего'!T180*'4.юрид-всего'!U180+'5.нерез-всего'!T12*'5.нерез-всего'!U12)/('3.физ-всего'!T180+'4.юрид-всего'!T180+'5.нерез-всего'!T12) -> 5.0975202
A181: Май | B181: ='3.физ-всего'!B181+'4.юрид-всего'!B181+'5.нерез-всего'!B13 -> 30230592 | C181: =('3.физ-всего'!B181*'3.физ-всего'!C181+'4.юрид-всего'!B181*'4.юрид-всего'!C181+'5.нерез-всего'!B13*'5.нерез-всего'!C13)/('3.физ-всего'!B181+'4.юрид-всего'!B181+'5.нерез-всего'!B13) -> 4.2438379 | D181: ='3.физ-всего'!D181+'4.юрид-всего'!D181+'5.нерез-всего'!D13 -> 13062719 | E181: =('3.физ-всего'!D181*'3.физ-всего'!E181+'4.юрид-всего'!D181*'4.юрид-всего'!E181+'5.нерез-всего'!D13*'5.нерез-всего'!E13)/('3.физ-всего'!D181+'4.юрид-всего'!D181+'5.нерез-всего'!D13) -> 0.6151559 | F181: ='3.физ-всего'!F181+'4.юрид-всего'!F181+'5.нерез-всего'!F13 -> 4772813 | G181: =('3.физ-всего'!F181*'3.физ-всего'!G181+'4.юрид-всего'!F181*'4.юрид-всего'!G181+'5.нерез-всего'!F13*'5.нерез-всего'!G13)/('3.физ-всего'!F181+'4.юрид-всего'!F181+'5.нерез-всего'!F13) -> 0.903909 | H181: =J181+L181+N181+P181+R181+T181 -> 12395059 | I181: =(J181*K181+L181*M181+N181*O181+P181*Q181+R181*S181+T181*U181)/(J181+L181+N181+P181+R181+T181) -> 9.3540442 | J181: ='3.физ-всего'!J181+'4.юрид-всего'!J181+'5.нерез-всего'!J13 -> 1290436.9 | K181: =('3.физ-всего'!J181*'3.физ-всего'!K181+'4.юрид-всего'!J181*'4.юрид-всего'!K181+'5.нерез-всего'!J13*'5.нерез-всего'!K13)/('3.физ-всего'!J181+'4.юрид-всего'!J181+'5.нерез-всего'!J13) -> 6.7309441 | L181: ='3.физ-всего'!L181+'4.юрид-всего'!L181+'5.нерез-всего'!L13 -> 1569613.4 | M181: =('3.физ-всего'!L181*'3.физ-всего'!M181+'4.юрид-всего'!L181*'4.юрид-всего'!M181+'5.нерез-всего'!L13*'5.нерез-всего'!M13)/('3.физ-всего'!L181+'4.юрид-всего'!L181+'5.нерез-всего'!L13) -> 8.7311965 | N181: ='3.физ-всего'!N181+'4.юрид-всего'!N181+'5.нерез-всего'!N13 -> 2360795.3 | O181: =('3.физ-всего'!N181*'3.физ-всего'!O181+'4.юрид-всего'!N181*'4.юрид-всего'!O181+'5.нерез-всего'!N13*'5.нерез-всего'!O13)/('3.физ-всего'!N181+'4.юрид-всего'!N181+'5.нерез-всего'!N13) -> 9.914464 | P181: ='3.физ-всего'!P181+'4.юрид-всего'!P181+'5.нерез-всего'!P13 -> 4583199 | Q181: =('3.физ-всего'!P181*'3.физ-всего'!Q181+'4.юрид-всего'!P181*'4.юрид-всего'!Q181+'5.нерез-всего'!P13*'5.нерез-всего'!Q13)/('3.физ-всего'!P181+'4.юрид-всего'!P181+'5.нерез-всего'!P13) -> 9.1797537 | R181: ='3.физ-всего'!R181+'4.юрид-всего'!R181+'5.нерез-всего'!R13 -> 1778980.7 | S181: =('3.физ-всего'!R181*'3.физ-всего'!S181+'4.юрид-всего'!R181*'4.юрид-всего'!S181+'5.нерез-всего'!R13*'5.нерез-всего'!S13)/('3.физ-всего'!R181+'4.юрид-всего'!R181+'5.нерез-всего'!R13) -> 13.437448 | T181: ='3.физ-всего'!T181+'4.юрид-всего'!T181+'5.нерез-всего'!T13 -> 812034.1 | U181: =('3.физ-всего'!T181*'3.физ-всего'!U181+'4.юрид-всего'!T181*'4.юрид-всего'!U181+'5.нерез-всего'!T13*'5.нерез-всего'!U13)/('3.физ-всего'!T181+'4.юрид-всего'!T181+'5.нерез-всего'!T13) -> 5.1350715
A182: Июнь | B182: ='3.физ-всего'!B182+'4.юрид-всего'!B182+'5.нерез-всего'!B14 -> 30348441 | C182: =('3.физ-всего'!B182*'3.физ-всего'!C182+'4.юрид-всего'!B182*'4.юрид-всего'!C182+'5.нерез-всего'!B14*'5.нерез-всего'!C14)/('3.физ-всего'!B182+'4.юрид-всего'!B182+'5.нерез-всего'!B14) -> 4.0078422 | D182: ='3.физ-всего'!D182+'4.юрид-всего'!D182+'5.нерез-всего'!D14 -> 14514727 | E182: =('3.физ-всего'!D182*'3.физ-всего'!E182+'4.юрид-всего'!D182*'4.юрид-всего'!E182+'5.нерез-всего'!D14*'5.нерез-всего'!E14)/('3.физ-всего'!D182+'4.юрид-всего'!D182+'5.нерез-всего'!D14) -> 0.86312486 | F182: ='3.физ-всего'!F182+'4.юрид-всего'!F182+'5.нерез-всего'!F14 -> 4973859.5 | G182: =('3.физ-всего'!F182*'3.физ-всего'!G182+'4.юрид-всего'!F182*'4.юрид-всего'!G182+'5.нерез-всего'!F14*'5.нерез-всего'!G14)/('3.физ-всего'!F182+'4.юрид-всего'!F182+'5.нерез-всего'!F14) -> 0.89519813 | H182: =J182+L182+N182+P182+R182+T182 -> 10859855 | I182: =(J182*K182+L182*M182+N182*O182+P182*Q182+R182*S182+T182*U182)/(J182+L182+N182+P182+R182+T182) -> 9.6365151 | J182: ='3.физ-всего'!J182+'4.юрид-всего'!J182+'5.нерез-всего'!J14 -> 1251815.5 | K182: =('3.физ-всего'!J182*'3.физ-всего'!K182+'4.юрид-всего'!J182*'4.юрид-всего'!K182+'5.нерез-всего'!J14*'5.нерез-всего'!K14)/('3.физ-всего'!J182+'4.юрид-всего'!J182+'5.нерез-всего'!J14) -> 7.1324414 | L182: ='3.физ-всего'!L182+'4.юрид-всего'!L182+'5.нерез-всего'!L14 -> 2018850.8 | M182: =('3.физ-всего'!L182*'3.физ-всего'!M182+'4.юрид-всего'!L182*'4.юрид-всего'!M182+'5.нерез-всего'!L14*'5.нерез-всего'!M14)/('3.физ-всего'!L182+'4.юрид-всего'!L182+'5.нерез-всего'!L14) -> 8.6628991 | N182: ='3.физ-всего'!N182+'4.юрид-всего'!N182+'5.нерез-всего'!N14 -> 2016873.1 | O182: =('3.физ-всего'!N182*'3.физ-всего'!O182+'4.юрид-всего'!N182*'4.юрид-всего'!O182+'5.нерез-всего'!N14*'5.нерез-всего'!O14)/('3.физ-всего'!N182+'4.юрид-всего'!N182+'5.нерез-всего'!N14) -> 9.782452 | P182: ='3.физ-всего'!P182+'4.юрид-всего'!P182+'5.нерез-всего'!P14 -> 3113867 | Q182: =('3.физ-всего'!P182*'3.физ-всего'!Q182+'4.юрид-всего'!P182*'4.юрид-всего'!Q182+'5.нерез-всего'!P14*'5.нерез-всего'!Q14)/('3.физ-всего'!P182+'4.юрид-всего'!P182+'5.нерез-всего'!P14) -> 10.320507 | R182: ='3.физ-всего'!R182+'4.юрид-всего'!R182+'5.нерез-всего'!R14 -> 1652489.4 | S182: =('3.физ-всего'!R182*'3.физ-всего'!S182+'4.юрид-всего'!R182*'4.юрид-всего'!S182+'5.нерез-всего'!R14*'5.нерез-всего'!S14)/('3.физ-всего'!R182+'4.юрид-всего'!R182+'5.нерез-всего'!R14) -> 13.42607 | T182: ='3.физ-всего'!T182+'4.юрид-всего'!T182+'5.нерез-всего'!T14 -> 805958.8 | U182: =('3.физ-всего'!T182*'3.физ-всего'!U182+'4.юрид-всего'!T182*'4.юрид-всего'!U182+'5.нерез-всего'!T14*'5.нерез-всего'!U14)/('3.физ-всего'!T182+'4.юрид-всего'!T182+'5.нерез-всего'!T14) -> 5.1869427
A183: Июль | B183: ='3.физ-всего'!B183+'4.юрид-всего'!B183+'5.нерез-всего'!B15 -> 30354373 | C183: =('3.физ-всего'!B183*'3.физ-всего'!C183+'4.юрид-всего'!B183*'4.юрид-всего'!C183+'5.нерез-всего'!B15*'5.нерез-всего'!C15)/('3.физ-всего'!B183+'4.юрид-всего'!B183+'5.нерез-всего'!B15) -> 3.9134343 | D183: ='3.физ-всего'!D183+'4.юрид-всего'!D183+'5.нерез-всего'!D15 -> 13873968 | E183: =('3.физ-всего'!D183*'3.физ-всего'!E183+'4.юрид-всего'!D183*'4.юрид-всего'!E183+'5.нерез-всего'!D15*'5.нерез-всего'!E15)/('3.физ-всего'!D183+'4.юрид-всего'!D183+'5.нерез-всего'!D15) -> 0.77146267 | F183: ='3.физ-всего'!F183+'4.юрид-всего'!F183+'5.нерез-всего'!F15 -> 5724935 | G183: =('3.физ-всего'!F183*'3.физ-всего'!G183+'4.юрид-всего'!F183*'4.юрид-всего'!G183+'5.нерез-всего'!F15*'5.нерез-всего'!G15)/('3.физ-всего'!F183+'4.юрид-всего'!F183+'5.нерез-всего'!F15) -> 0.72187654 | H183: =J183+L183+N183+P183+R183+T183 -> 10755470 | I183: =(J183*K183+L183*M183+N183*O183+P183*Q183+R183*S183+T183*U183)/(J183+L183+N183+P183+R183+T183) -> 9.6652121 | J183: ='3.физ-всего'!J183+'4.юрид-всего'!J183+'5.нерез-всего'!J15 -> 1169648.2 | K183: =('3.физ-всего'!J183*'3.физ-всего'!K183+'4.юрид-всего'!J183*'4.юрид-всего'!K183+'5.нерез-всего'!J15*'5.нерез-всего'!K15)/('3.физ-всего'!J183+'4.юрид-всего'!J183+'5.нерез-всего'!J15) -> 7.3394815 | L183: ='3.физ-всего'!L183+'4.юрид-всего'!L183+'5.нерез-всего'!L15 -> 1973433.6 | M183: =('3.физ-всего'!L183*'3.физ-всего'!M183+'4.юрид-всего'!L183*'4.юрид-всего'!M183+'5.нерез-всего'!L15*'5.нерез-всего'!M15)/('3.физ-всего'!L183+'4.юрид-всего'!L183+'5.нерез-всего'!L15) -> 8.4297091 | N183: ='3.физ-всего'!N183+'4.юрид-всего'!N183+'5.нерез-всего'!N15 -> 2195336.7 | O183: =('3.физ-всего'!N183*'3.физ-всего'!O183+'4.юрид-всего'!N183*'4.юрид-всего'!O183+'5.нерез-всего'!N15*'5.нерез-всего'!O15)/('3.физ-всего'!N183+'4.юрид-всего'!N183+'5.нерез-всего'!N15) -> 9.8380476 | P183: ='3.физ-всего'!P183+'4.юрид-всего'!P183+'5.нерез-всего'!P15 -> 2944990.2 | Q183: =('3.физ-всего'!P183*'3.физ-всего'!Q183+'4.юрид-всего'!P183*'4.юрид-всего'!Q183+'5.нерез-всего'!P15*'5.нерез-всего'!Q15)/('3.физ-всего'!P183+'4.юрид-всего'!P183+'5.нерез-всего'!P15) -> 10.463397 | R183: ='3.физ-всего'!R183+'4.юрид-всего'!R183+'5.нерез-всего'!R15 -> 1677970.5 | S183: =('3.физ-всего'!R183*'3.физ-всего'!S183+'4.юрид-всего'!R183*'4.юрид-всего'!S183+'5.нерез-всего'!R15*'5.нерез-всего'!S15)/('3.физ-всего'!R183+'4.юрид-всего'!R183+'5.нерез-всего'!R15) -> 13.189901 | T183: ='3.физ-всего'!T183+'4.юрид-всего'!T183+'5.нерез-всего'!T15 -> 794091.1 | U183: =('3.физ-всего'!T183*'3.физ-всего'!U183+'4.юрид-всего'!T183*'4.юрид-всего'!U183+'5.нерез-всего'!T15*'5.нерез-всего'!U15)/('3.физ-всего'!T183+'4.юрид-всего'!T183+'5.нерез-всего'!T15) -> 5.2753728
A184: Август | B184: ='3.физ-всего'!B184+'4.юрид-всего'!B184+'5.нерез-всего'!B16 -> 31720125 | C184: =('3.физ-всего'!B184*'3.физ-всего'!C184+'4.юрид-всего'!B184*'4.юрид-всего'!C184+'5.нерез-всего'!B16*'5.нерез-всего'!C16)/('3.физ-всего'!B184+'4.юрид-всего'!B184+'5.нерез-всего'!B16) -> 3.8033345 | D184: ='3.физ-всего'!D184+'4.юрид-всего'!D184+'5.нерез-всего'!D16 -> 14739061 | E184: =('3.физ-всего'!D184*'3.физ-всего'!E184+'4.юрид-всего'!D184*'4.юрид-всего'!E184+'5.нерез-всего'!D16*'5.нерез-всего'!E16)/('3.физ-всего'!D184+'4.юрид-всего'!D184+'5.нерез-всего'!D16) -> 0.69021717 | F184: ='3.физ-всего'!F184+'4.юрид-всего'!F184+'5.нерез-всего'!F16 -> 6221625.4 | G184: =('3.физ-всего'!F184*'3.физ-всего'!G184+'4.юрид-всего'!F184*'4.юрид-всего'!G184+'5.нерез-всего'!F16*'5.нерез-всего'!G16)/('3.физ-всего'!F184+'4.юрид-всего'!F184+'5.нерез-всего'!F16) -> 0.99205144 | H184: =J184+L184+N184+P184+R184+T184 -> 10759439 | I184: =(J184*K184+L184*M184+N184*O184+P184*Q184+R184*S184+T184*U184)/(J184+L184+N184+P184+R184+T184) -> 9.6935279 | J184: ='3.физ-всего'!J184+'4.юрид-всего'!J184+'5.нерез-всего'!J16 -> 1756634 | K184: =('3.физ-всего'!J184*'3.физ-всего'!K184+'4.юрид-всего'!J184*'4.юрид-всего'!K184+'5.нерез-всего'!J16*'5.нерез-всего'!K16)/('3.физ-всего'!J184+'4.юрид-всего'!J184+'5.нерез-всего'!J16) -> 8.0835382 | L184: ='3.физ-всего'!L184+'4.юрид-всего'!L184+'5.нерез-всего'!L16 -> 1670025.5 | M184: =('3.физ-всего'!L184*'3.физ-всего'!M184+'4.юрид-всего'!L184*'4.юрид-всего'!M184+'5.нерез-всего'!L16*'5.нерез-всего'!M16)/('3.физ-всего'!L184+'4.юрид-всего'!L184+'5.нерез-всего'!L16) -> 8.0999652 | N184: ='3.физ-всего'!N184+'4.юрид-всего'!N184+'5.нерез-всего'!N16 -> 1885026.8 | O184: =('3.физ-всего'!N184*'3.физ-всего'!O184+'4.юрид-всего'!N184*'4.юрид-всего'!O184+'5.нерез-всего'!N16*'5.нерез-всего'!O16)/('3.физ-всего'!N184+'4.юрид-всего'!N184+'5.нерез-всего'!N16) -> 9.8080502 | P184: ='3.физ-всего'!P184+'4.юрид-всего'!P184+'5.нерез-всего'!P16 -> 2925540.5 | Q184: =('3.физ-всего'!P184*'3.физ-всего'!Q184+'4.юрид-всего'!P184*'4.юрид-всего'!Q184+'5.нерез-всего'!P16*'5.нерез-всего'!Q16)/('3.физ-всего'!P184+'4.юрид-всего'!P184+'5.нерез-всего'!P16) -> 10.667528 | R184: ='3.физ-всего'!R184+'4.юрид-всего'!R184+'5.нерез-всего'!R16 -> 1733071.6 | S184: =('3.физ-всего'!R184*'3.физ-всего'!S184+'4.юрид-всего'!R184*'4.юрид-всего'!S184+'5.нерез-всего'!R16*'5.нерез-всего'!S16)/('3.физ-всего'!R184+'4.юрид-всего'!R184+'5.нерез-всего'!R16) -> 13.092854 | T184: ='3.физ-всего'!T184+'4.юрид-всего'!T184+'5.нерез-всего'!T16 -> 789140.3 | U184: =('3.физ-всего'!T184*'3.физ-всего'!U184+'4.юрид-всего'!T184*'4.юрид-всего'!U184+'5.нерез-всего'!T16*'5.нерез-всего'!U16)/('3.физ-всего'!T184+'4.юрид-всего'!T184+'5.нерез-всего'!T16) -> 5.2999125
A185: Сентябрь | B185: ='3.физ-всего'!B185+'4.юрид-всего'!B185+'5.нерез-всего'!B17 -> 32824840 | C185: =('3.физ-всего'!B185*'3.физ-всего'!C185+'4.юрид-всего'!B185*'4.юрид-всего'!C185+'5.нерез-всего'!B17*'5.нерез-всего'!C17)/('3.физ-всего'!B185+'4.юрид-всего'!B185+'5.нерез-всего'!B17) -> 3.6820457 | D185: ='3.физ-всего'!D185+'4.юрид-всего'!D185+'5.нерез-всего'!D17 -> 15324733 | E185: =('3.физ-всего'!D185*'3.физ-всего'!E185+'4.юрид-всего'!D185*'4.юрид-всего'!E185+'5.нерез-всего'!D17*'5.нерез-всего'!E17)/('3.физ-всего'!D185+'4.юрид-всего'!D185+'5.нерез-всего'!D17) -> 0.69637483 | F185: ='3.физ-всего'!F185+'4.юрид-всего'!F185+'5.нерез-всего'!F17 -> 6670909 | G185: =('3.физ-всего'!F185*'3.физ-всего'!G185+'4.юрид-всего'!F185*'4.юрид-всего'!G185+'5.нерез-всего'!F17*'5.нерез-всего'!G17)/('3.физ-всего'!F185+'4.юрид-всего'!F185+'5.нерез-всего'!F17) -> 1.0237497 | H185: =J185+L185+N185+P185+R185+T185 -> 10829198 | I185: =(J185*K185+L185*M185+N185*O185+P185*Q185+R185*S185+T185*U185)/(J185+L185+N185+P185+R185+T185) -> 9.5447014 | J185: ='3.физ-всего'!J185+'4.юрид-всего'!J185+'5.нерез-всего'!J17 -> 1830355.3 | K185: =('3.физ-всего'!J185*'3.физ-всего'!K185+'4.юрид-всего'!J185*'4.юрид-всего'!K185+'5.нерез-всего'!J17*'5.нерез-всего'!K17)/('3.физ-всего'!J185+'4.юрид-всего'!J185+'5.нерез-всего'!J17) -> 7.1175088 | L185: ='3.физ-всего'!L185+'4.юрид-всего'!L185+'5.нерез-всего'!L17 -> 1794960.3 | M185: =('3.физ-всего'!L185*'3.физ-всего'!M185+'4.юрид-всего'!L185*'4.юрид-всего'!M185+'5.нерез-всего'!L17*'5.нерез-всего'!M17)/('3.физ-всего'!L185+'4.юрид-всего'!L185+'5.нерез-всего'!L17) -> 8.9103939 | N185: ='3.физ-всего'!N185+'4.юрид-всего'!N185+'5.нерез-всего'!N17 -> 1929673.9 | O185: =('3.физ-всего'!N185*'3.физ-всего'!O185+'4.юрид-всего'!N185*'4.юрид-всего'!O185+'5.нерез-всего'!N17*'5.нерез-всего'!O17)/('3.физ-всего'!N185+'4.юрид-всего'!N185+'5.нерез-всего'!N17) -> 9.0431672 | P185: ='3.физ-всего'!P185+'4.юрид-всего'!P185+'5.нерез-всего'!P17 -> 2802215.2 | Q185: =('3.физ-всего'!P185*'3.физ-всего'!Q185+'4.юрид-всего'!P185*'4.юрид-всего'!Q185+'5.нерез-всего'!P17*'5.нерез-всего'!Q17)/('3.физ-всего'!P185+'4.юрид-всего'!P185+'5.нерез-всего'!P17) -> 10.891627 | R185: ='3.физ-всего'!R185+'4.юрид-всего'!R185+'5.нерез-всего'!R17 -> 1686715.4 | S185: =('3.физ-всего'!R185*'3.физ-всего'!S185+'4.юрид-всего'!R185*'4.юрид-всего'!S185+'5.нерез-всего'!R17*'5.нерез-всего'!S17)/('3.физ-всего'!R185+'4.юрид-всего'!R185+'5.нерез-всего'!R17) -> 13.162333 | T185: ='3.физ-всего'!T185+'4.юрид-всего'!T185+'5.нерез-всего'!T17 -> 785277.8 | U185: =('3.физ-всего'!T185*'3.физ-всего'!U185+'4.юрид-всего'!T185*'4.юрид-всего'!U185+'5.нерез-всего'!T17*'5.нерез-всего'!U17)/('3.физ-всего'!T185+'4.юрид-всего'!T185+'5.нерез-всего'!T17) -> 5.3075883
A186: Октябрь | B186: ='3.физ-всего'!B186+'4.юрид-всего'!B186+'5.нерез-всего'!B18 -> 33955657 | C186: =('3.физ-всего'!B186*'3.физ-всего'!C186+'4.юрид-всего'!B186*'4.юрид-всего'!C186+'5.нерез-всего'!B18*'5.нерез-всего'!C18)/('3.физ-всего'!B186+'4.юрид-всего'!B186+'5.нерез-всего'!B18) -> 3.589414 | D186: ='3.физ-всего'!D186+'4.юрид-всего'!D186+'5.нерез-всего'!D18 -> 16426975 | E186: =('3.физ-всего'!D186*'3.физ-всего'!E186+'4.юрид-всего'!D186*'4.юрид-всего'!E186+'5.нерез-всего'!D18*'5.нерез-всего'!E18)/('3.физ-всего'!D186+'4.юрид-всего'!D186+'5.нерез-всего'!D18) -> 0.6215956 | F186: ='3.физ-всего'!F186+'4.юрид-всего'!F186+'5.нерез-всего'!F18 -> 6403393.7 | G186: =('3.физ-всего'!F186*'3.физ-всего'!G186+'4.юрид-всего'!F186*'4.юрид-всего'!G186+'5.нерез-всего'!F18*'5.нерез-всего'!G18)/('3.физ-всего'!F186+'4.юрид-всего'!F186+'5.нерез-всего'!F18) -> 0.98409425 | H186: =J186+L186+N186+P186+R186+T186 -> 11125289 | I186: =(J186*K186+L186*M186+N186*O186+P186*Q186+R186*S186+T186*U186)/(J186+L186+N186+P186+R186+T186) -> 9.4710741 | J186: ='3.физ-всего'!J186+'4.юрид-всего'!J186+'5.нерез-всего'!J18 -> 2212005.3 | K186: =('3.физ-всего'!J186*'3.физ-всего'!K186+'4.юрид-всего'!J186*'4.юрид-всего'!K186+'5.нерез-всего'!J18*'5.нерез-всего'!K18)/('3.физ-всего'!J186+'4.юрид-всего'!J186+'5.нерез-всего'!J18) -> 7.5282232 | L186: ='3.физ-всего'!L186+'4.юрид-всего'!L186+'5.нерез-всего'!L18 -> 1621172.4 | M186: =('3.физ-всего'!L186*'3.физ-всего'!M186+'4.юрид-всего'!L186*'4.юрид-всего'!M186+'5.нерез-всего'!L18*'5.нерез-всего'!M18)/('3.физ-всего'!L186+'4.юрид-всего'!L186+'5.нерез-всего'!L18) -> 8.7272524 | N186: ='3.физ-всего'!N186+'4.юрид-всего'!N186+'5.нерез-всего'!N18 -> 2258140.1 | O186: =('3.физ-всего'!N186*'3.физ-всего'!O186+'4.юрид-всего'!N186*'4.юрид-всего'!O186+'5.нерез-всего'!N18*'5.нерез-всего'!O18)/('3.физ-всего'!N186+'4.юрид-всего'!N186+'5.нерез-всего'!N18) -> 8.6952907 | P186: ='3.физ-всего'!P186+'4.юрид-всего'!P186+'5.нерез-всего'!P18 -> 2462425.4 | Q186: =('3.физ-всего'!P186*'3.физ-всего'!Q186+'4.юрид-всего'!P186*'4.юрид-всего'!Q186+'5.нерез-всего'!P18*'5.нерез-всего'!Q18)/('3.физ-всего'!P186+'4.юрид-всего'!P186+'5.нерез-всего'!P18) -> 11.498824 | R186: ='3.физ-всего'!R186+'4.юрид-всего'!R186+'5.нерез-всего'!R18 -> 1794625.5 | S186: =('3.физ-всего'!R186*'3.физ-всего'!S186+'4.юрид-всего'!R186*'4.юрид-всего'!S186+'5.нерез-всего'!R18*'5.нерез-всего'!S18)/('3.физ-всего'!R186+'4.юрид-всего'!R186+'5.нерез-всего'!R18) -> 12.50859 | T186: ='3.физ-всего'!T186+'4.юрид-всего'!T186+'5.нерез-всего'!T18 -> 776919.9 | U186: =('3.физ-всего'!T186*'3.физ-всего'!U186+'4.юрид-всего'!T186*'4.юрид-всего'!U186+'5.нерез-всего'!T18*'5.нерез-всего'!U18)/('3.физ-всего'!T186+'4.юрид-всего'!T186+'5.нерез-всего'!T18) -> 5.3662784
A187: Ноябрь** | B187: ='3.физ-всего'!B187+'4.юрид-всего'!B187+'5.нерез-всего'!B19 -> 28711342 | C187: =('3.физ-всего'!B187*'3.физ-всего'!C187+'4.юрид-всего'!B187*'4.юрид-всего'!C187+'5.нерез-всего'!B19*'5.нерез-всего'!C19)/('3.физ-всего'!B187+'4.юрид-всего'!B187+'5.нерез-всего'!B19) -> 3.4740547 | D187: ='3.физ-всего'!D187+'4.юрид-всего'!D187+'5.нерез-всего'!D19 -> 14272327 | E187: =('3.физ-всего'!D187*'3.физ-всего'!E187+'4.юрид-всего'!D187*'4.юрид-всего'!E187+'5.нерез-всего'!D19*'5.нерез-всего'!E19)/('3.физ-всего'!D187+'4.юрид-всего'!D187+'5.нерез-всего'!D19) -> 0.4968648 | F187: ='3.физ-всего'!F187+'4.юрид-всего'!F187+'5.нерез-всего'!F19 -> 5710378.2 | G187: =('3.физ-всего'!F187*'3.физ-всего'!G187+'4.юрид-всего'!F187*'4.юрид-всего'!G187+'5.нерез-всего'!F19*'5.нерез-всего'!G19)/('3.физ-всего'!F187+'4.юрид-всего'!F187+'5.нерез-всего'!F19) -> 1.079528 | H187: =J187+L187+N187+P187+R187+T187 -> 8728636.7 | I187: =(J187*K187+L187*M187+N187*O187+P187*Q187+R187*S187+T187*U187)/(J187+L187+N187+P187+R187+T187) -> 9.9086311 | J187: ='3.физ-всего'!J187+'4.юрид-всего'!J187+'5.нерез-всего'!J19 -> 1060316.2 | K187: =('3.физ-всего'!J187*'3.физ-всего'!K187+'4.юрид-всего'!J187*'4.юрид-всего'!K187+'5.нерез-всего'!J19*'5.нерез-всего'!K19)/('3.физ-всего'!J187+'4.юрид-всего'!J187+'5.нерез-всего'!J19) -> 7.7229082 | L187: ='3.физ-всего'!L187+'4.юрид-всего'!L187+'5.нерез-всего'!L19 -> 1419446.8 | M187: =('3.физ-всего'!L187*'3.физ-всего'!M187+'4.юрид-всего'!L187*'4.юрид-всего'!M187+'5.нерез-всего'!L19*'5.нерез-всего'!M19)/('3.физ-всего'!L187+'4.юрид-всего'!L187+'5.нерез-всего'!L19) -> 8.2297199 | N187: ='3.физ-всего'!N187+'4.юрид-всего'!N187+'5.нерез-всего'!N19 -> 2111079.4 | O187: =('3.физ-всего'!N187*'3.физ-всего'!O187+'4.юрид-всего'!N187*'4.юрид-всего'!O187+'5.нерез-всего'!N19*'5.нерез-всего'!O19)/('3.физ-всего'!N187+'4.юрид-всего'!N187+'5.нерез-всего'!N19) -> 8.8360253 | P187: ='3.физ-всего'!P187+'4.юрид-всего'!P187+'5.нерез-всего'!P19 -> 2401419.7 | Q187: =('3.физ-всего'!P187*'3.физ-всего'!Q187+'4.юрид-всего'!P187*'4.юрид-всего'!Q187+'5.нерез-всего'!P19*'5.нерез-всего'!Q19)/('3.физ-всего'!P187+'4.юрид-всего'!P187+'5.нерез-всего'!P19) -> 11.35009 | R187: ='3.физ-всего'!R187+'4.юрид-всего'!R187+'5.нерез-всего'!R19 -> 1649632 | S187: =('3.физ-всего'!R187*'3.физ-всего'!S187+'4.юрид-всего'!R187*'4.юрид-всего'!S187+'5.нерез-всего'!R19*'5.нерез-всего'!S19)/('3.физ-всего'!R187+'4.юрид-всего'!R187+'5.нерез-всего'!R19) -> 12.363042 | T187: ='3.физ-всего'!T187+'4.юрид-всего'!T187+'5.нерез-всего'!T19 -> 86742.6 | U187: =('3.физ-всего'!T187*'3.физ-всего'!U187+'4.юрид-всего'!T187*'4.юрид-всего'!U187+'5.нерез-всего'!T19*'5.нерез-всего'!U19)/('3.физ-всего'!T187+'4.юрид-всего'!T187+'5.нерез-всего'!T19) -> 3.6212547
A188: Декабрь | B188: ='3.физ-всего'!B188+'4.юрид-всего'!B188+'5.нерез-всего'!B20 -> 34065040 | C188: =('3.физ-всего'!B188*'3.физ-всего'!C188+'4.юрид-всего'!B188*'4.юрид-всего'!C188+'5.нерез-всего'!B20*'5.нерез-всего'!C20)/('3.физ-всего'!B188+'4.юрид-всего'!B188+'5.нерез-всего'!B20) -> 3.7166271 | D188: ='3.физ-всего'!D188+'4.юрид-всего'!D188+'5.нерез-всего'!D20 -> 16167837 | E188: =('3.физ-всего'!D188*'3.физ-всего'!E188+'4.юрид-всего'!D188*'4.юрид-всего'!E188+'5.нерез-всего'!D20*'5.нерез-всего'!E20)/('3.физ-всего'!D188+'4.юрид-всего'!D188+'5.нерез-всего'!D20) -> 0.65845195 | F188: ='3.физ-всего'!F188+'4.юрид-всего'!F188+'5.нерез-всего'!F20 -> 6221483.1 | G188: =('3.физ-всего'!F188*'3.физ-всего'!G188+'4.юрид-всего'!F188*'4.юрид-всего'!G188+'5.нерез-всего'!F20*'5.нерез-всего'!G20)/('3.физ-всего'!F188+'4.юрид-всего'!F188+'5.нерез-всего'!F20) -> 1.1187021 | H188: =J188+L188+N188+P188+R188+T188 -> 11675720 | I188: =(J188*K188+L188*M188+N188*O188+P188*Q188+R188*S188+T188*U188)/(J188+L188+N188+P188+R188+T188) -> 9.3357261 | J188: ='3.физ-всего'!J188+'4.юрид-всего'!J188+'5.нерез-всего'!J20 -> 2333464.1 | K188: =('3.физ-всего'!J188*'3.физ-всего'!K188+'4.юрид-всего'!J188*'4.юрид-всего'!K188+'5.нерез-всего'!J20*'5.нерез-всего'!K20)/('3.физ-всего'!J188+'4.юрид-всего'!J188+'5.нерез-всего'!J20) -> 7.6832831 | L188: ='3.физ-всего'!L188+'4.юрид-всего'!L188+'5.нерез-всего'!L20 -> 1708171.5 | M188: =('3.физ-всего'!L188*'3.физ-всего'!M188+'4.юрид-всего'!L188*'4.юрид-всего'!M188+'5.нерез-всего'!L20*'5.нерез-всего'!M20)/('3.физ-всего'!L188+'4.юрид-всего'!L188+'5.нерез-всего'!L20) -> 6.9068509 | N188: ='3.физ-всего'!N188+'4.юрид-всего'!N188+'5.нерез-всего'!N20 -> 2210925.3 | O188: =('3.физ-всего'!N188*'3.физ-всего'!O188+'4.юрид-всего'!N188*'4.юрид-всего'!O188+'5.нерез-всего'!N20*'5.нерез-всего'!O20)/('3.физ-всего'!N188+'4.юрид-всего'!N188+'5.нерез-всего'!N20) -> 9.4714333 | P188: ='3.физ-всего'!P188+'4.юрид-всего'!P188+'5.нерез-всего'!P20 -> 2637968.9 | Q188: =('3.физ-всего'!P188*'3.физ-всего'!Q188+'4.юрид-всего'!P188*'4.юрид-всего'!Q188+'5.нерез-всего'!P20*'5.нерез-всего'!Q20)/('3.физ-всего'!P188+'4.юрид-всего'!P188+'5.нерез-всего'!P20) -> 11.229721 | R188: ='3.физ-всего'!R188+'4.юрид-всего'!R188+'5.нерез-всего'!R20 -> 2022553.2 | S188: =('3.физ-всего'!R188*'3.физ-всего'!S188+'4.юрид-всего'!R188*'4.юрид-всего'!S188+'5.нерез-всего'!R20*'5.нерез-всего'!S20)/('3.физ-всего'!R188+'4.юрид-всего'!R188+'5.нерез-всего'!R20) -> 12.168276 | T188: ='3.физ-всего'!T188+'4.юрид-всего'!T188+'5.нерез-всего'!T20 -> 762636.9 | U188: =('3.физ-всего'!T188*'3.физ-всего'!U188+'4.юрид-всего'!T188*'4.юрид-всего'!U188+'5.нерез-всего'!T20*'5.нерез-всего'!U20)/('3.физ-всего'!T188+'4.юрид-всего'!T188+'5.нерез-всего'!T20) -> 5.3751675
... A380: Декабрь | B380: ='3.физ-всего'!B380+'4.юрид-всего'!B380+'5.нерез-всего'!B212 -> 0 | C380: =('3.физ-всего'!B380*'3.физ-всего'!C380+'4.юрид-всего'!B380*'4.юрид-всего'!C380+'5.нерез-всего'!B212*'5.нерез-всего'!C212)/('3.физ-всего'!B380+'4.юрид-всего'!B380+'5.нерез-всего'!B212) -> #DIV/0! | D380: ='3.физ-всего'!D380+'4.юрид-всего'!D380+'5.нерез-всего'!D212 -> 0 | E380: =('3.физ-всего'!D380*'3.физ-всего'!E380+'4.юрид-всего'!D380*'4.юрид-всего'!E380+'5.нерез-всего'!D212*'5.нерез-всего'!E212)/('3.физ-всего'!D380+'4.юрид-всего'!D380+'5.нерез-всего'!D212) -> #DIV/0! | F380: ='3.физ-всего'!F380+'4.юрид-всего'!F380+'5.нерез-всего'!F212 -> 0 | G380: =('3.физ-всего'!F380*'3.физ-всего'!G380+'4.юрид-всего'!F380*'4.юрид-всего'!G380+'5.нерез-всего'!F212*'5.нерез-всего'!G212)/('3.физ-всего'!F380+'4.юрид-всего'!F380+'5.нерез-всего'!F212) -> #DIV/0! | H380: =J380+L380+N380+P380+R380+T380 -> 0 | I380: =(J380*K380+L380*M380+N380*O380+P380*Q380+R380*S380+T380*U380)/(J380+L380+N380+P380+R380+T380) -> #DIV/0! | J380: ='3.физ-всего'!J380+'4.юрид-всего'!J380+'5.нерез-всего'!J212 -> 0 | K380: =('3.физ-всего'!J380*'3.физ-всего'!K380+'4.юрид-всего'!J380*'4.юрид-всего'!K380+'5.нерез-всего'!J212*'5.нерез-всего'!K212)/('3.физ-всего'!J380+'4.юрид-всего'!J380+'5.нерез-всего'!J212) -> #DIV/0! | L380: ='3.физ-всего'!L380+'4.юрид-всего'!L380+'5.нерез-всего'!L212 -> 0 | M380: =('3.физ-всего'!L380*'3.физ-всего'!M380+'4.юрид-всего'!L380*'4.юрид-всего'!M380+'5.нерез-всего'!L212*'5.нерез-всего'!M212)/('3.физ-всего'!L380+'4.юрид-всего'!L380+'5.нерез-всего'!L212) -> #DIV/0! | N380: ='3.физ-всего'!N380+'4.юрид-всего'!N380+'5.нерез-всего'!N212 -> 0 | O380: =('3.физ-всего'!N380*'3.физ-всего'!O380+'4.юрид-всего'!N380*'4.юрид-всего'!O380+'5.нерез-всего'!N212*'5.нерез-всего'!O212)/('3.физ-всего'!N380+'4.юрид-всего'!N380+'5.нерез-всего'!N212) -> #DIV/0! | P380: ='3.физ-всего'!P380+'4.юрид-всего'!P380+'5.нерез-всего'!P212 -> 0 | Q380: =('3.физ-всего'!P380*'3.физ-всего'!Q380+'4.юрид-всего'!P380*'4.юрид-всего'!Q380+'5.нерез-всего'!P212*'5.нерез-всего'!Q212)/('3.физ-всего'!P380+'4.юрид-всего'!P380+'5.нерез-всего'!P212) -> #DIV/0! | R380: ='3.физ-всего'!R380+'4.юрид-всего'!R380+'5.нерез-всего'!R212 -> 0 | S380: =('3.физ-всего'!R380*'3.физ-всего'!S380+'4.юрид-всего'!R380*'4.юрид-всего'!S380+'5.нерез-всего'!R212*'5.нерез-всего'!S212)/('3.физ-всего'!R380+'4.юрид-всего'!R380+'5.нерез-всего'!R212) -> #DIV/0! | T380: ='3.физ-всего'!T380+'4.юрид-всего'!T380+'5.нерез-всего'!T212 -> 0 | U380: =('3.физ-всего'!T380*'3.физ-всего'!U380+'4.юрид-всего'!T380*'4.юрид-всего'!U380+'5.нерез-всего'!T212*'5.нерез-всего'!U212)/('3.физ-всего'!T380+'4.юрид-всего'!T380+'5.нерез-всего'!T212) -> #DIV/0!
A382: * до 01.01.2010 г. средства на расчетных счетах включались в объем депозитов до востребования
A383: ** данные приведены без учета ОАО "АзияУниверсалБанк" в связи с отзывом лицензии
A384: ***- предварительные данные

Sheet 3.физ-всего
A1: Раздел "Статистика" / "Банковская статистика" / "Депозиты в коммерческих банках, на конец периода"
A3: Таблица 3. Общий объем и средневзвешенные процентные ставки депозитов физических лиц в коммерческих банках (на конец периода)*
A5: (тыс. сомов / проценты)
A6: Период | B6: Общий объем | C6: Средневз. cтавка | D6: Расчетные счета** | F6: До востребования | H6: Срочные депозиты | J6: в том числе, по срокам:
J7: 0 - 1 месяца | L7: 1 - 3 месяца | N7: 3 - 6 месяцев | P7: 6 - 12 месяцев | R7: 1 - 3 года | T7: более 3 лет
D8: объем | E8: средневзв. ставка | F8: объем | G8: средневзв. ставка | H8: объем | I8: средневзв. ставка | J8: объем | K8: средневзв. ставка | L8: объем | M8: средневзв. ставка | N8: объем | O8: средневзв. ставка | P8: объем | Q8: средневзв. ставка | R8: объем | S8: средневзв. ставка | T8: объем | U8: средневзв. ставка
A9: Январь 1996 г. | B9: ='7.физ-в нацвал'!B9+'11.физ-в инвал'!B9 -> 149180.2 | C9: =('7.физ-в нацвал'!B9*'7.физ-в нацвал'!C9+'11.физ-в инвал'!B9*'11.физ-в инвал'!C9)/('7.физ-в нацвал'!B9+'11.физ-в инвал'!B9) -> 33.196272 | F9: ='7.физ-в нацвал'!F9+'11.физ-в инвал'!F9 -> 41740.2 | G9: =('7.физ-в нацвал'!F9*'7.физ-в нацвал'!G9+'11.физ-в инвал'!F9*'11.физ-в инвал'!G9)/('7.физ-в нацвал'!F9+'11.физ-в инвал'!F9) -> 22.08461 | H9: =J9+L9+N9+P9+R9+T9 -> 107440 | I9: =(J9*K9+L9*M9+N9*O9+P9*Q9+R9*S9+T9*U9)/(J9+L9+N9+P9+R9+T9) -> 37.513129 | J9: ='7.физ-в нацвал'!J9+'11.физ-в инвал'!J9 -> 2503 | K9: =('7.физ-в нацвал'!J9*'7.физ-в нацвал'!K9+'11.физ-в инвал'!J9*'11.физ-в инвал'!K9)/('7.физ-в нацвал'!J9+'11.физ-в инвал'!J9) -> 30.011306 | L9: ='7.физ-в нацвал'!L9+'11.физ-в инвал'!L9 -> 21052.3 | M9: =('7.физ-в нацвал'!L9*'7.физ-в нацвал'!M9+'11.физ-в инвал'!L9*'11.физ-в инвал'!M9)/('7.физ-в нацвал'!L9+'11.физ-в инвал'!L9) -> 33.052099 | N9: ='7.физ-в нацвал'!N9+'11.физ-в инвал'!N9 -> 61052.4 | O9: =('7.физ-в нацвал'!N9*'7.физ-в нацвал'!O9+'11.физ-в инвал'!N9*'11.физ-в инвал'!O9)/('7.физ-в нацвал'!N9+'11.физ-в инвал'!N9) -> 38.928267 | P9: ='7.физ-в нацвал'!P9+'11.физ-в инвал'!P9 -> 11810.9 | Q9: =('7.физ-в нацвал'!P9*'7.физ-в нацвал'!Q9+'11.физ-в инвал'!P9*'11.физ-в инвал'!Q9)/('7.физ-в нацвал'!P9+'11.физ-в инвал'!P9) -> 28.150385 | R9: ='7.физ-в нацвал'!R9+'11.физ-в инвал'!R9 -> 11021.4 | S9: =('7.физ-в нацвал'!R9*'7.физ-в нацвал'!S9+'11.физ-в инвал'!R9*'11.физ-в инвал'!S9)/('7.физ-в нацвал'!R9+'11.физ-в инвал'!R9) -> 49.932317
A10: Февраль | B10: ='7.физ-в нацвал'!B10+'11.физ-в инвал'!B10 -> 172637.1 | C10: =('7.физ-в нацвал'!B10*'7.физ-в нацвал'!C10+'11.физ-в инвал'!B10*'11.физ-в инвал'!C10)/('7.физ-в нацвал'!B10+'11.физ-в инвал'!B10) -> 34.862359 | F10: ='7.физ-в нацвал'!F10+'11.физ-в инвал'!F10 -> 44471.5 | G10: =('7.физ-в нацвал'!F10*'7.физ-в нацвал'!G10+'11.физ-в инвал'!F10*'11.физ-в инвал'!G10)/('7.физ-в нацвал'!F10+'11.физ-в инвал'!F10) -> 27.0901 | H10: =J10+L10+N10+P10+R10+T10 -> 128165.6 | I10: =(J10*K10+L10*M10+N10*O10+P10*Q10+R10*S10+T10*U10)/(J10+L10+N10+P10+R10+T10) -> 37.559213 | J10: ='7.физ-в нацвал'!J10+'11.физ-в инвал'!J10 -> 1088 | K10: =('7.физ-в нацвал'!J10*'7.физ-в нацвал'!K10+'11.физ-в инвал'!J10*'11.физ-в инвал'!K10)/('7.физ-в нацвал'!J10+'11.физ-в инвал'!J10) -> 20.375983 | L10: ='7.физ-в нацвал'!L10+'11.физ-в инвал'!L10 -> 32479.2 | M10: =('7.физ-в нацвал'!L10*'7.физ-в нацвал'!M10+'11.физ-в инвал'!L10*'11.физ-в инвал'!M10)/('7.физ-в нацвал'!L10+'11.физ-в инвал'!L10) -> 31.735694 | N10: ='7.физ-в нацвал'!N10+'11.физ-в инвал'!N10 -> 67019.7 | O10: =('7.физ-в нацвал'!N10*'7.физ-в нацвал'!O10+'11.физ-в инвал'!N10*'11.физ-в инвал'!O10)/('7.физ-в нацвал'!N10+'11.физ-в инвал'!N10) -> 37.962367 | P10: ='7.физ-в нацвал'!P10+'11.физ-в инвал'!P10 -> 23945.6 | Q10: =('7.физ-в нацвал'!P10*'7.физ-в нацвал'!Q10+'11.физ-в инвал'!P10*'11.физ-в инвал'!Q10)/('7.физ-в нацвал'!P10+'11.физ-в инвал'!P10) -> 40.599569 | R10: ='7.физ-в нацвал'!R10+'11.физ-в инвал'!R10 -> 3633.1 | S10: =('7.физ-в нацвал'!R10*'7.физ-в нацвал'!S10+'11.физ-в инвал'!R10*'11.физ-в инвал'!S10)/('7.физ-в нацвал'!R10+'11.физ-в инвал'!R10) -> 67.290375
A11: Март | B11: ='7.физ-в нацвал'!B11+'11.физ-в инвал'!B11 -> 227384.7 | C11: =('7.физ-в нацвал'!B11*'7.физ-в нацвал'!C11+'11.физ-в инвал'!B11*'11.физ-в инвал'!C11)/('7.физ-в нацвал'!B11+'11.физ-в инвал'!B11) -> 27.534571 | F11: ='7.физ-в нацвал'!F11+'11.физ-в инвал'!F11 -> 76737.6 | G11: =('7.физ-в нацвал'!F11*'7.физ-в нацвал'!G11+'11.физ-в инвал'!F11*'11.физ-в инвал'!G11)/('7.физ-в нацвал'!F11+'11.физ-в инвал'!F11) -> 12.65034 | H11: =J11+L11+N11+P11+R11+T11 -> 150647.1 | I11: =(J11*K11+L11*M11+N11*O11+P11*Q11+R11*S11+T11*U11)/(J11+L11+N11+P11+R11+T11) -> 35.116397 | J11: ='7.физ-в нацвал'!J11+'11.физ-в инвал'!J11 -> 4312.6 | K11: =('7.физ-в нацвал'!J11*'7.физ-в нацвал'!K11+'11.физ-в инвал'!J11*'11.физ-в инвал'!K11)/('7.физ-в нацвал'!J11+'11.физ-в инвал'!J11) -> 24.629933 | L11: ='7.физ-в нацвал'!L11+'11.физ-в инвал'!L11 -> 49306.9 | M11: =('7.физ-в нацвал'!L11*'7.физ-в нацвал'!M11+'11.физ-в инвал'!L11*'11.физ-в инвал'!M11)/('7.физ-в нацвал'!L11+'11.физ-в инвал'!L11) -> 30.747912 | N11: ='7.физ-в нацвал'!N11+'11.физ-в инвал'!N11 -> 70748.1 | O11: =('7.физ-в нацвал'!N11*'7.физ-в нацвал'!O11+'11.физ-в инвал'!N11*'11.физ-в инвал'!O11)/('7.физ-в нацвал'!N11+'11.физ-в инвал'!N11) -> 37.074425 | P11: ='7.физ-в нацвал'!P11+'11.физ-в инвал'!P11 -> 23948.9 | Q11: =('7.физ-в нацвал'!P11*'7.физ-в нацвал'!Q11+'11.физ-в инвал'!P11*'11.физ-в инвал'!Q11)/('7.физ-в нацвал'!P11+'11.физ-в инвал'!P11) -> 39.005131 | R11: ='7.физ-в нацвал'!R11+'11.физ-в инвал'!R11 -> 2330.6 | S11: =('7.физ-в нацвал'!R11*'7.физ-в нацвал'!S11+'11.физ-в инвал'!R11*'11.физ-в инвал'!S11)/('7.физ-в нацвал'!R11+'11.физ-в инвал'!R11) -> 47.543551
A12: Апрель | B12: ='7.физ-в нацвал'!B12+'11.физ-в инвал'!B12 -> 192388.2 | C12: =('7.физ-в нацвал'!B12*'7.физ-в нацвал'!C12+'11.физ-в инвал'!B12*'11.физ-в инвал'!C12)/('7.физ-в нацвал'!B12+'11.физ-в инвал'!B12) -> 31.867853 | F12: ='7.физ-в нацвал'!F12+'11.физ-в инвал'!F12 -> 38088.1 | G12: =('7.физ-в нацвал'!F12*'7.физ-в нацвал'!G12+'11.физ-в инвал'!F12*'11.физ-в инвал'!G12)/('7.физ-в нацвал'!F12+'11.физ-в инвал'!F12) -> 22.407382 | H12: =J12+L12+N12+P12+R12+T12 -> 154300.1 | I12: =(J12*K12+L12*M12+N12*O12+P12*Q12+R12*S12+T12*U12)/(J12+L12+N12+P12+R12+T12) -> 34.203116 | J12: ='7.физ-в нацвал'!J12+'11.физ-в инвал'!J12 -> 4189.9 | K12: =('7.физ-в нацвал'!J12*'7.физ-в нацвал'!K12+'11.физ-в инвал'!J12*'11.физ-в инвал'!K12)/('7.физ-в нацвал'!J12+'11.физ-в инвал'!J12) -> 21.220604 | L12: ='7.физ-в нацвал'!L12+'11.физ-в инвал'!L12 -> 43192.9 | M12: =('7.физ-в нацвал'!L12*'7.физ-в нацвал'!M12+'11.физ-в инвал'!L12*'11.физ-в инвал'!M12)/('7.физ-в нацвал'!L12+'11.физ-в инвал'!L12) -> 30.960731 | N12: ='7.физ-в нацвал'!N12+'11.физ-в инвал'!N12 -> 73580.2 | O12: =('7.физ-в нацвал'!N12*'7.физ-в нацвал'!O12+'11.физ-в инвал'!N12*'11.физ-в инвал'!O12)/('7.физ-в нацвал'!N12+'11.физ-в инвал'!N12) -> 35.39447 | P12: ='7.физ-в нацвал'!P12+'11.физ-в инвал'!P12 -> 30994.6 | Q12: =('7.физ-в нацвал'!P12*'7.физ-в нацвал'!Q12+'11.физ-в инвал'!P12*'11.физ-в инвал'!Q12)/('7.физ-в нацвал'!P12+'11.физ-в инвал'!P12) -> 36.722808 | R12: ='7.физ-в нацвал'!R12+'11.физ-в инвал'!R12 -> 2342.5 | S12: =('7.физ-в нацвал'!R12*'7.физ-в нацвал'!S12+'11.физ-в инвал'!R12*'11.физ-в инвал'!S12)/('7.физ-в нацвал'!R12+'11.физ-в инвал'!R12) -> 46.449255
A13: Май | B13: ='7.физ-в нацвал'!B13+'11.физ-в инвал'!B13 -> 177008.1 | C13: =('7.физ-в нацвал'!B13*'7.физ-в нацвал'!C13+'11.физ-в инвал'!B13*'11.физ-в инвал'!C13)/('7.физ-в нацвал'!B13+'11.физ-в инвал'!B13) -> 30.48507 | F13: ='7.физ-в нацвал'!F13+'11.физ-в инвал'!F13 -> 37109.1 | G13: =('7.физ-в нацвал'!F13*'7.физ-в нацвал'!G13+'11.физ-в инвал'!F13*'11.физ-в инвал'!G13)/('7.физ-в нацвал'!F13+'11.физ-в инвал'!F13) -> 21.597243 | H13: =J13+L13+N13+P13+R13+T13 -> 139899 | I13: =(J13*K13+L13*M13+N13*O13+P13*Q13+R13*S13+T13*U13)/(J13+L13+N13+P13+R13+T13) -> 32.842623 | J13: ='7.физ-в нацвал'!J13+'11.физ-в инвал'!J13 -> 5595.1 | K13: =('7.физ-в нацвал'!J13*'7.физ-в нацвал'!K13+'11.физ-в инвал'!J13*'11.физ-в инвал'!K13)/('7.физ-в нацвал'!J13+'11.физ-в инвал'!J13) -> 15.579708 | L13: ='7.физ-в нацвал'!L13+'11.физ-в инвал'!L13 -> 40981.9 | M13: =('7.физ-в нацвал'!L13*'7.физ-в нацвал'!M13+'11.физ-в инвал'!L13*'11.физ-в инвал'!M13)/('7.физ-в нацвал'!L13+'11.физ-в инвал'!L13) -> 32.542115 | N13: ='7.физ-в нацвал'!N13+'11.физ-в инвал'!N13 -> 56411.2 | O13: =('7.физ-в нацвал'!N13*'7.физ-в нацвал'!O13+'11.физ-в инвал'!N13*'11.физ-в инвал'!O13)/('7.физ-в нацвал'!N13+'11.физ-в инвал'!N13) -> 33.210303 | P13: ='7.физ-в нацвал'!P13+'11.физ-в инвал'!P13 -> 34535.1 | Q13: =('7.физ-в нацвал'!P13*'7.физ-в нацвал'!Q13+'11.физ-в инвал'!P13*'11.физ-в инвал'!Q13)/('7.физ-в нацвал'!P13+'11.физ-в инвал'!P13) -> 34.859201 | R13: ='7.физ-в нацвал'!R13+'11.физ-в инвал'!R13 -> 2375.7 | S13: =('7.физ-в нацвал'!R13*'7.физ-в нацвал'!S13+'11.физ-в инвал'!R13*'11.физ-в инвал'!S13)/('7.физ-в нацвал'!R13+'11.физ-в инвал'!R13) -> 40.63782
A14: Июнь | B14: ='7.физ-в нацвал'!B14+'11.физ-в инвал'!B14 -> 198741.5 | C14: =('7.физ-в нацвал'!B14*'7.физ-в нацвал'!C14+'11.физ-в инвал'!B14*'11.физ-в инвал'!C14)/('7.физ-в нацвал'!B14+'11.физ-в инвал'!B14) -> 32.064465 | F14: ='7.физ-в нацвал'!F14+'11.физ-в инвал'!F14 -> 41578.6 | G14: =('7.физ-в нацвал'!F14*'7.физ-в нацвал'!G14+'11.физ-в инвал'!F14*'11.физ-в инвал'!G14)/('7.физ-в нацвал'!F14+'11.физ-в инвал'!F14) -> 20.614361 | H14: =J14+L14+N14+P14+R14+T14 -> 157162.9 | I14: =(J14*K14+L14*M14+N14*O14+P14*Q14+R14*S14+T14*U14)/(J14+L14+N14+P14+R14+T14) -> 35.093675 | J14: ='7.физ-в нацвал'!J14+'11.физ-в инвал'!J14 -> 253.1 | K14: =('7.физ-в нацвал'!J14*'7.физ-в нацвал'!K14+'11.физ-в инвал'!J14*'11.физ-в инвал'!K14)/('7.физ-в нацвал'!J14+'11.физ-в инвал'!J14) -> 7.4447096 | L14: ='7.физ-в нацвал'!L14+'11.физ-в инвал'!L14 -> 37491.2 | M14: =('7.физ-в нацвал'!L14*'7.физ-в нацвал'!M14+'11.физ-в инвал'!L14*'11.физ-в инвал'!M14)/('7.физ-в нацвал'!L14+'11.физ-в инвал'!L14) -> 29.067809 | N14: ='7.физ-в нацвал'!N14+'11.физ-в инвал'!N14 -> 76498.9 | O14: =('7.физ-в нацвал'!N14*'7.физ-в нацвал'!O14+'11.физ-в инвал'!N14*'11.физ-в инвал'!O14)/('7.физ-в нацвал'!N14+'11.физ-в инвал'!N14) -> 36.227359 | P14: ='7.физ-в нацвал'!P14+'11.физ-в инвал'!P14 -> 38795.3 | Q14: =('7.физ-в нацвал'!P14*'7.физ-в нацвал'!Q14+'11.физ-в инвал'!P14*'11.физ-в инвал'!Q14)/('7.физ-в нацвал'!P14+'11.физ-в инвал'!P14) -> 36.666537 | R14: ='7.физ-в нацвал'!R14+'11.физ-в инвал'!R14 -> 4124.4 | S14: =('7.физ-в нацвал'!R14*'7.физ-в нацвал'!S14+'11.физ-в инвал'!R14*'11.физ-в инвал'!S14)/('7.физ-в нацвал'!R14+'11.физ-в инвал'!R14) -> 55.743856
A15: Июль | B15: ='7.физ-в нацвал'!B15+'11.физ-в инвал'!B15 -> 201374.1 | C15: =('7.физ-в нацвал'!B15*'7.физ-в нацвал'!C15+'11.физ-в инвал'!B15*'11.физ-в инвал'!C15)/('7.физ-в нацвал'!B15+'11.физ-в инвал'!B15) -> 30.062082 | F15: ='7.физ-в нацвал'!F15+'11.физ-в инвал'!F15 -> 46385 | G15: =('7.физ-в нацвал'!F15*'7.физ-в нацвал'!G15+'11.физ-в инвал'!F15*'11.физ-в инвал'!G15)/('7.физ-в нацвал'!F15+'11.физ-в инвал'!F15) -> 17.470601 | H15: =J15+L15+N15+P15+R15+T15 -> 154989.1 | I15: =(J15*K15+L15*M15+N15*O15+P15*Q15+R15*S15+T15*U15)/(J15+L15+N15+P15+R15+T15) -> 33.83045 | J15: ='7.физ-в нацвал'!J15+'11.физ-в инвал'!J15 -> 4100.5 | K15: =('7.физ-в нацвал'!J15*'7.физ-в нацвал'!K15+'11.физ-в инвал'!J15*'11.физ-в инвал'!K15)/('7.физ-в нацвал'!J15+'11.физ-в инвал'!J15) -> 33.66446 | L15: ='7.физ-в нацвал'!L15+'11.физ-в инвал'!L15 -> 40172.6 | M15: =('7.физ-в нацвал'!L15*'7.физ-в нацвал'!M15+'11.физ-в инвал'!L15*'11.физ-в инвал'!M15)/('7.физ-в нацвал'!L15+'11.физ-в инвал'!L15) -> 30.302139 | N15: ='7.физ-в нацвал'!N15+'11.физ-в инвал'!N15 -> 70226.7 | O15: =('7.физ-в нацвал'!N15*'7.физ-в нацвал'!O15+'11.физ-в инвал'!N15*'11.физ-в инвал'!O15)/('7.физ-в нацвал'!N15+'11.физ-в инвал'!N15) -> 35.153689 | P15: ='7.физ-в нацвал'!P15+'11.физ-в инвал'!P15 -> 38062.8 | Q15: =('7.физ-в нацвал'!P15*'7.физ-в нацвал'!Q15+'11.физ-в инвал'!P15*'11.физ-в инвал'!Q15)/('7.физ-в нацвал'!P15+'11.физ-в инвал'!P15) -> 34.733782 | R15: ='7.физ-в нацвал'!R15+'11.физ-в инвал'!R15 -> 2426.5 | S15: =('7.физ-в нацвал'!R15*'7.физ-в нацвал'!S15+'11.физ-в инвал'!R15*'11.физ-в инвал'!S15)/('7.физ-в нацвал'!R15+'11.физ-в инвал'!R15) -> 40.058323
A16: Август | B16: ='7.физ-в нацвал'!B16+'11.физ-в инвал'!B16 -> 205862.6 | C16: =('7.физ-в нацвал'!B16*'7.физ-в нацвал'!C16+'11.физ-в инвал'!B16*'11.физ-в инвал'!C16)/('7.физ-в нацвал'!B16+'11.физ-в инвал'!B16) -> 31.224101 | F16: ='7.физ-в нацвал'!F16+'11.физ-в инвал'!F16 -> 39978.3 | G16: =('7.физ-в нацвал'!F16*'7.физ-в нацвал'!G16+'11.физ-в инвал'!F16*'11.физ-в инвал'!G16)/('7.физ-в нацвал'!F16+'11.физ-в инвал'!F16) -> 19.726264 | H16: =J16+L16+N16+P16+R16+T16 -> 165884.3 | I16: =(J16*K16+L16*M16+N16*O16+P16*Q16+R16*S16+T16*U16)/(J16+L16+N16+P16+R16+T16) -> 33.995092 | J16: ='7.физ-в нацвал'!J16+'11.физ-в инвал'!J16 -> 126.3 | K16: =('7.физ-в нацвал'!J16*'7.физ-в нацвал'!K16+'11.физ-в инвал'!J16*'11.физ-в инвал'!K16)/('7.физ-в нацвал'!J16+'11.физ-в инвал'!J16) -> 10.213143 | L16: ='7.физ-в нацвал'!L16+'11.физ-в инвал'!L16 -> 44723 | M16: =('7.физ-в нацвал'!L16*'7.физ-в нацвал'!M16+'11.физ-в инвал'!L16*'11.физ-в инвал'!M16)/('7.физ-в нацвал'!L16+'11.физ-в инвал'!L16) -> 28.806988 | N16: ='7.физ-в нацвал'!N16+'11.физ-в инвал'!N16 -> 81997 | O16: =('7.физ-в нацвал'!N16*'7.физ-в нацвал'!O16+'11.физ-в инвал'!N16*'11.физ-в инвал'!O16)/('7.физ-в нацвал'!N16+'11.физ-в инвал'!N16) -> 38.192908 | P16: ='7.физ-в нацвал'!P16+'11.физ-в инвал'!P16 -> 35136.2 | Q16: =('7.физ-в нацвал'!P16*'7.физ-в нацвал'!Q16+'11.физ-в инвал'!P16*'11.физ-в инвал'!Q16)/('7.физ-в нацвал'!P16+'11.физ-в инвал'!P16) -> 30.536495 | R16: ='7.физ-в нацвал'!R16+'11.физ-в инвал'!R16 -> 3901.8 | S16: =('7.физ-в нацвал'!R16*'7.физ-в нацвал'!S16+'11.физ-в инвал'!R16*'11.физ-в инвал'!S16)/('7.физ-в нацвал'!R16+'11.физ-в инвал'!R16) -> 37.158985
A17: Сентябрь | B17: ='7.физ-в нацвал'!B17+'11.физ-в инвал'!B17 -> 221590.4 | C17: =('7.физ-в нацвал'!B17*'7.физ-в нацвал'!C17+'11.физ-в инвал'!B17*'11.физ-в инвал'!C17)/('7.физ-в нацвал'!B17+'11.физ-в инвал'!B17) -> 29.537906 | F17: ='7.физ-в нацвал'!F17+'11.физ-в инвал'!F17 -> 41666.9 | G17: =('7.физ-в нацвал'!F17*'7.физ-в нацвал'!G17+'11.физ-в инвал'!F17*'11.физ-в инвал'!G17)/('7.физ-в нацвал'!F17+'11.физ-в инвал'!F17) -> 18.668335 | H17: =J17+L17+N17+P17+R17+T17 -> 179923.5 | I17: =(J17*K17+L17*M17+N17*O17+P17*Q17+R17*S17+T17*U17)/(J17+L17+N17+P17+R17+T17) -> 32.055094 | J17: ='7.физ-в нацвал'!J17+'11.физ-в инвал'!J17 -> 2502.1 | K17: =('7.физ-в нацвал'!J17*'7.физ-в нацвал'!K17+'11.физ-в инвал'!J17*'11.физ-в инвал'!K17)/('7.физ-в нацвал'!J17+'11.физ-в инвал'!J17) -> 35.092722 | L17: ='7.физ-в нацвал'!L17+'11.физ-в инвал'!L17 -> 43217.2 | M17: =('7.физ-в нацвал'!L17*'7.физ-в нацвал'!M17+'11.физ-в инвал'!L17*'11.физ-в инвал'!M17)/('7.физ-в нацвал'!L17+'11.физ-в инвал'!L17) -> 28.441236 | N17: ='7.физ-в нацвал'!N17+'11.физ-в инвал'!N17 -> 86496.2 | O17: =('7.физ-в нацвал'!N17*'7.физ-в нацвал'!O17+'11.физ-в инвал'!N17*'11.физ-в инвал'!O17)/('7.физ-в нацвал'!N17+'11.физ-в инвал'!N17) -> 34.114836 | P17: ='7.физ-в нацвал'!P17+'11.физ-в инвал'!P17 -> 44432.6 | Q17: =('7.физ-в нацвал'!P17*'7.физ-в нацвал'!Q17+'11.физ-в инвал'!P17*'11.физ-в инвал'!Q17)/('7.физ-в нацвал'!P17+'11.физ-в инвал'!P17) -> 31.137995 | R17: ='7.физ-в нацвал'!R17+'11.физ-в инвал'!R17 -> 3275.4 | S17: =('7.физ-в нацвал'!R17*'7.физ-в нацвал'!S17+'11.физ-в инвал'!R17*'11.физ-в инвал'!S17)/('7.физ-в нацвал'!R17+'11.физ-в инвал'!R17) -> 35.465287
A18: Октябрь | B18: ='7.физ-в нацвал'!B18+'11.физ-в инвал'!B18 -> 245935.5 | C18: =('7.физ-в нацвал'!B18*'7.физ-в нацвал'!C18+'11.физ-в инвал'!B18*'11.физ-в инвал'!C18)/('7.физ-в нацвал'!B18+'11.физ-в инвал'!B18) -> 28.490441 | F18: ='7.физ-в нацвал'!F18+'11.физ-в инвал'!F18 -> 124495.9 | G18: =('7.физ-в нацвал'!F18*'7.физ-в нацвал'!G18+'11.физ-в инвал'!F18*'11.физ-в инвал'!G18)/('7.физ-в нацвал'!F18+'11.физ-в инвал'!F18) -> 26.636906 | H18: =J18+L18+N18+P18+R18+T18 -> 121439.6 | I18: =(J18*K18+L18*M18+N18*O18+P18*Q18+R18*S18+T18*U18)/(J18+L18+N18+P18+R18+T18) -> 30.390624 | J18: ='7.физ-в нацвал'!J18+'11.физ-в инвал'!J18 -> 118.7 | K18: =('7.физ-в нацвал'!J18*'7.физ-в нацвал'!K18+'11.физ-в инвал'!J18*'11.физ-в инвал'!K18)/('7.физ-в нацвал'!J18+'11.физ-в инвал'!J18) -> 12.47262 | L18: ='7.физ-в нацвал'!L18+'11.физ-в инвал'!L18 -> 32980.4 | M18: =('7.физ-в нацвал'!L18*'7.физ-в нацвал'!M18+'11.физ-в инвал'!L18*'11.физ-в инвал'!M18)/('7.физ-в нацвал'!L18+'11.физ-в инвал'!L18) -> 26.4559 | N18: ='7.физ-в нацвал'!N18+'11.физ-в инвал'!N18 -> 47625 | O18: =('7.физ-в нацвал'!N18*'7.физ-в нацвал'!O18+'11.физ-в инвал'!N18*'11.физ-в инвал'!O18)/('7.физ-в нацвал'!N18+'11.физ-в инвал'!N18) -> 32.67586 | P18: ='7.физ-в нацвал'!P18+'11.физ-в инвал'!P18 -> 37273.8 | Q18: =('7.физ-в нацвал'!P18*'7.физ-в нацвал'!Q18+'11.физ-в инвал'!P18*'11.физ-в инвал'!Q18)/('7.физ-в нацвал'!P18+'11.физ-в инвал'!P18) -> 31.134387 | R18: ='7.физ-в нацвал'!R18+'11.физ-в инвал'!R18 -> 3441.7 | S18: =('7.физ-в нацвал'!R18*'7.физ-в нацвал'!S18+'11.физ-в инвал'!R18*'11.физ-в инвал'!S18)/('7.физ-в нацвал'!R18+'11.физ-в инвал'!R18) -> 29.036186
A19: Ноябрь | B19: ='7.физ-в нацвал'!B19+'11.физ-в инвал'!B19 -> 269104.1 | C19: =('7.физ-в нацвал'!B19*'7.физ-в нацвал'!C19+'11.физ-в инвал'!B19*'11.физ-в инвал'!C19)/('7.физ-в нацвал'!B19+'11.физ-в инвал'!B19) -> 28.037054 | F19: ='7.физ-в нацвал'!F19+'11.физ-в инвал'!F19 -> 50793 | G19: =('7.физ-в нацвал'!F19*'7.физ-в нацвал'!G19+'11.физ-в инвал'!F19*'11.физ-в инвал'!G19)/('7.физ-в нацвал'!F19+'11.физ-в инвал'!F19) -> 17.060326 | H19: =J19+L19+N19+P19+R19+T19 -> 218311.1 | I19: =(J19*K19+L19*M19+N19*O19+P19*Q19+R19*S19+T19*U19)/(J19+L19+N19+P19+R19+T19) -> 30.590936 | J19: ='7.физ-в нацвал'!J19+'11.физ-в инвал'!J19 -> 6967.1 | K19: =('7.физ-в нацвал'!J19*'7.физ-в нацвал'!K19+'11.физ-в инвал'!J19*'11.физ-в инвал'!K19)/('7.физ-в нацвал'!J19+'11.физ-в инвал'!J19) -> 6.0307995 | L19: ='7.физ-в нацвал'!L19+'11.физ-в инвал'!L19 -> 42762.2 | M19: =('7.физ-в нацвал'!L19*'7.физ-в нацвал'!M19+'11.физ-в инвал'!L19*'11.физ-в инвал'!M19)/('7.физ-в нацвал'!L19+'11.физ-в инвал'!L19) -> 26.837155 | N19: ='7.физ-в нацвал'!N19+'11.физ-в инвал'!N19 -> 85220.5 | O19: =('7.физ-в нацвал'!N19*'7.физ-в нацвал'!O19+'11.физ-в инвал'!N19*'11.физ-в инвал'!O19)/('7.физ-в нацвал'!N19+'11.физ-в инвал'!N19) -> 37.211956 | P19: ='7.физ-в нацвал'!P19+'11.физ-в инвал'!P19 -> 79359.8 | Q19: =('7.физ-в нацвал'!P19*'7.физ-в нацвал'!Q19+'11.физ-в инвал'!P19*'11.физ-в инвал'!Q19)/('7.физ-в нацвал'!P19+'11.физ-в инвал'!P19) -> 27.892669 | R19: ='7.физ-в нацвал'!R19+'11.физ-в инвал'!R19 -> 4001.5 | S19: =('7.физ-в нацвал'!R19*'7.физ-в нацвал'!S19+'11.физ-в инвал'!R19*'11.физ-в инвал'!S19)/('7.физ-в нацвал'!R19+'11.физ-в инвал'!R19) -> 25.97271
A20: Декабрь | B20: ='7.физ-в нацвал'!B20+'11.физ-в инвал'!B20 -> 263456.6 | C20: =('7.физ-в нацвал'!B20*'7.физ-в нацвал'!C20+'11.физ-в инвал'!B20*'11.физ-в инвал'!C20)/('7.физ-в нацвал'!B20+'11.физ-в инвал'!B20) -> 28.835834 | F20: ='7.физ-в нацвал'!F20+'11.физ-в инвал'!F20 -> 40003.1 | G20: =('7.физ-в нацвал'!F20*'7.физ-в нацвал'!G20+'11.физ-в инвал'!F20*'11.физ-в инвал'!G20)/('7.физ-в нацвал'!F20+'11.физ-в инвал'!F20) -> 16.046753 | H20: =J20+L20+N20+P20+R20+T20 -> 223453.5 | I20: =(J20*K20+L20*M20+N20*O20+P20*Q20+R20*S20+T20*U20)/(J20+L20+N20+P20+R20+T20) -> 31.125362 | J20: ='7.физ-в нацвал'!J20+'11.физ-в инвал'!J20 -> 84.6 | K20: =('7.физ-в нацвал'!J20*'7.физ-в нацвал'!K20+'11.физ-в инвал'!J20*'11.физ-в инвал'!K20)/('7.физ-в нацвал'!J20+'11.физ-в инвал'!J20) -> 14.468085 | L20: ='7.физ-в нацвал'!L20+'11.физ-в инвал'!L20 -> 49029.1 | M20: =('7.физ-в нацвал'!L20*'7.физ-в нацвал'!M20+'11.физ-в инвал'!L20*'11.физ-в инвал'!M20)/('7.физ-в нацвал'!L20+'11.физ-в инвал'!L20) -> 26.900388 | N20: ='7.физ-в нацвал'!N20+'11.физ-в инвал'!N20 -> 115177 | O20: =('7.физ-в нацвал'!N20*'7.физ-в нацвал'!O20+'11.физ-в инвал'!N20*'11.физ-в инвал'!O20)/('7.физ-в нацвал'!N20+'11.физ-в инвал'!N20) -> 33.506937 | P20: ='7.физ-в нацвал'!P20+'11.физ-в инвал'!P20 -> 55466.9 | Q20: =('7.физ-в нацвал'!P20*'7.физ-в нацвал'!Q20+'11.физ-в инвал'!P20*'11.физ-в инвал'!Q20)/('7.физ-в нацвал'!P20+'11.физ-в инвал'!P20) -> 29.956636 | R20: ='7.физ-в нацвал'!R20+'11.физ-в инвал'!R20 -> 3695.9 | S20: =('7.физ-в нацвал'!R20*'7.физ-в нацвал'!S20+'11.физ-в инвал'!R20*'11.физ-в инвал'!S20)/('7.физ-в нацвал'!R20+'11.физ-в инвал'!R20) -> 30.876087
... A103: Ноябрь | B103: ='7.физ-в нацвал'!B103+'11.физ-в инвал'!B103 -> 1377258.8 | C103: =('7.физ-в нацвал'!B103*'7.физ-в нацвал'!C103+'11.физ-в инвал'!B103*'11.физ-в инвал'!C103)/('7.физ-в нацвал'!B103+'11.физ-в инвал'!B103) -> 5.6147088 | F103: ='7.физ-в нацвал'!F103+'11.физ-в инвал'!F103 -> 588442.3 | G103: =('7.физ-в нацвал'!F103*'7.физ-в нацвал'!G103+'11.физ-в инвал'!F103*'11.физ-в инвал'!G103)/('7.физ-в нацвал'!F103+'11.физ-в инвал'!F103) -> 0.25051342 | H103: =J103+L103+N103+P103+R103+T103 -> 788816.5 | I103: =(J103*K103+L103*M103+N103*O103+P103*Q103+R103*S103+T103*U103)/(J103+L103+N103+P103+R103+T103) -> 9.6162979 | J103: ='7.физ-в нацвал'!J103+'11.физ-в инвал'!J103 -> 87067 | K103: =('7.физ-в нацвал'!J103*'7.физ-в нацвал'!K103+'11.физ-в инвал'!J103*'11.физ-в инвал'!K103)/('7.физ-в нацвал'!J103+'11.физ-в инвал'!J103) -> 8.9289223 | L103: ='7.физ-в нацвал'!L103+'11.физ-в инвал'!L103 -> 169877.5 | M103: =('7.физ-в нацвал'!L103*'7.физ-в нацвал'!M103+'11.физ-в инвал'!L103*'11.физ-в инвал'!M103)/('7.физ-в нацвал'!L103+'11.физ-в инвал'!L103) -> 9.3377793 | N103: ='7.физ-в нацвал'!N103+'11.физ-в инвал'!N103 -> 192004.6 | O103: =('7.физ-в нацвал'!N103*'7.физ-в нацвал'!O103+'11.физ-в инвал'!N103*'11.физ-в инвал'!O103)/('7.физ-в нацвал'!N103+'11.физ-в инвал'!N103) -> 9.457473 | P103: ='7.физ-в нацвал'!P103+'11.физ-в инвал'!P103 -> 254259.8 | Q103: =('7.физ-в нацвал'!P103*'7.физ-в нацвал'!Q103+'11.физ-в инвал'!P103*'11.физ-в инвал'!Q103)/('7.физ-в нацвал'!P103+'11.физ-в инвал'!P103) -> 9.4600418 | R103: ='7.физ-в нацвал'!R103+'11.физ-в инвал'!R103 -> 85607.6 | S103: =('7.физ-в нацвал'!R103*'7.физ-в нацвал'!S103+'11.физ-в инвал'!R103*'11.физ-в инвал'!S103)/('7.физ-в нацвал'!R103+'11.физ-в инвал'!R103) -> 11.688387
A104: Декабрь | B104: ='7.физ-в нацвал'!B104+'11.физ-в инвал'!B104 -> 1429139 | C104: =('7.физ-в нацвал'!B104*'7.физ-в нацвал'!C104+'11.физ-в инвал'!B104*'11.физ-в инвал'!C104)/('7.физ-в нацвал'!B104+'11.физ-в инвал'!B104) -> 5.693449 | F104: ='7.физ-в нацвал'!F104+'11.физ-в инвал'!F104 -> 585710.5 | G104: =('7.физ-в нацвал'!F104*'7.физ-в нацвал'!G104+'11.физ-в инвал'!F104*'11.физ-в инвал'!G104)/('7.физ-в нацвал'!F104+'11.физ-в инвал'!F104) -> 0.27661044 | H104: =J104+L104+N104+P104+R104+T104 -> 843428.5 | I104: =(J104*K104+L104*M104+N104*O104+P104*Q104+R104*S104+T104*U104)/(J104+L104+N104+P104+R104+T104) -> 9.4551185 | J104: ='7.физ-в нацвал'!J104+'11.физ-в инвал'!J104 -> 97457.8 | K104: =('7.физ-в нацвал'!J104*'7.физ-в нацвал'!K104+'11.физ-в инвал'!J104*'11.физ-в инвал'!K104)/('7.физ-в нацвал'!J104+'11.физ-в инвал'!J104) -> 9.2522251 | L104: ='7.физ-в нацвал'!L104+'11.физ-в инвал'!L104 -> 167303.4 | M104: =('7.физ-в нацвал'!L104*'7.физ-в нацвал'!M104+'11.физ-в инвал'!L104*'11.физ-в инвал'!M104)/('7.физ-в нацвал'!L104+'11.физ-в инвал'!L104) -> 8.9228402 | N104: ='7.физ-в нацвал'!N104+'11.физ-в инвал'!N104 -> 217577.5 | O104: =('7.физ-в нацвал'!N104*'7.физ-в нацвал'!O104+'11.физ-в инвал'!N104*'11.физ-в инвал'!O104)/('7.физ-в нацвал'!N104+'11.физ-в инвал'!N104) -> 8.9203127 | P104: ='7.физ-в нацвал'!P104+'11.физ-в инвал'!P104 -> 264788.1 | Q104: =('7.физ-в нацвал'!P104*'7.физ-в нацвал'!Q104+'11.физ-в инвал'!P104*'11.физ-в инвал'!Q104)/('7.физ-в нацвал'!P104+'11.физ-в инвал'!P104) -> 9.4280064 | R104: ='7.физ-в нацвал'!R104+'11.физ-в инвал'!R104 -> 95845.8 | S104: =('7.физ-в нацвал'!R104*'7.физ-в нацвал'!S104+'11.физ-в инвал'!R104*'11.физ-в инвал'!S104)/('7.физ-в нацвал'!R104+'11.физ-в инвал'!R104) -> 11.924468 | T104: ='7.физ-в нацвал'!T104+'11.физ-в инвал'!T104 -> 455.9 | U104: =('7.физ-в нацвал'!T104*'7.физ-в нацвал'!U104+'11.физ-в инвал'!T104*'11.физ-в инвал'!U104)/('7.физ-в нацвал'!T104+'11.физ-в инвал'!T104) -> 0
A105: Январь 2004 г. | B105: ='7.физ-в нацвал'!B105+'11.физ-в инвал'!B105 -> 1531985.3 | C105: =('7.физ-в нацвал'!B105*'7.физ-в нацвал'!C105+'11.физ-в инвал'!B105*'11.физ-в инвал'!C105)/('7.физ-в нацвал'!B105+'11.физ-в инвал'!B105) -> 5.6356768 | F105: ='7.физ-в нацвал'!F105+'11.физ-в инвал'!F105 -> 667697.2 | G105: =('7.физ-в нацвал'!F105*'7.физ-в нацвал'!G105+'11.физ-в инвал'!F105*'11.физ-в инвал'!G105)/('7.физ-в нацвал'!F105+'11.физ-в инвал'!F105) -> 0.75671951 | H105: =J105+L105+N105+P105+R105+T105 -> 864288.1 | I105: =(J105*K105+L105*M105+N105*O105+P105*Q105+R105*S105+T105*U105)/(J105+L105+N105+P105+R105+T105) -> 9.4048668 | J105: ='7.физ-в нацвал'!J105+'11.физ-в инвал'!J105 -> 111430.8 | K105: =('7.физ-в нацвал'!J105*'7.физ-в нацвал'!K105+'11.физ-в инвал'!J105*'11.физ-в инвал'!K105)/('7.физ-в нацвал'!J105+'11.физ-в инвал'!J105) -> 9.7342436 | L105: ='7.физ-в нацвал'!L105+'11.физ-в инвал'!L105 -> 169154.4 | M105: =('7.физ-в нацвал'!L105*'7.физ-в нацвал'!M105+'11.физ-в инвал'!L105*'11.физ-в инвал'!M105)/('7.физ-в нацвал'!L105+'11.физ-в инвал'!L105) -> 8.2709941 | N105: ='7.физ-в нацвал'!N105+'11.физ-в инвал'!N105 -> 203147.8 | O105: =('7.физ-в нацвал'!N105*'7.физ-в нацвал'!O105+'11.физ-в инвал'!N105*'11.физ-в инвал'!O105)/('7.физ-в нацвал'!N105+'11.физ-в инвал'!N105) -> 9.0014039 | P105: ='7.физ-в нацвал'!P105+'11.физ-в инвал'!P105 -> 267316.1 | Q105: =('7.физ-в нацвал'!P105*'7.физ-в нацвал'!Q105+'11.физ-в инвал'!P105*'11.физ-в инвал'!Q105)/('7.физ-в нацвал'!P105+'11.физ-в инвал'!P105) -> 9.344761 | R105: ='7.физ-в нацвал'!R105+'11.физ-в инвал'!R105 -> 113239 | S105: =('7.физ-в нацвал'!R105*'7.физ-в нацвал'!S105+'11.физ-в инвал'!R105*'11.физ-в инвал'!S105)/('7.физ-в нацвал'!R105+'11.физ-в инвал'!R105) -> 11.640199
A106: Февраль | B106: ='7.физ-в нацвал'!B106+'11.физ-в инвал'!B106 -> 1558286.7 | C106: =('7.физ-в нацвал'!B106*'7.физ-в нацвал'!C106+'11.физ-в инвал'!B106*'11.физ-в инвал'!C106)/('7.физ-в нацвал'!B106+'11.физ-в инвал'!B106) -> 6.148588 | F106: ='7.физ-в нацвал'!F106+'11.физ-в инвал'!F106 -> 683046.1 | G106: =('7.физ-в нацвал'!F106*'7.физ-в нацвал'!G106+'11.физ-в инвал'!F106*'11.физ-в инвал'!G106)/('7.физ-в нацвал'!F106+'11.физ-в инвал'!F106) -> 1.9769042 | H106: =J106+L106+N106+P106+R106+T106 -> 875240.6 | I106: =(J106*K106+L106*M106+N106*O106+P106*Q106+R106*S106+T106*U106)/(J106+L106+N106+P106+R106+T106) -> 9.4042097 | J106: ='7.физ-в нацвал'!J106+'11.физ-в инвал'!J106 -> 87764.7 | K106: =('7.физ-в нацвал'!J106*'7.физ-в нацвал'!K106+'11.физ-в инвал'!J106*'11.физ-в инвал'!K106)/('7.физ-в нацвал'!J106+'11.физ-в инвал'!J106) -> 8.7949381 | L106: ='7.физ-в нацвал'!L106+'11.физ-в инвал'!L106 -> 189046 | M106: =('7.физ-в нацвал'!L106*'7.физ-в нацвал'!M106+'11.физ-в инвал'!L106*'11.физ-в инвал'!M106)/('7.физ-в нацвал'!L106+'11.физ-в инвал'!L106) -> 8.1939896 | N106: ='7.физ-в нацвал'!N106+'11.физ-в инвал'!N106 -> 223109.7 | O106: =('7.физ-в нацвал'!N106*'7.физ-в нацвал'!O106+'11.физ-в инвал'!N106*'11.физ-в инвал'!O106)/('7.физ-в нацвал'!N106+'11.физ-в инвал'!N106) -> 8.9754988 | P106: ='7.физ-в нацвал'!P106+'11.физ-в инвал'!P106 -> 247037.2 | Q106: =('7.физ-в нацвал'!P106*'7.физ-в нацвал'!Q106+'11.физ-в инвал'!P106*'11.физ-в инвал'!Q106)/('7.физ-в нацвал'!P106+'11.физ-в инвал'!P106) -> 9.5186566 | R106: ='7.физ-в нацвал'!R106+'11.физ-в инвал'!R106 -> 128283 | S106: =('7.физ-в нацвал'!R106*'7.физ-в нацвал'!S106+'11.физ-в инвал'!R106*'11.физ-в инвал'!S106)/('7.физ-в нацвал'!R106+'11.физ-в инвал'!R106) -> 12.129721
A107: Март | B107: ='7.физ-в нацвал'!B107+'11.физ-в инвал'!B107 -> 1666098.6 | C107: =('7.физ-в нацвал'!B107*'7.физ-в нацвал'!C107+'11.физ-в инвал'!B107*'11.физ-в инвал'!C107)/('7.физ-в нацвал'!B107+'11.физ-в инвал'!B107) -> 5.5861567 | F107: ='7.физ-в нацвал'!F107+'11.физ-в инвал'!F107 -> 733519.5 | G107: =('7.физ-в нацвал'!F107*'7.физ-в нацвал'!G107+'11.физ-в инвал'!F107*'11.физ-в инвал'!G107)/('7.физ-в нацвал'!F107+'11.физ-в инвал'!F107) -> 0.55675228 | H107: =J107+L107+N107+P107+R107+T107 -> 932579.1 | I107: =(J107*K107+L107*M107+N107*O107+P107*Q107+R107*S107+T107*U107)/(J107+L107+N107+P107+R107+T107) -> 9.5420315 | J107: ='7.физ-в нацвал'!J107+'11.физ-в инвал'!J107 -> 107243.1 | K107: =('7.физ-в нацвал'!J107*'7.физ-в нацвал'!K107+'11.физ-в инвал'!J107*'11.физ-в инвал'!K107)/('7.физ-в нацвал'!J107+'11.физ-в инвал'!J107) -> 8.4776467 | L107: ='7.физ-в нацвал'!L107+'11.физ-в инвал'!L107 -> 190326.8 | M107: =('7.физ-в нацвал'!L107*'7.физ-в нацвал'!M107+'11.физ-в инвал'!L107*'11.физ-в инвал'!M107)/('7.физ-в нацвал'!L107+'11.физ-в инвал'!L107) -> 7.9551109 | N107: ='7.физ-в нацвал'!N107+'11.физ-в инвал'!N107 -> 227933.1 | O107: =('7.физ-в нацвал'!N107*'7.физ-в нацвал'!O107+'11.физ-в инвал'!N107*'11.физ-в инвал'!O107)/('7.физ-в нацвал'!N107+'11.физ-в инвал'!N107) -> 9.0352426 | P107: ='7.физ-в нацвал'!P107+'11.физ-в инвал'!P107 -> 270018.7 | Q107: =('7.физ-в нацвал'!P107*'7.физ-в нацвал'!Q107+'11.физ-в инвал'!P107*'11.физ-в инвал'!Q107)/('7.физ-в нацвал'!P107+'11.физ-в инвал'!P107) -> 9.8415457 | R107: ='7.физ-в нацвал'!R107+'11.физ-в инвал'!R107 -> 137057.4 | S107: =('7.физ-в нацвал'!R107*'7.физ-в нацвал'!S107+'11.физ-в инвал'!R107*'11.физ-в инвал'!S107)/('7.физ-в нацвал'!R107+'11.физ-в инвал'!R107) -> 12.831317
A108: Апрель | B108: ='7.физ-в нацвал'!B108+'11.физ-в инвал'!B108 -> 1697819.8 | C108: =('7.физ-в нацвал'!B108*'7.физ-в нацвал'!C108+'11.физ-в инвал'!B108*'11.физ-в инвал'!C108)/('7.физ-в нацвал'!B108+'11.физ-в инвал'!B108) -> 5.566722 | F108: ='7.физ-в нацвал'!F108+'11.физ-в инвал'!F108 -> 746492.8 | G108: =('7.физ-в нацвал'!F108*'7.физ-в нацвал'!G108+'11.физ-в инвал'!F108*'11.физ-в инвал'!G108)/('7.физ-в нацвал'!F108+'11.физ-в инвал'!F108) -> 0.58204519 | H108: =J108+L108+N108+P108+R108+T108 -> 951327 | I108: =(J108*K108+L108*M108+N108*O108+P108*Q108+R108*S108+T108*U108)/(J108+L108+N108+P108+R108+T108) -> 9.4781272 | J108: ='7.физ-в нацвал'!J108+'11.физ-в инвал'!J108 -> 102053.9 | K108: =('7.физ-в нацвал'!J108*'7.физ-в нацвал'!K108+'11.физ-в инвал'!J108*'11.физ-в инвал'!K108)/('7.физ-в нацвал'!J108+'11.физ-в инвал'!J108) -> 8.275442 | L108: ='7.физ-в нацвал'!L108+'11.физ-в инвал'!L108 -> 179006.7 | M108: =('7.физ-в нацвал'!L108*'7.физ-в нацвал'!M108+'11.физ-в инвал'!L108*'11.физ-в инвал'!M108)/('7.физ-в нацвал'!L108+'11.физ-в инвал'!L108) -> 8.0041673 | N108: ='7.физ-в нацвал'!N108+'11.физ-в инвал'!N108 -> 245508.2 | O108: =('7.физ-в нацвал'!N108*'7.физ-в нацвал'!O108+'11.физ-в инвал'!N108*'11.физ-в инвал'!O108)/('7.физ-в нацвал'!N108+'11.физ-в инвал'!N108) -> 9.1848716 | P108: ='7.физ-в нацвал'!P108+'11.физ-в инвал'!P108 -> 277736 | Q108: =('7.физ-в нацвал'!P108*'7.физ-в нацвал'!Q108+'11.физ-в инвал'!P108*'11.физ-в инвал'!Q108)/('7.физ-в нацвал'!P108+'11.физ-в инвал'!P108) -> 9.4347766 | R108: ='7.физ-в нацвал'!R108+'11.физ-в инвал'!R108 -> 147022.2 | S108: =('7.физ-в нацвал'!R108*'7.физ-в нацвал'!S108+'11.физ-в инвал'!R108*'11.физ-в инвал'!S108)/('7.физ-в нацвал'!R108+'11.физ-в инвал'!R108) -> 12.679168
A109: Май | B109: ='7.физ-в нацвал'!B109+'11.физ-в инвал'!B109 -> 1789377.8 | C109: =('7.физ-в нацвал'!B109*'7.физ-в нацвал'!C109+'11.физ-в инвал'!B109*'11.физ-в инвал'!C109)/('7.физ-в нацвал'!B109+'11.физ-в инвал'!B109) -> 5.3553517 | F109: ='7.физ-в нацвал'!F109+'11.физ-в инвал'!F109 -> 835366.8 | G109: =('7.физ-в нацвал'!F109*'7.физ-в нацвал'!G109+'11.физ-в инвал'!F109*'11.физ-в инвал'!G109)/('7.физ-в нацвал'!F109+'11.физ-в инвал'!F109) -> 0.64795064 | H109: =J109+L109+N109+P109+R109+T109 -> 954011 | I109: =(J109*K109+L109*M109+N109*O109+P109*Q109+R109*S109+T109*U109)/(J109+L109+N109+P109+R109+T109) -> 9.4773237 | J109: ='7.физ-в нацвал'!J109+'11.физ-в инвал'!J109 -> 117514.6 | K109: =('7.физ-в нацвал'!J109*'7.физ-в нацвал'!K109+'11.физ-в инвал'!J109*'11.физ-в инвал'!K109)/('7.физ-в нацвал'!J109+'11.физ-в инвал'!J109) -> 7.7363234 | L109: ='7.физ-в нацвал'!L109+'11.физ-в инвал'!L109 -> 188220.8 | M109: =('7.физ-в нацвал'!L109*'7.физ-в нацвал'!M109+'11.физ-в инвал'!L109*'11.физ-в инвал'!M109)/('7.физ-в нацвал'!L109+'11.физ-в инвал'!L109) -> 8.1576969 | N109: ='7.физ-в нацвал'!N109+'11.физ-в инвал'!N109 -> 231119.5 | O109: =('7.физ-в нацвал'!N109*'7.физ-в нацвал'!O109+'11.физ-в инвал'!N109*'11.физ-в инвал'!O109)/('7.физ-в нацвал'!N109+'11.физ-в инвал'!N109) -> 9.0235598 | P109: ='7.физ-в нацвал'!P109+'11.физ-в инвал'!P109 -> 277807 | Q109: =('7.физ-в нацвал'!P109*'7.физ-в нацвал'!Q109+'11.физ-в инвал'!P109*'11.физ-в инвал'!Q109)/('7.физ-в нацвал'!P109+'11.физ-в инвал'!P109) -> 9.8417191 | R109: ='7.физ-в нацвал'!R109+'11.физ-в инвал'!R109 -> 139349.1 | S109: =('7.физ-в нацвал'!R109*'7.физ-в нацвал'!S109+'11.физ-в инвал'!R109*'11.физ-в инвал'!S109)/('7.физ-в нацвал'!R109+'11.физ-в инвал'!R109) -> 12.754103
A110: Июнь | B110: ='7.физ-в нацвал'!B110+'11.физ-в инвал'!B110 -> 1801283.5 | C110: =('7.физ-в нацвал'!B110*'7.физ-в нацвал'!C110+'11.физ-в инвал'!B110*'11.физ-в инвал'!C110)/('7.физ-в нацвал'!B110+'11.физ-в инвал'!B110) -> 5.396731 | F110: ='7.физ-в нацвал'!F110+'11.физ-в инвал'!F110 -> 821399.3 | G110: =('7.физ-в нацвал'!F110*'7.физ-в нацвал'!G110+'11.физ-в инвал'!F110*'11.физ-в инвал'!G110)/('7.физ-в нацвал'!F110+'11.физ-в инвал'!F110) -> 0.66070697 | H110: =J110+L110+N110+P110+R110+T110 -> 979884.2 | I110: =(J110*K110+L110*M110+N110*O110+P110*Q110+R110*S110+T110*U110)/(J110+L110+N110+P110+R110+T110) -> 9.3667581 | J110: ='7.физ-в нацвал'!J110+'11.физ-в инвал'!J110 -> 114652.1 | K110: =('7.физ-в нацвал'!J110*'7.физ-в нацвал'!K110+'11.физ-в инвал'!J110*'11.физ-в инвал'!K110)/('7.физ-в нацвал'!J110+'11.физ-в инвал'!J110) -> 7.6598989 | L110: ='7.физ-в нацвал'!L110+'11.физ-в инвал'!L110 -> 208560.3 | M110: =('7.физ-в нацвал'!L110*'7.физ-в нацвал'!M110+'11.физ-в инвал'!L110*'11.физ-в инвал'!M110)/('7.физ-в нацвал'!L110+'11.физ-в инвал'!L110) -> 8.0032552 | N110: ='7.физ-в нацвал'!N110+'11.физ-в инвал'!N110 -> 226834 | O110: =('7.физ-в нацвал'!N110*'7.физ-в нацвал'!O110+'11.физ-в инвал'!N110*'11.физ-в инвал'!O110)/('7.физ-в нацвал'!N110+'11.физ-в инвал'!N110) -> 8.7411317 | P110: ='7.физ-в нацвал'!P110+'11.физ-в инвал'!P110 -> 293741.1 | Q110: =('7.физ-в нацвал'!P110*'7.физ-в нацвал'!Q110+'11.физ-в инвал'!P110*'11.физ-в инвал'!Q110)/('7.физ-в нацвал'!P110+'11.физ-в инвал'!P110) -> 9.9232462 | R110: ='7.физ-в нацвал'!R110+'11.физ-в инвал'!R110 -> 136096.7 | S110: =('7.физ-в нацвал'!R110*'7.физ-в нацвал'!S110+'11.физ-в инвал'!R110*'11.физ-в инвал'!S110)/('7.физ-в нацвал'!R110+'11.физ-в инвал'!R110) -> 12.735815
A111: Июль | B111: ='7.физ-в нацвал'!B111+'11.физ-в инвал'!B111 -> 1862019.2 | C111: =('7.физ-в нацвал'!B111*'7.физ-в нацвал'!C111+'11.физ-в инвал'!B111*'11.физ-в инвал'!C111)/('7.физ-в нацвал'!B111+'11.физ-в инвал'!B111) -> 5.6421983 | F111: ='7.физ-в нацвал'!F111+'11.физ-в инвал'!F111 -> 848863 | G111: =('7.физ-в нацвал'!F111*'7.физ-в нацвал'!G111+'11.физ-в инвал'!F111*'11.физ-в инвал'!G111)/('7.физ-в нацвал'!F111+'11.физ-в инвал'!F111) -> 1.3205183 | H111: =J111+L111+N111+P111+R111+T111 -> 1013156.2 | I111: =(J111*K111+L111*M111+N111*O111+P111*Q111+R111*S111+T111*U111)/(J111+L111+N111+P111+R111+T111) -> 9.2630756 | J111: ='7.физ-в нацвал'!J111+'11.физ-в инвал'!J111 -> 126600.9 | K111: =('7.физ-в нацвал'!J111*'7.физ-в нацвал'!K111+'11.физ-в инвал'!J111*'11.физ-в инвал'!K111)/('7.физ-в нацвал'!J111+'11.физ-в инвал'!J111) -> 7.5465353 | L111: ='7.физ-в нацвал'!L111+'11.физ-в инвал'!L111 -> 227894.7 | M111: =('7.физ-в нацвал'!L111*'7.физ-в нацвал'!M111+'11.физ-в инвал'!L111*'11.физ-в инвал'!M111)/('7.физ-в нацвал'!L111+'11.физ-в инвал'!L111) -> 7.9827156 | N111: ='7.физ-в нацвал'!N111+'11.физ-в инвал'!N111 -> 221851.2 | O111: =('7.физ-в нацвал'!N111*'7.физ-в нацвал'!O111+'11.физ-в инвал'!N111*'11.физ-в инвал'!O111)/('7.физ-в нацвал'!N111+'11.физ-в инвал'!N111) -> 8.5619676 | P111: ='7.физ-в нацвал'!P111+'11.физ-в инвал'!P111 -> 301038.1 | Q111: =('7.физ-в нацвал'!P111*'7.физ-в нацвал'!Q111+'11.физ-в инвал'!P111*'11.физ-в инвал'!Q111)/('7.физ-в нацвал'!P111+'11.физ-в инвал'!P111) -> 10.085163 | R111: ='7.физ-в нацвал'!R111+'11.физ-в инвал'!R111 -> 135770.5 | S111: =('7.физ-в нацвал'!R111*'7.физ-в нацвал'!S111+'11.физ-в инвал'!R111*'11.физ-в инвал'!S111)/('7.физ-в нацвал'!R111+'11.физ-в инвал'!R111) -> 12.335632 | T111: ='7.физ-в нацвал'!T111+'11.физ-в инвал'!T111 -> 0.8 | U111: =('7.физ-в нацвал'!T111*'7.физ-в нацвал'!U111+'11.физ-в инвал'!T111*'11.физ-в инвал'!U111)/('7.физ-в нацвал'!T111+'11.физ-в инвал'!T111) -> 12
A112: Август | B112: ='7.физ-в нацвал'!B112+'11.физ-в инвал'!B112 -> 1918361.7 | C112: =('7.физ-в нацвал'!B112*'7.физ-в нацвал'!C112+'11.физ-в инвал'!B112*'11.физ-в инвал'!C112)/('7.физ-в нацвал'!B112+'11.физ-в инвал'!B112) -> 5.6049163 | F112: ='7.физ-в нацвал'!F112+'11.физ-в инвал'!F112 -> 884526.3 | G112: =('7.физ-в нацвал'!F112*'7.физ-в нацвал'!G112+'11.физ-в инвал'!F112*'11.физ-в инвал'!G112)/('7.физ-в нацвал'!F112+'11.физ-в инвал'!F112) -> 1.2810669 | H112: =J112+L112+N112+P112+R112+T112 -> 1033835.4 | I112: =(J112*K112+L112*M112+N112*O112+P112*Q112+R112*S112+T112*U112)/(J112+L112+N112+P112+R112+T112) -> 9.3043045 | J112: ='7.физ-в нацвал'!J112+'11.физ-в инвал'!J112 -> 148662 | K112: =('7.физ-в нацвал'!J112*'7.физ-в нацвал'!K112+'11.физ-в инвал'!J112*'11.физ-в инвал'!K112)/('7.физ-в нацвал'!J112+'11.физ-в инвал'!J112) -> 7.6257947 | L112: ='7.физ-в нацвал'!L112+'11.физ-в инвал'!L112 -> 235550 | M112: =('7.физ-в нацвал'!L112*'7.физ-в нацвал'!M112+'11.физ-в инвал'!L112*'11.физ-в инвал'!M112)/('7.физ-в нацвал'!L112+'11.физ-в инвал'!L112) -> 7.5788518 | N112: ='7.физ-в нацвал'!N112+'11.физ-в инвал'!N112 -> 216761.4 | O112: =('7.физ-в нацвал'!N112*'7.физ-в нацвал'!O112+'11.физ-в инвал'!N112*'11.физ-в инвал'!O112)/('7.физ-в нацвал'!N112+'11.физ-в инвал'!N112) -> 8.7981731 | P112: ='7.физ-в нацвал'!P112+'11.физ-в инвал'!P112 -> 299434.1 | Q112: =('7.физ-в нацвал'!P112*'7.физ-в нацвал'!Q112+'11.физ-в инвал'!P112*'11.физ-в инвал'!Q112)/('7.физ-в нацвал'!P112+'11.физ-в инвал'!P112) -> 10.459797 | R112: ='7.физ-в нацвал'!R112+'11.физ-в инвал'!R112 -> 133427.1 | S112: =('7.физ-в нацвал'!R112*'7.физ-в нацвал'!S112+'11.физ-в инвал'!R112*'11.физ-в инвал'!S112)/('7.физ-в нацвал'!R112+'11.физ-в инвал'!R112) -> 12.449653 | T112: ='7.физ-в нацвал'!T112+'11.физ-в инвал'!T112 -> 0.8 | U112: =('7.физ-в нацвал'!T112*'7.физ-в нацвал'!U112+'11.физ-в инвал'!T112*'11.физ-в инвал'!U112)/('7.физ-в нацвал'!T112+'11.физ-в инвал'!T112) -> 12
A113: Сентябрь | B113: ='7.физ-в нацвал'!B113+'11.физ-в инвал'!B113 -> 1909893.9 | C113: =('7.физ-в нацвал'!B113*'7.физ-в нацвал'!C113+'11.физ-в инвал'!B113*'11.физ-в инвал'!C113)/('7.физ-в нацвал'!B113+'11.физ-в инвал'!B113) -> 5.6862996 | F113: ='7.физ-в нацвал'!F113+'11.физ-в инвал'!F113 -> 844142.9 | G113: =('7.физ-в нацвал'!F113*'7.физ-в нацвал'!G113+'11.физ-в инвал'!F113*'11.физ-в инвал'!G113)/('7.физ-в нацвал'!F113+'11.физ-в инвал'!F113) -> 1.2110206 | H113: =J113+L113+N113+P113+R113+T113 -> 1065751 | I113: =(J113*K113+L113*M113+N113*O113+P113*Q113+R113*S113+T113*U113)/(J113+L113+N113+P113+R113+T113) -> 9.2310065 | J113: ='7.физ-в нацвал'!J113+'11.физ-в инвал'!J113 -> 164158.7 | K113: =('7.физ-в нацвал'!J113*'7.физ-в нацвал'!K113+'11.физ-в инвал'!J113*'11.физ-в инвал'!K113)/('7.физ-в нацвал'!J113+'11.физ-в инвал'!J113) -> 7.70029 | L113: ='7.физ-в нацвал'!L113+'11.физ-в инвал'!L113 -> 189920 | M113: =('7.физ-в нацвал'!L113*'7.физ-в нацвал'!M113+'11.физ-в инвал'!L113*'11.физ-в инвал'!M113)/('7.физ-в нацвал'!L113+'11.физ-в инвал'!L113) -> 7.3474863 | N113: ='7.физ-в нацвал'!N113+'11.физ-в инвал'!N113 -> 253748.8 | O113: =('7.физ-в нацвал'!N113*'7.физ-в нацвал'!O113+'11.физ-в инвал'!N113*'11.физ-в инвал'!O113)/('7.физ-в нацвал'!N113+'11.физ-в инвал'!N113) -> 8.7673322 | P113: ='7.физ-в нацвал'!P113+'11.физ-в инвал'!P113 -> 322690.3 | Q113: =('7.физ-в нацвал'!P113*'7.физ-в нацвал'!Q113+'11.физ-в инвал'!P113*'11.физ-в инвал'!Q113)/('7.физ-в нацвал'!P113+'11.физ-в инвал'!P113) -> 10.138686 | R113: ='7.физ-в нацвал'!R113+'11.физ-в инвал'!R113 -> 135232.1 | S113: =('7.физ-в нацвал'!R113*'7.физ-в нацвал'!S113+'11.физ-в инвал'!R113*'11.физ-в инвал'!S113)/('7.физ-в нацвал'!R113+'11.физ-в инвал'!R113) -> 12.438476 | T113: ='7.физ-в нацвал'!T113+'11.физ-в инвал'!T113 -> 1.1 | U113: =('7.физ-в нацвал'!T113*'7.физ-в нацвал'!U113+'11.физ-в инвал'!T113*'11.физ-в инвал'!U113)/('7.физ-в нацвал'!T113+'11.физ-в инвал'!T113) -> 12
A114: Октябрь | B114: ='7.физ-в нацвал'!B114+'11.физ-в инвал'!B114 -> 1994713.6 | C114: =('7.физ-в нацвал'!B114*'7.физ-в нацвал'!C114+'11.физ-в инвал'!B114*'11.физ-в инвал'!C114)/('7.физ-в нацвал'!B114+'11.физ-в инвал'!B114) -> 5.5215689 | F114: ='7.физ-в нацвал'!F114+'11.физ-в инвал'!F114 -> 899264.5 | G114: =('7.физ-в нацвал'!F114*'7.физ-в нацвал'!G114+'11.физ-в инвал'!F114*'11.физ-в инвал'!G114)/('7.физ-в нацвал'!F114+'11.физ-в инвал'!F114) -> 1.2061881 | H114: =J114+L114+N114+P114+R114+T114 -> 1095449.1 | I114: =(J114*K114+L114*M114+N114*O114+P114*Q114+R114*S114+T114*U114)/(J114+L114+N114+P114+R114+T114) -> 9.0641058 | J114: ='7.физ-в нацвал'!J114+'11.физ-в инвал'!J114 -> 143096 | K114: =('7.физ-в нацвал'!J114*'7.физ-в нацвал'!K114+'11.физ-в инвал'!J114*'11.физ-в инвал'!K114)/('7.физ-в нацвал'!J114+'11.физ-в инвал'!J114) -> 6.9093406 | L114: ='7.физ-в нацвал'!L114+'11.физ-в инвал'!L114 -> 223603 | M114: =('7.физ-в нацвал'!L114*'7.физ-в нацвал'!M114+'11.физ-в инвал'!L114*'11.физ-в инвал'!M114)/('7.физ-в нацвал'!L114+'11.физ-в инвал'!L114) -> 7.1809074 | N114: ='7.физ-в нацвал'!N114+'11.физ-в инвал'!N114 -> 272114.8 | O114: =('7.физ-в нацвал'!N114*'7.физ-в нацвал'!O114+'11.физ-в инвал'!N114*'11.физ-в инвал'!O114)/('7.физ-в нацвал'!N114+'11.физ-в инвал'!N114) -> 8.667895 | P114: ='7.физ-в нацвал'!P114+'11.физ-в инвал'!P114 -> 332781.3 | Q114: =('7.физ-в нацвал'!P114*'7.физ-в нацвал'!Q114+'11.физ-в инвал'!P114*'11.физ-в инвал'!Q114)/('7.физ-в нацвал'!P114+'11.физ-в инвал'!P114) -> 10.315522 | R114: ='7.физ-в нацвал'!R114+'11.физ-в инвал'!R114 -> 123852.4 | S114: =('7.физ-в нацвал'!R114*'7.физ-в нацвал'!S114+'11.физ-в инвал'!R114*'11.физ-в инвал'!S114)/('7.физ-в нацвал'!R114+'11.физ-в инвал'!R114) -> 12.461611 | T114: ='7.физ-в нацвал'!T114+'11.физ-в инвал'!T114 -> 1.6 | U114: =('7.физ-в нацвал'!T114*'7.физ-в нацвал'!U114+'11.физ-в инвал'!T114*'11.физ-в инвал'!U114)/('7.физ-в нацвал'!T114+'11.физ-в инвал'!T114) -> 12
A115: Ноябрь | B115: ='7.физ-в нацвал'!B115+'11.физ-в инвал'!B115 -> 2046309.5 | C115: =('7.физ-в нацвал'!B115*'7.физ-в нацвал'!C115+'11.физ-в инвал'!B115*'11.физ-в инвал'!C115)/('7.физ-в нацвал'!B115+'11.физ-в инвал'!B115) -> 5.4791071 | F115: ='7.физ-в нацвал'!F115+'11.физ-в инвал'!F115 -> 917985.9 | G115: =('7.физ-в нацвал'!F115*'7.физ-в нацвал'!G115+'11.физ-в инвал'!F115*'11.физ-в инвал'!G115)/('7.физ-в нацвал'!F115+'11.физ-в инвал'!F115) -> 1.2033332 | H115: =J115+L115+N115+P115+R115+T115 -> 1128323.6 | I115: =(J115*K115+L115*M115+N115*O115+P115*Q115+R115*S115+T115*U115)/(J115+L115+N115+P115+R115+T115) -> 8.9578079 | J115: ='7.физ-в нацвал'!J115+'11.физ-в инвал'!J115 -> 133665.5 | K115: =('7.физ-в нацвал'!J115*'7.физ-в нацвал'!K115+'11.физ-в инвал'!J115*'11.физ-в инвал'!K115)/('7.физ-в нацвал'!J115+'11.физ-в инвал'!J115) -> 6.2873445 | L115: ='7.физ-в нацвал'!L115+'11.физ-в инвал'!L115 -> 225323.1 | M115: =('7.физ-в нацвал'!L115*'7.физ-в нацвал'!M115+'11.физ-в инвал'!L115*'11.физ-в инвал'!M115)/('7.физ-в нацвал'!L115+'11.физ-в инвал'!L115) -> 7.1136903 | N115: ='7.физ-в нацвал'!N115+'11.физ-в инвал'!N115 -> 299065.1 | O115: =('7.физ-в нацвал'!N115*'7.физ-в нацвал'!O115+'11.физ-в инвал'!N115*'11.физ-в инвал'!O115)/('7.физ-в нацвал'!N115+'11.физ-в инвал'!N115) -> 8.3817281 | P115: ='7.физ-в нацвал'!P115+'11.физ-в инвал'!P115 -> 327804.3 | Q115: =('7.физ-в нацвал'!P115*'7.физ-в нацвал'!Q115+'11.физ-в инвал'!P115*'11.физ-в инвал'!Q115)/('7.физ-в нацвал'!P115+'11.физ-в инвал'!P115) -> 10.254873 | R115: ='7.физ-в нацвал'!R115+'11.физ-в инвал'!R115 -> 142463.7 | S115: =('7.физ-в нацвал'!R115*'7.физ-в нацвал'!S115+'11.физ-в инвал'!R115*'11.физ-в инвал'!S115)/('7.физ-в нацвал'!R115+'11.физ-в инвал'!R115) -> 12.604823 | T115: ='7.физ-в нацвал'!T115+'11.физ-в инвал'!T115 -> 1.9 | U115: =('7.физ-в нацвал'!T115*'7.физ-в нацвал'!U115+'11.физ-в инвал'!T115*'11.физ-в инвал'!U115)/('7.физ-в нацвал'!T115+'11.физ-в инвал'!T115) -> 12
A116: Декабрь | B116: ='7.физ-в нацвал'!B116+'11.физ-в инвал'!B116 -> 2081019.4 | C116: =('7.физ-в нацвал'!B116*'7.физ-в нацвал'!C116+'11.физ-в инвал'!B116*'11.физ-в инвал'!C116)/('7.физ-в нацвал'!B116+'11.физ-в инвал'!B116) -> 5.5278946 | F116: ='7.физ-в нацвал'!F116+'11.физ-в инвал'!F116 -> 918550.8 | G116: =('7.физ-в нацвал'!F116*'7.физ-в нацвал'!G116+'11.физ-в инвал'!F116*'11.физ-в инвал'!G116)/('7.физ-в нацвал'!F116+'11.физ-в инвал'!F116) -> 1.0199742 | H116: =J116+L116+N116+P116+R116+T116 -> 1162468.6 | I116: =(J116*K116+L116*M116+N116*O116+P116*Q116+R116*S116+T116*U116)/(J116+L116+N116+P116+R116+T116) -> 9.0899296 | J116: ='7.физ-в нацвал'!J116+'11.физ-в инвал'!J116 -> 150507.3 | K116: =('7.физ-в нацвал'!J116*'7.физ-в нацвал'!K116+'11.физ-в инвал'!J116*'11.физ-в инвал'!K116)/('7.физ-в нацвал'!J116+'11.физ-в инвал'!J116) -> 6.6829793 | L116: ='7.физ-в нацвал'!L116+'11.физ-в инвал'!L116 -> 223036.4 | M116: =('7.физ-в нацвал'!L116*'7.физ-в нацвал'!M116+'11.физ-в инвал'!L116*'11.физ-в инвал'!M116)/('7.физ-в нацвал'!L116+'11.физ-в инвал'!L116) -> 7.5323361 | N116: ='7.физ-в нацвал'!N116+'11.физ-в инвал'!N116 -> 310287.6 | O116: =('7.физ-в нацвал'!N116*'7.физ-в нацвал'!O116+'11.физ-в инвал'!N116*'11.физ-в инвал'!O116)/('7.физ-в нацвал'!N116+'11.физ-в инвал'!N116) -> 8.5307084 | P116: ='7.физ-в нацвал'!P116+'11.физ-в инвал'!P116 -> 349782.5 | Q116: =('7.физ-в нацвал'!P116*'7.физ-в нацвал'!Q116+'11.физ-в инвал'!P116*'11.физ-в инвал'!Q116)/('7.физ-в нацвал'!P116+'11.физ-в инвал'!P116) -> 10.300857 | R116: ='7.физ-в нацвал'!R116+'11.физ-в инвал'!R116 -> 128848.4 | S116: =('7.физ-в нацвал'!R116*'7.физ-в нацвал'!S116+'11.физ-в инвал'!R116*'11.физ-в инвал'!S116)/('7.физ-в нацвал'!R116+'11.физ-в инвал'!R116) -> 12.657002 | T116: ='7.физ-в нацвал'!T116+'11.физ-в инвал'!T116 -> 6.4 | U116: =('7.физ-в нацвал'!T116*'7.физ-в нацвал'!U116+'11.физ-в инвал'!T116*'11.физ-в инвал'!U116)/('7.физ-в нацвал'!T116+'11.физ-в инвал'!T116) -> 10.6875
A117: Январь 2005 г. | B117: ='7.физ-в нацвал'!B117+'11.физ-в инвал'!B117 -> 2150633.4 | C117: =('7.физ-в нацвал'!B117*'7.физ-в нацвал'!C117+'11.физ-в инвал'!B117*'11.физ-в инвал'!C117)/('7.физ-в нацвал'!B117+'11.физ-в инвал'!B117) -> 5.3960064 | F117: ='7.физ-в нацвал'!F117+'11.физ-в инвал'!F117 -> 1006014.5 | G117: =('7.физ-в нацвал'!F117*'7.физ-в нацвал'!G117+'11.физ-в инвал'!F117*'11.физ-в инвал'!G117)/('7.физ-в нацвал'!F117+'11.физ-в инвал'!F117) -> 0.87127845 | H117: =J117+L117+N117+P117+R117+T117 -> 1144618.9 | I117: =(J117*K117+L117*M117+N117*O117+P117*Q117+R117*S117+T117*U117)/(J117+L117+N117+P117+R117+T117) -> 9.3728252 | J117: ='7.физ-в нацвал'!J117+'11.физ-в инвал'!J117 -> 126364.7 | K117: =('7.физ-в нацвал'!J117*'7.физ-в нацвал'!K117+'11.физ-в инвал'!J117*'11.физ-в инвал'!K117)/('7.физ-в нацвал'!J117+'11.физ-в инвал'!J117) -> 7.3247328 | L117: ='7.физ-в нацвал'!L117+'11.физ-в инвал'!L117 -> 260436.2 | M117: =('7.физ-в нацвал'!L117*'7.физ-в нацвал'!M117+'11.физ-в инвал'!L117*'11.физ-в инвал'!M117)/('7.физ-в нацвал'!L117+'11.физ-в инвал'!L117) -> 7.8176469 | N117: ='7.физ-в нацвал'!N117+'11.физ-в инвал'!N117 -> 293854.1 | O117: =('7.физ-в нацвал'!N117*'7.физ-в нацвал'!O117+'11.физ-в инвал'!N117*'11.физ-в инвал'!O117)/('7.физ-в нацвал'!N117+'11.физ-в инвал'!N117) -> 8.9725031 | P117: ='7.физ-в нацвал'!P117+'11.физ-в инвал'!P117 -> 342186.7 | Q117: =('7.физ-в нацвал'!P117*'7.физ-в нацвал'!Q117+'11.физ-в инвал'!P117*'11.физ-в инвал'!Q117)/('7.физ-в нацвал'!P117+'11.физ-в инвал'!P117) -> 10.528652 | R117: ='7.физ-в нацвал'!R117+'11.физ-в инвал'!R117 -> 121770.6 | S117: =('7.физ-в нацвал'!R117*'7.физ-в нацвал'!S117+'11.физ-в инвал'!R117*'11.физ-в инвал'!S117)/('7.физ-в нацвал'!R117+'11.физ-в инвал'!R117) -> 12.542308 | T117: ='7.физ-в нацвал'!T117+'11.физ-в инвал'!T117 -> 6.6 | U117: =('7.физ-в нацвал'!T117*'7.физ-в нацвал'!U117+'11.физ-в инвал'!T117*'11.физ-в инвал'!U117)/('7.физ-в нацвал'!T117+'11.физ-в инвал'!T117) -> 10.757576
A118: Февраль | B118: ='7.физ-в нацвал'!B118+'11.физ-в инвал'!B118 -> 2108636.9 | C118: =('7.физ-в нацвал'!B118*'7.физ-в нацвал'!C118+'11.физ-в инвал'!B118*'11.физ-в инвал'!C118)/('7.физ-в нацвал'!B118+'11.физ-в инвал'!B118) -> 5.6846843 | F118: ='7.физ-в нацвал'!F118+'11.физ-в инвал'!F118 -> 924816.8 | G118: =('7.физ-в нацвал'!F118*'7.физ-в нацвал'!G118+'11.физ-в инвал'!F118*'11.физ-в инвал'!G118)/('7.физ-в нацвал'!F118+'11.физ-в инвал'!F118) -> 0.87937026 | H118: =J118+L118+N118+P118+R118+T118 -> 1183820.1 | I118: =(J118*K118+L118*M118+N118*O118+P118*Q118+R118*S118+T118*U118)/(J118+L118+N118+P118+R118+T118) -> 9.4386628 | J118: ='7.физ-в нацвал'!J118+'11.физ-в инвал'!J118 -> 153090.8 | K118: =('7.физ-в нацвал'!J118*'7.физ-в нацвал'!K118+'11.физ-в инвал'!J118*'11.физ-в инвал'!K118)/('7.физ-в нацвал'!J118+'11.физ-в инвал'!J118) -> 7.5057293 | L118: ='7.физ-в нацвал'!L118+'11.физ-в инвал'!L118 -> 255261.2 | M118: =('7.физ-в нацвал'!L118*'7.физ-в нацвал'!M118+'11.физ-в инвал'!L118*'11.физ-в инвал'!M118)/('7.физ-в нацвал'!L118+'11.физ-в инвал'!L118) -> 7.7961565 | N118: ='7.физ-в нацвал'!N118+'11.физ-в инвал'!N118 -> 305995.2 | O118: =('7.физ-в нацвал'!N118*'7.физ-в нацвал'!O118+'11.физ-в инвал'!N118*'11.физ-в инвал'!O118)/('7.физ-в нацвал'!N118+'11.физ-в инвал'!N118) -> 9.3635972 | P118: ='7.физ-в нацвал'!P118+'11.физ-в инвал'!P118 -> 339346.8 | Q118: =('7.физ-в нацвал'!P118*'7.физ-в нацвал'!Q118+'11.физ-в инвал'!P118*'11.физ-в инвал'!Q118)/('7.физ-в нацвал'!P118+'11.физ-в инвал'!P118) -> 10.519817 | R118: ='7.физ-в нацвал'!R118+'11.физ-в инвал'!R118 -> 130119.2 | S118: =('7.физ-в нацвал'!R118*'7.физ-в нацвал'!S118+'11.физ-в инвал'!R118*'11.физ-в инвал'!S118)/('7.физ-в нацвал'!R118+'11.физ-в инвал'!R118) -> 12.291866 | T118: ='7.физ-в нацвал'!T118+'11.физ-в инвал'!T118 -> 6.9 | U118: =('7.физ-в нацвал'!T118*'7.физ-в нацвал'!U118+'11.физ-в инвал'!T118*'11.физ-в инвал'!U118)/('7.физ-в нацвал'!T118+'11.физ-в инвал'!T118) -> 10.811594
A119: Март | B119: ='7.физ-в нацвал'!B119+'11.физ-в инвал'!B119 -> 1922479.5 | C119: =('7.физ-в нацвал'!B119*'7.физ-в нацвал'!C119+'11.физ-в инвал'!B119*'11.физ-в инвал'!C119)/('7.физ-в нацвал'!B119+'11.физ-в инвал'!B119) -> 5.9196178 | F119: ='7.физ-в нацвал'!F119+'11.физ-в инвал'!F119 -> 815349.2 | G119: =('7.физ-в нацвал'!F119*'7.физ-в нацвал'!G119+'11.физ-в инвал'!F119*'11.физ-в инвал'!G119)/('7.физ-в нацвал'!F119+'11.физ-в инвал'!F119) -> 0.98063872 | H119: =J119+L119+N119+P119+R119+T119 -> 1107130.3 | I119: =(J119*K119+L119*M119+N119*O119+P119*Q119+R119*S119+T119*U119)/(J119+L119+N119+P119+R119+T119) -> 9.5569427 | J119: ='7.физ-в нацвал'!J119+'11.физ-в инвал'!J119 -> 141296.1 | K119: =('7.физ-в нацвал'!J119*'7.физ-в нацвал'!K119+'11.физ-в инвал'!J119*'11.физ-в инвал'!K119)/('7.физ-в нацвал'!J119+'11.физ-в инвал'!J119) -> 7.6887418 | L119: ='7.физ-в нацвал'!L119+'11.физ-в инвал'!L119 -> 235217.4 | M119: =('7.физ-в нацвал'!L119*'7.физ-в нацвал'!M119+'11.физ-в инвал'!L119*'11.физ-в инвал'!M119)/('7.физ-в нацвал'!L119+'11.физ-в инвал'!L119) -> 8.3911773 | N119: ='7.физ-в нацвал'!N119+'11.физ-в инвал'!N119 -> 270614.4 | O119: =('7.физ-в нацвал'!N119*'7.физ-в нацвал'!O119+'11.физ-в инвал'!N119*'11.физ-в инвал'!O119)/('7.физ-в нацвал'!N119+'11.физ-в инвал'!N119) -> 9.2089533 | P119: ='7.физ-в нацвал'!P119+'11.физ-в инвал'!P119 -> 337098.3 | Q119: =('7.физ-в нацвал'!P119*'7.физ-в нацвал'!Q119+'11.физ-в инвал'!P119*'11.физ-в инвал'!Q119)/('7.физ-в нацвал'!P119+'11.физ-в инвал'!P119) -> 10.397422 | R119: ='7.физ-в нацвал'!R119+'11.физ-в инвал'!R119 -> 122896.8 | S119: =('7.физ-в нацвал'!R119*'7.физ-в нацвал'!S119+'11.физ-в инвал'!R119*'11.физ-в инвал'!S119)/('7.физ-в нацвал'!R119+'11.физ-в инвал'!R119) -> 12.396846 | T119: ='7.физ-в нацвал'!T119+'11.физ-в инвал'!T119 -> 7.3 | U119: =('7.физ-в нацвал'!T119*'7.физ-в нацвал'!U119+'11.физ-в инвал'!T119*'11.физ-в инвал'!U119)/('7.физ-в нацвал'!T119+'11.физ-в инвал'!T119) -> 10.876712
A120: Апрель | B120: ='7.физ-в нацвал'!B120+'11.физ-в инвал'!B120 -> 1936035.5 | C120: =('7.физ-в нацвал'!B120*'7.физ-в нацвал'!C120+'11.физ-в инвал'!B120*'11.физ-в инвал'!C120)/('7.физ-в нацвал'!B120+'11.физ-в инвал'!B120) -> 5.8008919 | F120: ='7.физ-в нацвал'!F120+'11.физ-в инвал'!F120 -> 816956.7 | G120: =('7.физ-в нацвал'!F120*'7.физ-в нацвал'!G120+'11.физ-в инвал'!F120*'11.физ-в инвал'!G120)/('7.физ-в нацвал'!F120+'11.физ-в инвал'!F120) -> 0.9158197 | H120: =J120+L120+N120+P120+R120+T120 -> 1119078.8 | I120: =(J120*K120+L120*M120+N120*O120+P120*Q120+R120*S120+T120*U120)/(J120+L120+N120+P120+R120+T120) -> 9.3671219 | J120: ='7.физ-в нацвал'!J120+'11.физ-в инвал'!J120 -> 121975.7 | K120: =('7.физ-в нацвал'!J120*'7.физ-в нацвал'!K120+'11.физ-в инвал'!J120*'11.физ-в инвал'!K120)/('7.физ-в нацвал'!J120+'11.физ-в инвал'!J120) -> 7.5236274 | L120: ='7.физ-в нацвал'!L120+'11.физ-в инвал'!L120 -> 279345 | M120: =('7.физ-в нацвал'!L120*'7.физ-в нацвал'!M120+'11.физ-в инвал'!L120*'11.физ-в инвал'!M120)/('7.физ-в нацвал'!L120+'11.физ-в инвал'!L120) -> 7.8492685 | N120: ='7.физ-в нацвал'!N120+'11.физ-в инвал'!N120 -> 265501.8 | O120: =('7.физ-в нацвал'!N120*'7.физ-в нацвал'!O120+'11.физ-в инвал'!N120*'11.физ-в инвал'!O120)/('7.физ-в нацвал'!N120+'11.физ-в инвал'!N120) -> 8.8556073 | P120: ='7.физ-в нацвал'!P120+'11.физ-в инвал'!P120 -> 329651.5 | Q120: =('7.физ-в нацвал'!P120*'7.физ-в нацвал'!Q120+'11.физ-в инвал'!P120*'11.физ-в инвал'!Q120)/('7.физ-в нацвал'!P120+'11.физ-в инвал'!P120) -> 10.718672 | R120: ='7.физ-в нацвал'!R120+'11.физ-в инвал'!R120 -> 122597.2 | S120: =('7.физ-в нацвал'!R120*'7.физ-в нацвал'!S120+'11.физ-в инвал'!R120*'11.физ-в инвал'!S120)/('7.физ-в нацвал'!R120+'11.физ-в инвал'!R120) -> 12.13327 | T120: ='7.физ-в нацвал'!T120+'11.физ-в инвал'!T120 -> 7.6 | U120: =('7.физ-в нацвал'!T120*'7.физ-в нацвал'!U120+'11.физ-в инвал'!T120*'11.физ-в инвал'!U120)/('7.физ-в нацвал'!T120+'11.физ-в инвал'!T120) -> 10.921053
A121: Май | B121: ='7.физ-в нацвал'!B121+'11.физ-в инвал'!B121 -> 1959638.6 | C121: =('7.физ-в нацвал'!B121*'7.физ-в нацвал'!C121+'11.физ-в инвал'!B121*'11.физ-в инвал'!C121)/('7.физ-в нацвал'!B121+'11.физ-в инвал'!B121) -> 5.5396273 | F121: ='7.физ-в нацвал'!F121+'11.физ-в инвал'!F121 -> 866204.3 | G121: =('7.физ-в нацвал'!F121*'7.физ-в нацвал'!G121+'11.физ-в инвал'!F121*'11.физ-в инвал'!G121)/('7.физ-в нацвал'!F121+'11.физ-в инвал'!F121) -> 0.67495604 | H121: =J121+L121+N121+P121+R121+T121 -> 1093434.3 | I121: =(J121*K121+L121*M121+N121*O121+P121*Q121+R121*S121+T121*U121)/(J121+L121+N121+P121+R121+T121) -> 9.393356 | J121: ='7.физ-в нацвал'!J121+'11.физ-в инвал'!J121 -> 129181.4 | K121: =('7.физ-в нацвал'!J121*'7.физ-в нацвал'!K121+'11.физ-в инвал'!J121*'11.физ-в инвал'!K121)/('7.физ-в нацвал'!J121+'11.физ-в инвал'!J121) -> 8.0362072 | L121: ='7.физ-в нацвал'!L121+'11.физ-в инвал'!L121 -> 263804.9 | M121: =('7.физ-в нацвал'!L121*'7.физ-в нацвал'!M121+'11.физ-в инвал'!L121*'11.физ-в инвал'!M121)/('7.физ-в нацвал'!L121+'11.физ-в инвал'!L121) -> 7.8458991 | N121: ='7.физ-в нацвал'!N121+'11.физ-в инвал'!N121 -> 261775.9 | O121: =('7.физ-в нацвал'!N121*'7.физ-в нацвал'!O121+'11.физ-в инвал'!N121*'11.физ-в инвал'!O121)/('7.физ-в нацвал'!N121+'11.физ-в инвал'!N121) -> 8.9700245 | P121: ='7.физ-в нацвал'!P121+'11.физ-в инвал'!P121 -> 311460.9 | Q121: =('7.физ-в нацвал'!P121*'7.физ-в нацвал'!Q121+'11.физ-в инвал'!P121*'11.физ-в инвал'!Q121)/('7.физ-в нацвал'!P121+'11.физ-в инвал'!P121) -> 10.351418 | R121: ='7.физ-в нацвал'!R121+'11.физ-в инвал'!R121 -> 127137.9 | S121: =('7.физ-в нацвал'!R121*'7.физ-в нацвал'!S121+'11.физ-в инвал'!R121*'11.физ-в инвал'!S121)/('7.физ-в нацвал'!R121+'11.физ-в инвал'!R121) -> 12.507401 | T121: ='7.физ-в нацвал'!T121+'11.физ-в инвал'!T121 -> 73.3 | U121: =('7.физ-в нацвал'!T121*'7.физ-в нацвал'!U121+'11.физ-в инвал'!T121*'11.физ-в инвал'!U121)/('7.физ-в нацвал'!T121+'11.физ-в инвал'!T121) -> 10.092333
A122: Июнь | B122: ='7.физ-в нацвал'!B122+'11.физ-в инвал'!B122 -> 2085080.6 | C122: =('7.физ-в нацвал'!B122*'7.физ-в нацвал'!C122+'11.физ-в инвал'!B122*'11.физ-в инвал'!C122)/('7.физ-в нацвал'!B122+'11.физ-в инвал'!B122) -> 5.2623964 | F122: ='7.физ-в нацвал'!F122+'11.физ-в инвал'!F122 -> 910835.6 | G122: =('7.физ-в нацвал'!F122*'7.физ-в нацвал'!G122+'11.физ-в инвал'!F122*'11.физ-в инвал'!G122)/('7.физ-в нацвал'!F122+'11.физ-в инвал'!F122) -> 0.59460966 | H122: =J122+L122+N122+P122+R122+T122 -> 1174245 | I122: =(J122*K122+L122*M122+N122*O122+P122*Q122+R122*S122+T122*U122)/(J122+L122+N122+P122+R122+T122) -> 8.8830942 | J122: ='7.физ-в нацвал'!J122+'11.физ-в инвал'!J122 -> 144123.3 | K122: =('7.физ-в нацвал'!J122*'7.физ-в нацвал'!K122+'11.физ-в инвал'!J122*'11.физ-в инвал'!K122)/('7.физ-в нацвал'!J122+'11.физ-в инвал'!J122) -> 7.0972832 | L122: ='7.физ-в нацвал'!L122+'11.физ-в инвал'!L122 -> 301217.8 | M122: =('7.физ-в нацвал'!L122*'7.физ-в нацвал'!M122+'11.физ-в инвал'!L122*'11.физ-в инвал'!M122)/('7.физ-в нацвал'!L122+'11.физ-в инвал'!L122) -> 6.8560707 | N122: ='7.физ-в нацвал'!N122+'11.физ-в инвал'!N122 -> 294279.7 | O122: =('7.физ-в нацвал'!N122*'7.физ-в нацвал'!O122+'11.физ-в инвал'!N122*'11.физ-в инвал'!O122)/('7.физ-в нацвал'!N122+'11.физ-в инвал'!N122) -> 9.0073096 | P122: ='7.физ-в нацвал'!P122+'11.физ-в инвал'!P122 -> 312592.7 | Q122: =('7.физ-в нацвал'!P122*'7.физ-в нацвал'!Q122+'11.физ-в инвал'!P122*'11.физ-в инвал'!Q122)/('7.физ-в нацвал'!P122+'11.физ-в инвал'!P122) -> 10.130265 | R122: ='7.физ-в нацвал'!R122+'11.физ-в инвал'!R122 -> 121896.9 | S122: =('7.физ-в нацвал'!R122*'7.физ-в нацвал'!S122+'11.физ-в инвал'!R122*'11.физ-в инвал'!S122)/('7.физ-в нацвал'!R122+'11.физ-в инвал'!R122) -> 12.504062 | T122: ='7.физ-в нацвал'!T122+'11.физ-в инвал'!T122 -> 134.6 | U122: =('7.физ-в нацвал'!T122*'7.физ-в нацвал'!U122+'11.физ-в инвал'!T122*'11.физ-в инвал'!U122)/('7.физ-в нацвал'!T122+'11.физ-в инвал'!T122) -> 10.051263
... A176: Декабрь | B176: ='7.физ-в нацвал'!B176+'11.физ-в инвал'!B176 -> 9606920.8 | C176: =('7.физ-в нацвал'!B176*'7.физ-в нацвал'!C176+'11.физ-в инвал'!B176*'11.физ-в инвал'!C176)/('7.физ-в нацвал'!B176+'11.физ-в инвал'!B176) -> 7.3611111 | F176: ='7.физ-в нацвал'!F176+'11.физ-в инвал'!F176 -> 3412496 | G176: =('7.физ-в нацвал'!F176*'7.физ-в нацвал'!G176+'11.физ-в инвал'!F176*'11.физ-в инвал'!G176)/('7.физ-в нацвал'!F176+'11.физ-в инвал'!F176) -> 0.70375339 | H176: =J176+L176+N176+P176+R176+T176 -> 6194424.8 | I176: =(J176*K176+L176*M176+N176*O176+P176*Q176+R176*S176+T176*U176)/(J176+L176+N176+P176+R176+T176) -> 11.028636 | J176: ='7.физ-в нацвал'!J176+'11.физ-в инвал'!J176 -> 587939.9 | K176: =('7.физ-в нацвал'!J176*'7.физ-в нацвал'!K176+'11.физ-в инвал'!J176*'11.физ-в инвал'!K176)/('7.физ-в нацвал'!J176+'11.физ-в инвал'!J176) -> 8.3393409 | L176: ='7.физ-в нацвал'!L176+'11.физ-в инвал'!L176 -> 944500.8 | M176: =('7.физ-в нацвал'!L176*'7.физ-в нацвал'!M176+'11.физ-в инвал'!L176*'11.физ-в инвал'!M176)/('7.физ-в нацвал'!L176+'11.физ-в инвал'!L176) -> 9.1501836 | N176: ='7.физ-в нацвал'!N176+'11.физ-в инвал'!N176 -> 1265768.5 | O176: =('7.физ-в нацвал'!N176*'7.физ-в нацвал'!O176+'11.физ-в инвал'!N176*'11.физ-в инвал'!O176)/('7.физ-в нацвал'!N176+'11.физ-в инвал'!N176) -> 10.692728 | P176: ='7.физ-в нацвал'!P176+'11.физ-в инвал'!P176 -> 1873406.5 | Q176: =('7.физ-в нацвал'!P176*'7.физ-в нацвал'!Q176+'11.физ-в инвал'!P176*'11.физ-в инвал'!Q176)/('7.физ-в нацвал'!P176+'11.физ-в инвал'!P176) -> 11.848257 | R176: ='7.физ-в нацвал'!R176+'11.физ-в инвал'!R176 -> 1355356.5 | S176: =('7.физ-в нацвал'!R176*'7.физ-в нацвал'!S176+'11.физ-в инвал'!R176*'11.физ-в инвал'!S176)/('7.физ-в нацвал'!R176+'11.физ-в инвал'!R176) -> 14.024299 | T176: ='7.физ-в нацвал'!T176+'11.физ-в инвал'!T176 -> 167452.6 | U176: =('7.физ-в нацвал'!T176*'7.физ-в нацвал'!U176+'11.физ-в инвал'!T176*'11.физ-в инвал'!U176)/('7.физ-в нацвал'!T176+'11.физ-в инвал'!T176) -> 0.18884931
A177: Январь 2010 г. | B177: ='7.физ-в нацвал'!B177+'11.физ-в инвал'!B177 -> 9061388.5 | C177: =('7.физ-в нацвал'!B177*'7.физ-в нацвал'!C177+'11.физ-в инвал'!B177*'11.физ-в инвал'!C177)/('7.физ-в нацвал'!B177+'11.физ-в инвал'!B177) -> 7.4404581 | D177: ='7.физ-в нацвал'!D177+'11.физ-в инвал'!D177 -> 187868.1 | E177: =('7.физ-в нацвал'!D177*'7.физ-в нацвал'!E177+'11.физ-в инвал'!D177*'11.физ-в инвал'!E177)/('7.физ-в нацвал'!D177+'11.физ-в инвал'!D177) -> 0.0013420054 | F177: ='7.физ-в нацвал'!F177+'11.физ-в инвал'!F177 -> 3025299.7 | G177: =('7.физ-в нацвал'!F177*'7.физ-в нацвал'!G177+'11.физ-в инвал'!F177*'11.физ-в инвал'!G177)/('7.физ-в нацвал'!F177+'11.физ-в инвал'!F177) -> 0.73651612 | H177: =J177+L177+N177+P177+R177+T177 -> 5848220.7 | I177: =(J177*K177+L177*M177+N177*O177+P177*Q177+R177*S177+T177*U177)/(J177+L177+N177+P177+R177+T177) -> 11.147399 | J177: ='7.физ-в нацвал'!J177+'11.физ-в инвал'!J177 -> 561195.1 | K177: =('7.физ-в нацвал'!J177*'7.физ-в нацвал'!K177+'11.физ-в инвал'!J177*'11.физ-в инвал'!K177)/('7.физ-в нацвал'!J177+'11.физ-в инвал'!J177) -> 8.024508 | L177: ='7.физ-в нацвал'!L177+'11.физ-в инвал'!L177 -> 964203.5 | M177: =('7.физ-в нацвал'!L177*'7.физ-в нацвал'!M177+'11.физ-в инвал'!L177*'11.физ-в инвал'!M177)/('7.физ-в нацвал'!L177+'11.физ-в инвал'!L177) -> 9.5843344 | N177: ='7.физ-в нацвал'!N177+'11.физ-в инвал'!N177 -> 1257113.1 | O177: =('7.физ-в нацвал'!N177*'7.физ-в нацвал'!O177+'11.физ-в инвал'!N177*'11.физ-в инвал'!O177)/('7.физ-в нацвал'!N177+'11.физ-в инвал'!N177) -> 10.909521 | P177: ='7.физ-в нацвал'!P177+'11.физ-в инвал'!P177 -> 1706219.9 | Q177: =('7.физ-в нацвал'!P177*'7.физ-в нацвал'!Q177+'11.физ-в инвал'!P177*'11.физ-в инвал'!Q177)/('7.физ-в нацвал'!P177+'11.физ-в инвал'!P177) -> 12.354248 | R177: ='7.физ-в нацвал'!R177+'11.физ-в инвал'!R177 -> 1194487.9 | S177: =('7.физ-в нацвал'!R177*'7.физ-в нацвал'!S177+'11.физ-в инвал'!R177*'11.физ-в инвал'!S177)/('7.физ-в нацвал'!R177+'11.физ-в инвал'!R177) -> 13.912084 | T177: ='7.физ-в нацвал'!T177+'11.физ-в инвал'!T177 -> 165001.2 | U177: =('7.физ-в нацвал'!T177*'7.физ-в нацвал'!U177+'11.физ-в инвал'!T177*'11.физ-в инвал'!U177)/('7.физ-в нацвал'!T177+'11.физ-в инвал'!T177) -> 0.22122331
A178: Февраль | B178: ='7.физ-в нацвал'!B178+'11.физ-в инвал'!B178 -> 9359790.6 | C178: =('7.физ-в нацвал'!B178*'7.физ-в нацвал'!C178+'11.физ-в инвал'!B178*'11.физ-в инвал'!C178)/('7.физ-в нацвал'!B178+'11.физ-в инвал'!B178) -> 7.5154249 | D178: ='7.физ-в нацвал'!D178+'11.физ-в инвал'!D178 -> 201576.5 | E178: =('7.физ-в нацвал'!D178*'7.физ-в нацвал'!E178+'11.физ-в инвал'!D178*'11.физ-в инвал'!E178)/('7.физ-в нацвал'!D178+'11.физ-в инвал'!D178) -> 0.00076067399 | F178: ='7.физ-в нацвал'!F178+'11.физ-в инвал'!F178 -> 3086304.7 | G178: =('7.физ-в нацвал'!F178*'7.физ-в нацвал'!G178+'11.физ-в инвал'!F178*'11.физ-в инвал'!G178)/('7.физ-в нацвал'!F178+'11.физ-в инвал'!F178) -> 0.70944981 | H178: =J178+L178+N178+P178+R178+T178 -> 6071909.4 | I178: =(J178*K178+L178*M178+N178*O178+P178*Q178+R178*S178+T178*U178)/(J178+L178+N178+P178+R178+T178) -> 11.224323 | J178: ='7.физ-в нацвал'!J178+'11.физ-в инвал'!J178 -> 617143 | K178: =('7.физ-в нацвал'!J178*'7.физ-в нацвал'!K178+'11.физ-в инвал'!J178*'11.физ-в инвал'!K178)/('7.физ-в нацвал'!J178+'11.физ-в инвал'!J178) -> 8.8636844 | L178: ='7.физ-в нацвал'!L178+'11.физ-в инвал'!L178 -> 1016793.3 | M178: =('7.физ-в нацвал'!L178*'7.физ-в нацвал'!M178+'11.физ-в инвал'!L178*'11.физ-в инвал'!M178)/('7.физ-в нацвал'!L178+'11.физ-в инвал'!L178) -> 9.363914 | N178: ='7.физ-в нацвал'!N178+'11.физ-в инвал'!N178 -> 1259686.2 | O178: =('7.физ-в нацвал'!N178*'7.физ-в нацвал'!O178+'11.физ-в инвал'!N178*'11.физ-в инвал'!O178)/('7.физ-в нацвал'!N178+'11.физ-в инвал'!N178) -> 11.060472 | P178: ='7.физ-в нацвал'!P178+'11.физ-в инвал'!P178 -> 1747442.7 | Q178: =('7.физ-в нацвал'!P178*'7.физ-в нацвал'!Q178+'11.физ-в инвал'!P178*'11.физ-в инвал'!Q178)/('7.физ-в нацвал'!P178+'11.физ-в инвал'!P178) -> 12.337524 | R178: ='7.физ-в нацвал'!R178+'11.физ-в инвал'!R178 -> 1279707.3 | S178: =('7.физ-в нацвал'!R178*'7.физ-в нацвал'!S178+'11.физ-в инвал'!R178*'11.физ-в инвал'!S178)/('7.физ-в нацвал'!R178+'11.физ-в инвал'!R178) -> 13.784308 | T178: ='7.физ-в нацвал'!T178+'11.физ-в инвал'!T178 -> 151136.9 | U178: =('7.физ-в нацвал'!T178*'7.физ-в нацвал'!U178+'11.физ-в инвал'!T178*'11.физ-в инвал'!U178)/('7.физ-в нацвал'!T178+'11.физ-в инвал'!T178) -> 0.1986632
A179: Март | B179: ='7.физ-в нацвал'!B179+'11.физ-в инвал'!B179 -> 9597633.9 | C179: =('7.физ-в нацвал'!B179*'7.физ-в нацвал'!C179+'11.физ-в инвал'!B179*'11.физ-в инвал'!C179)/('7.физ-в нацвал'!B179+'11.физ-в инвал'!B179) -> 7.4120497 | D179: ='7.физ-в нацвал'!D179+'11.физ-в инвал'!D179 -> 189374.9 | E179: =('7.физ-в нацвал'!D179*'7.физ-в нацвал'!E179+'11.физ-в инвал'!D179*'11.физ-в инвал'!E179)/('7.физ-в нацвал'!D179+'11.физ-в инвал'!D179) -> 0 | F179: ='7.физ-в нацвал'!F179+'11.физ-в инвал'!F179 -> 3246498 | G179: =('7.физ-в нацвал'!F179*'7.физ-в нацвал'!G179+'11.физ-в инвал'!F179*'11.физ-в инвал'!G179)/('7.физ-в нацвал'!F179+'11.физ-в инвал'!F179) -> 0.71582982 | H179: =J179+L179+N179+P179+R179+T179 -> 6161761 | I179: =(J179*K179+L179*M179+N179*O179+P179*Q179+R179*S179+T179*U179)/(J179+L179+N179+P179+R179+T179) -> 11.167944 | J179: ='7.физ-в нацвал'!J179+'11.физ-в инвал'!J179 -> 671415.7 | K179: =('7.физ-в нацвал'!J179*'7.физ-в нацвал'!K179+'11.физ-в инвал'!J179*'11.физ-в инвал'!K179)/('7.физ-в нацвал'!J179+'11.физ-в инвал'!J179) -> 8.7287442 | L179: ='7.физ-в нацвал'!L179+'11.физ-в инвал'!L179 -> 1013019.7 | M179: =('7.физ-в нацвал'!L179*'7.физ-в нацвал'!M179+'11.физ-в инвал'!L179*'11.физ-в инвал'!M179)/('7.физ-в нацвал'!L179+'11.физ-в инвал'!L179) -> 9.1830691 | N179: ='7.физ-в нацвал'!N179+'11.физ-в инвал'!N179 -> 1246692 | O179: =('7.физ-в нацвал'!N179*'7.физ-в нацвал'!O179+'11.физ-в инвал'!N179*'11.физ-в инвал'!O179)/('7.физ-в нацвал'!N179+'11.физ-в инвал'!N179) -> 11.156821 | P179: ='7.физ-в нацвал'!P179+'11.физ-в инвал'!P179 -> 1685173.6 | Q179: =('7.физ-в нацвал'!P179*'7.физ-в нацвал'!Q179+'11.физ-в инвал'!P179*'11.физ-в инвал'!Q179)/('7.физ-в нацвал'!P179+'11.физ-в инвал'!P179) -> 12.308086 | R179: ='7.физ-в нацвал'!R179+'11.физ-в инвал'!R179 -> 1357879.4 | S179: =('7.физ-в нацвал'!R179*'7.физ-в нацвал'!S179+'11.физ-в инвал'!R179*'11.физ-в инвал'!S179)/('7.физ-в нацвал'!R179+'11.физ-в инвал'!R179) -> 13.767493 | T179: ='7.физ-в нацвал'!T179+'11.физ-в инвал'!T179 -> 187580.6 | U179: =('7.физ-в нацвал'!T179*'7.физ-в нацвал'!U179+'11.физ-в инвал'!T179*'11.физ-в инвал'!U179)/('7.физ-в нацвал'!T179+'11.физ-в инвал'!T179) -> 1.6311829
A180: Апрель | B180: ='7.физ-в нацвал'!B180+'11.физ-в инвал'!B180 -> 8915494.2 | C180: =('7.физ-в нацвал'!B180*'7.физ-в нацвал'!C180+'11.физ-в инвал'!B180*'11.физ-в инвал'!C180)/('7.физ-в нацвал'!B180+'11.физ-в инвал'!B180) -> 7.3347692 | D180: ='7.физ-в нацвал'!D180+'11.физ-в инвал'!D180 -> 174051.1 | E180: =('7.физ-в нацвал'!D180*'7.физ-в нацвал'!E180+'11.физ-в инвал'!D180*'11.физ-в инвал'!E180)/('7.физ-в нацвал'!D180+'11.физ-в инвал'!D180) -> 0.0010704902 | F180: ='7.физ-в нацвал'!F180+'11.физ-в инвал'!F180 -> 3116871.8 | G180: =('7.физ-в нацвал'!F180*'7.физ-в нацвал'!G180+'11.физ-в инвал'!F180*'11.физ-в инвал'!G180)/('7.физ-в нацвал'!F180+'11.физ-в инвал'!F180) -> 0.65829139 | H180: =J180+L180+N180+P180+R180+T180 -> 5624571.3 | I180: =(J180*K180+L180*M180+N180*O180+P180*Q180+R180*S180+T180*U180)/(J180+L180+N180+P180+R180+T180) -> 11.261498 | J180: ='7.физ-в нацвал'!J180+'11.физ-в инвал'!J180 -> 537258.2 | K180: =('7.физ-в нацвал'!J180*'7.физ-в нацвал'!K180+'11.физ-в инвал'!J180*'11.физ-в инвал'!K180)/('7.физ-в нацвал'!J180+'11.физ-в инвал'!J180) -> 8.5643219 | L180: ='7.физ-в нацвал'!L180+'11.физ-в инвал'!L180 -> 1022388.3 | M180: =('7.физ-в нацвал'!L180*'7.физ-в нацвал'!M180+'11.физ-в инвал'!L180*'11.физ-в инвал'!M180)/('7.физ-в нацвал'!L180+'11.физ-в инвал'!L180) -> 9.6632747 | N180: ='7.физ-в нацвал'!N180+'11.физ-в инвал'!N180 -> 1018746.1 | O180: =('7.физ-в нацвал'!N180*'7.физ-в нацвал'!O180+'11.физ-в инвал'!N180*'11.физ-в инвал'!O180)/('7.физ-в нацвал'!N180+'11.физ-в инвал'!N180) -> 11.117468 | P180: ='7.физ-в нацвал'!P180+'11.физ-в инвал'!P180 -> 1542967.8 | Q180: =('7.физ-в нацвал'!P180*'7.физ-в нацвал'!Q180+'11.физ-в инвал'!P180*'11.физ-в инвал'!Q180)/('7.физ-в нацвал'!P180+'11.физ-в инвал'!P180) -> 12.432755 | R180: ='7.физ-в нацвал'!R180+'11.физ-в инвал'!R180 -> 1322669.3 | S180: =('7.физ-в нацвал'!R180*'7.физ-в нацвал'!S180+'11.физ-в инвал'!R180*'11.физ-в инвал'!S180)/('7.физ-в нацвал'!R180+'11.физ-в инвал'!R180) -> 13.643849 | T180: ='7.физ-в нацвал'!T180+'11.физ-в инвал'!T180 -> 180541.6 | U180: =('7.физ-в нацвал'!T180*'7.физ-в нацвал'!U180+'11.физ-в инвал'!T180*'11.физ-в инвал'!U180)/('7.физ-в нацвал'!T180+'11.физ-в инвал'!T180) -> 1.6877386
A181: Май | B181: ='7.физ-в нацвал'!B181+'11.физ-в инвал'!B181 -> 8839876.2 | C181: =('7.физ-в нацвал'!B181*'7.физ-в нацвал'!C181+'11.физ-в инвал'!B181*'11.физ-в инвал'!C181)/('7.физ-в нацвал'!B181+'11.физ-в инвал'!B181) -> 7.4558332 | D181: ='7.физ-в нацвал'!D181+'11.физ-в инвал'!D181 -> 212376.5 | E181: =('7.физ-в нацвал'!D181*'7.физ-в нацвал'!E181+'11.физ-в инвал'!D181*'11.физ-в инвал'!E181)/('7.физ-в нацвал'!D181+'11.физ-в инвал'!D181) -> 0.00059562146 | F181: ='7.физ-в нацвал'!F181+'11.физ-в инвал'!F181 -> 3053519.3 | G181: =('7.физ-в нацвал'!F181*'7.физ-в нацвал'!G181+'11.физ-в инвал'!F181*'11.физ-в инвал'!G181)/('7.физ-в нацвал'!F181+'11.физ-в инвал'!F181) -> 1.0177078 | H181: =J181+L181+N181+P181+R181+T181 -> 5573980.4 | I181: =(J181*K181+L181*M181+N181*O181+P181*Q181+R181*S181+T181*U181)/(J181+L181+N181+P181+R181+T181) -> 11.266801 | J181: ='7.физ-в нацвал'!J181+'11.физ-в инвал'!J181 -> 561526.7 | K181: =('7.физ-в нацвал'!J181*'7.физ-в нацвал'!K181+'11.физ-в инвал'!J181*'11.физ-в инвал'!K181)/('7.физ-в нацвал'!J181+'11.физ-в инвал'!J181) -> 8.5954669 | L181: ='7.физ-в нацвал'!L181+'11.физ-в инвал'!L181 -> 985086.3 | M181: =('7.физ-в нацвал'!L181*'7.физ-в нацвал'!M181+'11.физ-в инвал'!L181*'11.физ-в инвал'!M181)/('7.физ-в нацвал'!L181+'11.физ-в инвал'!L181) -> 9.9028306 | N181: ='7.физ-в нацвал'!N181+'11.физ-в инвал'!N181 -> 1027482.5 | O181: =('7.физ-в нацвал'!N181*'7.физ-в нацвал'!O181+'11.физ-в инвал'!N181*'11.физ-в инвал'!O181)/('7.физ-в нацвал'!N181+'11.физ-в инвал'!N181) -> 11.030347 | P181: ='7.физ-в нацвал'!P181+'11.физ-в инвал'!P181 -> 1518603.2 | Q181: =('7.физ-в нацвал'!P181*'7.физ-в нацвал'!Q181+'11.физ-в инвал'!P181*'11.физ-в инвал'!Q181)/('7.физ-в нацвал'!P181+'11.физ-в инвал'!P181) -> 12.398104 | R181: ='7.физ-в нацвал'!R181+'11.физ-в инвал'!R181 -> 1306090.2 | S181: =('7.физ-в нацвал'!R181*'7.физ-в нацвал'!S181+'11.физ-в инвал'!R181*'11.физ-в инвал'!S181)/('7.физ-в нацвал'!R181+'11.физ-в инвал'!R181) -> 13.590453 | T181: ='7.физ-в нацвал'!T181+'11.физ-в инвал'!T181 -> 175191.5 | U181: =('7.физ-в нацвал'!T181*'7.физ-в нацвал'!U181+'11.физ-в инвал'!T181*'11.физ-в инвал'!U181)/('7.физ-в нацвал'!T181+'11.физ-в инвал'!T181) -> 1.755524
A182: Июнь | B182: ='7.физ-в нацвал'!B182+'11.физ-в инвал'!B182 -> 8833891.8 | C182: =('7.физ-в нацвал'!B182*'7.физ-в нацвал'!C182+'11.физ-в инвал'!B182*'11.физ-в инвал'!C182)/('7.физ-в нацвал'!B182+'11.физ-в инвал'!B182) -> 7.1743564 | D182: ='7.физ-в нацвал'!D182+'11.физ-в инвал'!D182 -> 220489.8 | E182: =('7.физ-в нацвал'!D182*'7.физ-в нацвал'!E182+'11.физ-в инвал'!D182*'11.физ-в инвал'!E182)/('7.физ-в нацвал'!D182+'11.физ-в инвал'!D182) -> 0.00039999583 | F182: ='7.физ-в нацвал'!F182+'11.физ-в инвал'!F182 -> 3246501.1 | G182: =('7.физ-в нацвал'!F182*'7.физ-в нацвал'!G182+'11.физ-в инвал'!F182*'11.физ-в инвал'!G182)/('7.физ-в нацвал'!F182+'11.физ-в инвал'!F182) -> 0.97429592 | H182: =J182+L182+N182+P182+R182+T182 -> 5366900.9 | I182: =(J182*K182+L182*M182+N182*O182+P182*Q182+R182*S182+T182*U182)/(J182+L182+N182+P182+R182+T182) -> 11.219575 | J182: ='7.физ-в нацвал'!J182+'11.физ-в инвал'!J182 -> 672836.6 | K182: =('7.физ-в нацвал'!J182*'7.физ-в нацвал'!K182+'11.физ-в инвал'!J182*'11.физ-в инвал'!K182)/('7.физ-в нацвал'!J182+'11.физ-в инвал'!J182) -> 8.8969557 | L182: ='7.физ-в нацвал'!L182+'11.физ-в инвал'!L182 -> 795565.4 | M182: =('7.физ-в нацвал'!L182*'7.физ-в нацвал'!M182+'11.физ-в инвал'!L182*'11.физ-в инвал'!M182)/('7.физ-в нацвал'!L182+'11.физ-в инвал'!L182) -> 9.8188938 | N182: ='7.физ-в нацвал'!N182+'11.физ-в инвал'!N182 -> 1057895.6 | O182: =('7.физ-в нацвал'!N182*'7.физ-в нацвал'!O182+'11.физ-в инвал'!N182*'11.физ-в инвал'!O182)/('7.физ-в нацвал'!N182+'11.физ-в инвал'!N182) -> 10.987737 | P182: ='7.физ-в нацвал'!P182+'11.физ-в инвал'!P182 -> 1472601.7 | Q182: =('7.физ-в нацвал'!P182*'7.физ-в нацвал'!Q182+'11.физ-в инвал'!P182*'11.физ-в инвал'!Q182)/('7.физ-в нацвал'!P182+'11.физ-в инвал'!P182) -> 12.388836 | R182: ='7.физ-в нацвал'!R182+'11.физ-в инвал'!R182 -> 1198938.3 | S182: =('7.физ-в нацвал'!R182*'7.физ-в нацвал'!S182+'11.физ-в инвал'!R182*'11.физ-в инвал'!S182)/('7.физ-в нацвал'!R182+'11.физ-в инвал'!R182) -> 13.538114 | T182: ='7.физ-в нацвал'!T182+'11.физ-в инвал'!T182 -> 169063.3 | U182: =('7.физ-в нацвал'!T182*'7.физ-в нацвал'!U182+'11.физ-в инвал'!T182*'11.физ-в инвал'!U182)/('7.физ-в нацвал'!T182+'11.физ-в инвал'!T182) -> 1.8780871
A183: Июль | B183: ='7.физ-в нацвал'!B183+'11.физ-в инвал'!B183 -> 9264811.2 | C183: =('7.физ-в нацвал'!B183*'7.физ-в нацвал'!C183+'11.физ-в инвал'!B183*'11.физ-в инвал'!C183)/('7.физ-в нацвал'!B183+'11.физ-в инвал'!B183) -> 6.9910554 | D183: ='7.физ-в нацвал'!D183+'11.физ-в инвал'!D183 -> 225055.4 | E183: =('7.физ-в нацвал'!D183*'7.физ-в нацвал'!E183+'11.физ-в инвал'!D183*'11.физ-в инвал'!E183)/('7.физ-в нацвал'!D183+'11.физ-в инвал'!D183) -> 0 | F183: ='7.физ-в нацвал'!F183+'11.физ-в инвал'!F183 -> 3492001.9 | G183: =('7.физ-в нацвал'!F183*'7.физ-в нацвал'!G183+'11.физ-в инвал'!F183*'11.физ-в инвал'!G183)/('7.физ-в нацвал'!F183+'11.физ-в инвал'!F183) -> 0.84208624 | H183: =J183+L183+N183+P183+R183+T183 -> 5547753.9 | I183: =(J183*K183+L183*M183+N183*O183+P183*Q183+R183*S183+T183*U183)/(J183+L183+N183+P183+R183+T183) -> 11.145094 | J183: ='7.физ-в нацвал'!J183+'11.физ-в инвал'!J183 -> 591343.1 | K183: =('7.физ-в нацвал'!J183*'7.физ-в нацвал'!K183+'11.физ-в инвал'!J183*'11.физ-в инвал'!K183)/('7.физ-в нацвал'!J183+'11.физ-в инвал'!J183) -> 9.5716264 | L183: ='7.физ-в нацвал'!L183+'11.физ-в инвал'!L183 -> 873079.3 | M183: =('7.физ-в нацвал'!L183*'7.физ-в нацвал'!M183+'11.физ-в инвал'!L183*'11.физ-в инвал'!M183)/('7.физ-в нацвал'!L183+'11.физ-в инвал'!L183) -> 9.2517983 | N183: ='7.физ-в нацвал'!N183+'11.физ-в инвал'!N183 -> 1131865 | O183: =('7.физ-в нацвал'!N183*'7.физ-в нацвал'!O183+'11.физ-в инвал'!N183*'11.физ-в инвал'!O183)/('7.физ-в нацвал'!N183+'11.физ-в инвал'!N183) -> 10.871045 | P183: ='7.физ-в нацвал'!P183+'11.физ-в инвал'!P183 -> 1557011.4 | Q183: =('7.физ-в нацвал'!P183*'7.физ-в нацвал'!Q183+'11.физ-в инвал'!P183*'11.физ-в инвал'!Q183)/('7.физ-в нацвал'!P183+'11.физ-в инвал'!P183) -> 12.207766 | R183: ='7.физ-в нацвал'!R183+'11.физ-в инвал'!R183 -> 1237304.1 | S183: =('7.физ-в нацвал'!R183*'7.физ-в нацвал'!S183+'11.физ-в инвал'!R183*'11.физ-в инвал'!S183)/('7.физ-в нацвал'!R183+'11.физ-в инвал'!R183) -> 13.298866 | T183: ='7.физ-в нацвал'!T183+'11.физ-в инвал'!T183 -> 157151 | U183: =('7.физ-в нацвал'!T183*'7.физ-в нацвал'!U183+'11.физ-в инвал'!T183*'11.физ-в инвал'!U183)/('7.физ-в нацвал'!T183+'11.физ-в инвал'!T183) -> 2.0721782
A184: Август | B184: ='7.физ-в нацвал'!B184+'11.физ-в инвал'!B184 -> 9512276.3 | C184: =('7.физ-в нацвал'!B184*'7.физ-в нацвал'!C184+'11.физ-в инвал'!B184*'11.физ-в инвал'!C184)/('7.физ-в нацвал'!B184+'11.физ-в инвал'!B184) -> 7.093207 | D184: ='7.физ-в нацвал'!D184+'11.физ-в инвал'!D184 -> 222413.9 | E184: =('7.физ-в нацвал'!D184*'7.физ-в нацвал'!E184+'11.физ-в инвал'!D184*'11.физ-в инвал'!E184)/('7.физ-в нацвал'!D184+'11.физ-в инвал'!D184) -> 0 | F184: ='7.физ-в нацвал'!F184+'11.физ-в инвал'!F184 -> 3603267.4 | G184: =('7.физ-в нацвал'!F184*'7.физ-в нацвал'!G184+'11.физ-в инвал'!F184*'11.физ-в инвал'!G184)/('7.физ-в нацвал'!F184+'11.физ-в инвал'!F184) -> 1.3575763 | H184: =J184+L184+N184+P184+R184+T184 -> 5686595 | I184: =(J184*K184+L184*M184+N184*O184+P184*Q184+R184*S184+T184*U184)/(J184+L184+N184+P184+R184+T184) -> 11.004975 | J184: ='7.физ-в нацвал'!J184+'11.физ-в инвал'!J184 -> 557849.2 | K184: =('7.физ-в нацвал'!J184*'7.физ-в нацвал'!K184+'11.физ-в инвал'!J184*'11.физ-в инвал'!K184)/('7.физ-в нацвал'!J184+'11.физ-в инвал'!J184) -> 9.15729 | L184: ='7.физ-в нацвал'!L184+'11.физ-в инвал'!L184 -> 956560.6 | M184: =('7.физ-в нацвал'!L184*'7.физ-в нацвал'!M184+'11.физ-в инвал'!L184*'11.физ-в инвал'!M184)/('7.физ-в нацвал'!L184+'11.физ-в инвал'!L184) -> 8.7824287 | N184: ='7.физ-в нацвал'!N184+'11.физ-в инвал'!N184 -> 1116376.6 | O184: =('7.физ-в нацвал'!N184*'7.физ-в нацвал'!O184+'11.физ-в инвал'!N184*'11.физ-в инвал'!O184)/('7.физ-в нацвал'!N184+'11.физ-в инвал'!N184) -> 10.788189 | P184: ='7.физ-в нацвал'!P184+'11.физ-в инвал'!P184 -> 1629828.2 | Q184: =('7.физ-в нацвал'!P184*'7.физ-в нацвал'!Q184+'11.физ-в инвал'!P184*'11.физ-в инвал'!Q184)/('7.физ-в нацвал'!P184+'11.физ-в инвал'!P184) -> 12.104813 | R184: ='7.физ-в нацвал'!R184+'11.физ-в инвал'!R184 -> 1274021 | S184: =('7.физ-в нацвал'!R184*'7.физ-в нацвал'!S184+'11.физ-в инвал'!R184*'11.физ-в инвал'!S184)/('7.физ-в нацвал'!R184+'11.физ-в инвал'!R184) -> 13.328407 | T184: ='7.физ-в нацвал'!T184+'11.физ-в инвал'!T184 -> 151959.4 | U184: =('7.физ-в нацвал'!T184*'7.физ-в нацвал'!U184+'11.физ-в инвал'!T184*'11.физ-в инвал'!U184)/('7.физ-в нацвал'!T184+'11.физ-в инвал'!T184) -> 2.095318
A185: Сентябрь | B185: ='7.физ-в нацвал'!B185+'11.физ-в инвал'!B185 -> 9569379.4 | C185: =('7.физ-в нацвал'!B185*'7.физ-в нацвал'!C185+'11.физ-в инвал'!B185*'11.физ-в инвал'!C185)/('7.физ-в нацвал'!B185+'11.физ-в инвал'!B185) -> 6.9915319 | D185: ='7.физ-в нацвал'!D185+'11.физ-в инвал'!D185 -> 276619 | E185: =('7.физ-в нацвал'!D185*'7.физ-в нацвал'!E185+'11.физ-в инвал'!D185*'11.физ-в инвал'!E185)/('7.физ-в нацвал'!D185+'11.физ-в инвал'!D185) -> 0.00026264284 | F185: ='7.физ-в нацвал'!F185+'11.физ-в инвал'!F185 -> 3570350.8 | G185: =('7.физ-в нацвал'!F185*'7.физ-в нацвал'!G185+'11.физ-в инвал'!F185*'11.физ-в инвал'!G185)/('7.физ-в нацвал'!F185+'11.физ-в инвал'!F185) -> 1.3526452 | H185: =J185+L185+N185+P185+R185+T185 -> 5722409.6 | I185: =(J185*K185+L185*M185+N185*O185+P185*Q185+R185*S185+T185*U185)/(J185+L185+N185+P185+R185+T185) -> 10.847726 | J185: ='7.физ-в нацвал'!J185+'11.физ-в инвал'!J185 -> 630633.3 | K185: =('7.физ-в нацвал'!J185*'7.физ-в нацвал'!K185+'11.физ-в инвал'!J185*'11.физ-в инвал'!K185)/('7.физ-в нацвал'!J185+'11.физ-в инвал'!J185) -> 7.9575868 | L185: ='7.физ-в нацвал'!L185+'11.физ-в инвал'!L185 -> 936983.8 | M185: =('7.физ-в нацвал'!L185*'7.физ-в нацвал'!M185+'11.физ-в инвал'!L185*'11.физ-в инвал'!M185)/('7.физ-в нацвал'!L185+'11.физ-в инвал'!L185) -> 9.4812222 | N185: ='7.физ-в нацвал'!N185+'11.физ-в инвал'!N185 -> 1114187.7 | O185: =('7.физ-в нацвал'!N185*'7.физ-в нацвал'!O185+'11.физ-в инвал'!N185*'11.физ-в инвал'!O185)/('7.физ-в нацвал'!N185+'11.физ-в инвал'!N185) -> 10.386644 | P185: ='7.физ-в нацвал'!P185+'11.физ-в инвал'!P185 -> 1650245.7 | Q185: =('7.физ-в нацвал'!P185*'7.физ-в нацвал'!Q185+'11.физ-в инвал'!P185*'11.физ-в инвал'!Q185)/('7.физ-в нацвал'!P185+'11.физ-в инвал'!P185) -> 12.015714 | R185: ='7.физ-в нацвал'!R185+'11.физ-в инвал'!R185 -> 1241951.6 | S185: =('7.физ-в нацвал'!R185*'7.физ-в нацвал'!S185+'11.физ-в инвал'!R185*'11.физ-в инвал'!S185)/('7.физ-в нацвал'!R185+'11.физ-в инвал'!R185) -> 13.256169 | T185: ='7.физ-в нацвал'!T185+'11.физ-в инвал'!T185 -> 148407.5 | U185: =('7.физ-в нацвал'!T185*'7.физ-в нацвал'!U185+'11.физ-в инвал'!T185*'11.физ-в инвал'!U185)/('7.физ-в нацвал'!T185+'11.физ-в инвал'!T185) -> 2.0752905
A186: Октябрь | B186: ='7.физ-в нацвал'!B186+'11.физ-в инвал'!B186 -> 9809807.8 | C186: =('7.физ-в нацвал'!B186*'7.физ-в нацвал'!C186+'11.физ-в инвал'!B186*'11.физ-в инвал'!C186)/('7.физ-в нацвал'!B186+'11.физ-в инвал'!B186) -> 7.047409 | D186: ='7.физ-в нацвал'!D186+'11.физ-в инвал'!D186 -> 267001.6 | E186: =('7.физ-в нацвал'!D186*'7.физ-в нацвал'!E186+'11.физ-в инвал'!D186*'11.физ-в инвал'!E186)/('7.физ-в нацвал'!D186+'11.физ-в инвал'!D186) -> 0.00027209949 | F186: ='7.физ-в нацвал'!F186+'11.физ-в инвал'!F186 -> 3611592.7 | G186: =('7.физ-в нацвал'!F186*'7.физ-в нацвал'!G186+'11.физ-в инвал'!F186*'11.физ-в инвал'!G186)/('7.физ-в нацвал'!F186+'11.физ-в инвал'!F186) -> 1.3298276 | H186: =J186+L186+N186+P186+R186+T186 -> 5931213.5 | I186: =(J186*K186+L186*M186+N186*O186+P186*Q186+R186*S186+T186*U186)/(J186+L186+N186+P186+R186+T186) -> 10.846155 | J186: ='7.физ-в нацвал'!J186+'11.физ-в инвал'!J186 -> 645770.6 | K186: =('7.физ-в нацвал'!J186*'7.физ-в нацвал'!K186+'11.физ-в инвал'!J186*'11.физ-в инвал'!K186)/('7.физ-в нацвал'!J186+'11.физ-в инвал'!J186) -> 8.3552699 | L186: ='7.физ-в нацвал'!L186+'11.физ-в инвал'!L186 -> 965481.6 | M186: =('7.физ-в нацвал'!L186*'7.физ-в нацвал'!M186+'11.физ-в инвал'!L186*'11.физ-в инвал'!M186)/('7.физ-в нацвал'!L186+'11.физ-в инвал'!L186) -> 9.3265826 | N186: ='7.физ-в нацвал'!N186+'11.физ-в инвал'!N186 -> 1115656.9 | O186: =('7.физ-в нацвал'!N186*'7.физ-в нацвал'!O186+'11.физ-в инвал'!N186*'11.физ-в инвал'!O186)/('7.физ-в нацвал'!N186+'11.физ-в инвал'!N186) -> 10.268056 | P186: ='7.физ-в нацвал'!P186+'11.физ-в инвал'!P186 -> 1783322.3 | Q186: =('7.физ-в нацвал'!P186*'7.физ-в нацвал'!Q186+'11.физ-в инвал'!P186*'11.физ-в инвал'!Q186)/('7.физ-в нацвал'!P186+'11.физ-в инвал'!P186) -> 11.977825 | R186: ='7.физ-в нацвал'!R186+'11.физ-в инвал'!R186 -> 1280993.6 | S186: =('7.физ-в нацвал'!R186*'7.физ-в нацвал'!S186+'11.физ-в инвал'!R186*'11.физ-в инвал'!S186)/('7.физ-в нацвал'!R186+'11.физ-в инвал'!R186) -> 13.119612 | T186: ='7.физ-в нацвал'!T186+'11.физ-в инвал'!T186 -> 139988.5 | U186: =('7.физ-в нацвал'!T186*'7.физ-в нацвал'!U186+'11.физ-в инвал'!T186*'11.физ-в инвал'!U186)/('7.физ-в нацвал'!T186+'11.физ-в инвал'!T186) -> 2.2040337
A187: Ноябрь*** | B187: ='7.физ-в нацвал'!B187+'11.физ-в инвал'!B187 -> 10190378 | C187: =('7.физ-в нацвал'!B187*'7.физ-в нацвал'!C187+'11.физ-в инвал'!B187*'11.физ-в инвал'!C187)/('7.физ-в нацвал'!B187+'11.физ-в инвал'!B187) -> 7.0423069 | D187: ='7.физ-в нацвал'!D187+'11.физ-в инвал'!D187 -> 278896.4 | E187: =('7.физ-в нацвал'!D187*'7.физ-в нацвал'!E187+'11.физ-в инвал'!D187*'11.физ-в инвал'!E187)/('7.физ-в нацвал'!D187+'11.физ-в инвал'!D187) -> 0 | F187: ='7.физ-в нацвал'!F187+'11.физ-в инвал'!F187 -> 3748830.4 | G187: =('7.физ-в нацвал'!F187*'7.физ-в нацвал'!G187+'11.физ-в инвал'!F187*'11.физ-в инвал'!G187)/('7.физ-в нацвал'!F187+'11.физ-в инвал'!F187) -> 1.339653 | H187: =J187+L187+N187+P187+R187+T187 -> 6162651.3 | I187: =(J187*K187+L187*M187+N187*O187+P187*Q187+R187*S187+T187*U187)/(J187+L187+N187+P187+R187+T187) -> 10.83002 | J187: ='7.физ-в нацвал'!J187+'11.физ-в инвал'!J187 -> 587397.2 | K187: =('7.физ-в нацвал'!J187*'7.физ-в нацвал'!K187+'11.физ-в инвал'!J187*'11.физ-в инвал'!K187)/('7.физ-в нацвал'!J187+'11.физ-в инвал'!J187) -> 8.6345623 | L187: ='7.физ-в нацвал'!L187+'11.физ-в инвал'!L187 -> 966647 | M187: =('7.физ-в нацвал'!L187*'7.физ-в нацвал'!M187+'11.физ-в инвал'!L187*'11.физ-в инвал'!M187)/('7.физ-в нацвал'!L187+'11.физ-в инвал'!L187) -> 8.8314352 | N187: ='7.физ-в нацвал'!N187+'11.физ-в инвал'!N187 -> 1203746.7 | O187: =('7.физ-в нацвал'!N187*'7.физ-в нацвал'!O187+'11.физ-в инвал'!N187*'11.физ-в инвал'!O187)/('7.физ-в нацвал'!N187+'11.физ-в инвал'!N187) -> 10.086087 | P187: ='7.физ-в нацвал'!P187+'11.физ-в инвал'!P187 -> 1889991.9 | Q187: =('7.физ-в нацвал'!P187*'7.физ-в нацвал'!Q187+'11.физ-в инвал'!P187*'11.физ-в инвал'!Q187)/('7.физ-в нацвал'!P187+'11.физ-в инвал'!P187) -> 11.736578 | R187: ='7.физ-в нацвал'!R187+'11.физ-в инвал'!R187 -> 1428273.8 | S187: =('7.физ-в нацвал'!R187*'7.физ-в нацвал'!S187+'11.физ-в инвал'!R187*'11.физ-в инвал'!S187)/('7.физ-в нацвал'!R187+'11.физ-в инвал'!R187) -> 12.950752 | T187: ='7.физ-в нацвал'!T187+'11.физ-в инвал'!T187 -> 86594.7 | U187: =('7.физ-в нацвал'!T187*'7.физ-в нацвал'!U187+'11.физ-в инвал'!T187*'11.физ-в инвал'!U187)/('7.физ-в нацвал'!T187+'11.физ-в инвал'!T187) -> 3.6086521
A188: Декабрь | B188: ='7.физ-в нацвал'!B188+'11.физ-в инвал'!B188 -> 11233950 | C188: =('7.физ-в нацвал'!B188*'7.физ-в нацвал'!C188+'11.физ-в инвал'!B188*'11.физ-в инвал'!C188)/('7.физ-в нацвал'!B188+'11.физ-в инвал'!B188) -> 6.9124166 | D188: ='7.физ-в нацвал'!D188+'11.физ-в инвал'!D188 -> 338411.7 | E188: =('7.физ-в нацвал'!D188*'7.физ-в нацвал'!E188+'11.физ-в инвал'!D188*'11.физ-в инвал'!E188)/('7.физ-в нацвал'!D188+'11.физ-в инвал'!D188) -> 0.00021460546 | F188: ='7.физ-в нацвал'!F188+'11.физ-в инвал'!F188 -> 4140674.7 | G188: =('7.физ-в нацвал'!F188*'7.физ-в нацвал'!G188+'11.физ-в инвал'!F188*'11.физ-в инвал'!G188)/('7.физ-в нацвал'!F188+'11.физ-в инвал'!F188) -> 1.4261974 | H188: =J188+L188+N188+P188+R188+T188 -> 6754863.2 | I188: =(J188*K188+L188*M188+N188*O188+P188*Q188+R188*S188+T188*U188)/(J188+L188+N188+P188+R188+T188) -> 10.621717 | J188: ='7.физ-в нацвал'!J188+'11.физ-в инвал'!J188 -> 625618.5 | K188: =('7.физ-в нацвал'!J188*'7.физ-в нацвал'!K188+'11.физ-в инвал'!J188*'11.физ-в инвал'!K188)/('7.физ-в нацвал'!J188+'11.физ-в инвал'!J188) -> 8.6452705 | L188: ='7.физ-в нацвал'!L188+'11.физ-в инвал'!L188 -> 1054422.1 | M188: =('7.физ-в нацвал'!L188*'7.физ-в нацвал'!M188+'11.физ-в инвал'!L188*'11.физ-в инвал'!M188)/('7.физ-в нацвал'!L188+'11.физ-в инвал'!L188) -> 8.3263482 | N188: ='7.физ-в нацвал'!N188+'11.физ-в инвал'!N188 -> 1344706.8 | O188: =('7.физ-в нацвал'!N188*'7.физ-в нацвал'!O188+'11.физ-в инвал'!N188*'11.физ-в инвал'!O188)/('7.физ-в нацвал'!N188+'11.физ-в инвал'!N188) -> 10.222092 | P188: ='7.физ-в нацвал'!P188+'11.физ-в инвал'!P188 -> 1956665.7 | Q188: =('7.физ-в нацвал'!P188*'7.физ-в нацвал'!Q188+'11.физ-в инвал'!P188*'11.физ-в инвал'!Q188)/('7.физ-в нацвал'!P188+'11.физ-в инвал'!P188) -> 11.629024 | R188: ='7.физ-в нацвал'!R188+'11.физ-в инвал'!R188 -> 1641063.9 | S188: =('7.физ-в нацвал'!R188*'7.физ-в нацвал'!S188+'11.физ-в инвал'!R188*'11.физ-в инвал'!S188)/('7.физ-в нацвал'!R188+'11.физ-в инвал'!R188) -> 12.641085 | T188: ='7.физ-в нацвал'!T188+'11.физ-в инвал'!T188 -> 132386.2 | U188: =('7.физ-в нацвал'!T188*'7.физ-в нацвал'!U188+'11.физ-в инвал'!T188*'11.физ-в инвал'!U188)/('7.физ-в нацвал'!T188+'11.физ-в инвал'!T188) -> 2.3829025
... A380: Декабрь | B380: ='7.физ-в нацвал'!B380+'11.физ-в инвал'!B380 -> 0 | C380: =('7.физ-в нацвал'!B380*'7.физ-в нацвал'!C380+'11.физ-в инвал'!B380*'11.физ-в инвал'!C380)/('7.физ-в нацвал'!B380+'11.физ-в инвал'!B380) -> #DIV/0! | D380: ='7.физ-в нацвал'!D380+'11.физ-в инвал'!D380 -> 0 | E380: =('7.физ-в нацвал'!D380*'7.физ-в нацвал'!E380+'11.физ-в инвал'!D380*'11.физ-в инвал'!E380)/('7.физ-в нацвал'!D380+'11.физ-в инвал'!D380) -> #DIV/0! | F380: ='7.физ-в нацвал'!F380+'11.физ-в инвал'!F380 -> 0 | G380: =('7.физ-в нацвал'!F380*'7.физ-в нацвал'!G380+'11.физ-в инвал'!F380*'11.физ-в инвал'!G380)/('7.физ-в нацвал'!F380+'11.физ-в инвал'!F380) -> #DIV/0! | H380: =J380+L380+N380+P380+R380+T380 -> 0 | I380: =(J380*K380+L380*M380+N380*O380+P380*Q380+R380*S380+T380*U380)/(J380+L380+N380+P380+R380+T380) -> #DIV/0! | J380: ='7.физ-в нацвал'!J380+'11.физ-в инвал'!J380 -> 0 | K380: =('7.физ-в нацвал'!J380*'7.физ-в нацвал'!K380+'11.физ-в инвал'!J380*'11.физ-в инвал'!K380)/('7.физ-в нацвал'!J380+'11.физ-в инвал'!J380) -> #DIV/0! | L380: ='7.физ-в нацвал'!L380+'11.физ-в инвал'!L380 -> 0 | M380: =('7.физ-в нацвал'!L380*'7.физ-в нацвал'!M380+'11.физ-в инвал'!L380*'11.физ-в инвал'!M380)/('7.физ-в нацвал'!L380+'11.физ-в инвал'!L380) -> #DIV/0! | N380: ='7.физ-в нацвал'!N380+'11.физ-в инвал'!N380 -> 0 | O380: =('7.физ-в нацвал'!N380*'7.физ-в нацвал'!O380+'11.физ-в инвал'!N380*'11.физ-в инвал'!O380)/('7.физ-в нацвал'!N380+'11.физ-в инвал'!N380) -> #DIV/0! | P380: ='7.физ-в нацвал'!P380+'11.физ-в инвал'!P380 -> 0 | Q380: =('7.физ-в нацвал'!P380*'7.физ-в нацвал'!Q380+'11.физ-в инвал'!P380*'11.физ-в инвал'!Q380)/('7.физ-в нацвал'!P380+'11.физ-в инвал'!P380) -> #DIV/0! | R380: ='7.физ-в нацвал'!R380+'11.физ-в инвал'!R380 -> 0 | S380: =('7.физ-в нацвал'!R380*'7.физ-в нацвал'!S380+'11.физ-в инвал'!R380*'11.физ-в инвал'!S380)/('7.физ-в нацвал'!R380+'11.физ-в инвал'!R380) -> #DIV/0! | T380: ='7.физ-в нацвал'!T380+'11.физ-в инвал'!T380 -> 0 | U380: =('7.физ-в нацвал'!T380*'7.физ-в нацвал'!U380+'11.физ-в инвал'!T380*'11.физ-в инвал'!U380)/('7.физ-в нацвал'!T380+'11.физ-в инвал'!T380) -> #DIV/0!
A382: * с 01.01.2010 г. депозиты нерезидентов выделены из состава депозитов физических лиц
A383: ** до 01.01.2010 г. средства на расчетных счетах включались в объем депозитов до востребования
A384: *** данные приведены без учета ОАО "АзияУниверсалБанк" в связи с отзывом лицензии
A385: ****- предварительные данные

Sheet 4.юрид-всего
A1: Раздел "Статистика" / "Банковская статистика" / "Депозиты в коммерческих банках, на конец периода"
A3: Таблица 4. Общий объем и средневзвешенные процентные ставки депозитов юридических лиц в коммерческих банках (на конец периода)*
A5: (тыс. сомов / проценты)
A6: Период | B6: Общий объем | C6: Средневз. cтавка | D6: Расчетные счета** | F6: До востребования | H6: Срочные депозиты | J6: в том числе, по срокам:
J7: 0 - 1 месяца | L7: 1 - 3 месяца | N7: 3 - 6 месяцев | P7: 6 - 12 месяцев | R7: 1 - 3 года | T7: более 3 лет
D8: объем | E8: средневзв. ставка | F8: объем | G8: средневзв. ставка | H8: объем | I8: средневзв. ставка | J8: объем | K8: средневзв. ставка | L8: объем | M8: средневзв. ставка | N8: объем | O8: средневзв. ставка | P8: объем | Q8: средневзв. ставка | R8: объем | S8: средневзв. ставка | T8: объем | U8: средневзв. ставка
A9: Январь 1996 г. | B9: ='8.юрид-в нацвал'!B9+'12.юрид-в инвал'!B9 -> 207455.4 | C9: =('8.юрид-в нацвал'!B9*'8.юрид-в нацвал'!C9+'12.юрид-в инвал'!B9*'12.юрид-в инвал'!C9)/('8.юрид-в нацвал'!B9+'12.юрид-в инвал'!B9) -> 15.584143 | F9: ='8.юрид-в нацвал'!F9+'12.юрид-в инвал'!F9 -> 97572 | G9: =('8.юрид-в нацвал'!F9*'8.юрид-в нацвал'!G9+'12.юрид-в инвал'!F9*'12.юрид-в инвал'!G9)/('8.юрид-в нацвал'!F9+'12.юрид-в инвал'!F9) -> 3.0875983 | H9: =J9+L9+N9+P9+R9+T9 -> 109883.4 | I9: =(J9*K9+L9*M9+N9*O9+P9*Q9+R9*S9+T9*U9)/(J9+L9+N9+P9+R9+T9) -> 26.680568 | J9: ='8.юрид-в нацвал'!J9+'12.юрид-в инвал'!J9 -> 15953.2 | K9: =('8.юрид-в нацвал'!J9*'8.юрид-в нацвал'!K9+'12.юрид-в инвал'!J9*'12.юрид-в инвал'!K9)/('8.юрид-в нацвал'!J9+'12.юрид-в инвал'!J9) -> 31.799185 | L9: ='8.юрид-в нацвал'!L9+'12.юрид-в инвал'!L9 -> 44358 | M9: =('8.юрид-в нацвал'!L9*'8.юрид-в нацвал'!M9+'12.юрид-в инвал'!L9*'12.юрид-в инвал'!M9)/('8.юрид-в нацвал'!L9+'12.юрид-в инвал'!L9) -> 27.731972 | N9: ='8.юрид-в нацвал'!N9+'12.юрид-в инвал'!N9 -> 16005.7 | O9: =('8.юрид-в нацвал'!N9*'8.юрид-в нацвал'!O9+'12.юрид-в инвал'!N9*'12.юрид-в инвал'!O9)/('8.юрид-в нацвал'!N9+'12.юрид-в инвал'!N9) -> 23.50118 | P9: ='8.юрид-в нацвал'!P9+'12.юрид-в инвал'!P9 -> 25678.8 | Q9: =('8.юрид-в нацвал'!P9*'8.юрид-в нацвал'!Q9+'12.юрид-в инвал'!P9*'12.юрид-в инвал'!Q9)/('8.юрид-в нацвал'!P9+'12.юрид-в инвал'!P9) -> 23.305042 | R9: ='8.юрид-в нацвал'!R9+'12.юрид-в инвал'!R9 -> 7887.7 | S9: =('8.юрид-в нацвал'!R9*'8.юрид-в нацвал'!S9+'12.юрид-в инвал'!R9*'12.юрид-в инвал'!S9)/('8.юрид-в нацвал'!R9+'12.юрид-в инвал'!R9) -> 27.855986
A10: Февраль | B10: ='8.юрид-в нацвал'!B10+'12.юрид-в инвал'!B10 -> 258560.6 | C10: =('8.юрид-в нацвал'!B10*'8.юрид-в нацвал'!C10+'12.юрид-в инвал'!B10*'12.юрид-в инвал'!C10)/('8.юрид-в нацвал'!B10+'12.юрид-в инвал'!B10) -> 10.824304 | F10: ='8.юрид-в нацвал'!F10+'12.юрид-в инвал'!F10 -> 159432.4 | G10: =('8.юрид-в нацвал'!F10*'8.юрид-в нацвал'!G10+'12.юрид-в инвал'!F10*'12.юрид-в инвал'!G10)/('8.юрид-в нацвал'!F10+'12.юрид-в инвал'!F10) -> 1.8052319 | H10: =J10+L10+N10+P10+R10+T10 -> 99128.2 | I10: =(J10*K10+L10*M10+N10*O10+P10*Q10+R10*S10+T10*U10)/(J10+L10+N10+P10+R10+T10) -> 25.330089 | J10: ='8.юрид-в нацвал'!J10+'12.юрид-в инвал'!J10 -> 11714.3 | K10: =('8.юрид-в нацвал'!J10*'8.юрид-в нацвал'!K10+'12.юрид-в инвал'!J10*'12.юрид-в инвал'!K10)/('8.юрид-в нацвал'!J10+'12.юрид-в инвал'!J10) -> 24.797182 | L10: ='8.юрид-в нацвал'!L10+'12.юрид-в инвал'!L10 -> 39282.8 | M10: =('8.юрид-в нацвал'!L10*'8.юрид-в нацвал'!M10+'12.юрид-в инвал'!L10*'12.юрид-в инвал'!M10)/('8.юрид-в нацвал'!L10+'12.юрид-в инвал'!L10) -> 27.35176 | N10: ='8.юрид-в нацвал'!N10+'12.юрид-в инвал'!N10 -> 13892.6 | O10: =('8.юрид-в нацвал'!N10*'8.юрид-в нацвал'!O10+'12.юрид-в инвал'!N10*'12.юрид-в инвал'!O10)/('8.юрид-в нацвал'!N10+'12.юрид-в инвал'!N10) -> 24.591876 | P10: ='8.юрид-в нацвал'!P10+'12.юрид-в инвал'!P10 -> 26897.5 | Q10: =('8.юрид-в нацвал'!P10*'8.юрид-в нацвал'!Q10+'12.юрид-в инвал'!P10*'12.юрид-в инвал'!Q10)/('8.юрид-в нацвал'!P10+'12.юрид-в инвал'!P10) -> 23.000323 | R10: ='8.юрид-в нацвал'!R10+'12.юрид-в инвал'!R10 -> 7341 | S10: =('8.юрид-в нацвал'!R10*'8.юрид-в нацвал'!S10+'12.юрид-в инвал'!R10*'12.юрид-в инвал'!S10)/('8.юрид-в нацвал'!R10+'12.юрид-в инвал'!R10) -> 25.295536
A11: Март | B11: ='8.юрид-в нацвал'!B11+'12.юрид-в инвал'!B11 -> 320551.2 | C11: =('8.юрид-в нацвал'!B11*'8.юрид-в нацвал'!C11+'12.юрид-в инвал'!B11*'12.юрид-в инвал'!C11)/('8.юрид-в нацвал'!B11+'12.юрид-в инвал'!B11) -> 9.3964406 | F11: ='8.юрид-в нацвал'!F11+'12.юрид-в инвал'!F11 -> 243035.9 | G11: =('8.юрид-в нацвал'!F11*'8.юрид-в нацвал'!G11+'12.юрид-в инвал'!F11*'12.юрид-в инвал'!G11)/('8.юрид-в нацвал'!F11+'12.юрид-в инвал'!F11) -> 4.5502279 | H11: =J11+L11+N11+P11+R11+T11 -> 77515.3 | I11: =(J11*K11+L11*M11+N11*O11+P11*Q11+R11*S11+T11*U11)/(J11+L11+N11+P11+R11+T11) -> 24.590908 | J11: ='8.юрид-в нацвал'!J11+'12.юрид-в инвал'!J11 -> 11517 | K11: =('8.юрид-в нацвал'!J11*'8.юрид-в нацвал'!K11+'12.юрид-в инвал'!J11*'12.юрид-в инвал'!K11)/('8.юрид-в нацвал'!J11+'12.юрид-в инвал'!J11) -> 24.830584 | L11: ='8.юрид-в нацвал'!L11+'12.юрид-в инвал'!L11 -> 29109.7 | M11: =('8.юрид-в нацвал'!L11*'8.юрид-в нацвал'!M11+'12.юрид-в инвал'!L11*'12.юрид-в инвал'!M11)/('8.юрид-в нацвал'!L11+'12.юрид-в инвал'!L11) -> 25.712278 | N11: ='8.юрид-в нацвал'!N11+'12.юрид-в инвал'!N11 -> 18507.8 | O11: =('8.юрид-в нацвал'!N11*'8.юрид-в нацвал'!O11+'12.юрид-в инвал'!N11*'12.юрид-в инвал'!O11)/('8.юрид-в нацвал'!N11+'12.юрид-в инвал'!N11) -> 22.153544 | P11: ='8.юрид-в нацвал'!P11+'12.юрид-в инвал'!P11 -> 15630.5 | Q11: =('8.юрид-в нацвал'!P11*'8.юрид-в нацвал'!Q11+'12.юрид-в инвал'!P11*'12.юрид-в инвал'!Q11)/('8.юрид-в нацвал'!P11+'12.юрид-в инвал'!P11) -> 23.720022 | R11: ='8.юрид-в нацвал'!R11+'12.юрид-в инвал'!R11 -> 2750.3 | S11: =('8.юрид-в нацвал'!R11*'8.юрид-в нацвал'!S11+'12.юрид-в инвал'!R11*'12.юрид-в инвал'!S11)/('8.юрид-в нацвал'!R11+'12.юрид-в инвал'!R11) -> 33.069803
