Workbook

Sheet 1.общ.депозиты
A1: Раздел "Статистика" / "Банковская статистика" / "Депозиты в коммерческих банках, на конец периода"
A3: Таблица 1. Общий объем и средневзвешенные процентные ставки депозитов в действующих коммерческих банках (на конец периода)
A5: (тыс. сомов / проценты)
A6: Период | B6: Общий объем | C6: Средневз. ставка | D6: в том числе:
D7: в нац.валюте | F7: в иностр.валюте
D8: объем | E8: ставка | F8: объем | G8: ставка
A9: Январь 1996 г. | B9: =D9+F9 -> 356635.6 | C9: =(D9*E9+F9*G9)/(D9+F9) -> 22.951274 | D9: ='6.по срокам в нацвал'!B9 -> 235164.8 | E9: ='6.по срокам в нацвал'!C9 -> 28.422674 | F9: ='10.по срокам в инвал'!B9 -> 121470.8 | G9: ='10.по срокам в инвал'!C9 -> 12.358763
A10: Февраль | B10: =D10+F10 -> 431197.7 | C10: =(D10*E10+F10*G10)/(D10+F10) -> 20.448335 | D10: ='6.по срокам в нацвал'!B10 -> 298119.3 | E10: ='6.по срокам в нацвал'!C10 -> 24.767898 | F10: ='10.по срокам в инвал'!B10 -> 133078.4 | G10: ='10.по срокам в инвал'!C10 -> 10.771746
A11: Март | B11: =D11+F11 -> 547935.9 | C11: =(D11*E11+F11*G11)/(D11+F11) -> 16.923477 | D11: ='6.по срокам в нацвал'!B11 -> 389434.2 | E11: ='6.по срокам в нацвал'!C11 -> 17.787702 | F11: ='10.по срокам в инвал'!B11 -> 158501.7 | G11: ='10.по срокам в инвал'!C11 -> 14.800099
A12: Апрель | B12: =D12+F12 -> 764634.7 | C12: =(D12*E12+F12*G12)/(D12+F12) -> 12.261244 | D12: ='6.по срокам в нацвал'!B12 -> 583944.3 | E12: ='6.по срокам в нацвал'!C12 -> 11.613944 | F12: ='10.по срокам в инвал'!B12 -> 180690.4 | G12: ='10.по срокам в инвал'!C12 -> 14.353148
A13: Май | B13: =D13+F13 -> 514295.1 | C13: =(D13*E13+F13*G13)/(D13+F13) -> 16.102905 | D13: ='6.по срокам в нацвал'!B13 -> 348348.9 | E13: ='6.по срокам в нацвал'!C13 -> 15.778603 | F13: ='10.по срокам в инвал'!B13 -> 165946.2 | G13: ='10.по срокам в инвал'!C13 -> 16.783671
A14: Июнь | B14: =D14+F14 -> 550400.8 | C14: =(D14*E14+F14*G14)/(D14+F14) -> 15.187572 | D14: ='6.по срокам в нацвал'!B14 -> 422538.5 | E14: ='6.по срокам в нацвал'!C14 -> 14.975184 | F14: ='10.по срокам в инвал'!B14 -> 127862.3 | G14: ='10.по срокам в инвал'!C14 -> 15.88944
A15: Июль | B15: =D15+F15 -> 740365.3 | C15: =(D15*E15+F15*G15)/(D15+F15) -> 11.186106 | D15: ='6.по срокам в нацвал'!B15 -> 503768.8 | E15: ='6.по срокам в нацвал'!C15 -> 12.343408 | F15: ='10.по срокам в инвал'!B15 -> 236596.5 | G15: ='10.по срокам в инвал'!C15 -> 8.7219435
A16: Август | B16: =D16+F16 -> 665643.9 | C16: =(D16*E16+F16*G16)/(D16+F16) -> 12.473021 | D16: ='6.по срокам в нацвал'!B16 -> 448908.2 | E16: ='6.по срокам в нацвал'!C16 -> 14.081075 | F16: ='10.по срокам в инвал'!B16 -> 216735.7 | G16: ='10.по срокам в инвал'!C16 -> 9.1423802
A17: Сентябрь | B17: =D17+F17 -> 682368.7 | C17: =(D17*E17+F17*G17)/(D17+F17) -> 13.293665 | D17: ='6.по срокам в нацвал'!B17 -> 426418.2 | E17: ='6.по срокам в нацвал'!C17 -> 16.451625 | F17: ='10.по срокам в инвал'!B17 -> 255950.5 | G17: ='10.по срокам в инвал'!C17 -> 8.0324454
A18: Октябрь | B18: =D18+F18 -> 854244.4 | C18: =(D18*E18+F18*G18)/(D18+F18) -> 10.796218 | D18: ='6.по срокам в нацвал'!B18 -> 456755.5 | E18: ='6.по срокам в нацвал'!C18 -> 15.023193 | F18: ='10.по срокам в инвал'!B18 -> 397488.9 | G18: ='10.по срокам в инвал'!C18 -> 5.9389892
A19: Ноябрь | B19: =D19+F19 -> 850056.5 | C19: =(D19*E19+F19*G19)/(D19+F19) -> 11.957075 | D19: ='6.по срокам в нацвал'!B19 -> 463683.6 | E19: ='6.по срокам в нацвал'!C19 -> 16.201452 | F19: ='10.по срокам в инвал'!B19 -> 386372.9 | G19: ='10.по срокам в инвал'!C19 -> 6.8634269
A20: Декабрь | B20: =D20+F20 -> 874677.4 | C20: =(D20*E20+F20*G20)/(D20+F20) -> 11.703016 | D20: ='6.по срокам в нацвал'!B20 -> 483932.4 | E20: ='6.по срокам в нацвал'!C20 -> 15.573179 | F20: ='10.по срокам в инвал'!B20 -> 390745 | G20: ='10.по срокам в инвал'!C20 -> 6.9098715
... A380: Декабрь | B380: =D380+F380 -> 0 | C380: =(D380*E380+F380*G380)/(D380+F380) -> #DIV/0! | D380: ='6.по срокам в нацвал'!B380 -> 0 | E380: ='6.по срокам в нацвал'!C380 -> #DIV/0! | F380: ='10.по срокам в инвал'!B380 -> 0 | G380: ='10.по срокам в инвал'!C380 -> #DIV/0!
A382: * данные приведены без учета ОАО "АзияУниверсалБанк" в связи с отзывом лицензии
A383: **- предварительные данные

Sheet 2.общ.по срокам 
A1: Раздел "Статистика" / "Банковская статистика" / "Депозиты в коммерческих банках, на конец периода"
A3: Таблица 2. Общий объем и средневзвешенные процентные ставки депозитов в коммерческих банках (на конец периода)
A5: (тыс. сомов / проценты)
A6: Период | B6: Общий объем | C6: Средневз. cтавка | D6: Расчетные счета* | F6: До востребования | H6: Срочные депозиты | J6: в том числе, по срокам:
J7: 0 - 1 месяца | L7: 1 - 3 месяца | N7: 3 - 6 месяцев | P7: 6 - 12 месяцев | R7: 1 - 3 года | T7: более 3 лет
D8: объем | E8: средневзв. ставка | F8: объем | G8: средневзв. ставка | H8: объем | I8: средневзв. ставка | J8: объем | K8: средневзв. ставка | L8: объем | M8: средневзв. ставка | N8: объем | O8: средневзв. ставка | P8: объем | Q8: средневзв. ставка | R8: объем | S8: средневзв. ставка | T8: объем | U8: средневзв. ставка
A9: Январь 1996 г. | B9: ='3.физ-всего'!B9+'4.юрид-всего'!B9 -> 356635.6 | C9: =('3.физ-всего'!B9*'3.физ-всего'!C9+'4.юрид-всего'!B9*'4.юрид-всего'!C9)/('3.физ-всего'!B9+'4.юрид-всего'!B9) -> 22.951274 | F9: ='3.физ-всего'!F9+'4.юрид-всего'!F9 -> 139312.2 | G9: =('3.физ-всего'!F9*'3.физ-всего'!G9+'4.юрид-всего'!F9*'4.юрид-всего'!G9)/('3.физ-всего'!F9+'4.юрид-всего'!F9) -> 8.7794117 | H9: =J9+L9+N9+P9+R9+T9 -> 217323.4 | I9: =(J9*K9+L9*M9+N9*O9+P9*Q9+R9*S9+T9*U9)/(J9+L9+N9+P9+R9+T9) -> 32.035953 | J9: ='3.физ-всего'!J9+'4.юрид-всего'!J9 -> 18456.2 | K9: =('3.физ-всего'!J9*'3.физ-всего'!K9+'4.юрид-всего'!J9*'4.юрид-всего'!K9)/('3.физ-всего'!J9+'4.юрид-всего'!J9) -> 31.556716 | L9: ='3.физ-всего'!L9+'4.юрид-всего'!L9 -> 65410.3 | M9: =('3.физ-всего'!L9*'3.физ-всего'!M9+'4.юрид-всего'!L9*'4.юрид-всего'!M9)/('3.физ-всего'!L9+'4.юрид-всего'!L9) -> 29.444254 | N9: ='3.физ-всего'!N9+'4.юрид-всего'!N9 -> 77058.1 | O9: =('3.физ-всего'!N9*'3.физ-всего'!O9+'4.юрид-всего'!N9*'4.юрид-всего'!O9)/('3.физ-всего'!N9+'4.юрид-всего'!N9) -> 35.723914 | P9: ='3.физ-всего'!P9+'4.юрид-всего'!P9 -> 37489.7 | Q9: =('3.физ-всего'!P9*'3.физ-всего'!Q9+'4.юрид-всего'!P9*'4.юрид-всего'!Q9)/('3.физ-всего'!P9+'4.юрид-всего'!P9) -> 24.831538 | R9: ='3.физ-всего'!R9+'4.юрид-всего'!R9 -> 18909.1 | S9: =('3.физ-всего'!R9*'3.физ-всего'!S9+'4.юрид-всего'!R9*'4.юрид-всего'!S9)/('3.физ-всего'!R9+'4.юрид-всего'!R9) -> 40.723445
A10: Февраль | B10: ='3.физ-всего'!B10+'4.юрид-всего'!B10 -> 431197.7 | C10: =('3.физ-всего'!B10*'3.физ-всего'!C10+'4.юрид-всего'!B10*'4.юрид-всего'!C10)/('3.физ-всего'!B10+'4.юрид-всего'!B10) -> 20.448335 | F10: ='3.физ-всего'!F10+'4.юрид-всего'!F10 -> 203903.9 | G10: =('3.физ-всего'!F10*'3.физ-всего'!G10+'4.юрид-всего'!F10*'4.юрид-всего'!G10)/('3.физ-всего'!F10+'4.юрид-всего'!F10) -> 7.3198689 | H10: =J10+L10+N10+P10+R10+T10 -> 227293.8 | I10: =(J10*K10+L10*M10+N10*O10+P10*Q10+R10*S10+T10*U10)/(J10+L10+N10+P10+R10+T10) -> 32.225803 | J10: ='3.физ-всего'!J10+'4.юрид-всего'!J10 -> 12802.3 | K10: =('3.физ-всего'!J10*'3.физ-всего'!K10+'4.юрид-всего'!J10*'4.юрид-всего'!K10)/('3.физ-всего'!J10+'4.юрид-всего'!J10) -> 24.421448 | L10: ='3.физ-всего'!L10+'4.юрид-всего'!L10 -> 71762 | M10: =('3.физ-всего'!L10*'3.физ-всего'!M10+'4.юрид-всего'!L10*'4.юрид-всего'!M10)/('3.физ-всего'!L10+'4.юрид-всего'!L10) -> 29.335911 | N10: ='3.физ-всего'!N10+'4.юрид-всего'!N10 -> 80912.3 | O10: =('3.физ-всего'!N10*'3.физ-всего'!O10+'4.юрид-всего'!N10*'4.юрид-всего'!O10)/('3.физ-всего'!N10+'4.юрид-всего'!N10) -> 35.66666 | P10: ='3.физ-всего'!P10+'4.юрид-всего'!P10 -> 50843.1 | Q10: =('3.физ-всего'!P10*'3.физ-всего'!Q10+'4.юрид-всего'!P10*'4.юрид-всего'!Q10)/('3.физ-всего'!P10+'4.юрид-всего'!P10) -> 31.289049 | R10: ='3.физ-всего'!R10+'4.юрид-всего'!R10 -> 10974.1 | S10: =('3.физ-всего'!R10*'3.физ-всего'!S10+'4.юрид-всего'!R10*'4.юрид-всего'!S10)/('3.физ-всего'!R10+'4.юрид-всего'!R10) -> 39.198403
A11: Март | B11: ='3.физ-всего'!B11+'4.юрид-всего'!B11 -> 547935.9 | C11: =('3.физ-всего'!B11*'3.физ-всего'!C11+'4.юрид-всего'!B11*'4.юрид-всего'!C11)/('3.физ-всего'!B11+'4.юрид-всего'!B11) -> 16.923477 | F11: ='3.физ-всего'!F11+'4.юрид-всего'!F11 -> 319773.5 | G11: =('3.физ-всего'!F11*'3.физ-всего'!G11+'4.юрид-всего'!F11*'4.юрид-всего'!G11)/('3.физ-всего'!F11+'4.юрид-всего'!F11) -> 6.4940511 | H11: =J11+L11+N11+P11+R11+T11 -> 228162.4 | I11: =(J11*K11+L11*M11+N11*O11+P11*Q11+R11*S11+T11*U11)/(J11+L11+N11+P11+R11+T11) -> 31.540495 | J11: ='3.физ-всего'!J11+'4.юрид-всего'!J11 -> 15829.6 | K11: =('3.физ-всего'!J11*'3.физ-всего'!K11+'4.юрид-всего'!J11*'4.юрид-всего'!K11)/('3.физ-всего'!J11+'4.юрид-всего'!J11) -> 24.775919 | L11: ='3.физ-всего'!L11+'4.юрид-всего'!L11 -> 78416.6 | M11: =('3.физ-всего'!L11*'3.физ-всего'!M11+'4.юрид-всего'!L11*'4.юрид-всего'!M11)/('3.физ-всего'!L11+'4.юрид-всего'!L11) -> 28.878591 | N11: ='3.физ-всего'!N11+'4.юрид-всего'!N11 -> 89255.9 | O11: =('3.физ-всего'!N11*'3.физ-всего'!O11+'4.юрид-всего'!N11*'4.юрид-всего'!O11)/('3.физ-всего'!N11+'4.юрид-всего'!N11) -> 33.980482 | P11: ='3.физ-всего'!P11+'4.юрид-всего'!P11 -> 39579.4 | Q11: =('3.физ-всего'!P11*'3.физ-всего'!Q11+'4.юрид-всего'!P11*'4.юрид-всего'!Q11)/('3.физ-всего'!P11+'4.юрид-всего'!P11) -> 32.968811 | R11: ='3.физ-всего'!R11+'4.юрид-всего'!R11 -> 5080.9 | S11: =('3.физ-всего'!R11*'3.физ-всего'!S11+'4.юрид-всего'!R11*'4.юрид-всего'!S11)/('3.физ-всего'!R11+'4.юрид-всего'!R11) -> 39.708886
A12: Апрель | B12: ='3.физ-всего'!B12+'4.юрид-всего'!B12 -> 764634.7 | C12: =('3.физ-всего'!B12*'3.физ-всего'!C12+'4.юрид-всего'!B12*'4.юрид-всего'!C12)/('3.физ-всего'!B12+'4.юрид-всего'!B12) -> 12.261244 | F12: ='3.физ-всего'!F12+'4.юрид-всего'!F12 -> 500733 | G12: =('3.физ-всего'!F12*'3.физ-всего'!G12+'4.юрид-всего'!F12*'4.юрид-всего'!G12)/('3.физ-всего'!F12+'4.юрид-всего'!F12) -> 2.6003252 | H12: =J12+L12+N12+P12+R12+T12 -> 263901.7 | I12: =(J12*K12+L12*M12+N12*O12+P12*Q12+R12*S12+T12*U12)/(J12+L12+N12+P12+R12+T12) -> 30.592088 | J12: ='3.физ-всего'!J12+'4.юрид-всего'!J12 -> 15300.4 | K12: =('3.физ-всего'!J12*'3.физ-всего'!K12+'4.юрид-всего'!J12*'4.юрид-всего'!K12)/('3.физ-всего'!J12+'4.юрид-всего'!J12) -> 21.999403 | L12: ='3.физ-всего'!L12+'4.юрид-всего'!L12 -> 86398.2 | M12: =('3.физ-всего'!L12*'3.физ-всего'!M12+'4.юрид-всего'!L12*'4.юрид-всего'!M12)/('3.физ-всего'!L12+'4.юрид-всего'!L12) -> 29.96065 | N12: ='3.физ-всего'!N12+'4.юрид-всего'!N12 -> 110268.2 | O12: =('3.физ-всего'!N12*'3.физ-всего'!O12+'4.юрид-всего'!N12*'4.юрид-всего'!O12)/('3.физ-всего'!N12+'4.юрид-всего'!N12) -> 31.224158 | P12: ='3.физ-всего'!P12+'4.юрид-всего'!P12 -> 47081.3 | Q12: =('3.физ-всего'!P12*'3.физ-всего'!Q12+'4.юрид-всего'!P12*'4.юрид-всего'!Q12)/('3.физ-всего'!P12+'4.юрид-всего'!P12) -> 32.606631 | R12: ='3.физ-всего'!R12+'4.юрид-всего'!R12 -> 4853.6 | S12: =('3.физ-всего'!R12*'3.физ-всего'!S12+'4.юрид-всего'!R12*'4.юрид-всего'!S12)/('3.физ-всего'!R12+'4.юрид-всего'!R12) -> 35.018106
A13: Май | B13: ='3.физ-всего'!B13+'4.юрид-всего'!B13 -> 514295.1 | C13: =('3.физ-всего'!B13*'3.физ-всего'!C13+'4.юрид-всего'!B13*'4.юрид-всего'!C13)/('3.физ-всего'!B13+'4.юрид-всего'!B13) -> 16.102905 | F13: ='3.физ-всего'!F13+'4.юрид-всего'!F13 -> 276871.4 | G13: =('3.физ-всего'!F13*'3.физ-всего'!G13+'4.юрид-всего'!F13*'4.юрид-всего'!G13)/('3.физ-всего'!F13+'4.юрид-всего'!F13) -> 4.1755961 | H13: =J13+L13+N13+P13+R13+T13 -> 237423.7 | I13: =(J13*K13+L13*M13+N13*O13+P13*Q13+R13*S13+T13*U13)/(J13+L13+N13+P13+R13+T13) -> 30.011925 | J13: ='3.физ-всего'!J13+'4.юрид-всего'!J13 -> 15033.1 | K13: =('3.физ-всего'!J13*'3.физ-всего'!K13+'4.юрид-всего'!J13*'4.юрид-всего'!K13)/('3.физ-всего'!J13+'4.юрид-всего'!J13) -> 20.653959 | L13: ='3.физ-всего'!L13+'4.юрид-всего'!L13 -> 71788.3 | M13: =('3.физ-всего'!L13*'3.физ-всего'!M13+'4.юрид-всего'!L13*'4.юрид-всего'!M13)/('3.физ-всего'!L13+'4.юрид-всего'!L13) -> 28.4506 | N13: ='3.физ-всего'!N13+'4.юрид-всего'!N13 -> 104497.8 | O13: =('3.физ-всего'!N13*'3.физ-всего'!O13+'4.юрид-всего'!N13*'4.юрид-всего'!O13)/('3.физ-всего'!N13+'4.юрид-всего'!N13) -> 30.722948 | P13: ='3.физ-всего'!P13+'4.юрид-всего'!P13 -> 40611.6 | Q13: =('3.физ-всего'!P13*'3.физ-всего'!Q13+'4.юрид-всего'!P13*'4.юрид-всего'!Q13)/('3.физ-всего'!P13+'4.юрид-всего'!P13) -> 33.860934 | R13: ='3.физ-всего'!R13+'4.юрид-всего'!R13 -> 5492.9 | S13: =('3.физ-всего'!R13*'3.физ-всего'!S13+'4.юрид-всего'!R13*'4.юрид-всего'!S13)/('3.физ-всего'!R13+'4.юрид-всего'!R13) -> 34.044261
A14: Июнь | B14: ='3.физ-всего'!B14+'4.юрид-всего'!B14 -> 550400.8 | C14: =('3.физ-всего'!B14*'3.физ-всего'!C14+'4.юрид-всего'!B14*'4.юрид-всего'!C14)/('3.физ-всего'!B14+'4.юрид-всего'!B14) -> 15.187572 | F14: ='3.физ-всего'!F14+'4.юрид-всего'!F14 -> 324135.3 | G14: =('3.физ-всего'!F14*'3.физ-всего'!G14+'4.юрид-всего'!F14*'4.юрид-всего'!G14)/('3.физ-всего'!F14+'4.юрид-всего'!F14) -> 4.3432216 | H14: =J14+L14+N14+P14+R14+T14 -> 226265.5 | I14: =(J14*K14+L14*M14+N14*O14+P14*Q14+R14*S14+T14*U14)/(J14+L14+N14+P14+R14+T14) -> 30.722583 | J14: ='3.физ-всего'!J14+'4.юрид-всего'!J14 -> 12140.1 | K14: =('3.физ-всего'!J14*'3.физ-всего'!K14+'4.юрид-всего'!J14*'4.юрид-всего'!K14)/('3.физ-всего'!J14+'4.юрид-всего'!J14) -> 13.615972 | L14: ='3.физ-всего'!L14+'4.юрид-всего'!L14 -> 70616.8 | M14: =('3.физ-всего'!L14*'3.физ-всего'!M14+'4.юрид-всего'!L14*'4.юрид-всего'!M14)/('3.физ-всего'!L14+'4.юрид-всего'!L14) -> 25.896432 | N14: ='3.физ-всего'!N14+'4.юрид-всего'!N14 -> 83037.9 | O14: =('3.физ-всего'!N14*'3.физ-всего'!O14+'4.юрид-всего'!N14*'4.юрид-всего'!O14)/('3.физ-всего'!N14+'4.юрид-всего'!N14) -> 35.228618 | P14: ='3.физ-всего'!P14+'4.юрид-всего'!P14 -> 54131.3 | Q14: =('3.физ-всего'!P14*'3.физ-всего'!Q14+'4.юрид-всего'!P14*'4.юрид-всего'!Q14)/('3.физ-всего'!P14+'4.юрид-всего'!P14) -> 32.275651 | R14: ='3.физ-всего'!R14+'4.юрид-всего'!R14 -> 6339.4 | S14: =('3.физ-всего'!R14*'3.физ-всего'!S14+'4.юрид-всего'!R14*'4.юрид-всего'!S14)/('3.физ-всего'!R14+'4.юрид-всего'!R14) -> 44.957671
A15: Июль | B15: ='3.физ-всего'!B15+'4.юрид-всего'!B15 -> 740365.3 | C15: =('3.физ-всего'!B15*'3.физ-всего'!C15+'4.юрид-всего'!B15*'4.юрид-всего'!C15)/('3.физ-всего'!B15+'4.юрид-всего'!B15) -> 11.186106 | F15: ='3.физ-всего'!F15+'4.юрид-всего'!F15 -> 503970.9 | G15: =('3.физ-всего'!F15*'3.физ-всего'!G15+'4.юрид-всего'!F15*'4.юрид-всего'!G15)/('3.физ-всего'!F15+'4.юрид-всего'!F15) -> 3.6053998 | H15: =J15+L15+N15+P15+R15+T15 -> 236394.4 | I15: =(J15*K15+L15*M15+N15*O15+P15*Q15+R15*S15+T15*U15)/(J15+L15+N15+P15+R15+T15) -> 27.347468 | J15: ='3.физ-всего'!J15+'4.юрид-всего'!J15 -> 33968.8 | K15: =('3.физ-всего'!J15*'3.физ-всего'!K15+'4.юрид-всего'!J15*'4.юрид-всего'!K15)/('3.физ-всего'!J15+'4.юрид-всего'!J15) -> 12.073082 | L15: ='3.физ-всего'!L15+'4.юрид-всего'!L15 -> 64892.4 | M15: =('3.физ-всего'!L15*'3.физ-всего'!M15+'4.юрид-всего'!L15*'4.юрид-всего'!M15)/('3.физ-всего'!L15+'4.юрид-всего'!L15) -> 24.875196 | N15: ='3.физ-всего'!N15+'4.юрид-всего'!N15 -> 75688.4 | O15: =('3.физ-всего'!N15*'3.физ-всего'!O15+'4.юрид-всего'!N15*'4.юрид-всего'!O15)/('3.физ-всего'!N15+'4.юрид-всего'!N15) -> 34.93142 | P15: ='3.физ-всего'!P15+'4.юрид-всего'!P15 -> 56799.7 | Q15: =('3.физ-всего'!P15*'3.физ-всего'!Q15+'4.юрид-всего'!P15*'4.юрид-всего'!Q15)/('3.физ-всего'!P15+'4.юрид-всего'!P15) -> 28.546539 | R15: ='3.физ-всего'!R15+'4.юрид-всего'!R15 -> 5045.1 | S15: =('3.физ-всего'!R15*'3.физ-всего'!S15+'4.юрид-всего'!R15*'4.юрид-всего'!S15)/('3.физ-всего'!R15+'4.юрид-всего'!R15) -> 34.713064
A16: Август | B16: ='3.физ-всего'!B16+'4.юрид-всего'!B16 -> 665643.9 | C16: =('3.физ-всего'!B16*'3.физ-всего'!C16+'4.юрид-всего'!B16*'4.юрид-всего'!C16)/('3.физ-всего'!B16+'4.юрид-всего'!B16) -> 12.473021 | F16: ='3.физ-всего'!F16+'4.юрид-всего'!F16 -> 443638.7 | G16: =('3.физ-всего'!F16*'3.физ-всего'!G16+'4.юрид-всего'!F16*'4.юрид-всего'!G16)/('3.физ-всего'!F16+'4.юрид-всего'!F16) -> 3.3661002 | H16: =J16+L16+N16+P16+R16+T16 -> 222005.2 | I16: =(J16*K16+L16*M16+N16*O16+P16*Q16+R16*S16+T16*U16)/(J16+L16+N16+P16+R16+T16) -> 30.671615 | J16: ='3.физ-всего'!J16+'4.юрид-всего'!J16 -> 18468.6 | K16: =('3.физ-всего'!J16*'3.физ-всего'!K16+'4.юрид-всего'!J16*'4.юрид-всего'!K16)/('3.физ-всего'!J16+'4.юрид-всего'!J16) -> 11.310045 | L16: ='3.физ-всего'!L16+'4.юрид-всего'!L16 -> 63491.8 | M16: =('3.физ-всего'!L16*'3.физ-всего'!M16+'4.юрид-всего'!L16*'4.юрид-всего'!M16)/('3.физ-всего'!L16+'4.юрид-всего'!L16) -> 28.076107 | N16: ='3.физ-всего'!N16+'4.юрид-всего'!N16 -> 89604.7 | O16: =('3.физ-всего'!N16*'3.физ-всего'!O16+'4.юрид-всего'!N16*'4.юрид-всего'!O16)/('3.физ-всего'!N16+'4.юрид-всего'!N16) -> 37.824135 | P16: ='3.физ-всего'!P16+'4.юрид-всего'!P16 -> 39853.6 | Q16: =('3.физ-всего'!P16*'3.физ-всего'!Q16+'4.юрид-всего'!P16*'4.юрид-всего'!Q16)/('3.физ-всего'!P16+'4.юрид-всего'!P16) -> 30.277148 | R16: ='3.физ-всего'!R16+'4.юрид-всего'!R16 -> 10586.5 | S16: =('3.физ-всего'!R16*'3.физ-всего'!S16+'4.юрид-всего'!R16*'4.юрид-всего'!S16)/('3.физ-всего'!R16+'4.юрид-всего'!R16) -> 20.960765
A17: Сентябрь | B17: ='3.физ-всего'!B17+'4.юрид-всего'!B17 -> 682368.7 | C17: =('3.физ-всего'!B17*'3.физ-всего'!C17+'4.юрид-всего'!B17*'4.юрид-всего'!C17)/('3.физ-всего'!B17+'4.юрид-всего'!B17) -> 13.293665 | F17: ='3.физ-всего'!F17+'4.юрид-всего'!F17 -> 440415.9 | G17: =('3.физ-всего'!F17*'3.физ-всего'!G17+'4.юрид-всего'!F17*'4.юрид-всего'!G17)/('3.физ-всего'!F17+'4.юрид-всего'!F17) -> 4.4325444 | H17: =J17+L17+N17+P17+R17+T17 -> 241952.8 | I17: =(J17*K17+L17*M17+N17*O17+P17*Q17+R17*S17+T17*U17)/(J17+L17+N17+P17+R17+T17) -> 29.423167 | J17: ='3.физ-всего'!J17+'4.юрид-всего'!J17 -> 19657.2 | K17: =('3.физ-всего'!J17*'3.физ-всего'!K17+'4.юрид-всего'!J17*'4.юрид-всего'!K17)/('3.физ-всего'!J17+'4.юрид-всего'!J17) -> 18.274846 | L17: ='3.физ-всего'!L17+'4.юрид-всего'!L17 -> 67982.9 | M17: =('3.физ-всего'!L17*'3.физ-всего'!M17+'4.юрид-всего'!L17*'4.юрид-всего'!M17)/('3.физ-всего'!L17+'4.юрид-всего'!L17) -> 27.550662 | N17: ='3.физ-всего'!N17+'4.юрид-всего'!N17 -> 93759.6 | O17: =('3.физ-всего'!N17*'3.физ-всего'!O17+'4.юрид-всего'!N17*'4.юрид-всего'!O17)/('3.физ-всего'!N17+'4.юрид-всего'!N17) -> 33.909659 | P17: ='3.физ-всего'!P17+'4.юрид-всего'!P17 -> 50680.1 | Q17: =('3.физ-всего'!P17*'3.физ-всего'!Q17+'4.юрид-всего'!P17*'4.юрид-всего'!Q17)/('3.физ-всего'!P17+'4.юрид-всего'!P17) -> 29.995037 | R17: ='3.физ-всего'!R17+'4.юрид-всего'!R17 -> 9873 | S17: =('3.физ-всего'!R17*'3.физ-всего'!S17+'4.юрид-всего'!R17*'4.юрид-всего'!S17)/('3.физ-всего'!R17+'4.юрид-всего'!R17) -> 18.971324
A18: Октябрь | B18: ='3.физ-всего'!B18+'4.юрид-всего'!B18 -> 854244.4 | C18: =('3.физ-всего'!B18*'3.физ-всего'!C18+'4.юрид-всего'!B18*'4.юрид-всего'!C18)/('3.физ-всего'!B18+'4.юрид-всего'!B18) -> 10.796218 | F18: ='3.физ-всего'!F18+'4.юрид-всего'!F18 -> 676641 | G18: =('3.физ-всего'!F18*'3.физ-всего'!G18+'4.юрид-всего'!F18*'4.юрид-всего'!G18)/('3.физ-всего'!F18+'4.юрид-всего'!F18) -> 6.4956744 | H18: =J18+L18+N18+P18+R18+T18 -> 177603.4 | I18: =(J18*K18+L18*M18+N18*O18+P18*Q18+R18*S18+T18*U18)/(J18+L18+N18+P18+R18+T18) -> 27.18061 | J18: ='3.физ-всего'!J18+'4.юрид-всего'!J18 -> 17645.4 | K18: =('3.физ-всего'!J18*'3.физ-всего'!K18+'4.юрид-всего'!J18*'4.юрид-всего'!K18)/('3.физ-всего'!J18+'4.юрид-всего'!J18) -> 15.061597 | L18: ='3.физ-всего'!L18+'4.юрид-всего'!L18 -> 46564.6 | M18: =('3.физ-всего'!L18*'3.физ-всего'!M18+'4.юрид-всего'!L18*'4.юрид-всего'!M18)/('3.физ-всего'!L18+'4.юрид-всего'!L18) -> 26.266652 | N18: ='3.физ-всего'!N18+'4.юрид-всего'!N18 -> 62531.7 | O18: =('3.физ-всего'!N18*'3.физ-всего'!O18+'4.юрид-всего'!N18*'4.юрид-всего'!O18)/('3.физ-всего'!N18+'4.юрид-всего'!N18) -> 31.026449 | P18: ='3.физ-всего'!P18+'4.юрид-всего'!P18 -> 41121 | Q18: =('3.физ-всего'!P18*'3.физ-всего'!Q18+'4.юрид-всего'!P18*'4.юрид-всего'!Q18)/('3.физ-всего'!P18+'4.юрид-всего'!P18) -> 30.077177 | R18: ='3.физ-всего'!R18+'4.юрид-всего'!R18 -> 9740.7 | S18: =('3.физ-всего'!R18*'3.физ-всего'!S18+'4.юрид-всего'!R18*'4.юрид-всего'!S18)/('3.физ-всего'!R18+'4.юрид-всего'!R18) -> 16.586553
A19: Ноябрь | B19: ='3.физ-всего'!B19+'4.юрид-всего'!B19 -> 850056.5 | C19: =('3.физ-всего'!B19*'3.физ-всего'!C19+'4.юрид-всего'!B19*'4.юрид-всего'!C19)/('3.физ-всего'!B19+'4.юрид-всего'!B19) -> 11.957075 | F19: ='3.физ-всего'!F19+'4.юрид-всего'!F19 -> 558407.7 | G19: =('3.физ-всего'!F19*'3.физ-всего'!G19+'4.юрид-всего'!F19*'4.юрид-всего'!G19)/('3.физ-всего'!F19+'4.юрид-всего'!F19) -> 3.3720608 | H19: =J19+L19+N19+P19+R19+T19 -> 291648.8 | I19: =(J19*K19+L19*M19+N19*O19+P19*Q19+R19*S19+T19*U19)/(J19+L19+N19+P19+R19+T19) -> 28.394442 | J19: ='3.физ-всего'!J19+'4.юрид-всего'!J19 -> 24238.9 | K19: =('3.физ-всего'!J19*'3.физ-всего'!K19+'4.юрид-всего'!J19*'4.юрид-всего'!K19)/('3.физ-всего'!J19+'4.юрид-всего'!J19) -> 13.914129 | L19: ='3.физ-всего'!L19+'4.юрид-всего'!L19 -> 81856.4 | M19: =('3.физ-всего'!L19*'3.физ-всего'!M19+'4.юрид-всего'!L19*'4.юрид-всего'!M19)/('3.физ-всего'!L19+'4.юрид-всего'!L19) -> 25.973476 | N19: ='3.физ-всего'!N19+'4.юрид-всего'!N19 -> 90623.8 | O19: =('3.физ-всего'!N19*'3.физ-всего'!O19+'4.юрид-всего'!N19*'4.юрид-всего'!O19)/('3.физ-всего'!N19+'4.юрид-всего'!N19) -> 37.02013 | P19: ='3.физ-всего'!P19+'4.юрид-всего'!P19 -> 83215.5 | Q19: =('3.физ-всего'!P19*'3.физ-всего'!Q19+'4.юрид-всего'!P19*'4.юрид-всего'!Q19)/('3.физ-всего'!P19+'4.юрид-всего'!P19) -> 27.605691 | R19: ='3.физ-всего'!R19+'4.юрид-всего'!R19 -> 11714.2 | S19: =('3.физ-всего'!R19*'3.физ-всего'!S19+'4.юрид-всего'!R19*'4.юрид-всего'!S19)/('3.физ-всего'!R19+'4.юрид-всего'!R19) -> 14.146954
A20: Декабрь | B20: ='3.физ-всего'!B20+'4.юрид-всего'!B20 -> 874677.4 | C20: =('3.физ-всего'!B20*'3.физ-всего'!C20+'4.юрид-всего'!B20*'4.юрид-всего'!C20)/('3.физ-всего'!B20+'4.юрид-всего'!B20) -> 11.703016 | F20: ='3.физ-всего'!F20+'4.юрид-всего'!F20 -> 592031.3 | G20: =('3.физ-всего'!F20*'3.физ-всего'!G20+'4.юрид-всего'!F20*'4.юрид-всего'!G20)/('3.физ-всего'!F20+'4.юрид-всего'!F20) -> 3.3098121 | H20: =J20+L20+N20+P20+R20+T20 -> 282646.1 | I20: =(J20*K20+L20*M20+N20*O20+P20*Q20+R20*S20+T20*U20)/(J20+L20+N20+P20+R20+T20) -> 29.283444 | J20: ='3.физ-всего'!J20+'4.юрид-всего'!J20 -> 16073.6 | K20: =('3.физ-всего'!J20*'3.физ-всего'!K20+'4.юрид-всего'!J20*'4.юрид-всего'!K20)/('3.физ-всего'!J20+'4.юрид-всего'!J20) -> 12.894672 | L20: ='3.физ-всего'!L20+'4.юрид-всего'!L20 -> 78407.8 | M20: =('3.физ-всего'!L20*'3.физ-всего'!M20+'4.юрид-всего'!L20*'4.юрид-всего'!M20)/('3.физ-всего'!L20+'4.юрид-всего'!L20) -> 27.09675 | N20: ='3.физ-всего'!N20+'4.юрид-всего'!N20 -> 120301 | O20: =('3.физ-всего'!N20*'3.физ-всего'!O20+'4.юрид-всего'!N20*'4.юрид-всего'!O20)/('3.физ-всего'!N20+'4.юрид-всего'!N20) -> 33.542223 | P20: ='3.физ-всего'!P20+'4.юрид-всего'!P20 -> 58556.1 | Q20: =('3.физ-всего'!P20*'3.физ-всего'!Q20+'4.юрид-всего'!P20*'4.юрид-всего'!Q20)/('3.физ-всего'!P20+'4.юрид-всего'!P20) -> 29.509139 | R20: ='3.физ-всего'!R20+'4.юрид-всего'!R20 -> 9307.6 | S20: =('3.физ-всего'!R20*'3.физ-всего'!S20+'4.юрид-всего'!R20*'4.юрид-всего'!S20)/('3.физ-всего'!R20+'4.юрид-всего'!R20) -> 19.541867
... A97: Май | B97: ='3.физ-всего'!B97+'4.юрид-всего'!B97 -> 4089167.4 | C97: =('3.физ-всего'!B97*'3.физ-всего'!C97+'4.юрид-всего'!B97*'4.юрид-всего'!C97)/('3.физ-всего'!B97+'4.юрид-всего'!B97) -> 2.7111207 | F97: ='3.физ-всего'!F97+'4.юрид-всего'!F97 -> 2558817.5 | G97: =('3.физ-всего'!F97*'3.физ-всего'!G97+'4.юрид-всего'!F97*'4.юрид-всего'!G97)/('3.физ-всего'!F97+'4.юрид-всего'!F97) -> 0.44075029 | H97: =J97+L97+N97+P97+R97+T97 -> 1530349.9 | I97: =(J97*K97+L97*M97+N97*O97+P97*Q97+R97*S97+T97*U97)/(J97+L97+N97+P97+R97+T97) -> 6.5072875 | J97: ='3.физ-всего'!J97+'4.юрид-всего'!J97 -> 147529.6 | K97: =('3.физ-всего'!J97*'3.физ-всего'!K97+'4.юрид-всего'!J97*'4.юрид-всего'!K97)/('3.физ-всего'!J97+'4.юрид-всего'!J97) -> 6.4474644 | L97: ='3.физ-всего'!L97+'4.юрид-всего'!L97 -> 225766.9 | M97: =('3.физ-всего'!L97*'3.физ-всего'!M97+'4.юрид-всего'!L97*'4.юрид-всего'!M97)/('3.физ-всего'!L97+'4.юрид-всего'!L97) -> 8.7924339 | N97: ='3.физ-всего'!N97+'4.юрид-всего'!N97 -> 270543.1 | O97: =('3.физ-всего'!N97*'3.физ-всего'!O97+'4.юрид-всего'!N97*'4.юрид-всего'!O97)/('3.физ-всего'!N97+'4.юрид-всего'!N97) -> 9.3933635 | P97: ='3.физ-всего'!P97+'4.юрид-всего'!P97 -> 499658.2 | Q97: =('3.физ-всего'!P97*'3.физ-всего'!Q97+'4.юрид-всего'!P97*'4.юрид-всего'!Q97)/('3.физ-всего'!P97+'4.юрид-всего'!P97) -> 6.9356032 | R97: ='3.физ-всего'!R97+'4.юрид-всего'!R97 -> 386852.1 | S97: =('3.физ-всего'!R97*'3.физ-всего'!S97+'4.юрид-всего'!R97*'4.юрид-всего'!S97)/('3.физ-всего'!R97+'4.юрид-всего'!R97) -> 2.6249146
A98: Июнь | B98: ='3.физ-всего'!B98+'4.юрид-всего'!B98 -> 3617222.8 | C98: =('3.физ-всего'!B98*'3.физ-всего'!C98+'4.юрид-всего'!B98*'4.юрид-всего'!C98)/('3.физ-всего'!B98+'4.юрид-всего'!B98) -> 2.9298488 | F98: ='3.физ-всего'!F98+'4.юрид-всего'!F98 -> 2250253.8 | G98: =('3.физ-всего'!F98*'3.физ-всего'!G98+'4.юрид-всего'!F98*'4.юрид-всего'!G98)/('3.физ-всего'!F98+'4.юрид-всего'!F98) -> 0.36687281 | H98: =J98+L98+N98+P98+R98+T98 -> 1366969 | I98: =(J98*K98+L98*M98+N98*O98+P98*Q98+R98*S98+T98*U98)/(J98+L98+N98+P98+R98+T98) -> 7.1489251 | J98: ='3.физ-всего'!J98+'4.юрид-всего'!J98 -> 123053.3 | K98: =('3.физ-всего'!J98*'3.физ-всего'!K98+'4.юрид-всего'!J98*'4.юрид-всего'!K98)/('3.физ-всего'!J98+'4.юрид-всего'!J98) -> 9.4057056 | L98: ='3.физ-всего'!L98+'4.юрид-всего'!L98 -> 213604.1 | M98: =('3.физ-всего'!L98*'3.физ-всего'!M98+'4.юрид-всего'!L98*'4.юрид-всего'!M98)/('3.физ-всего'!L98+'4.юрид-всего'!L98) -> 8.3011273 | N98: ='3.физ-всего'!N98+'4.юрид-всего'!N98 -> 265580.6 | O98: =('3.физ-всего'!N98*'3.физ-всего'!O98+'4.юрид-всего'!N98*'4.юрид-всего'!O98)/('3.физ-всего'!N98+'4.юрид-всего'!N98) -> 9.1366159 | P98: ='3.физ-всего'!P98+'4.юрид-всего'!P98 -> 268814.2 | Q98: =('3.физ-всего'!P98*'3.физ-всего'!Q98+'4.юрид-всего'!P98*'4.юрид-всего'!Q98)/('3.физ-всего'!P98+'4.юрид-всего'!P98) -> 10.596205 | R98: ='3.физ-всего'!R98+'4.юрид-всего'!R98 -> 411906.8 | S98: =('3.физ-всего'!R98*'3.физ-всего'!S98+'4.юрид-всего'!R98*'4.юрид-всего'!S98)/('3.физ-всего'!R98+'4.юрид-всего'!R98) -> 3.565348 | T98: ='3.физ-всего'!T98+'4.юрид-всего'!T98 -> 84010 | U98: =('3.физ-всего'!T98*'3.физ-всего'!U98+'4.юрид-всего'!T98*'4.юрид-всего'!U98)/('3.физ-всего'!T98+'4.юрид-всего'!T98) -> 1.17
A99: Июль | B99: ='3.физ-всего'!B99+'4.юрид-всего'!B99 -> 4114661.2 | C99: =('3.физ-всего'!B99*'3.физ-всего'!C99+'4.юрид-всего'!B99*'4.юрид-всего'!C99)/('3.физ-всего'!B99+'4.юрид-всего'!B99) -> 2.7601055 | F99: ='3.физ-всего'!F99+'4.юрид-всего'!F99 -> 2673683 | G99: =('3.физ-всего'!F99*'3.физ-всего'!G99+'4.юрид-всего'!F99*'4.юрид-всего'!G99)/('3.физ-всего'!F99+'4.юрид-всего'!F99) -> 0.47637827 | H99: =J99+L99+N99+P99+R99+T99 -> 1440978.2 | I99: =(J99*K99+L99*M99+N99*O99+P99*Q99+R99*S99+T99*U99)/(J99+L99+N99+P99+R99+T99) -> 6.9974788 | J99: ='3.физ-всего'!J99+'4.юрид-всего'!J99 -> 138854.5 | K99: =('3.физ-всего'!J99*'3.физ-всего'!K99+'4.юрид-всего'!J99*'4.юрид-всего'!K99)/('3.физ-всего'!J99+'4.юрид-всего'!J99) -> 8.0408172 | L99: ='3.физ-всего'!L99+'4.юрид-всего'!L99 -> 262376.9 | M99: =('3.физ-всего'!L99*'3.физ-всего'!M99+'4.юрид-всего'!L99*'4.юрид-всего'!M99)/('3.физ-всего'!L99+'4.юрид-всего'!L99) -> 8.383016 | N99: ='3.физ-всего'!N99+'4.юрид-всего'!N99 -> 214181.7 | O99: =('3.физ-всего'!N99*'3.физ-всего'!O99+'4.юрид-всего'!N99*'4.юрид-всего'!O99)/('3.физ-всего'!N99+'4.юрид-всего'!N99) -> 9.1090445 | P99: ='3.физ-всего'!P99+'4.юрид-всего'!P99 -> 303710 | Q99: =('3.физ-всего'!P99*'3.физ-всего'!Q99+'4.юрид-всего'!P99*'4.юрид-всего'!Q99)/('3.физ-всего'!P99+'4.юрид-всего'!P99) -> 10.254916 | R99: ='3.физ-всего'!R99+'4.юрид-всего'!R99 -> 461061.1 | S99: =('3.физ-всего'!R99*'3.физ-всего'!S99+'4.юрид-всего'!R99*'4.юрид-всего'!S99)/('3.физ-всего'!R99+'4.юрид-всего'!R99) -> 3.5259912 | T99: ='3.физ-всего'!T99+'4.юрид-всего'!T99 -> 60794 | U99: =('3.физ-всего'!T99*'3.физ-всего'!U99+'4.юрид-всего'!T99*'4.юрид-всего'!U99)/('3.физ-всего'!T99+'4.юрид-всего'!T99) -> 1.25
A100: Август | B100: ='3.физ-всего'!B100+'4.юрид-всего'!B100 -> 4234963.6 | C100: =('3.физ-всего'!B100*'3.физ-всего'!C100+'4.юрид-всего'!B100*'4.юрид-всего'!C100)/('3.физ-всего'!B100+'4.юрид-всего'!B100) -> 2.5555636 | F100: ='3.физ-всего'!F100+'4.юрид-всего'!F100 -> 2811547.5 | G100: =('3.физ-всего'!F100*'3.физ-всего'!G100+'4.юрид-всего'!F100*'4.юрид-всего'!G100)/('3.физ-всего'!F100+'4.юрид-всего'!F100) -> 0.42267938 | H100: =J100+L100+N100+P100+R100+T100 -> 1423416.1 | I100: =(J100*K100+L100*M100+N100*O100+P100*Q100+R100*S100+T100*U100)/(J100+L100+N100+P100+R100+T100) -> 6.7684606 | J100: ='3.физ-всего'!J100+'4.юрид-всего'!J100 -> 155091.3 | K100: =('3.физ-всего'!J100*'3.физ-всего'!K100+'4.юрид-всего'!J100*'4.юрид-всего'!K100)/('3.физ-всего'!J100+'4.юрид-всего'!J100) -> 7.0434217 | L100: ='3.физ-всего'!L100+'4.юрид-всего'!L100 -> 227942 | M100: =('3.физ-всего'!L100*'3.физ-всего'!M100+'4.юрид-всего'!L100*'4.юрид-всего'!M100)/('3.физ-всего'!L100+'4.юрид-всего'!L100) -> 8.0643346 | N100: ='3.физ-всего'!N100+'4.юрид-всего'!N100 -> 222140.8 | O100: =('3.физ-всего'!N100*'3.физ-всего'!O100+'4.юрид-всего'!N100*'4.юрид-всего'!O100)/('3.физ-всего'!N100+'4.юрид-всего'!N100) -> 9.2146497 | P100: ='3.физ-всего'!P100+'4.юрид-всего'!P100 -> 303551.9 | Q100: =('3.физ-всего'!P100*'3.физ-всего'!Q100+'4.юрид-всего'!P100*'4.юрид-всего'!Q100)/('3.физ-всего'!P100+'4.юрид-всего'!P100) -> 9.8030986 | R100: ='3.физ-всего'!R100+'4.юрид-всего'!R100 -> 455481.1 | S100: =('3.физ-всего'!R100*'3.физ-всего'!S100+'4.юрид-всего'!R100*'4.юрид-всего'!S100)/('3.физ-всего'!R100+'4.юрид-всего'!R100) -> 3.528251 | T100: ='3.физ-всего'!T100+'4.юрид-всего'!T100 -> 59209 | U100: =('3.физ-всего'!T100*'3.физ-всего'!U100+'4.юрид-всего'!T100*'4.юрид-всего'!U100)/('3.физ-всего'!T100+'4.юрид-всего'!T100) -> 1.25
A101: Сентябрь | B101: ='3.физ-всего'!B101+'4.юрид-всего'!B101 -> 4285061.9 | C101: =('3.физ-всего'!B101*'3.физ-всего'!C101+'4.юрид-всего'!B101*'4.юрид-всего'!C101)/('3.физ-всего'!B101+'4.юрид-всего'!B101) -> 2.5529999 | F101: ='3.физ-всего'!F101+'4.юрид-всего'!F101 -> 2810934 | G101: =('3.физ-всего'!F101*'3.физ-всего'!G101+'4.юрид-всего'!F101*'4.юрид-всего'!G101)/('3.физ-всего'!F101+'4.юрид-всего'!F101) -> 0.40938373 | H101: =J101+L101+N101+P101+R101+T101 -> 1474127.9 | I101: =(J101*K101+L101*M101+N101*O101+P101*Q101+R101*S101+T101*U101)/(J101+L101+N101+P101+R101+T101) -> 6.6405447 | J101: ='3.физ-всего'!J101+'4.юрид-всего'!J101 -> 171562.2 | K101: =('3.физ-всего'!J101*'3.физ-всего'!K101+'4.юрид-всего'!J101*'4.юрид-всего'!K101)/('3.физ-всего'!J101+'4.юрид-всего'!J101) -> 8.4784374 | L101: ='3.физ-всего'!L101+'4.юрид-всего'!L101 -> 233416.1 | M101: =('3.физ-всего'!L101*'3.физ-всего'!M101+'4.юрид-всего'!L101*'4.юрид-всего'!M101)/('3.физ-всего'!L101+'4.юрид-всего'!L101) -> 6.9989161 | N101: ='3.физ-всего'!N101+'4.юрид-всего'!N101 -> 203938 | O101: =('3.физ-всего'!N101*'3.физ-всего'!O101+'4.юрид-всего'!N101*'4.юрид-всего'!O101)/('3.физ-всего'!N101+'4.юрид-всего'!N101) -> 9.7802381 | P101: ='3.физ-всего'!P101+'4.юрид-всего'!P101 -> 311552.9 | Q101: =('3.физ-всего'!P101*'3.физ-всего'!Q101+'4.юрид-всего'!P101*'4.юрид-всего'!Q101)/('3.физ-всего'!P101+'4.юрид-всего'!P101) -> 9.638158 | R101: ='3.физ-всего'!R101+'4.юрид-всего'!R101 -> 553658.7 | S101: =('3.физ-всего'!R101*'3.физ-всего'!S101+'4.юрид-всего'!R101*'4.юрид-всего'!S101)/('3.физ-всего'!R101+'4.юрид-всего'!R101) -> 3.0766514
A102: Октябрь | B102: ='3.физ-всего'!B102+'4.юрид-всего'!B102 -> 4599377.1 | C102: =('3.физ-всего'!B102*'3.физ-всего'!C102+'4.юрид-всего'!B102*'4.юрид-всего'!C102)/('3.физ-всего'!B102+'4.юрид-всего'!B102) -> 2.5957736 | F102: ='3.физ-всего'!F102+'4.юрид-всего'!F102 -> 3100798.4 | G102: =('3.физ-всего'!F102*'3.физ-всего'!G102+'4.юрид-всего'!F102*'4.юрид-всего'!G102)/('3.физ-всего'!F102+'4.юрид-всего'!F102) -> 0.57948034 | H102: =J102+L102+N102+P102+R102+T102 -> 1498578.7 | I102: =(J102*K102+L102*M102+N102*O102+P102*Q102+R102*S102+T102*U102)/(J102+L102+N102+P102+R102+T102) -> 6.7678061 | J102: ='3.физ-всего'!J102+'4.юрид-всего'!J102 -> 144098.6 | K102: =('3.физ-всего'!J102*'3.физ-всего'!K102+'4.юрид-всего'!J102*'4.юрид-всего'!K102)/('3.физ-всего'!J102+'4.юрид-всего'!J102) -> 8.2597546 | L102: ='3.физ-всего'!L102+'4.юрид-всего'!L102 -> 253679.2 | M102: =('3.физ-всего'!L102*'3.физ-всего'!M102+'4.юрид-всего'!L102*'4.юрид-всего'!M102)/('3.физ-всего'!L102+'4.юрид-всего'!L102) -> 7.1905643 | N102: ='3.физ-всего'!N102+'4.юрид-всего'!N102 -> 260500.9 | O102: =('3.физ-всего'!N102*'3.физ-всего'!O102+'4.юрид-всего'!N102*'4.юрид-всего'!O102)/('3.физ-всего'!N102+'4.юрид-всего'!N102) -> 9.7535435 | P102: ='3.физ-всего'!P102+'4.юрид-всего'!P102 -> 293955.5 | Q102: =('3.физ-всего'!P102*'3.физ-всего'!Q102+'4.юрид-всего'!P102*'4.юрид-всего'!Q102)/('3.физ-всего'!P102+'4.юрид-всего'!P102) -> 9.8172932 | R102: ='3.физ-всего'!R102+'4.юрид-всего'!R102 -> 546344.5 | S102: =('3.физ-всего'!R102*'3.физ-всего'!S102+'4.юрид-всего'!R102*'4.юрид-всего'!S102)/('3.физ-всего'!R102+'4.юрид-всего'!R102) -> 3.1136402
A103: Ноябрь | B103: ='3.физ-всего'!B103+'4.юрид-всего'!B103 -> 4792161.4 | C103: =('3.физ-всего'!B103*'3.физ-всего'!C103+'4.юрид-всего'!B103*'4.юрид-всего'!C103)/('3.физ-всего'!B103+'4.юрид-всего'!B103) -> 2.5158095 | F103: ='3.физ-всего'!F103+'4.юрид-всего'!F103 -> 3210907.9 | G103: =('3.физ-всего'!F103*'3.физ-всего'!G103+'4.юрид-всего'!F103*'4.юрид-всего'!G103)/('3.физ-всего'!F103+'4.юрид-всего'!F103) -> 0.45240042 | H103: =J103+L103+N103+P103+R103+T103 -> 1581253.5 | I103: =(J103*K103+L103*M103+N103*O103+P103*Q103+R103*S103+T103*U103)/(J103+L103+N103+P103+R103+T103) -> 6.7057871 | J103: ='3.физ-всего'!J103+'4.юрид-всего'!J103 -> 158742.1 | K103: =('3.физ-всего'!J103*'3.физ-всего'!K103+'4.юрид-всего'!J103*'4.юрид-всего'!K103)/('3.физ-всего'!J103+'4.юрид-всего'!J103) -> 7.5713606 | L103: ='3.физ-всего'!L103+'4.юрид-всего'!L103 -> 233892.2 | M103: =('3.физ-всего'!L103*'3.физ-всего'!M103+'4.юрид-всего'!L103*'4.юрид-всего'!M103)/('3.физ-всего'!L103+'4.юрид-всего'!L103) -> 8.7210754 | N103: ='3.физ-всего'!N103+'4.юрид-всего'!N103 -> 271501.2 | O103: =('3.физ-всего'!N103*'3.физ-всего'!O103+'4.юрид-всего'!N103*'4.юрид-всего'!O103)/('3.физ-всего'!N103+'4.юрид-всего'!N103) -> 9.0107406 | P103: ='3.физ-всего'!P103+'4.юрид-всего'!P103 -> 304261.2 | Q103: =('3.физ-всего'!P103*'3.физ-всего'!Q103+'4.юрид-всего'!P103*'4.юрид-всего'!Q103)/('3.физ-всего'!P103+'4.юрид-всего'!P103) -> 9.3857253 | R103: ='3.физ-всего'!R103+'4.юрид-всего'!R103 -> 612856.8 | S103: =('3.физ-всего'!R103*'3.физ-всего'!S103+'4.юрид-всего'!R103*'4.юрид-всего'!S103)/('3.физ-всего'!R103+'4.юрид-всего'!R103) -> 3.3608588
A104: Декабрь | B104: ='3.физ-всего'!B104+'4.юрид-всего'!B104 -> 5018663.5 | C104: =('3.физ-всего'!B104*'3.физ-всего'!C104+'4.юрид-всего'!B104*'4.юрид-всего'!C104)/('3.физ-всего'!B104+'4.юрид-всего'!B104) -> 2.6856665 | F104: ='3.физ-всего'!F104+'4.юрид-всего'!F104 -> 3408202.7 | G104: =('3.физ-всего'!F104*'3.физ-всего'!G104+'4.юрид-всего'!F104*'4.юрид-всего'!G104)/('3.физ-всего'!F104+'4.юрид-всего'!F104) -> 0.38492642 | H104: =J104+L104+N104+P104+R104+T104 -> 1610460.8 | I104: =(J104*K104+L104*M104+N104*O104+P104*Q104+R104*S104+T104*U104)/(J104+L104+N104+P104+R104+T104) -> 7.5547005 | J104: ='3.физ-всего'!J104+'4.юрид-всего'!J104 -> 140616.8 | K104: =('3.физ-всего'!J104*'3.физ-всего'!K104+'4.юрид-всего'!J104*'4.юрид-всего'!K104)/('3.физ-всего'!J104+'4.юрид-всего'!J104) -> 8.379923 | L104: ='3.физ-всего'!L104+'4.юрид-всего'!L104 -> 223091.5 | M104: =('3.физ-всего'!L104*'3.физ-всего'!M104+'4.юрид-всего'!L104*'4.юрид-всего'!M104)/('3.физ-всего'!L104+'4.юрид-всего'!L104) -> 8.0097675 | N104: ='3.физ-всего'!N104+'4.юрид-всего'!N104 -> 305001.4 | O104: =('3.физ-всего'!N104*'3.физ-всего'!O104+'4.юрид-всего'!N104*'4.юрид-всего'!O104)/('3.физ-всего'!N104+'4.юрид-всего'!N104) -> 8.6836217 | P104: ='3.физ-всего'!P104+'4.юрид-всего'!P104 -> 322537.9 | Q104: =('3.физ-всего'!P104*'3.физ-всего'!Q104+'4.юрид-всего'!P104*'4.юрид-всего'!Q104)/('3.физ-всего'!P104+'4.юрид-всего'!P104) -> 9.2319272 | R104: ='3.физ-всего'!R104+'4.юрид-всего'!R104 -> 618020.6 | S104: =('3.физ-всего'!R104*'3.физ-всего'!S104+'4.юрид-всего'!R104*'4.юрид-всего'!S104)/('3.физ-всего'!R104+'4.юрид-всего'!R104) -> 5.7727463 | T104: ='3.физ-всего'!T104+'4.юрид-всего'!T104 -> 1192.6 | U104: =('3.физ-всего'!T104*'3.физ-всего'!U104+'4.юрид-всего'!T104*'4.юрид-всего'!U104)/('3.физ-всего'!T104+'4.юрид-всего'!T104) -> 6.2390324
A105: Январь 2004 г. | B105: ='3.физ-всего'!B105+'4.юрид-всего'!B105 -> 5254798.8 | C105: =('3.физ-всего'!B105*'3.физ-всего'!C105+'4.юрид-всего'!B105*'4.юрид-всего'!C105)/('3.физ-всего'!B105+'4.юрид-всего'!B105) -> 2.7434423 | F105: ='3.физ-всего'!F105+'4.юрид-всего'!F105 -> 3651984 | G105: =('3.физ-всего'!F105*'3.физ-всего'!G105+'4.юрид-всего'!F105*'4.юрид-всего'!G105)/('3.физ-всего'!F105+'4.юрид-всего'!F105) -> 0.69538043 | H105: =J105+L105+N105+P105+R105+T105 -> 1602814.8 | I105: =(J105*K105+L105*M105+N105*O105+P105*Q105+R105*S105+T105*U105)/(J105+L105+N105+P105+R105+T105) -> 7.4099136 | J105: ='3.физ-всего'!J105+'4.юрид-всего'!J105 -> 145374.9 | K105: =('3.физ-всего'!J105*'3.физ-всего'!K105+'4.юрид-всего'!J105*'4.юрид-всего'!K105)/('3.физ-всего'!J105+'4.юрид-всего'!J105) -> 8.9685305 | L105: ='3.физ-всего'!L105+'4.юрид-всего'!L105 -> 287369.8 | M105: =('3.физ-всего'!L105*'3.физ-всего'!M105+'4.юрид-всего'!L105*'4.юрид-всего'!M105)/('3.физ-всего'!L105+'4.юрид-всего'!L105) -> 7.3148362 | N105: ='3.физ-всего'!N105+'4.юрид-всего'!N105 -> 272491.6 | O105: =('3.физ-всего'!N105*'3.физ-всего'!O105+'4.юрид-всего'!N105*'4.юрид-всего'!O105)/('3.физ-всего'!N105+'4.юрид-всего'!N105) -> 8.6359103 | P105: ='3.физ-всего'!P105+'4.юрид-всего'!P105 -> 338772 | Q105: =('3.физ-всего'!P105*'3.физ-всего'!Q105+'4.юрид-всего'!P105*'4.юрид-всего'!Q105)/('3.физ-всего'!P105+'4.юрид-всего'!P105) -> 9.4020871 | R105: ='3.физ-всего'!R105+'4.юрид-всего'!R105 -> 558806.5 | S105: =('3.физ-всего'!R105*'3.физ-всего'!S105+'4.юрид-всего'!R105*'4.юрид-всего'!S105)/('3.физ-всего'!R105+'4.юрид-всего'!R105) -> 5.2477559
A106: Февраль | B106: ='3.физ-всего'!B106+'4.юрид-всего'!B106 -> 5573933.6 | C106: =('3.физ-всего'!B106*'3.физ-всего'!C106+'4.юрид-всего'!B106*'4.юрид-всего'!C106)/('3.физ-всего'!B106+'4.юрид-всего'!B106) -> 2.7211599 | F106: ='3.физ-всего'!F106+'4.юрид-всего'!F106 -> 3907057 | G106: =('3.физ-всего'!F106*'3.физ-всего'!G106+'4.юрид-всего'!F106*'4.юрид-всего'!G106)/('3.физ-всего'!F106+'4.юрид-всего'!F106) -> 0.78448111 | H106: =J106+L106+N106+P106+R106+T106 -> 1666876.6 | I106: =(J106*K106+L106*M106+N106*O106+P106*Q106+R106*S106+T106*U106)/(J106+L106+N106+P106+R106+T106) -> 7.2606168 | J106: ='3.физ-всего'!J106+'4.юрид-всего'!J106 -> 126355 | K106: =('3.физ-всего'!J106*'3.физ-всего'!K106+'4.юрид-всего'!J106*'4.юрид-всего'!K106)/('3.физ-всего'!J106+'4.юрид-всего'!J106) -> 7.3407475 | L106: ='3.физ-всего'!L106+'4.юрид-всего'!L106 -> 294414.7 | M106: =('3.физ-всего'!L106*'3.физ-всего'!M106+'4.юрид-всего'!L106*'4.юрид-всего'!M106)/('3.физ-всего'!L106+'4.юрид-всего'!L106) -> 7.6316708 | N106: ='3.физ-всего'!N106+'4.юрид-всего'!N106 -> 311834.9 | O106: =('3.физ-всего'!N106*'3.физ-всего'!O106+'4.юрид-всего'!N106*'4.юрид-всего'!O106)/('3.физ-всего'!N106+'4.юрид-всего'!N106) -> 8.3250937 | P106: ='3.физ-всего'!P106+'4.юрид-всего'!P106 -> 328287 | Q106: =('3.физ-всего'!P106*'3.физ-всего'!Q106+'4.юрид-всего'!P106*'4.юрид-всего'!Q106)/('3.физ-всего'!P106+'4.юрид-всего'!P106) -> 9.5888341 | R106: ='3.физ-всего'!R106+'4.юрид-всего'!R106 -> 605985 | S106: =('3.физ-всего'!R106*'3.физ-всего'!S106+'4.юрид-всего'!R106*'4.юрид-всего'!S106)/('3.физ-всего'!R106+'4.юрид-всего'!R106) -> 5.2545718
A107: Март | B107: ='3.физ-всего'!B107+'4.юрид-всего'!B107 -> 5331882.4 | C107: =('3.физ-всего'!B107*'3.физ-всего'!C107+'4.юрид-всего'!B107*'4.юрид-всего'!C107)/('3.физ-всего'!B107+'4.юрид-всего'!B107) -> 2.7267924 | F107: ='3.физ-всего'!F107+'4.юрид-всего'!F107 -> 3561363.5 | G107: =('3.физ-всего'!F107*'3.физ-всего'!G107+'4.юрид-всего'!F107*'4.юрид-всего'!G107)/('3.физ-всего'!F107+'4.юрид-всего'!F107) -> 0.42857163 | H107: =J107+L107+N107+P107+R107+T107 -> 1770518.9 | I107: =(J107*K107+L107*M107+N107*O107+P107*Q107+R107*S107+T107*U107)/(J107+L107+N107+P107+R107+T107) -> 7.3496178 | J107: ='3.физ-всего'!J107+'4.юрид-всего'!J107 -> 198810.6 | K107: =('3.физ-всего'!J107*'3.физ-всего'!K107+'4.юрид-всего'!J107*'4.юрид-всего'!K107)/('3.физ-всего'!J107+'4.юрид-всего'!J107) -> 7.3116126 | L107: ='3.физ-всего'!L107+'4.юрид-всего'!L107 -> 279236.2 | M107: =('3.физ-всего'!L107*'3.физ-всего'!M107+'4.юрид-всего'!L107*'4.юрид-всего'!M107)/('3.физ-всего'!L107+'4.юрид-всего'!L107) -> 6.7684516 | N107: ='3.физ-всего'!N107+'4.юрид-всего'!N107 -> 281971.1 | O107: =('3.физ-всего'!N107*'3.физ-всего'!O107+'4.юрид-всего'!N107*'4.юрид-всего'!O107)/('3.физ-всего'!N107+'4.юрид-всего'!N107) -> 8.957961 | P107: ='3.физ-всего'!P107+'4.юрид-всего'!P107 -> 360764.9 | Q107: =('3.физ-всего'!P107*'3.физ-всего'!Q107+'4.юрид-всего'!P107*'4.юрид-всего'!Q107)/('3.физ-всего'!P107+'4.юрид-всего'!P107) -> 9.8555734 | R107: ='3.физ-всего'!R107+'4.юрид-всего'!R107 -> 649736.1 | S107: =('3.физ-всего'!R107*'3.физ-всего'!S107+'4.юрид-всего'!R107*'4.юрид-всего'!S107)/('3.физ-всего'!R107+'4.юрид-всего'!R107) -> 5.5216007
A108: Апрель | B108: ='3.физ-всего'!B108+'4.юрид-всего'!B108 -> 5661295.6 | C108: =('3.физ-всего'!B108*'3.физ-всего'!C108+'4.юрид-всего'!B108*'4.юрид-всего'!C108)/('3.физ-всего'!B108+'4.юрид-всего'!B108) -> 2.5867336 | F108: ='3.физ-всего'!F108+'4.юрид-всего'!F108 -> 3888338.8 | G108: =('3.физ-всего'!F108*'3.физ-всего'!G108+'4.юрид-всего'!F108*'4.юрид-всего'!G108)/('3.физ-всего'!F108+'4.юрид-всего'!F108) -> 0.43945391 | H108: =J108+L108+N108+P108+R108+T108 -> 1772956.8 | I108: =(J108*K108+L108*M108+N108*O108+P108*Q108+R108*S108+T108*U108)/(J108+L108+N108+P108+R108+T108) -> 7.2960142 | J108: ='3.физ-всего'!J108+'4.юрид-всего'!J108 -> 131027.1 | K108: =('3.физ-всего'!J108*'3.физ-всего'!K108+'4.юрид-всего'!J108*'4.юрид-всего'!K108)/('3.физ-всего'!J108+'4.юрид-всего'!J108) -> 7.2166255 | L108: ='3.физ-всего'!L108+'4.юрид-всего'!L108 -> 322977.5 | M108: =('3.физ-всего'!L108*'3.физ-всего'!M108+'4.юрид-всего'!L108*'4.юрид-всего'!M108)/('3.физ-всего'!L108+'4.юрид-всего'!L108) -> 6.6702724 | N108: ='3.физ-всего'!N108+'4.юрид-всего'!N108 -> 302250.2 | O108: =('3.физ-всего'!N108*'3.физ-всего'!O108+'4.юрид-всего'!N108*'4.юрид-всего'!O108)/('3.физ-всего'!N108+'4.юрид-всего'!N108) -> 8.9688312 | P108: ='3.физ-всего'!P108+'4.юрид-всего'!P108 -> 375386.7 | Q108: =('3.физ-всего'!P108*'3.физ-всего'!Q108+'4.юрид-всего'!P108*'4.юрид-всего'!Q108)/('3.физ-всего'!P108+'4.юрид-всего'!P108) -> 9.59449 | R108: ='3.физ-всего'!R108+'4.юрид-всего'!R108 -> 641315.3 | S108: =('3.физ-всего'!R108*'3.физ-всего'!S108+'4.юрид-всего'!R108*'4.юрид-всего'!S108)/('3.физ-всего'!R108+'4.юрид-всего'!R108) -> 5.4935874
A109: Май | B109: ='3.физ-всего'!B109+'4.юрид-всего'!B109 -> 6202149.7 | C109: =('3.физ-всего'!B109*'3.физ-всего'!C109+'4.юрид-всего'!B109*'4.юрид-всего'!C109)/('3.физ-всего'!B109+'4.юрид-всего'!B109) -> 2.6035529 | F109: ='3.физ-всего'!F109+'4.юрид-всего'!F109 -> 4342653.7 | G109: =('3.физ-всего'!F109*'3.физ-всего'!G109+'4.юрид-всего'!F109*'4.юрид-всего'!G109)/('3.физ-всего'!F109+'4.юрид-всего'!F109) -> 0.70815484 | H109: =J109+L109+N109+P109+R109+T109 -> 1859496 | I109: =(J109*K109+L109*M109+N109*O109+P109*Q109+R109*S109+T109*U109)/(J109+L109+N109+P109+R109+T109) -> 7.030052 | J109: ='3.физ-всего'!J109+'4.юрид-всего'!J109 -> 243783.6 | K109: =('3.физ-всего'!J109*'3.физ-всего'!K109+'4.юрид-всего'!J109*'4.юрид-всего'!K109)/('3.физ-всего'!J109+'4.юрид-всего'!J109) -> 5.4800376 | L109: ='3.физ-всего'!L109+'4.юрид-всего'!L109 -> 269397.1 | M109: =('3.физ-всего'!L109*'3.физ-всего'!M109+'4.юрид-всего'!L109*'4.юрид-всего'!M109)/('3.физ-всего'!L109+'4.юрид-всего'!L109) -> 7.5141121 | N109: ='3.физ-всего'!N109+'4.юрид-всего'!N109 -> 310160.1 | O109: =('3.физ-всего'!N109*'3.физ-всего'!O109+'4.юрид-всего'!N109*'4.юрид-всего'!O109)/('3.физ-всего'!N109+'4.юрид-всего'!N109) -> 8.8651534 | P109: ='3.физ-всего'!P109+'4.юрид-всего'!P109 -> 363749.7 | Q109: =('3.физ-всего'!P109*'3.физ-всего'!Q109+'4.юрид-всего'!P109*'4.юрид-всего'!Q109)/('3.физ-всего'!P109+'4.юрид-всего'!P109) -> 9.9901632 | R109: ='3.физ-всего'!R109+'4.юрид-всего'!R109 -> 672405.5 | S109: =('3.физ-всего'!R109*'3.физ-всего'!S109+'4.юрид-всего'!R109*'4.юрид-всего'!S109)/('3.физ-всего'!R109+'4.юрид-всего'!R109) -> 4.9502787
A110: Июнь | B110: ='3.физ-всего'!B110+'4.юрид-всего'!B110 -> 5800594.9 | C110: =('3.физ-всего'!B110*'3.физ-всего'!C110+'4.юрид-всего'!B110*'4.юрид-всего'!C110)/('3.физ-всего'!B110+'4.юрид-всего'!B110) -> 2.745627 | F110: ='3.физ-всего'!F110+'4.юрид-всего'!F110 -> 3952569.8 | G110: =('3.физ-всего'!F110*'3.физ-всего'!G110+'4.юрид-всего'!F110*'4.юрид-всего'!G110)/('3.физ-всего'!F110+'4.юрид-всего'!F110) -> 0.47856099 | H110: =J110+L110+N110+P110+R110+T110 -> 1848025.1 | I110: =(J110*K110+L110*M110+N110*O110+P110*Q110+R110*S110+T110*U110)/(J110+L110+N110+P110+R110+T110) -> 7.5944445 | J110: ='3.физ-всего'!J110+'4.юрид-всего'!J110 -> 184392.4 | K110: =('3.физ-всего'!J110*'3.физ-всего'!K110+'4.юрид-всего'!J110*'4.юрид-всего'!K110)/('3.физ-всего'!J110+'4.юрид-всего'!J110) -> 6.7534131 | L110: ='3.физ-всего'!L110+'4.юрид-всего'!L110 -> 264944.7 | M110: =('3.физ-всего'!L110*'3.физ-всего'!M110+'4.юрид-всего'!L110*'4.юрид-всего'!M110)/('3.физ-всего'!L110+'4.юрид-всего'!L110) -> 7.5440007 | N110: ='3.физ-всего'!N110+'4.юрид-всего'!N110 -> 338315.9 | O110: =('3.физ-всего'!N110*'3.физ-всего'!O110+'4.юрид-всего'!N110*'4.юрид-всего'!O110)/('3.физ-всего'!N110+'4.юрид-всего'!N110) -> 8.6558403 | P110: ='3.физ-всего'!P110+'4.юрид-всего'!P110 -> 369623.4 | Q110: =('3.физ-всего'!P110*'3.физ-всего'!Q110+'4.юрид-всего'!P110*'4.юрид-всего'!Q110)/('3.физ-всего'!P110+'4.юрид-всего'!P110) -> 9.8377285 | R110: ='3.физ-всего'!R110+'4.юрид-всего'!R110 -> 690748.7 | S110: =('3.физ-всего'!R110*'3.физ-всего'!S110+'4.юрид-всего'!R110*'4.юрид-всего'!S110)/('3.физ-всего'!R110+'4.юрид-всего'!R110) -> 6.118057
A111: Июль | B111: ='3.физ-всего'!B111+'4.юрид-всего'!B111 -> 6167067.7 | C111: =('3.физ-всего'!B111*'3.физ-всего'!C111+'4.юрид-всего'!B111*'4.юрид-всего'!C111)/('3.физ-всего'!B111+'4.юрид-всего'!B111) -> 3.0314719 | F111: ='3.физ-всего'!F111+'4.юрид-всего'!F111 -> 4227180.6 | G111: =('3.физ-всего'!F111*'3.физ-всего'!G111+'4.юрид-всего'!F111*'4.юрид-всего'!G111)/('3.физ-всего'!F111+'4.юрид-всего'!F111) -> 0.89508422 | H111: =J111+L111+N111+P111+R111+T111 -> 1939887.1 | I111: =(J111*K111+L111*M111+N111*O111+P111*Q111+R111*S111+T111*U111)/(J111+L111+N111+P111+R111+T111) -> 7.6868441 | J111: ='3.физ-всего'!J111+'4.юрид-всего'!J111 -> 171162.3 | K111: =('3.физ-всего'!J111*'3.физ-всего'!K111+'4.юрид-всего'!J111*'4.юрид-всего'!K111)/('3.физ-всего'!J111+'4.юрид-всего'!J111) -> 6.6443842 | L111: ='3.физ-всего'!L111+'4.юрид-всего'!L111 -> 281305.6 | M111: =('3.физ-всего'!L111*'3.физ-всего'!M111+'4.юрид-всего'!L111*'4.юрид-всего'!M111)/('3.физ-всего'!L111+'4.юрид-всего'!L111) -> 7.7094021 | N111: ='3.физ-всего'!N111+'4.юрид-всего'!N111 -> 345394.9 | O111: =('3.физ-всего'!N111*'3.физ-всего'!O111+'4.юрид-всего'!N111*'4.юрид-всего'!O111)/('3.физ-всего'!N111+'4.юрид-всего'!N111) -> 8.4386108 | P111: ='3.физ-всего'!P111+'4.юрид-всего'!P111 -> 453155.8 | Q111: =('3.физ-всего'!P111*'3.физ-всего'!Q111+'4.юрид-всего'!P111*'4.юрид-всего'!Q111)/('3.физ-всего'!P111+'4.юрид-всего'!P111) -> 9.9422943 | R111: ='3.физ-всего'!R111+'4.юрид-всего'!R111 -> 688867.7 | S111: =('3.физ-всего'!R111*'3.физ-всего'!S111+'4.юрид-всего'!R111*'4.юрид-всего'!S111)/('3.физ-всего'!R111+'4.юрид-всего'!R111) -> 6.0760181 | T111: ='3.физ-всего'!T111+'4.юрид-всего'!T111 -> 0.8 | U111: =('3.физ-всего'!T111*'3.физ-всего'!U111+'4.юрид-всего'!T111*'4.юрид-всего'!U111)/('3.физ-всего'!T111+'4.юрид-всего'!T111) -> 12
A112: Август | B112: ='3.физ-всего'!B112+'4.юрид-всего'!B112 -> 6940996.4 | C112: =('3.физ-всего'!B112*'3.физ-всего'!C112+'4.юрид-всего'!B112*'4.юрид-всего'!C112)/('3.физ-всего'!B112+'4.юрид-всего'!B112) -> 2.8465433 | F112: ='3.физ-всего'!F112+'4.юрид-всего'!F112 -> 4926615.4 | G112: =('3.физ-всего'!F112*'3.физ-всего'!G112+'4.юрид-всего'!F112*'4.юрид-всего'!G112)/('3.физ-всего'!F112+'4.юрид-всего'!F112) -> 0.85692914 | H112: =J112+L112+N112+P112+R112+T112 -> 2014381 | I112: =(J112*K112+L112*M112+N112*O112+P112*Q112+R112*S112+T112*U112)/(J112+L112+N112+P112+R112+T112) -> 7.7125859 | J112: ='3.физ-всего'!J112+'4.юрид-всего'!J112 -> 178746 | K112: =('3.физ-всего'!J112*'3.физ-всего'!K112+'4.юрид-всего'!J112*'4.юрид-всего'!K112)/('3.физ-всего'!J112+'4.юрид-всего'!J112) -> 6.656298 | L112: ='3.физ-всего'!L112+'4.юрид-всего'!L112 -> 346584.3 | M112: =('3.физ-всего'!L112*'3.физ-всего'!M112+'4.юрид-всего'!L112*'4.юрид-всего'!M112)/('3.физ-всего'!L112+'4.юрид-всего'!L112) -> 7.5049875 | N112: ='3.физ-всего'!N112+'4.юрид-всего'!N112 -> 315931.3 | O112: =('3.физ-всего'!N112*'3.физ-всего'!O112+'4.юрид-всего'!N112*'4.юрид-всего'!O112)/('3.физ-всего'!N112+'4.юрид-всего'!N112) -> 8.4898338 | P112: ='3.физ-всего'!P112+'4.юрид-всего'!P112 -> 424902.4 | Q112: =('3.физ-всего'!P112*'3.физ-всего'!Q112+'4.юрид-всего'!P112*'4.юрид-всего'!Q112)/('3.физ-всего'!P112+'4.юрид-всего'!P112) -> 10.124213 | R112: ='3.физ-всего'!R112+'4.юрид-всего'!R112 -> 748216.2 | S112: =('3.физ-всего'!R112*'3.физ-всего'!S112+'4.юрид-всего'!R112*'4.юрид-всего'!S112)/('3.физ-всего'!R112+'4.юрид-всего'!R112) -> 6.363365 | T112: ='3.физ-всего'!T112+'4.юрид-всего'!T112 -> 0.8 | U112: =('3.физ-всего'!T112*'3.физ-всего'!U112+'4.юрид-всего'!T112*'4.юрид-всего'!U112)/('3.физ-всего'!T112+'4.юрид-всего'!T112) -> 12
A113: Сентябрь | B113: ='3.физ-всего'!B113+'4.юрид-всего'!B113 -> 6603878.2 | C113: =('3.физ-всего'!B113*'3.физ-всего'!C113+'4.юрид-всего'!B113*'4.юрид-всего'!C113)/('3.физ-всего'!B113+'4.юрид-всего'!B113) -> 3.1097241 | F113: ='3.физ-всего'!F113+'4.юрид-всего'!F113 -> 4400626.6 | G113: =('3.физ-всего'!F113*'3.физ-всего'!G113+'4.юрид-всего'!F113*'4.юрид-всего'!G113)/('3.физ-всего'!F113+'4.юрид-всего'!F113) -> 0.83958111 | H113: =J113+L113+N113+P113+R113+T113 -> 2203251.6 | I113: =(J113*K113+L113*M113+N113*O113+P113*Q113+R113*S113+T113*U113)/(J113+L113+N113+P113+R113+T113) -> 7.643955 | J113: ='3.физ-всего'!J113+'4.юрид-всего'!J113 -> 247935.8 | K113: =('3.физ-всего'!J113*'3.физ-всего'!K113+'4.юрид-всего'!J113*'4.юрид-всего'!K113)/('3.физ-всего'!J113+'4.юрид-всего'!J113) -> 6.486003 | L113: ='3.физ-всего'!L113+'4.юрид-всего'!L113 -> 313890 | M113: =('3.физ-всего'!L113*'3.физ-всего'!M113+'4.юрид-всего'!L113*'4.юрид-всего'!M113)/('3.физ-всего'!L113+'4.юрид-всего'!L113) -> 7.3393361 | N113: ='3.физ-всего'!N113+'4.юрид-всего'!N113 -> 310258.5 | O113: =('3.физ-всего'!N113*'3.физ-всего'!O113+'4.юрид-всего'!N113*'4.юрид-всего'!O113)/('3.физ-всего'!N113+'4.юрид-всего'!N113) -> 9.0132603 | P113: ='3.физ-всего'!P113+'4.юрид-всего'!P113 -> 467416.1 | Q113: =('3.физ-всего'!P113*'3.физ-всего'!Q113+'4.юрид-всего'!P113*'4.юрид-всего'!Q113)/('3.физ-всего'!P113+'4.юрид-всего'!P113) -> 9.498608 | R113: ='3.физ-всего'!R113+'4.юрид-всего'!R113 -> 800627.1 | S113: =('3.физ-всего'!R113*'3.физ-всего'!S113+'4.юрид-всего'!R113*'4.юрид-всего'!S113)/('3.физ-всего'!R113+'4.юрид-всего'!R113) -> 7.1112298 | T113: ='3.физ-всего'!T113+'4.юрид-всего'!T113 -> 63124.1 | U113: =('3.физ-всего'!T113*'3.физ-всего'!U113+'4.юрид-всего'!T113*'4.юрид-всего'!U113)/('3.физ-всего'!T113+'4.юрид-всего'!T113) -> 0.00020911189
A114: Октябрь | B114: ='3.физ-всего'!B114+'4.юрид-всего'!B114 -> 6976675.2 | C114: =('3.физ-всего'!B114*'3.физ-всего'!C114+'4.юрид-всего'!B114*'4.юрид-всего'!C114)/('3.физ-всего'!B114+'4.юрид-всего'!B114) -> 2.8607217 | F114: ='3.физ-всего'!F114+'4.юрид-всего'!F114 -> 4873818.8 | G114: =('3.физ-всего'!F114*'3.физ-всего'!G114+'4.юрид-всего'!F114*'4.юрид-всего'!G114)/('3.физ-всего'!F114+'4.юрид-всего'!F114) -> 0.95006695 | H114: =J114+L114+N114+P114+R114+T114 -> 2102856.4 | I114: =(J114*K114+L114*M114+N114*O114+P114*Q114+R114*S114+T114*U114)/(J114+L114+N114+P114+R114+T114) -> 7.2890722 | J114: ='3.физ-всего'!J114+'4.юрид-всего'!J114 -> 247567.4 | K114: =('3.физ-всего'!J114*'3.физ-всего'!K114+'4.юрид-всего'!J114*'4.юрид-всего'!K114)/('3.физ-всего'!J114+'4.юрид-всего'!J114) -> 6.5491331 | L114: ='3.физ-всего'!L114+'4.юрид-всего'!L114 -> 345761.1 | M114: =('3.физ-всего'!L114*'3.физ-всего'!M114+'4.юрид-всего'!L114*'4.юрид-всего'!M114)/('3.физ-всего'!L114+'4.юрид-всего'!L114) -> 7.203929 | N114: ='3.физ-всего'!N114+'4.юрид-всего'!N114 -> 332971.6 | O114: =('3.физ-всего'!N114*'3.физ-всего'!O114+'4.юрид-всего'!N114*'4.юрид-всего'!O114)/('3.физ-всего'!N114+'4.юрид-всего'!N114) -> 8.772163 | P114: ='3.физ-всего'!P114+'4.юрид-всего'!P114 -> 457061.6 | Q114: =('3.физ-всего'!P114*'3.физ-всего'!Q114+'4.юрид-всего'!P114*'4.юрид-всего'!Q114)/('3.физ-всего'!P114+'4.юрид-всего'!P114) -> 9.8194685 | R114: ='3.физ-всего'!R114+'4.юрид-всего'!R114 -> 657052.1 | S114: =('3.физ-всего'!R114*'3.физ-всего'!S114+'4.юрид-всего'!R114*'4.юрид-всего'!S114)/('3.физ-всего'!R114+'4.юрид-всего'!R114) -> 5.7935735 | T114: ='3.физ-всего'!T114+'4.юрид-всего'!T114 -> 62442.6 | U114: =('3.физ-всего'!T114*'3.физ-всего'!U114+'4.юрид-всего'!T114*'4.юрид-всего'!U114)/('3.физ-всего'!T114+'4.юрид-всего'!T114) -> 0.00030748239
A115: Ноябрь | B115: ='3.физ-всего'!B115+'4.юрид-всего'!B115 -> 7708613.3 | C115: =('3.физ-всего'!B115*'3.физ-всего'!C115+'4.юрид-всего'!B115*'4.юрид-всего'!C115)/('3.физ-всего'!B115+'4.юрид-всего'!B115) -> 2.6194189 | F115: ='3.физ-всего'!F115+'4.юрид-всего'!F115 -> 5579720.9 | G115: =('3.физ-всего'!F115*'3.физ-всего'!G115+'4.юрид-всего'!F115*'4.юрид-всего'!G115)/('3.физ-всего'!F115+'4.юрид-всего'!F115) -> 0.86522701 | H115: =J115+L115+N115+P115+R115+T115 -> 2128892.4 | I115: =(J115*K115+L115*M115+N115*O115+P115*Q115+R115*S115+T115*U115)/(J115+L115+N115+P115+R115+T115) -> 7.2170684 | J115: ='3.физ-всего'!J115+'4.юрид-всего'!J115 -> 208480.6 | K115: =('3.физ-всего'!J115*'3.физ-всего'!K115+'4.юрид-всего'!J115*'4.юрид-всего'!K115)/('3.физ-всего'!J115+'4.юрид-всего'!J115) -> 5.536871 | L115: ='3.физ-всего'!L115+'4.юрид-всего'!L115 -> 363920.2 | M115: =('3.физ-всего'!L115*'3.физ-всего'!M115+'4.юрид-всего'!L115*'4.юрид-всего'!M115)/('3.физ-всего'!L115+'4.юрид-всего'!L115) -> 6.9227411 | N115: ='3.физ-всего'!N115+'4.юрид-всего'!N115 -> 381638.6 | O115: =('3.физ-всего'!N115*'3.физ-всего'!O115+'4.юрид-всего'!N115*'4.юрид-всего'!O115)/('3.физ-всего'!N115+'4.юрид-всего'!N115) -> 8.5522716 | P115: ='3.физ-всего'!P115+'4.юрид-всего'!P115 -> 448863.4 | Q115: =('3.физ-всего'!P115*'3.физ-всего'!Q115+'4.юрид-всего'!P115*'4.юрид-всего'!Q115)/('3.физ-всего'!P115+'4.юрид-всего'!P115) -> 9.7970092 | R115: ='3.физ-всего'!R115+'4.юрид-всего'!R115 -> 664642.7 | S115: =('3.физ-всего'!R115*'3.физ-всего'!S115+'4.юрид-всего'!R115*'4.юрид-всего'!S115)/('3.физ-всего'!R115+'4.юрид-всего'!R115) -> 6.0623368 | T115: ='3.физ-всего'!T115+'4.юрид-всего'!T115 -> 61346.9 | U115: =('3.физ-всего'!T115*'3.физ-всего'!U115+'4.юрид-всего'!T115*'4.юрид-всего'!U115)/('3.физ-всего'!T115+'4.юрид-всего'!T115) -> 0.00037165692
A116: Декабрь | B116: ='3.физ-всего'!B116+'4.юрид-всего'!B116 -> 8205967.7 | C116: =('3.физ-всего'!B116*'3.физ-всего'!C116+'4.юрид-всего'!B116*'4.юрид-всего'!C116)/('3.физ-всего'!B116+'4.юрид-всего'!B116) -> 2.5400352 | F116: ='3.физ-всего'!F116+'4.юрид-всего'!F116 -> 5869653.8 | G116: =('3.физ-всего'!F116*'3.физ-всего'!G116+'4.юрид-всего'!F116*'4.юрид-всего'!G116)/('3.физ-всего'!F116+'4.юрид-всего'!F116) -> 0.69272982 | H116: =J116+L116+N116+P116+R116+T116 -> 2336313.9 | I116: =(J116*K116+L116*M116+N116*O116+P116*Q116+R116*S116+T116*U116)/(J116+L116+N116+P116+R116+T116) -> 7.1811253 | J116: ='3.физ-всего'!J116+'4.юрид-всего'!J116 -> 318032.2 | K116: =('3.физ-всего'!J116*'3.физ-всего'!K116+'4.юрид-всего'!J116*'4.юрид-всего'!K116)/('3.физ-всего'!J116+'4.юрид-всего'!J116) -> 5.4710832 | L116: ='3.физ-всего'!L116+'4.юрид-всего'!L116 -> 281248 | M116: =('3.физ-всего'!L116*'3.физ-всего'!M116+'4.юрид-всего'!L116*'4.юрид-всего'!M116)/('3.физ-всего'!L116+'4.юрид-всего'!L116) -> 7.6553738 | N116: ='3.физ-всего'!N116+'4.юрид-всего'!N116 -> 397533.5 | O116: =('3.физ-всего'!N116*'3.физ-всего'!O116+'4.юрид-всего'!N116*'4.юрид-всего'!O116)/('3.физ-всего'!N116+'4.юрид-всего'!N116) -> 8.4207534 | P116: ='3.физ-всего'!P116+'4.юрид-всего'!P116 -> 472872.7 | Q116: =('3.физ-всего'!P116*'3.физ-всего'!Q116+'4.юрид-всего'!P116*'4.юрид-всего'!Q116)/('3.физ-всего'!P116+'4.юрид-всего'!P116) -> 9.9189678 | R116: ='3.физ-всего'!R116+'4.юрид-всего'!R116 -> 805159.1 | S116: =('3.физ-всего'!R116*'3.физ-всего'!S116+'4.юрид-всего'!R116*'4.юрид-всего'!S116)/('3.физ-всего'!R116+'4.юрид-всего'!R116) -> 6.0190769 | T116: ='3.физ-всего'!T116+'4.юрид-всего'!T116 -> 61468.4 | U116: =('3.физ-всего'!T116*'3.физ-всего'!U116+'4.юрид-всего'!T116*'4.юрид-всего'!U116)/('3.физ-всего'!T116+'4.юрид-всего'!T116) -> 0.0011127669
A117: Январь 2005 г. | B117: ='3.физ-всего'!B117+'4.юрид-всего'!B117 -> 9196500.5 | C117: =('3.физ-всего'!B117*'3.физ-всего'!C117+'4.юрид-всего'!B117*'4.юрид-всего'!C117)/('3.физ-всего'!B117+'4.юрид-всего'!B117) -> 2.509064 | F117: ='3.физ-всего'!F117+'4.юрид-всего'!F117 -> 6404521.8 | G117: =('3.физ-всего'!F117*'3.физ-всего'!G117+'4.юрид-всего'!F117*'4.юрид-всего'!G117)/('3.физ-всего'!F117+'4.юрид-всего'!F117) -> 0.64917245 | H117: =J117+L117+N117+P117+R117+T117 -> 2791978.7 | I117: =(J117*K117+L117*M117+N117*O117+P117*Q117+R117*S117+T117*U117)/(J117+L117+N117+P117+R117+T117) -> 6.7754705 | J117: ='3.физ-всего'!J117+'4.юрид-всего'!J117 -> 146833.6 | K117: =('3.физ-всего'!J117*'3.физ-всего'!K117+'4.юрид-всего'!J117*'4.юрид-всего'!K117)/('3.физ-всего'!J117+'4.юрид-всего'!J117) -> 7.2213538 | L117: ='3.физ-всего'!L117+'4.юрид-всего'!L117 -> 375606 | M117: =('3.физ-всего'!L117*'3.физ-всего'!M117+'4.юрид-всего'!L117*'4.юрид-всего'!M117)/('3.физ-всего'!L117+'4.юрид-всего'!L117) -> 7.6270302 | N117: ='3.физ-всего'!N117+'4.юрид-всего'!N117 -> 453642.4 | O117: =('3.физ-всего'!N117*'3.физ-всего'!O117+'4.юрид-всего'!N117*'4.юрид-всего'!O117)/('3.физ-всего'!N117+'4.юрид-всего'!N117) -> 9.2245715 | P117: ='3.физ-всего'!P117+'4.юрид-всего'!P117 -> 453076.2 | Q117: =('3.физ-всего'!P117*'3.физ-всего'!Q117+'4.юрид-всего'!P117*'4.юрид-всего'!Q117)/('3.физ-всего'!P117+'4.юрид-всего'!P117) -> 10.151508 | R117: ='3.физ-всего'!R117+'4.юрид-всего'!R117 -> 1302486.9 | S117: =('3.физ-всего'!R117*'3.физ-всего'!S117+'4.юрид-всего'!R117*'4.юрид-всего'!S117)/('3.физ-всего'!R117+'4.юрид-всего'!R117) -> 4.7660663 | T117: ='3.физ-всего'!T117+'4.юрид-всего'!T117 -> 60333.6 | U117: =('3.физ-всего'!T117*'3.физ-всего'!U117+'4.юрид-всего'!T117*'4.юрид-всего'!U117)/('3.физ-всего'!T117+'4.юрид-всего'!T117) -> 0.0011767904
