Workbook

Sheet 1. общая
A2: 1-таблица. Коммерциялык банктар тарабынан берилген кредиттер жана кредиттердин орточо салмактанып алынган пайыздык чендери (бир мезгил ичинде) | B2: Таблица 1. Общий объем и средневзвешенные процентные ставки по выданным кредитам в действующих коммерческих банках (за период) | C2: Table 1. Total volume and average weighted interest rates of newly issued credits by commercial banks (for the period)
A4: (миң сом / пайыздар) | B4: (тыс. сомов / проценты) | C4: (ths of soms / percent)
A5: Мезгил аралыгы | B5: Период | C5: Period | D5: Жалпы улуттук валютада жана чет өлкө валютасында | F5: Жалпы улуттук валютада | H5: Жалпы чет өлкө валютасында
D6: Итого в нац. и ин. валюте | F6: Итого в нац. валюте | H6: Итого в ин. валюте
D7: Total in National and Foreign currencies | F7: Total in National currency | H7: Total in Foreign currency
D8: көлөм | E8: орточо салмактанып алынган чендер | F8: көлөм | G8: орточо салмактанып алынган чендер | H8: көлөм | I8: орточо салмактанып алынган чендер
D9: объем | E9: средневзв. ставка | F9: объем | G9: средневзв. ставка | H9: объем | I9: средневзв. ставка
D10: volume | E10: average weighted interest rate | F10: volume | G10: average weighted interest rate | H10: volume | I10: average weighted interest rate
A11: Үчтүн айы 1996 ж. | B11: Январь 1996 г. | C11: January 1996 | D11: ='2. отрасли_общ'!D11 -> 54428 | E11: ='2. отрасли_общ'!E11 -> 58.615446 | F11: ='3. отрасли_нац вал'!D11 -> 43517 | G11: ='3. отрасли_нац вал'!E11 -> 60.784077 | H11: ='4. отрасли_ин вал'!D11 -> 10911 | I11: ='4. отрасли_ин вал'!E11 -> 49.966163
A12: Бирдин айы | B12: Февраль | C12: February | D12: ='2. отрасли_общ'!D12 -> 45653.5 | E12: ='2. отрасли_общ'!E12 -> 54.526157 | F12: ='3. отрасли_нац вал'!D12 -> 31668.5 | G12: ='3. отрасли_нац вал'!E12 -> 56.695688 | H12: ='4. отрасли_ин вал'!D12 -> 13985 | I12: ='4. отрасли_ин вал'!E12 -> 49.613336
A13: Жалган куран | B13: Март | C13: March | D13: ='2. отрасли_общ'!D13 -> 37106.3 | E13: ='2. отрасли_общ'!E13 -> 54.602125 | F13: ='3. отрасли_нац вал'!D13 -> 24563.6 | G13: ='3. отрасли_нац вал'!E13 -> 60.693621 | H13: ='4. отрасли_ин вал'!D13 -> 12542.7 | I13: ='4. отрасли_ин вал'!E13 -> 42.672551
A14: Чын куран | B14: Апрель | C14: April | D14: ='2. отрасли_общ'!D14 -> 66848.3 | E14: ='2. отрасли_общ'!E14 -> 57.716208 | F14: ='3. отрасли_нац вал'!D14 -> 43700.8 | G14: ='3. отрасли_нац вал'!E14 -> 60.489318 | H14: ='4. отрасли_ин вал'!D14 -> 23147.5 | I14: ='4. отрасли_ин вал'!E14 -> 52.480778
A15: Бугу | B15: Май | C15: May | D15: ='2. отрасли_общ'!D15 -> 39034.3 | E15: ='2. отрасли_общ'!E15 -> 58.996474 | F15: ='3. отрасли_нац вал'!D15 -> 33541.3 | G15: ='3. отрасли_нац вал'!E15 -> 62.499518 | H15: ='4. отрасли_ин вал'!D15 -> 5493 | I15: ='4. отрасли_ин вал'!E15 -> 37.606226
A16: Кулжа | B16: Июнь | C16: June | D16: ='2. отрасли_общ'!D16 -> 38953.6 | E16: ='2. отрасли_общ'!E16 -> 55.990876 | F16: ='3. отрасли_нац вал'!D16 -> 23216.8 | G16: ='3. отрасли_нац вал'!E16 -> 64.487234 | H16: ='4. отрасли_ин вал'!D16 -> 15736.8 | I16: ='4. отрасли_ин вал'!E16 -> 43.456039
A17: Теке | B17: Июль | C17: July | D17: ='2. отрасли_общ'!D17 -> 47240.1 | E17: ='2. отрасли_общ'!E17 -> 48.502777 | F17: ='3. отрасли_нац вал'!D17 -> 40626.1 | G17: ='3. отрасли_нац вал'!E17 -> 52.078616 | H17: ='4. отрасли_ин вал'!D17 -> 6614 | I17: ='4. отрасли_ин вал'!E17 -> 26.538403
A18: Баш оона | B18: Август | C18: August | D18: ='2. отрасли_общ'!D18 -> 57133.4 | E18: ='2. отрасли_общ'!E18 -> 55.621883 | F18: ='3. отрасли_нац вал'!D18 -> 36956.8 | G18: ='3. отрасли_нац вал'!E18 -> 60.335708 | H18: ='4. отрасли_ин вал'!D18 -> 20176.6 | I18: ='4. отрасли_ин вал'!E18 -> 46.987728
A19: Аяк оона | B19: Сентябрь | C19: September | D19: ='2. отрасли_общ'!D19 -> 55070.4 | E19: ='2. отрасли_общ'!E19 -> 60.943224 | F19: ='3. отрасли_нац вал'!D19 -> 25312 | G19: ='3. отрасли_нац вал'!E19 -> 54.320451 | H19: ='4. отрасли_ин вал'!D19 -> 29758.4 | I19: ='4. отрасли_ин вал'!E19 -> 66.576444
A20: Тогуздун айы | B20: Октябрь | C20: October | D20: ='2. отрасли_общ'!D20 -> 50828.8 | E20: ='2. отрасли_общ'!E20 -> 61.105922 | F20: ='3. отрасли_нац вал'!D20 -> 23207.9 | G20: ='3. отрасли_нац вал'!E20 -> 55.299174 | H20: ='4. отрасли_ин вал'!D20 -> 27620.9 | I20: ='4. отрасли_ин вал'!E20 -> 65.984924
A21: Жетинин айы | B21: Ноябрь | C21: November | D21: ='2. отрасли_общ'!D21 -> 58241.7 | E21: ='2. отрасли_общ'!E21 -> 52.81693 | F21: ='3. отрасли_нац вал'!D21 -> 39599.7 | G21: ='3. отрасли_нац вал'!E21 -> 56.965545 | H21: ='4. отрасли_ин вал'!D21 -> 18642 | I21: ='4. отрасли_ин вал'!E21 -> 44.004362
A22: Бештин айы | B22: Декабрь | C22: December | D22: ='2. отрасли_общ'!D22 -> 65604.1 | E22: ='2. отрасли_общ'!E22 -> 52.142973 | F22: ='3. отрасли_нац вал'!D22 -> 46608.1 | G22: ='3. отрасли_нац вал'!E22 -> 58.242047 | H22: ='4. отрасли_ин вал'!D22 -> 18996 | I22: ='4. отрасли_ин вал'!E22 -> 37.17844
... A382: Бештин айы | B382: Декабрь | C382: December | D382: ='2. отрасли_общ'!D382 -> 0 | E382: ='2. отрасли_общ'!E382 -> 0 | F382: ='3. отрасли_нац вал'!D382 -> 0 | G382: ='3. отрасли_нац вал'!E382 -> 0 | H382: ='4. отрасли_ин вал'!D382 -> 0 | I382: ='4. отрасли_ин вал'!E382 -> 0
A383: * алдын ала маалыматтар | B383: * предварительные данные | C383: *preliminary data

Sheet 2. отрасли_общ
A2: 2-таблица. Тармактар боюнча коммерциялык банктар тарабынан берилген кредиттер жана кредиттердин орточо салмактанып алынган пайыздык чендери (бир мезгил ичинде) | B2: Таблица 2. Общий объем и средневзвешенные процентные ставки по выданным кредитам в разрезе отраслей (за период) | C2: Table 2. Total volume and average weighted interest rates of newly issued credits by sectors (for the period)
A4: (миң сом / пайыздар) | B4: (тыс. сомов / проценты) | C4: (ths of soms / percent)
A5: Мезгил аралыгы | B5: Период | C5: Period | D5: Жалпы улуттук валютада жана чет өлкө валютасында | F5: Өнөр жайы | H5: Айыл чарбасы | J5: Транспорт | L5: Байланыш | N5: Cоода | P5: Даярдоо жана кайра иштетүү ишканалары | R5: Курулуш | T5: Ипотека | V5: Керектөө кредиттери | X5: Социалдык кызмат көрсөтүүлөр | Z5: Жана башкалаp
D6: Итого в нац. и ин. валюте | F6: Промышленность | H6: Сельское хоз-во | J6: Транспорт | L6: Связь | N6: Торговля и коммерческие операции | P6: Заготовка и переработка | R6: Строительство | T6: Ипотека | V6: Потребительские кредиты | X6: Социальные услуги | Z6: Прочие
D7: Total in National and Foreign currencies | F7: Industry | H7: Agriculture | J7: Transport | L7: Communication | N7: Trade | P7: Procurement and processing | R7: Construction | T7: Mortgage | V7: Consumer loans | X7: Social services | Z7: Others
D8: көлөм | E8: орточо салмактанып алынган чендер | F8: көлөм | G8: орточо салмактанып алынган чендер | H8: көлөм | I8: орточо салмактанып алынган чендер | J8: көлөм | K8: орточо салмактанып алынган чендер | L8: көлөм | M8: орточо салмактанып алынган чендер | N8: көлөм | O8: орточо салмактанып алынган чендер | P8: көлөм | Q8: орточо салмактанып алынган чендер | R8: көлөм | S8: орточо салмактанып алынган чендер | T8: көлөм | U8: орточо салмактанып алынган чендер | V8: көлөм | W8: орточо салмактанып алынган чендер | X8: көлөм | Y8: орточо салмактанып алынган чендер | Z8: көлөм | AA8: орточо салмактанып алынган чендер
D9: объем | E9: средневзв. ставка | F9: объем | G9: средневзв. ставка | H9: объем | I9: средневзв. ставка | J9: объем | K9: средневзв. ставка | L9: объем | M9: средневзв. ставка | N9: объем | O9: средневзв. ставка | P9: объем | Q9: средневзв. ставка | R9: объем | S9: средневзв. ставка | T9: объем | U9: средневзв. ставка | V9: объем | W9: средневзв. ставка | X9: объем | Y9: средневзв. ставка | Z9: объем | AA9: средневзв. ставка
D10: volume | E10: average weighted interest rate | F10: volume | G10: average weighted interest rate | H10: volume | I10: average weighted interest rate | J10: volume | K10: average weighted interest rate | L10: volume | M10: average weighted interest rate | N10: volume | O10: average weighted interest rate | P10: volume | Q10: average weighted interest rate | R10: volume | S10: average weighted interest rate | T10: volume | U10: average weighted interest rate | V10: volume | W10: average weighted interest rate | X10: volume | Y10: average weighted interest rate | Z10: volume | AA10: average weighted interest rate
A11: Үчтүн айы 1996 ж. | B11: Январь 1996 г. | C11: January 1996 | D11: 54428 | E11: 58.615446 | F11: 4206 | G11: 40.103661 | H11: 310 | I11: 75 | J11: 1247 | K11: 64.073777 | L11: 13 | M11: 31 | N11: 16689 | O11: 48.920295 | P11: 72 | Q11: 110 | R11: 515 | S11: 68.462136 | V11: 4049 | W11: 75.645345 | Z11: 27327 | AA11: 64.119578
A12: Бирдин айы | B12: Февраль | C12: February | D12: 45653.5 | E12: 54.526157 | F12: 7572 | G12: 53.666033 | H12: 2598 | I12: 30.333333 | J12: 100 | K12: 70 | L12: 703 | M12: 12.31 | N12: 15473 | O12: 47.634602 | R12: 368 | S12: 74.375 | V12: 3233.5 | W12: 89.557291 | Z12: 15606 | AA12: 59.879987
A13: Жалган куран | B13: Март | C13: March | D13: 37106.3 | E13: 54.602125 | F13: 4367 | G13: 65.316922 | H13: 2534 | I13: 24.746646 | J13: 70 | K13: 80 | N13: 8387 | O13: 51.35958 | R13: 505 | S13: 83.772277 | V13: 2235.6 | W13: 64.337645 | Z13: 19007.7 | AA13: 55.537745
A14: Чын куран | B14: Апрель | C14: April | D14: 66848.3 | E14: 57.716208 | F14: 6539 | G14: 57.899679 | H14: 395 | I14: 65.063291 | J14: 250 | K14: 62 | L14: 350 | M14: 65 | N14: 28195.8 | O14: 50.884728 | P14: 50 | Q14: 50 | R14: 938 | S14: 83.679104 | V14: 2504 | W14: 57.698682 | Z14: 27626.5 | AA14: 63.542986
A15: Бугу | B15: Май | C15: May | D15: 39034.3 | E15: 58.996474 | F15: 1400 | G15: 63.607143 | H15: 610 | I15: 63.278689 | J15: 140 | K15: 70 | L15: 30 | M15: 60 | N15: 15196.5 | O15: 62.439404 | P15: 100 | Q15: 55 | R15: 1220 | S15: 56.318443 | V15: 4294 | W15: 64.298701 | Z15: 16043.8 | AA15: 53.881784
A16: Кулжа | B16: Июнь | C16: June | D16: 38953.6 | E16: 55.990876 | F16: 2104 | G16: 58.287072 | H16: 156 | I16: 60 | N16: 7592 | O16: 51.407745 | P16: 120 | Q16: 28 | R16: 511 | S16: 68.176125 | V16: 13576.6 | W16: 66.864764 | Z16: 14894 | AA16: 47.85608
A17: Теке | B17: Июль | C17: July | D17: 47240.1 | E17: 48.502777 | F17: 3041 | G17: 48.672805 | H17: 31 | I17: 65 | J17: 300 | K17: 60 | L17: 2296 | M17: 9 | N17: 18172 | O17: 38.568457 | P17: 600 | Q17: 54.666667 | R17: 432 | S17: 61.070463 | V17: 7348.5 | W17: 66.622854 | Z17: 15019.6 | AA17: 56.789566
A18: Баш оона | B18: Август | C18: August | D18: 57133.4 | E18: 55.621883 | F18: 3056 | G18: 51.268979 | H18: 80 | I18: 57.5 | J18: 3038 | K18: 9 | L18: 590.1 | M18: 13 | N18: 12081 | O18: 44.301631 | R18: 41 | S18: 67.439024 | V18: 19971.3 | W18: 65.2014 | Z18: 18276 | AA18: 62.456022
A19: Аяк оона | B19: Сентябрь | C19: September | D19: 55070.4 | E19: 60.943224 | F19: 1359 | G19: 43.849154 | H19: 253 | I19: 67.628458 | N19: 15512 | O19: 40.835095 | P19: 1723 | Q19: 30 | R19: 825 | S19: 70 | V19: 23982 | W19: 79.911836 | Z19: 11416.4 | AA19: 54.32072
A20: Тогуздун айы | B20: Октябрь | C20: October | D20: 50828.8 | E20: 61.105922 | F20: 2529.4 | G20: 46.138215 | J20: 200 | K20: 70 | N20: 18004 | O20: 43.499611 | R20: 882 | S20: 31.839116 | V20: 19637.4 | W20: 83.927536 | Z20: 9576 | AA20: 53.871241
A21: Жетинин айы | B21: Ноябрь | C21: November | D21: 58241.7 | E21: 52.81693 | F21: 10884 | G21: 38.577067 | J21: 25 | K21: 65 | N21: 14421 | O21: 49.743014 | R21: 3062 | S21: 39.813651 | V21: 4655.7 | W21: 64.052409 | Z21: 25194 | AA21: 60.220204
A22: Бештин айы | B22: Декабрь | C22: December | D22: 65604.1 | E22: 52.142973 | F22: 6031 | G22: 54.391676 | H22: 1728 | I22: 14.322917 | J22: 735 | K22: 53.251701 | N22: 13730 | O22: 45.314785 | R22: 3254 | S22: 73.423479 | V22: 10469.1 | W22: 65.348583 | Z22: 29657 | AA22: 50.026427
A23: Үчтүн айы 1997 ж. | B23: Январь 1997 г. | C23: January 1997 | D23: 55700.1 | E23: 49.996214 | F23: 5197.8 | G23: 53.321059 | H23: 140 | I23: 57 | J23: 2813 | K23: 18.406328 | N23: 25518 | O23: 44.116081 | P23: 300 | Q23: 50 | R23: 191 | S23: 61.39 | V23: 6014.3 | W23: 65.727144 | Z23: 15526 | AA23: 57.972223
A24: Бирдин айы | B24: Февраль | C24: February | D24: 52519.9 | E24: 57.330642 | F24: 4690 | G24: 26.620458 | H24: 515 | I24: 51 | J24: 1200 | K24: 62.08 | N24: 16225 | O24: 54.201695 | P24: 470 | Q24: 50 | R24: 535 | S24: 65.05 | V24: 21830.9 | W24: 66.007073 | Z24: 7054 | AA24: 57.650241
A25: Жалган куран | B25: Март | C25: March | D25: 98752 | E25: 63.831802 | F25: 3527 | G25: 54.385407 | J25: 349 | K25: 70 | N25: 31632 | O25: 53.420157 | R25: 994 | S25: 44.943662 | V25: 24971 | W25: 71.028917 | Z25: 37279 | AA25: 69.187256
A26: Чын куран | B26: Апрель | C26: April | D26: 58672.5 | E26: 57.811019 | F26: 4420 | G26: 45.3701 | N26: 19673 | O26: 49.921252 | R26: 1561 | S26: 36.591928 | V26: 15599.5 | W26: 56.359476 | Z26: 17419 | AA26: 73.079236
A27: Бугу | B27: Май | C27: May | D27: 118484.9 | E27: 51.316368 | F27: 6274 | G27: 57.669841 | H27: 66 | I27: 0 | J27: 4373.9 | K27: 36.421237 | N27: 37600 | O27: 47.686684 | R27: 2607 | S27: 52.922194 | V27: 23781.1 | W27: 48.675319 | Z27: 43782.9 | AA27: 56.426427
A28: Кулжа | B28: Июнь | C28: June | D28: 110883.5 | E28: 62.437515 | F28: 14281.9 | G28: 40.249069 | H28: 285 | I28: 65.96 | J28: 9427 | K28: 38.28 | N28: 19019.6 | O28: 52.812433 | R28: 383 | S28: 52.001044 | V28: 19408 | W28: 62.125437 | Z28: 48079 | AA28: 77.764992
A29: Теке | B29: Июль | C29: July | D29: 119101.9 | E29: 63.131711 | F29: 1304 | G29: 54.505567 | H29: 1189 | I29: 53.713204 | J29: 1210.7 | K29: 35 | N29: 23941.2 | O29: 47.550232 | R29: 5114.5 | S29: 44.531522 | V29: 29679.1 | W29: 70.985423 | Z29: 56663.4 | AA29: 68.274757
A30: Баш оона | B30: Август | C30: August | D30: 120063.2 | E30: 61.502382 | F30: 7574 | G30: 50.329067 | H30: 571 | I30: 20.164623 | J30: 7448.7 | K30: 33.981916 | N30: 13714 | O30: 48.554772 | R30: 950 | S30: 61.83 | V30: 21438.5 | W30: 67.693208 | Z30: 68367 | AA30: 66.735238
A31: Аяк оона | B31: Сентябрь | C31: September | D31: 177335.6 | E31: 55.641614 | F31: 2280 | G31: 43.225789 | H31: 4500 | I31: 60 | J31: 5535.8 | K31: 32.828498 | N31: 40596.1 | O31: 47.082914 | R31: 1888.9 | S31: 28.003451 | V31: 24976.3 | W31: 59.721053 | Z31: 97558.5 | AA31: 60.076061
A32: Тогуздун айы | B32: Октябрь | C32: October | D32: 143930.1 | E32: 55.845151 | F32: 5058.5 | G32: 56.811728 | H32: 540 | I32: 68.24 | J32: 2090.3 | K32: 38.751351 | N32: 22563 | O32: 44.284452 | R32: 572 | S32: 41.311189 | V32: 20540.7 | W32: 55.908678 | Z32: 92565.6 | AA32: 59.000692
A33: Жетинин айы | B33: Ноябрь | C33: November | D33: 182181.1 | E33: 52.033916 | F33: 9316.2 | G33: 49.170555 | H33: 17 | I33: 15 | J33: 12658.9 | K33: 44.099241 | N33: 63975.6 | O33: 43.759084 | R33: 696 | S33: 32.791667 | V33: 23703.4 | W33: 57.005439 | Z33: 71814 | AA33: 59.727952
A34: Бештин айы | B34: Декабрь | C34: December | D34: 320566.6 | E34: 43.750549 | F34: 17079.5 | G34: 44.783766 | H34: 1134 | I34: 32.636684 | J34: 22692 | K34: 36.046915 | N34: 49244.4 | O34: 44.792202 | P34: 1481.1 | Q34: 40 | R34: 4501 | S34: 46.118085 | V34: 74102.9 | W34: 37.155862 | Z34: 150331.7 | AA34: 47.754201
A35: Үчтүн айы 1998 ж. | B35: Январь 1998 г. | C35: January 1998 | D35: 241890.4 | E35: 45.119276 | F35: 7517 | G35: 47.16 | H35: 100 | I35: 60 | J35: 13704 | K35: 38.069396 | N35: 49910.4 | O35: 38.903795 | R35: 849.9 | S35: 35.284857 | V35: 34460.8 | W35: 46.160872 | Z35: 135348.3 | AA35: 47.79864
A36: Бирдин айы | B36: Февраль | C36: February | D36: 230325.5 | E36: 43.6295 | F36: 5586 | G36: 49.814386 | H36: 5075 | I36: 30.472867 | J36: 14545.9 | K36: 37.59568 | N36: 43097.8 | O36: 36.665982 | P36: 1324.4 | Q36: 40 | R36: 3491.2 | S36: 42.593564 | V36: 35778.2 | W36: 45.864267 | Z36: 121427 | AA36: 46.500623
A37: Жалган куран | B37: Март | C37: March | D37: 314207.4 | E37: 51.271368 | F37: 9944 | G37: 35.548697 | H37: 581 | I37: 46.700516 | J37: 8103 | K37: 37.435073 | L37: 1248.1 | M37: 55 | N37: 36740.3 | O37: 41.066676 | R37: 7449 | S37: 29.40245 | V37: 63479.4 | W37: 43.888517 | Z37: 186662.6 | AA37: 58.092219
A38: Чын куран | B38: Апрель | C38: April | D38: 319374.7 | E38: 42.645025 | F38: 13099.2 | G38: 44.857961 | H38: 1130.6 | I38: 39.420838 | J38: 7414 | K38: 45.734634 | N38: 64939.4 | O38: 40.078238 | R38: 16990.3 | S38: 27.463882 | V38: 38882 | W38: 43.079252 | Z38: 176919.2 | AA38: 44.677072
A39: Бугу | B39: Май | C39: May | D39: 451460.7 | E39: 51.468943 | F39: 33339.3 | G39: 55.644846 | H39: 595.5 | I39: 49.081612 | J39: 90 | K39: 65.56 | L39: 996 | M39: 40 | N39: 291370.5 | O39: 56.596699 | P39: 1805 | Q39: 40 | R39: 12662.8 | S39: 20.310514 | V39: 46719 | W39: 48.649305 | Z39: 63882.6 | AA39: 34.65899
A40: Кулжа | B40: Июнь | C40: June | D40: 182816.4 | E40: 42.432046 | F40: 15643.5 | G40: 41.611697 | H40: 175 | I40: 60 | J40: 2226 | K40: 57.86 | N40: 101548.7 | O40: 44.076367 | P40: 3218.7 | Q40: 44.905344 | R40: 6415.9 | S40: 22.968126 | V40: 26819 | W40: 45.534789 | Z40: 26769.6 | AA40: 36.535816
A41: Теке | B41: Июль | C41: July | D41: 215605.9 | E41: 44.843237 | F41: 23493.2 | G41: 47.103236 | H41: 1869.1 | I41: 36.77 | J41: 7328.2 | K41: 32.729183 | L41: 1948.1 | M41: 40 | N41: 93820 | O41: 48.296639 | P41: 3325 | Q41: 36 | R41: 14169.8 | S41: 24.015724 | V41: 40383.5 | W41: 47.664631 | Z41: 29269 | AA41: 43.027824
A42: Баш оона | B42: Август | C42: August | D42: 154691.3 | E42: 45.967958 | F42: 1045.1 | G42: 51.494967 | H42: 3320 | I42: 64.97 | J42: 1321 | K42: 65.059803 | L42: 1587 | M42: 50 | N42: 53128.1 | O42: 48.818932 | R42: 1119.1 | S42: 41.145117 | V42: 45888.9 | W42: 42.006255 | Z42: 47282.1 | AA42: 44.598564
A43: Аяк оона | B43: Сентябрь | C43: September | D43: 295434.2 | E43: 46.083683 | F43: 4883.4 | G43: 52.411164 | H43: 155 | I43: 50 | J43: 460 | K43: 75.65 | N43: 208037 | O43: 46.645044 | R43: 1009.7 | S43: 30.156439 | V43: 33503.3 | W43: 48.468734 | Z43: 47385.8 | AA43: 41.330985
A44: Тогуздун айы | B44: Октябрь | C44: October | D44: 261025.5 | E44: 44.680242 | F44: 6178 | G44: 37.363341 | H44: 4592 | I44: 56.57 | J44: 569 | K44: 62.46 | N44: 155999.2 | O44: 49.922092 | R44: 7471.2 | S44: 20.62 | V44: 35605.9 | W44: 47.848289 | Z44: 50610.2 | AA44: 29.462712
A45: Жетинин айы | B45: Ноябрь | C45: November | D45: 256187.5 | E45: 48.93425 | F45: 12060.4 | G45: 43.151635 | H45: 519 | I45: 51.386127 | L45: 2037.7 | M45: 40.08 | N45: 181104.4 | O45: 48.649077 | R45: 1455 | S45: 32 | V45: 24021.2 | W45: 51.755259 | Z45: 34989.8 | AA45: 51.633511
A46: Бештин айы | B46: Декабрь | C46: December | D46: 292970.7 | E46: 32.783794 | F46: 20856.1 | G46: 29.616265 | H46: 978.4 | I46: 64.88 | N46: 47864.6 | O46: 26.808729 | R46: 117638 | S46: 20.012502 | V46: 53010.4 | W46: 46.319567 | Z46: 52623.2 | AA46: 53.782466
A47: Үчтүн айы 1999 ж. | B47: Январь 1999 г. | C47: January 1999 | D47: 69182 | E47: 54.718127 | F47: 983 | G47: 34.501526 | H47: 319 | I47: 53.64 | J47: 6501 | K47: 66.824052 | L47: 3000 | M47: 70 | N47: 10749.7 | O47: 67.324359 | R47: 832.4 | S47: 43.52 | V47: 18129.6 | W47: 50.535608 | Z47: 28667.3 | AA47: 49.324297
A48: Бирдин айы | B48: Февраль | C48: February | D48: 100445.3 | E48: 51.067518 | F48: 1575 | G48: 83.17 | H48: 213 | I48: 51.72507 | J48: 6345.2 | K48: 55.475588 | N48: 2253.5 | O48: 51.432387 | P48: 2750.5 | Q48: 28 | R48: 7058 | S48: 56.820482 | V48: 35851.5 | W48: 57.147318 | Z48: 44398.6 | AA48: 44.883488
A49: Жалган куран | B49: Март | C49: March | D49: 122421.5 | E49: 44.48094 | F49: 6831 | G49: 60.248019 | H49: 847.6 | I49: 42.331949 | J49: 3799 | K49: 20.227902 | N49: 8684.9 | O49: 47.933216 | P49: 371 | Q49: 45 | R49: 9171.5 | S49: 38.787754 | V49: 33103.6 | W49: 51.865464 | Z49: 59612.9 | AA49: 40.52351
A50: Чын куран | B50: Апрель | C50: April | D50: 144027.8 | E50: 43.81741 | F50: 10810.4 | G50: 51.665855 | H50: 1660 | I50: 39.04 | J50: 3631.8 | K50: 49.903703 | L50: 1749 | M50: 48.576329 | N50: 13080.7 | O50: 28.049033 | P50: 2000 | Q50: 60 | R50: 9425.1 | S50: 60.910435 | V50: 56706.4 | W50: 47.560408 | Z50: 44964.4 | AA50: 36.995104
A51: Бугу | B51: Май | C51: May | D51: 100517.8 | E51: 41.028791 | F51: 30324 | G51: 34.521165 | H51: 3092.6 | I51: 43.860907 | J51: 7805.2 | K51: 60.350343 | N51: 6816.8 | O51: 30.978359 | P51: 862 | Q51: 45 | R51: 3000.3 | S51: 40.577545 | V51: 17186.8 | W51: 52.774008 | Z51: 31430.1 | AA51: 37.922201
A52: Кулжа | B52: Июнь | C52: June | D52: 87956.8 | E52: 42.295822 | F52: 566 | G52: 40 | H52: 710 | I52: 61.97 | J52: 2155.7 | K52: 53.191827 | L52: 2107.1 | M52: 30 | N52: 9264.8 | O52: 61.50965 | R52: 5986 | S52: 44.540224 | V52: 30952.1 | W52: 41.436094 | Z52: 36215.1 | AA52: 37.458706
A53: Теке | B53: Июль | C53: July | D53: 123131.9 | E53: 35.175176 | F53: 30139 | G53: 17.36982 | H53: 3303 | I53: 35.826079 | L53: 3000 | M53: 55 | N53: 16627.2 | O53: 40.567972 | P53: 2812.1 | Q53: 16 | R53: 9278.7 | S53: 28.998589 | V53: 31302.9 | W53: 50.247346 | Z53: 26669 | AA53: 36.104236
A54: Баш оона | B54: Август | C54: August | D54: 134266.2 | E54: 44.595712 | F54: 7569.4 | G54: 41.125134 | H54: 295 | I54: 55.58 | J54: 4373.5 | K54: 38.832628 | L54: 2124 | M54: 32 | N54: 25660 | O54: 39.201656 | P54: 849.4 | Q54: 50 | R54: 2129 | S54: 54.88868 | V54: 39707.7 | W54: 54.687733 | Z54: 51558.2 | AA54: 40.446642
A55: Аяк оона | B55: Сентябрь | C55: September | D55: 144360.8 | E55: 40.335015 | F55: 18865.6 | G55: 30.005463 | H55: 453 | I55: 25.609272 | L55: 7867.1 | M55: 34.65 | N55: 28168.8 | O55: 42.669959 | R55: 9184 | S55: 22.658998 | V55: 43949.2 | W55: 49.022403 | Z55: 35873.1 | AA55: 39.242098
A56: Тогуздун айы | B56: Октябрь | C56: October | D56: 123912.5 | E56: 40.26723 | F56: 6701.2 | G56: 33.496041 | H56: 8320 | I56: 36.29 | N56: 21668.3 | O56: 43.444267 | P56: 1203.5 | Q56: 50 | R56: 525 | S56: 54.71 | V56: 30745.8 | W56: 48.304118 | Z56: 54748.7 | AA56: 35.575115
A57: Жетинин айы | B57: Ноябрь | C57: November | D57: 145005.4 | E57: 35.581616 | F57: 22114.1 | G57: 22.907642 | H57: 3684 | I57: 15.28 | J57: 7489.4 | K57: 30.3 | L57: 6231.1 | M57: 40.161965 | N57: 15411.5 | O57: 47.407139 | P57: 2491.6 | Q57: 50 | R57: 10872.4 | S57: 25.83 | V57: 25521.2 | W57: 46.445341 | Z57: 51190.1 | AA57: 35.126111
A58: Бештин айы | B58: Декабрь | C58: December | D58: 114095.4 | E58: 40.104741 | F58: 10170.6 | G58: 31.824543 | H58: 3970.1 | I58: 36.41552 | J58: 11136 | K58: 34.501193 | L58: 3566 | M58: 35.04 | N58: 22599 | O58: 39.475812 | P58: 1692.9 | Q58: 50 | R58: 9353 | S58: 39.458873 | V58: 27955 | W58: 43.871038 | Z58: 23652.8 | AA58: 43.385158
A59: Үчтүн айы 2000 ж. | B59: Январь 2000 г. | C59: January 2000 | D59: 131697.4 | E59: 34.728913 | F59: 27053.6 | G59: 23.091888 | H59: 120 | I59: 38.366667 | J59: 3358 | K59: 72.98 | L59: 2339 | M59: 30 | N59: 31548.2 | O59: 33.091341 | R59: 768 | S59: 25.625 | V59: 31040 | W59: 41.492388 | Z59: 35470.6 | AA59: 36.020324
A60: Бирдин айы | B60: Февраль | C60: February | D60: 114991.4 | E60: 34.562539 | F60: 32656.8 | G60: 19.789067 | H60: 1979.7 | I60: 40.754078 | J60: 6921.7 | K60: 35.882038 | N60: 20797.2 | O60: 40.715965 | P60: 30 | Q60: 60 | R60: 602 | S60: 30.365449 | V60: 29530 | W60: 42.349879 | Z60: 22474 | AA60: 39.234725
A61: Жалган куран | B61: Март | C61: March | D61: 140117 | E61: 34.983231 | F61: 18474.1 | G61: 16.66457 | H61: 1646.3 | I61: 26.211833 | J61: 6688 | K61: 40.04131 | L61: 1609.4 | M61: 35.913434 | N61: 39251.1 | O61: 35.642108 | R61: 2730 | S61: 32.061026 | V61: 32049 | W61: 40.386163 | Z61: 37669.1 | AA61: 38.339304
A62: Чын куран | B62: Апрель | C62: April | D62: 141930.1 | E62: 35.578908 | F62: 31042.8 | G62: 13.093191 | H62: 1026 | I62: 40.904971 | J62: 10267.5 | K62: 36.101707 | L62: 4648 | M62: 39.886747 | N62: 14332.6 | O62: 45.317581 | R62: 185 | S62: 10.46 | V62: 46171.8 | W62: 45.183613 | Z62: 34256.4 | AA62: 38.172559
A63: Бугу | B63: Май | C63: May | D63: 138319.3 | E63: 40.718403 | F63: 14974 | G63: 41.940186 | H63: 694 | I63: 44.486628 | J63: 1947 | K63: 38.646944 | L63: 3622.5 | M63: 37.635845 | N63: 14505.3 | O63: 49.153833 | P63: 4825 | Q63: 40 | R63: 1930 | S63: 34 | V63: 42751.1 | W63: 44.320769 | Z63: 53070.4 | AA63: 35.708982
A64: Кулжа | B64: Июнь | C64: June | D64: 164790.1 | E64: 36.696241 | F64: 4985.9 | G64: 56.393259 | H64: 1319 | I64: 46.735785 | J64: 3042 | K64: 50.657673 | L64: 6032.8 | M64: 40.980802 | N64: 32637.9 | O64: 38.281092 | R64: 3543.5 | S64: 34.925648 | V64: 40959.9 | W64: 39.001198 | Z64: 72269.1 | AA64: 32.275304
A65: Теке | B65: Июль | C65: July | D65: 233201.3 | E65: 35.297213 | F65: 38197.6 | G65: 30.945136 | H65: 1349 | I65: 43.94 | J65: 5923.7 | K65: 40.146436 | L65: 11503.5 | M65: 34.710368 | N65: 42145.7 | O65: 36.241382 | R65: 6039.3 | S65: 32.045185 | V65: 39257.1 | W65: 42.147688 | Z65: 88785.4 | AA65: 33.53276
A66: Баш оона | B66: Август | C66: August | D66: 224957.1 | E66: 34.291674 | F66: 19969.8 | G66: 34.517942 | H66: 4675.7 | I66: 34.283457 | J66: 16007.4 | K66: 34.24 | L66: 7275.6 | M66: 29.82 | N66: 31662.7 | O66: 40.06124 | P66: 700 | Q66: 48 | R66: 3627.8 | S66: 30.864309 | V66: 37081.1 | W66: 43.859239 | Z66: 103957 | AA66: 29.430074
A67: Аяк оона | B67: Сентябрь | C67: September | D67: 315453.3 | E67: 32.159575 | F67: 16878.3 | G67: 32.588726 | H67: 4632.5 | I67: 30 | J67: 25012.3 | K67: 22.073545 | L67: 5000 | M67: 0 | N67: 66872.1 | O67: 44.369931 | R67: 2956.3 | S67: 31.054086 | V67: 44780.4 | W67: 37.033288 | Z67: 149321.4 | AA67: 28.037753
A68: Тогуздун айы | B68: Октябрь | C68: October | D68: 218878.3 | E68: 33.143059 | F68: 19912.4 | G68: 39.748029 | H68: 9232.4 | I68: 26.867945 | J68: 4108 | K68: 31.0289 | L68: 2000 | M68: 45 | N68: 36554.2 | O68: 37.261722 | P68: 1208 | Q68: 40 | R68: 400 | S68: 73.25 | V68: 49780.7 | W68: 37.019268 | Z68: 95682.6 | AA68: 28.373085
A69: Жетинин айы | B69: Ноябрь | C69: November | D69: 166439.3 | E69: 36.923301 | F69: 12844.3 | G69: 47.520398 | H69: 170 | I69: 41.88 | J69: 15652 | K69: 30 | L69: 1386.6 | M69: 12 | N69: 45784.7 | O69: 37.364263 | R69: 2176.6 | S69: 19.680878 | V69: 44254.2 | W69: 38.605868 | Z69: 44170.9 | AA69: 35.763623
A70: Бештин айы | B70: Декабрь | C70: December | D70: 257521.4 | E70: 35.018098 | F70: 36566 | G70: 42.025745 | H70: 658 | I70: 36.690426 | J70: 3182.8 | K70: 34.367155 | N70: 52689.5 | O70: 28.758144 | R70: 6681.3 | S70: 38.429468 | V70: 47400.1 | W70: 37.276128 | Z70: 110343.7 | AA70: 34.520334
A71: Үчтүн айы 2001 ж. | B71: Январь 2001 г. | C71: January 2001 | D71: 189713 | E71: 33.911617 | F71: 29651.3 | G71: 33.51738 | H71: 534 | I71: 40.504213 | J71: 1937 | K71: 36 | L71: 7333 | M71: 24 | N71: 22469.4 | O71: 28.959671 | R71: 2125.3 | S71: 34.248923 | V71: 44448.1 | W71: 35.049653 | Z71: 81214.9 | AA71: 35.595797
A72: Бирдин айы | B72: Февраль | C72: February | D72: 205083.7 | E72: 34.946595 | F72: 31946.2 | G72: 33.651168 | H72: 1402 | I72: 36.129151 | J72: 3100 | K72: 45.48 | L72: 4908.9 | M72: 25 | N72: 43103.5 | O72: 38.941082 | P72: 50 | Q72: 53 | R72: 5743 | S72: 32.286331 | V72: 41848.7 | W72: 38.791314 | Z72: 72981.4 | AA72: 31.341451
A73: Жалган куран | B73: Март | C73: March | D73: 191562.3 | E73: 33.839627 | F73: 12150.4 | G73: 37.852961 | H73: 4227 | I73: 33.681524 | J73: 15733.1 | K73: 30.440347 | N73: 27247 | O73: 33.261723 | R73: 1734 | S73: 37.822157 | V73: 44421.6 | W73: 39.981494 | Z73: 86049.2 | AA73: 30.834112
A74: Чын куран | B74: Апрель | C74: April | D74: 274385.5 | E74: 30.870119 | F74: 19754.9 | G74: 32.920432 | H74: 15590.1 | I74: 30.058096 | J74: 6620 | K74: 36.564955 | L74: 10616.5 | M74: 25.214695 | N74: 53868.8 | O74: 31.694816 | P74: 4463.3 | Q74: 32.240495 | R74: 6286 | S74: 34.335417 | V74: 48014.7 | W74: 34.081443 | Z74: 109171.2 | AA74: 28.747504
A75: Бугу | B75: Май | C75: May | D75: 201987.6 | E75: 31.0609 | F75: 37822.9 | G75: 20.307956 | H75: 4713.6 | I75: 35.329529 | J75: 20068.6 | K75: 34.979598 | L75: 6473 | M75: 26.081415 | N75: 32171.4 | O75: 33.374378 | P75: 40 | Q75: 50 | R75: 3246.8 | S75: 32.37835 | V75: 25455.6 | W75: 36.525443 | Z75: 71995.7 | AA75: 32.748446
A76: Кулжа | B76: Июнь | C76: June | D76: 259045.4 | E76: 28.567109 | F76: 22705.6 | G76: 32.660971 | H76: 1757 | I76: 32.764821 | J76: 16270.8 | K76: 36.886162 | L76: 12603.1 | M76: 23.526784 | N76: 40859 | O76: 32.623116 | P76: 163 | Q76: 45 | R76: 5086.3 | S76: 19.465525 | V76: 50766.1 | W76: 27.386521 | Z76: 108834.5 | AA76: 26.410504
A77: Теке | B77: Июль | C77: July | D77: 255165.2 | E77: 24.419535 | F77: 34007.1 | G77: 25.971831 | H77: 1515 | I77: 32.46297 | J77: 22965.2 | K77: 30.126396 | L77: 13420 | M77: 24.445976 | N77: 65057.3 | O77: 25.589201 | P77: 1871 | Q77: 30.569214 | R77: 4534.2 | S77: 32.87288 | V77: 26979.4 | W77: 32.491539 | Z77: 84816 | AA77: 18.049809
A78: Баш оона | B78: Август | C78: August | D78: 241542.9 | E78: 25.21299 | F78: 44560.3 | G78: 22.198767 | H78: 2007.6 | I78: 22.918195 | J78: 15780.5 | K78: 40.136065 | L78: 3797.6 | M78: 25.235096 | N78: 63241.2 | O78: 27.178367 | P78: 122 | Q78: 44.098361 | R78: 3243.3 | S78: 29.878682 | V78: 30891 | W78: 34.929486 | Z78: 77899.4 | AA78: 18.309191
A79: Аяк оона | B79: Сентябрь | C79: September | D79: 150650.4 | E79: 29.646712 | F79: 11303.4 | G79: 29.144558 | H79: 317 | I79: 34.596215 | J79: 10391 | K79: 44.816187 | L79: 13678.9 | M79: 20.686327 | N79: 48754.9 | O79: 28.321916 | P79: 4541.2 | Q79: 31.23 | R79: 1282.8 | S79: 26.667191 | V79: 27799.6 | W79: 34.822278 | Z79: 32581.6 | AA79: 26.152631
A80: Тогуздун айы | B80: Октябрь | C80: October | D80: 184306.3 | E80: 31.017692 | F80: 21251 | G80: 29.520052 | H80: 3882.9 | I80: 35.38619 | J80: 19647.2 | K80: 39.69785 | L80: 3201.6 | M80: 24.554843 | N80: 45234.4 | O80: 29.248831 | P80: 2645.5 | Q80: 30.540541 | R80: 7625.3 | S80: 35.579027 | V80: 36236.6 | W80: 34.506308 | Z80: 44581.8 | AA80: 26.196728
A81: Жетинин айы | B81: Ноябрь | C81: November | D81: 266018.7 | E81: 30.054573 | F81: 75662.6 | G81: 27.990249 | H81: 300 | I81: 43.81 | J81: 10100 | K81: 45 | L81: 3448.5 | M81: 23.65 | N81: 54227.4 | O81: 29.937432 | P81: 7542.4 | Q81: 38.36362 | R81: 4941.5 | S81: 25.265313 | V81: 42870.6 | W81: 29.352471 | Z81: 66925.7 | AA81: 30.36413
A82: Бештин айы | B82: Декабрь | C82: December | D82: 278518.3 | E82: 23.735679 | F82: 59357.2 | G82: 23.214179 | H82: 1900 | I82: 33.9395 | J82: 9000 | K82: 45 | L82: 2257 | M82: 26.323438 | N82: 61387.3 | O82: 22.977668 | P82: 11862.8 | Q82: 32.625134 | R82: 18709 | S82: 19.89128 | V82: 37023.4 | W82: 33.692557 | Z82: 77021.6 | AA82: 16.710226
A83: Үчтүн айы 2002 ж. | B83: Январь 2002 г. | C83: January 2002 | D83: 242081.2 | E83: 24.223224 | F83: 26816.6 | G83: 22.401674 | H83: 964 | I83: 35.697095 | J83: 9100 | K83: 45.16 | L83: 8081.6 | M83: 17.069151 | N83: 77797.3 | O83: 25.793758 | P83: 614 | Q83: 40.013844 | R83: 5468.6 | S83: 18.649222 | V83: 23308.8 | W83: 33.056884 | Z83: 89930.3 | AA83: 19.750666
A84: Бирдин айы | B84: Февраль | C84: February | D84: 211629.3 | E84: 25.467089 | F84: 60803.1 | G84: 19.780669 | H84: 3774.3 | I84: 28.233453 | J84: 16813.7 | K84: 42.87 | L84: 2390.1 | M84: 19.21 | N84: 41847.2 | O84: 23.294576 | P84: 414 | Q84: 40 | R84: 20833.8 | S84: 21.408939 | V84: 28772.3 | W84: 34.168655 | Z84: 35980.8 | AA84: 24.816873
A85: Жалган куран | B85: Март | C85: March | D85: 237848.8 | E85: 23.346617 | F85: 8996.9 | G85: 21.795252 | H85: 943 | I85: 33.661569 | J85: 25742.9 | K85: 38.108746 | N85: 56066 | O85: 27.170955 | P85: 103 | Q85: 38.737864 | R85: 1006.9 | S85: 16.43 | V85: 35197 | W85: 31.139303 | Z85: 109793.1 | AA85: 15.519176
A86: Чын куран | B86: Апрель | C86: April | D86: 280484.8 | E86: 26.02942 | F86: 45470.6 | G86: 19.821045 | H86: 2413.6 | I86: 30.820632 | J86: 23261.2 | K86: 42.295214 | L86: 6725 | M86: 22.856506 | N86: 45860.9 | O86: 29.440319 | P86: 348 | Q86: 39.310345 | R86: 13965.1 | S86: 20.078499 | V86: 46562.9 | W86: 33.940988 | Z86: 95877.5 | AA86: 20.476095
A87: Бугу | B87: Май | C87: May | D87: 308546.9 | E87: 19.520639 | F87: 91966.2 | G87: 5.0827497 | H87: 8203 | I87: 29.007497 | J87: 25201.9 | K87: 36.704821 | L87: 12702.8 | M87: 21.511966 | N87: 66876.4 | O87: 25.416124 | P87: 958 | Q87: 28 | R87: 550.3 | S87: 28.04 | V87: 31567.5 | W87: 30.277505 | Z87: 70520.8 | AA87: 20.160113
A88: Кулжа | B88: Июнь | C88: June | D88: 202131 | E88: 26.734989 | F88: 26040.7 | G88: 23.526871 | H88: 2422 | I88: 33.06 | J88: 38121.3 | K88: 35.42 | L88: 7995.6 | M88: 16.650908 | N88: 35217 | O88: 27.518274 | P88: 413 | Q88: 30.130751 | R88: 1740.7 | S88: 28.543706 | V88: 29776.5 | W88: 31.540969 | Z88: 60404.2 | AA88: 20.812181
A89: Теке | B89: Июль | C89: July | D89: 243484.3 | E89: 29.104693 | F89: 54307.7 | G89: 25.761351 | H89: 1938 | I89: 16.565015 | J89: 38341 | K89: 38 | N89: 78013.8 | O89: 25.591785 | P89: 1901.3 | Q89: 30.525956 | R89: 2555 | S89: 22.007828 | V89: 28710.5 | W89: 35.128985 | Z89: 37717 | AA89: 28.608506
A90: Баш оона | B90: Август | C90: August | D90: 238190.4 | E90: 27.579577 | F90: 11684.9 | G90: 24.84825 | H90: 848 | I90: 42.66645 | J90: 34569.1 | K90: 35.74558 | L90: 2310 | M90: 20 | N90: 79007.3 | O90: 30.504602 | P90: 1860.8 | Q90: 29.211898 | R90: 13007 | S90: 17.0591 | V90: 60105.8 | W90: 21.07767 | Z90: 34797.5 | AA90: 28.961218
A91: Аяк оона | B91: Сентябрь | C91: September | D91: 207312 | E91: 29.019738 | F91: 12257.2 | G91: 22.450626 | H91: 1110 | I91: 40.981441 | J91: 16065.4 | K91: 35 | L91: 14500.6 | M91: 18.771706 | N91: 29914.6 | O91: 31.202188 | P91: 351 | Q91: 31.139601 | R91: 9859.1 | S91: 15.71 | V91: 44159 | W91: 22.639793 | Z91: 79095.1 | AA91: 34.915842
A92: Тогуздун айы | B92: Октябрь | C92: October | D92: 341704.4 | E92: 26.963218 | F92: 29547.7 | G92: 22.226427 | H92: 10795 | I92: 23.602089 | J92: 20453.2 | K92: 35 | N92: 83326.4 | O92: 24.122546 | P92: 21480.3 | Q92: 27.557233 | R92: 8995.2 | S92: 22.39927 | V92: 64727.2 | W92: 24.226366 | Z92: 102379.4 | AA92: 31.400125
A93: Жетинин айы | B93: Ноябрь | C93: November | D93: 306636.5 | E93: 24.914789 | F93: 36593.7 | G93: 20.52037 | H93: 2901.1 | I93: 34.702833 | J93: 13680.8 | K93: 34.27 | N93: 95917.6 | O93: 24.690465 | P93: 3663.4 | Q93: 31.594871 | R93: 6463.3 | S93: 21.821303 | V93: 51668.3 | W93: 26.742554 | Z93: 95748.3 | AA93: 24.150331
A94: Бештин айы | B94: Декабрь | C94: December | D94: 595775.1 | E94: 21.519642 | F94: 64275.9 | G94: 20.807777 | H94: 4297 | I94: 28.248499 | J94: 28212.8 | K94: 26.596726 | L94: 17500 | M94: 18.14 | N94: 135102.8 | O94: 23.525087 | P94: 11248 | Q94: 24.307249 | R94: 10528.6 | S94: 19.926671 | V94: 41711.8 | W94: 28.906611 | Z94: 282898.2 | AA94: 19.183342
A95: Үчтүн айы 2003 ж. | B95: Январь 2003 г. | C95: January 2003 | D95: 321680.3 | E95: 20.577948 | F95: 52497.6 | G95: 27.688848 | H95: 2274 | I95: 34.41073 | J95: 16302.3 | K95: 25.451727 | L95: 21000 | M95: 17.71 | N95: 73408.4 | O95: 24.792643 | P95: 977 | Q95: 38.036111 | R95: 2617.8 | S95: 26.810165 | V95: 44928.2 | W95: 22.155597 | Z95: 107675 | AA95: 12.797477
A96: Бирдин айы | B96: Февраль | C96: February | D96: 293274.5 | E96: 21.236339 | F96: 40827.7 | G96: 22.790623 | H96: 6882 | I96: 18.353872 | J96: 186.1 | K96: 29.298764 | L96: 18443.6 | M96: 17.26505 | N96: 67927.1 | O96: 26.959308 | P96: 5283 | Q96: 25.343015 | R96: 12442.5 | S96: 19.462297 | V96: 47204.5 | W96: 28.213591 | Z96: 94078 | AA96: 13.90296
A97: Жалган куран | B97: Март | C97: March | D97: 389853.4 | E97: 21.884133 | F97: 54910.7 | G97: 20.682042 | H97: 9972 | I97: 27.738357 | J97: 16750 | K97: 27.11 | L97: 19509.1 | M97: 17.235957 | N97: 62891.4 | O97: 27.709694 | P97: 2822.4 | Q97: 29.661186 | R97: 19287.7 | S97: 28.221882 | V97: 42729.4 | W97: 29.840024 | Z97: 160980.7 | AA97: 16.668537
A98: Чын куран | B98: Апрель | C98: April | D98: 413393.6 | E98: 21.969974 | F98: 96613.4 | G98: 23.623576 | H98: 11249.3 | I98: 21.943703 | J98: 243.4 | K98: 25 | L98: 17376.8 | M98: 17.878781 | N98: 135330.6 | O98: 26.020856 | P98: 5326 | Q98: 26.328577 | R98: 2942 | S98: 26.811353 | T98: 8763.1 | U98: 20.195484 | V98: 19639.7 | W98: 29.092566 | X98: 6026.2 | Y98: 33.38004 | Z98: 109883.1 | AA98: 14.073404
A99: Бугу | B99: Май | C99: May | D99: 467858.5 | E99: 21.630183 | F99: 51185 | G99: 21.147625 | H99: 3105.6 | I99: 28.821001 | J99: 31262.1 | K99: 27.05868 | L99: 26266 | M99: 17.144598 | N99: 184753.8 | O99: 24.380975 | P99: 7184.6 | Q99: 21.090555 | R99: 1219 | S99: 23.456932 | T99: 6448.2 | U99: 19.061141 | V99: 26661.3 | W99: 23.30965 | Z99: 129772.9 | AA99: 17.127602
A100: Кулжа | B100: Июнь | C100: June | D100: 381329.3 | E100: 20.555133 | F100: 67330.4 | G100: 19.829264 | H100: 11092.3 | I100: 24.263458 | J100: 582.4 | K100: 25.509135 | L100: 20033 | M100: 16.023062 | N100: 138273.6 | O100: 25.246548 | P100: 5843.6 | Q100: 28.177413 | R100: 4000 | S100: 24.756528 | T100: 11468.2 | U100: 16.234504 | V100: 24630.5 | W100: 23.314786 | Z100: 98075.3 | AA100: 14.099291
A101: Теке | B101: Июль | C101: July | D101: 406850.9 | E101: 22.185017 | F101: 97427 | G101: 20.242584 | H101: 4127.9 | I101: 27.055743 | J101: 15728.7 | K101: 19.531366 | L101: 40094.9 | M101: 16.654437 | N101: 124640.2 | O101: 26.599831 | P101: 16269.8 | Q101: 16.459145 | R101: 11101.7 | S101: 21.592801 | T101: 10920.8 | U101: 19.65769 | V101: 25893.5 | W101: 27.239283 | Z101: 60646.4 | AA101: 20.183603
A102: Баш оона | B102: Август | C102: August | D102: 324147.9 | E102: 22.442683 | F102: 63907.8 | G102: 19.454576 | H102: 6290 | I102: 25.364094 | J102: 1040.6 | K102: 24.447819 | L102: 21276.8 | M102: 16.240036 | N102: 115603.9 | O102: 25.412972 | P102: 6563.1 | Q102: 26.252305 | R102: 11449 | S102: 20.366355 | T102: 2976.4 | U102: 16.921272 | V102: 28339.4 | W102: 25.956668 | X102: 50 | Y102: 25 | Z102: 66650.9 | AA102: 20.562595
...

Sheet 3. отрасли_нац вал
A2: 3-таблица. Тармактар боюнча коммерциялык банктар тарабынан улуттук валютадагы берилген кредиттер жана кредиттердин орточо салмактанып алынган пайыздык чендери (бир мезгил ичинде) | B2: Таблица 3. Общий объем и средневзвешенные процентные ставки по выданным кредитам в разрезе отраслей в национальной валюте (за период) | C2: Table 3. Total volume and average weighted interest rates of newly issued credits by sectors in National currency (for the period)
A4: (миң сом / пайыздар) | B4: (тыс. сомов / проценты) | C4: (ths of soms / percent)
A5: Мезгил аралыгы | B5: Период | C5: Period | D5: Жалпы улуттук валютада | F5: Өнөр жайы | H5: Айыл чарбасы | J5: Транспорт | L5: Байланыш | N5: Cоода | P5: Даярдоо жана кайра иштетүү ишканалары | R5: Курулуш | T5: Ипотека | V5: Керектөө кредиттери | X5: Социалдык кызмат көрсөтүүлөр | Z5: Жана башкалаp | AC5: Керектөө кредиттерин эске албагандагы орточо салмактанып алынган чендер
D6: Итого в нац. валюте | F6: Промышленность | H6: Сельское хоз-во | J6: Транспорт | L6: Связь | N6: Торговля и коммерческие операции | P6: Заготовка и переработка | R6: Строительство | T6: Ипотека | V6: Потребительские кредиты | X6: Социальные услуги | Z6: Прочие
D7: Total in National currency | F7: Industry | H7: Agriculture | J7: Transport | L7: Communication | N7: Trade | P7: Procurement and processing | R7: Construction | T7: Mortgage | V7: Consumer loans | X7: Social services | Z7: Others | AC7: Средневзв. ставка без учета потребительских кредитов
D8: көлөм | E8: орточо салмактанып алынган чендер | F8: көлөм | G8: орточо салмактанып алынган чендер | H8: көлөм | I8: орточо салмактанып алынган чендер | J8: көлөм | K8: орточо салмактанып алынган чендер | L8: көлөм | M8: орточо салмактанып алынган чендер | N8: көлөм | O8: орточо салмактанып алынган чендер | P8: көлөм | Q8: орточо салмактанып алынган чендер | R8: көлөм | S8: орточо салмактанып алынган чендер | T8: көлөм | U8: орточо салмактанып алынган чендер | V8: көлөм | W8: орточо салмактанып алынган чендер | X8: көлөм | Y8: орточо салмактанып алынган чендер | Z8: көлөм | AA8: орточо салмактанып алынган чендер
D9: объем | E9: средневзв. ставка | F9: объем | G9: средневзв. ставка | H9: объем | I9: средневзв. ставка | J9: объем | K9: средневзв. ставка | L9: объем | M9: средневзв. ставка | N9: объем | O9: средневзв. ставка | P9: объем | Q9: средневзв. ставка | R9: объем | S9: средневзв. ставка | T9: объем | U9: средневзв. ставка | V9: объем | W9: средневзв. ставка | X9: объем | Y9: средневзв. ставка | Z9: объем | AA9: средневзв. ставка | AC9: Average weighted interest rate excluding consumer loans
D10: volume | E10: average weighted interest rate | F10: volume | G10: average weighted interest rate | H10: volume | I10: average weighted interest rate | J10: volume | K10: average weighted interest rate | L10: volume | M10: average weighted interest rate | N10: volume | O10: average weighted interest rate | P10: volume | Q10: average weighted interest rate | R10: volume | S10: average weighted interest rate | T10: volume | U10: average weighted interest rate | V10: volume | W10: average weighted interest rate | X10: volume | Y10: average weighted interest rate | Z10: volume | AA10: average weighted interest rate
A11: Үчтүн айы 1996 ж. | B11: Январь 1996 г. | C11: January 1996 | D11: 43517 | E11: 60.784077 | F11: 3862 | G11: 36.193682 | H11: 310 | I11: 75 | J11: 1247 | K11: 64.073777 | L11: 13 | M11: 31 | N11: 12625 | O11: 50.228911 | P11: 72 | Q11: 110 | R11: 515 | S11: 68.462136 | V11: 2955 | W11: 81.825719 | Z11: 21918 | AA11: 67.647354 | AC11: =(F11*G11+H11*I11+J11*K11+L11*M11+N11*O11+P11*Q11+R11*S11+T11*U11+X11*Y11+Z11*AA11)/(F11+H11+J11+L11+N11+P11+R11+T11+X11+Z11) -> 59.251164
A12: Бирдин айы | B12: Февраль | C12: February | D12: 31668.5 | E12: 56.695688 | F12: 4964 | G12: 58.277438 | H12: 2598 | I12: 30.333333 | J12: 100 | K12: 70 | N12: 14105 | O12: 48.472045 | R12: 368 | S12: 74.375 | V12: 2690.5 | W12: 85.944062 | Z12: 6843 | AA12: 69.862853 | AC12: =(F12*G12+H12*I12+J12*K12+L12*M12+N12*O12+P12*Q12+R12*S12+T12*U12+X12*Y12+Z12*AA12)/(F12+H12+J12+L12+N12+P12+R12+T12+X12+Z12) -> 53.980085
A13: Жалган куран | B13: Март | C13: March | D13: 24563.6 | E13: 60.693621 | F13: 4367 | G13: 65.316922 | H13: 2534 | I13: 24.746646 | J13: 70 | K13: 80 | N13: 4020 | O13: 55.64796 | R13: 505 | S13: 83.772277 | V13: 2178.6 | W13: 64.974406 | Z13: 10889 | AA13: 67.016604 | AC13: =(F13*G13+H13*I13+J13*K13+L13*M13+N13*O13+P13*Q13+R13*S13+T13*U13+X13*Y13+Z13*AA13)/(F13+H13+J13+L13+N13+P13+R13+T13+X13+Z13) -> 60.276998
A14: Чын куран | B14: Апрель | C14: April | D14: 43700.8 | E14: 60.489318 | F14: 6539 | G14: 57.899679 | H14: 395 | I14: 65.063291 | J14: 250 | K14: 62 | L14: 350 | M14: 65 | N14: 20177.8 | O14: 53.544668 | P14: 50 | Q14: 50 | R14: 938 | S14: 83.679104 | V14: 2237 | W14: 60.251453 | Z14: 12764 | AA14: 70.878134 | AC14: =(F14*G14+H14*I14+J14*K14+L14*M14+N14*O14+P14*Q14+R14*S14+T14*U14+X14*Y14+Z14*AA14)/(F14+H14+J14+L14+N14+P14+R14+T14+X14+Z14) -> 60.502151
A15: Бугу | B15: Май | C15: May | D15: 33541.3 | E15: 62.499518 | F15: 1400 | G15: 63.607143 | H15: 610 | I15: 63.278689 | J15: 140 | K15: 70 | L15: 30 | M15: 60 | N15: 15196.5 | O15: 62.439404 | P15: 100 | Q15: 55 | R15: 1220 | S15: 56.318443 | V15: 3813 | W15: 67.438662 | Z15: 11031.8 | AA15: 61.35468 | AC15: =(F15*G15+H15*I15+J15*K15+L15*M15+N15*O15+P15*Q15+R15*S15+T15*U15+X15*Y15+Z15*AA15)/(F15+H15+J15+L15+N15+P15+R15+T15+X15+Z15) -> 61.866015
A16: Кулжа | B16: Июнь | C16: June | D16: 23216.8 | E16: 64.487234 | F16: 2104 | G16: 58.287072 | H16: 156 | I16: 60 | N16: 4420 | O16: 56.723891 | P16: 120 | Q16: 28 | R16: 511 | S16: 68.176125 | V16: 7203.8 | W16: 67.905155 | Z16: 8702 | AA16: 67.467071 | AC16: =(F16*G16+H16*I16+J16*K16+L16*M16+N16*O16+P16*Q16+R16*S16+T16*U16+X16*Y16+Z16*AA16)/(F16+H16+J16+L16+N16+P16+R16+T16+X16+Z16) -> 62.949607
A17: Теке | B17: Июль | C17: July | D17: 40626.1 | E17: 52.078616 | F17: 3041 | G17: 48.672805 | H17: 31 | I17: 65 | J17: 300 | K17: 60 | N17: 16769 | O17: 38.867017 | P17: 600 | Q17: 54.666667 | R17: 432 | S17: 61.070463 | V17: 6135.5 | W17: 72.77093 | Z17: 13317.6 | AA17: 59.341966 | AC17: =(F17*G17+H17*I17+J17*K17+L17*M17+N17*O17+P17*Q17+R17*S17+T17*U17+X17*Y17+Z17*AA17)/(F17+H17+J17+L17+N17+P17+R17+T17+X17+Z17) -> 48.397679
A18: Баш оона | B18: Август | C18: August | D18: 36956.8 | E18: 60.335708 | F18: 2497 | G18: 60.731678 | H18: 80 | I18: 57.5 | N18: 7178 | O18: 45.873781 | R18: 41 | S18: 67.439024 | V18: 12016.3 | W18: 67.879367 | Z18: 15144.5 | AA18: 61.135188 | AC18: =(F18*G18+H18*I18+J18*K18+L18*M18+N18*O18+P18*Q18+R18*S18+T18*U18+X18*Y18+Z18*AA18)/(F18+H18+J18+L18+N18+P18+R18+T18+X18+Z18) -> 56.701183
A19: Аяк оона | B19: Сентябрь | C19: September | D19: 25312 | E19: 54.320451 | F19: 810 | G19: 67.469136 | H19: 253 | I19: 67.628458 | N19: 7416 | O19: 41.342907 | P19: 1723 | Q19: 30 | R19: 825 | S19: 70 | V19: 4660 | W19: 77.036521 | Z19: 9625 | AA19: 54.874812 | AC19: =(F19*G19+H19*I19+J19*K19+L19*M19+N19*O19+P19*Q19+R19*S19+T19*U19+X19*Y19+Z19*AA19)/(F19+H19+J19+L19+N19+P19+R19+T19+X19+Z19) -> 49.194706
A20: Тогуздун айы | B20: Октябрь | C20: October | D20: 23207.9 | E20: 55.299174 | F20: 1401 | G20: 67.080657 | J20: 200 | K20: 70 | N20: 10750 | O20: 48.905581 | R20: 882 | S20: 31.839116 | V20: 3718.9 | W20: 73.702869 | Z20: 6256 | AA20: 55.544597 | AC20: =(F20*G20+H20*I20+J20*K20+L20*M20+N20*O20+P20*Q20+R20*S20+T20*U20+X20*Y20+Z20*AA20)/(F20+H20+J20+L20+N20+P20+R20+T20+X20+Z20) -> 51.787372
A21: Жетинин айы | B21: Ноябрь | C21: November | D21: 39599.7 | E21: 56.965545 | F21: 9844 | G21: 36.313775 | J21: 25 | K21: 65 | N21: 3718 | O21: 68.190963 | R21: 3062 | S21: 39.813651 | V21: 3496.7 | W21: 76.16261 | Z21: 19454 | AA21: 64.509073 | AC21: =(F21*G21+H21*I21+J21*K21+L21*M21+N21*O21+P21*Q21+R21*S21+T21*U21+X21*Y21+Z21*AA21)/(F21+H21+J21+L21+N21+P21+R21+T21+X21+Z21) -> 55.106243
A22: Бештин айы | B22: Декабрь | C22: December | D22: 46608.1 | E22: 58.242047 | F22: 6031 | G22: 54.391676 | H22: 1728 | I22: 14.322917 | J22: 735 | K22: 53.251701 | N22: 8799 | O22: 48.131151 | R22: 3254 | S22: 73.423479 | V22: 7823.1 | W22: 67.387813 | Z22: 18238 | AA22: 62.123992 | AC22: =(F22*G22+H22*I22+J22*K22+L22*M22+N22*O22+P22*Q22+R22*S22+T22*U22+X22*Y22+Z22*AA22)/(F22+H22+J22+L22+N22+P22+R22+T22+X22+Z22) -> 56.397307
A23: Үчтүн айы 1997 ж. | B23: Январь 1997 г. | C23: January 1997 | D23: 33550.9 | E23: 54.270492 | F23: 3620 | G23: 50.41 | H23: 140 | I23: 57 | J23: 490 | K23: 63 | N23: 15128 | O23: 46.22 | P23: 300 | Q23: 50 | R23: 191 | S23: 61.39 | V23: 4813.9 | W23: 68.76 | Z23: 8868 | AA23: 61.18 | AC23: =(F23*G23+H23*I23+J23*K23+L23*M23+N23*O23+P23*Q23+R23*S23+T23*U23+X23*Y23+Z23*AA23)/(F23+H23+J23+L23+N23+P23+R23+T23+X23+Z23) -> 51.843271
A24: Бирдин айы | B24: Февраль | C24: February | D24: 30183.4 | E24: 59.774025 | F24: 2505 | G24: 41.99 | H24: 515 | I24: 51 | J24: 1200 | K24: 62.08 | N24: 10950 | O24: 60.49 | P24: 470 | Q24: 50 | R24: 535 | S24: 65.05 | V24: 7084.4 | W24: 67.48 | Z24: 6924 | AA24: 57.7 | AC24: =(F24*G24+H24*I24+J24*K24+L24*M24+N24*O24+P24*Q24+R24*S24+T24*U24+X24*Y24+Z24*AA24)/(F24+H24+J24+L24+N24+P24+R24+T24+X24+Z24) -> 57.410624
A25: Жалган куран | B25: Март | C25: March | D25: 55023 | E25: 71.556019 | F25: 2919 | G25: 63.07 | J25: 349 | K25: 70 | N25: 12457 | O25: 66.2 | R25: 280 | S25: 55 | V25: 8013 | W25: 67.16 | Z25: 31005 | AA25: 75.81 | AC25: =(F25*G25+H25*I25+J25*K25+L25*M25+N25*O25+P25*Q25+R25*S25+T25*U25+X25*Y25+Z25*AA25)/(F25+H25+J25+L25+N25+P25+R25+T25+X25+Z25) -> 72.305335
A26: Чын куран | B26: Апрель | C26: April | D26: 31594.5 | E26: 56.778585 | F26: 3101 | G26: 60.84 | N26: 17072 | O26: 51.4 | R26: 848 | S26: 27 | V26: 5791.5 | W26: 71.16 | Z26: 4782 | AA26: 61.21 | AC26: =(F26*G26+H26*I26+J26*K26+L26*M26+N26*O26+P26*Q26+R26*S26+T26*U26+X26*Y26+Z26*AA26)/(F26+H26+J26+L26+N26+P26+R26+T26+X26+Z26) -> 53.550667
A27: Бугу | B27: Май | C27: May | D27: 67558.1 | E27: 58.885331 | F27: 3902 | G27: 64.79 | H27: 66 | I27: 0 | J27: 300 | K27: 78.3 | N27: 25369 | O27: 50.19 | R27: 1012 | S27: 60.68 | V27: 17591.1 | W27: 47.11 | Z27: 19318 | AA27: 79.64 | AC27: =(F27*G27+H27*I27+J27*K27+L27*M27+N27*O27+P27*Q27+R27*S27+T27*U27+X27*Y27+Z27*AA27)/(F27+H27+J27+L27+N27+P27+R27+T27+X27+Z27) -> 63.030888
A28: Кулжа | B28: Июнь | C28: June | D28: 80262.5 | E28: 62.678952 | F28: 8154.9 | G28: 52.26 | H28: 285 | I28: 65.96 | J28: 9427 | K28: 38.28 | N28: 18498.6 | O28: 52.61 | R28: 210 | S28: 60.24 | V28: 13267 | W28: 65.94 | Z28: 30420 | AA28: 77.72 | AC28: =(F28*G28+H28*I28+J28*K28+L28*M28+N28*O28+P28*Q28+R28*S28+T28*U28+X28*Y28+Z28*AA28)/(F28+H28+J28+L28+N28+P28+R28+T28+X28+Z28) -> 62.033172
A29: Теке | B29: Июль | C29: July | D29: 67460.7 | E29: 74.055643 | F29: 1123 | G29: 53.62 | H29: 325 | I29: 37 | N29: 9150.8 | O29: 57.65 | R29: 1313.5 | S29: 69.22 | V29: 19194 | W29: 74.42 | Z29: 36354.4 | AA29: 79.13 | AC29: =(F29*G29+H29*I29+J29*K29+L29*M29+N29*O29+P29*Q29+R29*S29+T29*U29+X29*Y29+Z29*AA29)/(F29+H29+J29+L29+N29+P29+R29+T29+X29+Z29) -> 73.910751
A30: Баш оона | B30: Август | C30: August | D30: 44586 | E30: 71.275489 | F30: 6715 | G30: 52.29 | H30: 125 | I30: 60 | J30: 500 | K30: 60 | N30: 5013 | O30: 61.25 | R30: 950 | S30: 61.83 | V30: 7891 | W30: 68.13 | Z30: 23392 | AA30: 80.62 | AC30: =(F30*G30+H30*I30+J30*K30+L30*M30+N30*O30+P30*Q30+R30*S30+T30*U30+X30*Y30+Z30*AA30)/(F30+H30+J30+L30+N30+P30+R30+T30+X30+Z30) -> 71.951905
A31: Аяк оона | B31: Сентябрь | C31: September | D31: 62881.1 | E31: 65.72869 | F31: 1720 | G31: 53.84 | N31: 18783.1 | O31: 54 | R31: 1365.9 | S31: 23.41 | V31: 13010.9 | W31: 68.27 | Z31: 28001.2 | AA31: 75.21 | AC31: =(F31*G31+H31*I31+J31*K31+L31*M31+N31*O31+P31*Q31+R31*S31+T31*U31+X31*Y31+Z31*AA31)/(F31+H31+J31+L31+N31+P31+R31+T31+X31+Z31) -> 65.065674
A32: Тогуздун айы | B32: Октябрь | C32: October | D32: 52344.1 | E32: 62.725622 | F32: 5012.5 | G32: 56.81 | H32: 540 | I32: 68.24 | J32: 795 | K32: 53.01 | N32: 2921 | O32: 60.9 | R32: 30 | S32: 65 | V32: 9696.6 | W32: 63.74 | Z32: 33349 | AA32: 63.62 | AC32: =(F32*G32+H32*I32+J32*K32+L32*M32+N32*O32+P32*Q32+R32*S32+T32*U32+X32*Y32+Z32*AA32)/(F32+H32+J32+L32+N32+P32+R32+T32+X32+Z32) -> 62.494987
A33: Жетинин айы | B33: Ноябрь | C33: November | D33: 87007.4 | E33: 58.063586 | F33: 5237 | G33: 53.56 | J33: 1950 | K33: 63.41 | N33: 31369.8 | O33: 49.75 | R33: 173 | S33: 11 | V33: 10138.6 | W33: 66.34 | Z33: 38139 | AA33: 63.26 | AC33: =(F33*G33+H33*I33+J33*K33+L33*M33+N33*O33+P33*Q33+R33*S33+T33*U33+X33*Y33+Z33*AA33)/(F33+H33+J33+L33+N33+P33+R33+T33+X33+Z33) -> 56.971969
A34: Бештин айы | B34: Декабрь | C34: December | D34: 190836 | E34: 49.935871 | F34: 13371 | G34: 46.73 | H34: 1000 | I34: 35 | J34: 3580 | K34: 53.77 | N34: 29330.4 | O34: 48.26 | R34: 2850 | S34: 51.95 | V34: 20412.9 | W34: 52.96 | Z34: 120291.7 | AA34: 50.15 | AC34: =(F34*G34+H34*I34+J34*K34+L34*M34+N34*O34+P34*Q34+R34*S34+T34*U34+X34*Y34+Z34*AA34)/(F34+H34+J34+L34+N34+P34+R34+T34+X34+Z34) -> 49.573648
A35: Үчтүн айы 1998 ж. | B35: Январь 1998 г. | C35: January 1998 | D35: 123273.8 | E35: 54.136729 | F35: 7517 | G35: 47.16 | H35: 100 | I35: 60 | J35: 7100 | K35: 51.62 | N35: 31652.2 | O35: 42.49 | R35: 580 | S35: 32.16 | V35: 10604 | W35: 55.01 | Z35: 65720.6 | AA35: 60.86 | AC35: =(F35*G35+H35*I35+J35*K35+L35*M35+N35*O35+P35*Q35+R35*S35+T35*U35+X35*Y35+Z35*AA35)/(F35+H35+J35+L35+N35+P35+R35+T35+X35+Z35) -> 54.05454
A36: Бирдин айы | B36: Февраль | C36: February | D36: 99650.6 | E36: 53.411775 | F36: 3944 | G36: 51.64 | H36: 130 | I36: 48.46 | J36: 5300 | K36: 50.94 | N36: 28086.5 | O36: 40.92 | R36: 465 | S36: 43.01 | V36: 15644.1 | W36: 51.41 | Z36: 46081 | AA36: 62.26 | AC36: =(F36*G36+H36*I36+J36*K36+L36*M36+N36*O36+P36*Q36+R36*S36+T36*U36+X36*Y36+Z36*AA36)/(F36+H36+J36+L36+N36+P36+R36+T36+X36+Z36) -> 53.784555
A37: Жалган куран | B37: Март | C37: March | D37: 98050.5 | E37: 53.728045 | F37: 2904 | G37: 49.31 | H37: 160 | I37: 57.25 | J37: 2810 | K37: 51.44 | L37: 1248.1 | M37: 55 | N37: 19646 | O37: 42.73 | R37: 1165 | S37: 45.69 | V37: 24944.3 | W37: 54.23 | Z37: 45173.1 | AA37: 58.82 | AC37: =(F37*G37+H37*I37+J37*K37+L37*M37+N37*O37+P37*Q37+R37*S37+T37*U37+X37*Y37+Z37*AA37)/(F37+H37+J37+L37+N37+P37+R37+T37+X37+Z37) -> 53.556775
A38: Чын куран | B38: Апрель | C38: April | D38: 146286.3 | E38: 49.934344 | F38: 10159 | G38: 47.8 | H38: 440 | I38: 44.09 | J38: 5421 | K38: 49.98 | N38: 34361.6 | O38: 42.66 | R38: 540 | S38: 59.58 | V38: 20937.7 | W38: 50.06 | Z38: 74427 | AA38: 53.51 | AC38: =(F38*G38+H38*I38+J38*K38+L38*M38+N38*O38+P38*Q38+R38*S38+T38*U38+X38*Y38+Z38*AA38)/(F38+H38+J38+L38+N38+P38+R38+T38+X38+Z38) -> 49.913355
A39: Бугу | B39: Май | C39: May | D39: 256366.2 | E39: 53.393707 | F39: 30812 | G39: 56.6 | H39: 595 | I39: 49.08 | J39: 90 | K39: 65.56 | N39: 159430.7 | O39: 58.76 | R39: 272 | S39: 8.09 | V39: 20345 | W39: 51.74 | Z39: 44821.5 | AA39: 33.16 | AC39: =(F39*G39+H39*I39+J39*K39+L39*M39+N39*O39+P39*Q39+R39*S39+T39*U39+X39*Y39+Z39*AA39)/(F39+H39+J39+L39+N39+P39+R39+T39+X39+Z39) -> 53.536257
A40: Кулжа | B40: Июнь | C40: June | D40: 63191.3 | E40: 47.483057 | F40: 11886 | G40: 43.53 | H40: 175 | I40: 60 | J40: 2226 | K40: 57.86 | N40: 29423.9 | O40: 46.96 | P40: 1614.4 | Q40: 49.78 | V40: 13347.9 | W40: 50.11 | Z40: 4518.1 | AA40: 47.11 | AC40: =(F40*G40+H40*I40+J40*K40+L40*M40+N40*O40+P40*Q40+R40*S40+T40*U40+X40*Y40+Z40*AA40)/(F40+H40+J40+L40+N40+P40+R40+T40+X40+Z40) -> 46.77957
A41: Теке | B41: Июль | C41: July | D41: 87066.4 | E41: 51.320958 | F41: 11692 | G41: 55.17 | H41: 1869.1 | I41: 36.77 | J41: 500 | K41: 70 | N41: 44305.4 | O41: 50.47 | P41: 3325 | Q41: 36 | R41: 50 | S41: 50 | V41: 19605.9 | W41: 53.42 | Z41: 5719 | AA41: 54.89 | AC41: =(F41*G41+H41*I41+J41*K41+L41*M41+N41*O41+P41*Q41+R41*S41+T41*U41+X41*Y41+Z41*AA41)/(F41+H41+J41+L41+N41+P41+R41+T41+X41+Z41) -> 50.710918
A42: Баш оона | B42: Август | C42: August | D42: 41579.2 | E42: 55.752096 | F42: 391 | G42: 66.39 | H42: 3320 | I42: 64.97 | J42: 1100 | K42: 69.09 | N42: 10854.7 | O42: 50.43 | R42: 155 | S42: 50 | V42: 18414 | W42: 55.56 | Z42: 7344.5 | AA42: 57.49 | AC42: =(F42*G42+H42*I42+J42*K42+L42*M42+N42*O42+P42*Q42+R42*S42+T42*U42+X42*Y42+Z42*AA42)/(F42+H42+J42+L42+N42+P42+R42+T42+X42+Z42) -> 55.904793
A43: Аяк оона | B43: Сентябрь | C43: September | D43: 190761.5 | E43: 50.177987 | F43: 2797 | G43: 48.19 | H43: 155 | I43: 50 | J43: 460 | K43: 75.65 | N43: 157413.9 | O43: 50.39 | R43: 120 | S43: 50 | V43: 12629.6 | W43: 59.16 | Z43: 17186 | AA43: 41.28 | AC43: =(F43*G43+H43*I43+J43*K43+L43*M43+N43*O43+P43*Q43+R43*S43+T43*U43+X43*Y43+Z43*AA43)/(F43+H43+J43+L43+N43+P43+R43+T43+X43+Z43) -> 49.54116
A44: Тогуздун айы | B44: Октябрь | C44: October | D44: 24161.9 | E44: 59.831639 | F44: 1100 | G44: 54.09 | J44: 569 | K44: 62.46 | N44: 4162.2 | O44: 47.08 | V44: 13204.7 | W44: 67.66 | Z44: 5126 | AA44: 50.96 | AC44: =(F44*G44+H44*I44+J44*K44+L44*M44+N44*O44+P44*Q44+R44*S44+T44*U44+X44*Y44+Z44*AA44)/(F44+H44+J44+L44+N44+P44+R44+T44+X44+Z44) -> 50.397554
A45: Жетинин айы | B45: Ноябрь | C45: November | D45: 49580.4 | E45: 61.151621 | F45: 1870.7 | G45: 70.45 | H45: 490 | I45: 52.06 | L45: 2037.7 | M45: 40.08 | N45: 23137 | O45: 49.94 | V45: 8637 | W45: 70.77 | Z45: 13408 | AA45: 76.54 | AC45: =(F45*G45+H45*I45+J45*K45+L45*M45+N45*O45+P45*Q45+R45*S45+T45*U45+X45*Y45+Z45*AA45)/(F45+H45+J45+L45+N45+P45+R45+T45+X45+Z45) -> 59.122626
A46: Бештин айы | B46: Декабрь | C46: December | D46: 115428.5 | E46: 42.446203 | F46: 1831.3 | G46: 98.87 | H46: 978.4 | I46: 64.88 | N46: 6328.8 | O46: 47.08 | R46: 58373 | S46: 19.68 | V46: 18273 | W46: 72.8 | Z46: 29644 | AA46: 63.35 | AC46: =(F46*G46+H46*I46+J46*K46+L46*M46+N46*O46+P46*Q46+R46*S46+T46*U46+X46*Y46+Z46*AA46)/(F46+H46+J46+L46+N46+P46+R46+T46+X46+Z46) -> 36.737263
A47: Үчтүн айы 1999 ж. | B47: Январь 1999 г. | C47: January 1999 | D47: 44093.7 | E47: 65.145172 | F47: 75 | G47: 89 | H47: 319 | I47: 53.64 | J47: 6432 | K47: 67.38 | L47: 3000 | M47: 70 | N47: 9387.8 | O47: 68.87 | V47: 5890.9 | W47: 79.55 | Z47: 18989 | AA47: 57.41 | AC47: =(F47*G47+H47*I47+J47*K47+L47*M47+N47*O47+P47*Q47+R47*S47+T47*U47+X47*Y47+Z47*AA47)/(F47+H47+J47+L47+N47+P47+R47+T47+X47+Z47) -> 62.923937
A48: Бирдин айы | B48: Февраль | C48: February | D48: 46503.6 | E48: 62.892046 | F48: 1575 | G48: 83.17 | H48: 121 | I48: 60.64 | J48: 4817.2 | K48: 59.75 | N48: 558 | O48: 67.24 | R48: 6080 | S48: 58.22 | V48: 16477.4 | W48: 71.63 | Z48: 16875 | AA48: 54.92 | AC48: =(F48*G48+H48*I48+J48*K48+L48*M48+N48*O48+P48*Q48+R48*S48+T48*U48+X48*Y48+Z48*AA48)/(F48+H48+J48+L48+N48+P48+R48+T48+X48+Z48) -> 58.096942
A49: Жалган куран | B49: Март | C49: March | D49: 55666.1 | E49: 53.596374 | F49: 5619 | G49: 65.42 | H49: 797 | I49: 42.48 | J49: 500 | K49: 60 | N49: 3385.5 | O49: 61.04 | R49: 500 | S49: 11 | V49: 14372.6 | W49: 65.7 | Z49: 30492 | AA49: 45.77 | AC49: =(F49*G49+H49*I49+J49*K49+L49*M49+N49*O49+P49*Q49+R49*S49+T49*U49+X49*Y49+Z49*AA49)/(F49+H49+J49+L49+N49+P49+R49+T49+X49+Z49) -> 49.383591
A50: Чын куран | B50: Апрель | C50: April | D50: 64794 | E50: 54.333861 | F50: 10068 | G50: 51.42 | H50: 1660 | I50: 39.04 | J50: 2658.1 | K50: 51.7 | L50: 1000 | M50: 55 | N50: 2370 | O50: 57.42 | P50: 2000 | Q50: 60 | R50: 7740 | S50: 66.14 | V50: 18677.9 | W50: 63.32 | Z50: 18620 | AA50: 42.69 | AC50: =(F50*G50+H50*I50+J50*K50+L50*M50+N50*O50+P50*Q50+R50*S50+T50*U50+X50*Y50+Z50*AA50)/(F50+H50+J50+L50+N50+P50+R50+T50+X50+Z50) -> 50.694303
A51: Бугу | B51: Май | C51: May | D51: 57792.4 | E51: 46.012928 | F51: 24571 | G51: 35.17 | H51: 1016 | I51: 55.84 | J51: 4746 | K51: 70 | N51: 1905 | O51: 40.05 | R51: 200 | S51: 11 | V51: 11723.4 | W51: 56.56 | Z51: 13631 | AA51: 48.75 | AC51: =(F51*G51+H51*I51+J51*K51+L51*M51+N51*O51+P51*Q51+R51*S51+T51*U51+X51*Y51+Z51*AA51)/(F51+H51+J51+L51+N51+P51+R51+T51+X51+Z51) -> 43.328963
A52: Кулжа | B52: Июнь | C52: June | D52: 34266.9 | E52: 58.551359 | F52: 355 | G52: 40 | H52: 710 | I52: 61.97 | J52: 681 | K52: 70 | N52: 8283 | O52: 62.35 | R52: 2046 | S52: 53.63 | V52: 9299.9 | W52: 46.13 | Z52: 12892 | AA52: 65.57 | AC52: =(F52*G52+H52*I52+J52*K52+L52*M52+N52*O52+P52*Q52+R52*S52+T52*U52+X52*Y52+Z52*AA52)/(F52+H52+J52+L52+N52+P52+R52+T52+X52+Z52) -> 63.178162
A53: Теке | B53: Июль | C53: July | D53: 47947.6 | E53: 41.350441 | F53: 18600 | G53: 18.84 | H53: 850 | I53: 52.12 | L53: 3000 | M53: 55 | N53: 3425 | O53: 54.09 | R53: 1365.1 | S53: 69.57 | V53: 15826.5 | W53: 60.18 | Z53: 4881 | AA53: 38.98 | AC53: =(F53*G53+H53*I53+J53*K53+L53*M53+N53*O53+P53*Q53+R53*S53+T53*U53+X53*Y53+Z53*AA53)/(F53+H53+J53+L53+N53+P53+R53+T53+X53+Z53) -> 32.072863
A54: Баш оона | B54: Август | C54: August | D54: 51586.9 | E54: 55.039387 | F54: 2953 | G54: 59.58 | H54: 295 | I54: 55.58 | J54: 2250 | K54: 50 | N54: 6655.2 | O54: 53.97 | R54: 1080 | S54: 69.35 | V54: 20317.7 | W54: 55.22 | Z54: 18036 | AA54: 54.25 | AC54: =(F54*G54+H54*I54+J54*K54+L54*M54+N54*O54+P54*Q54+R54*S54+T54*U54+X54*Y54+Z54*AA54)/(F54+H54+J54+L54+N54+P54+R54+T54+X54+Z54) -> 54.922031
A55: Аяк оона | B55: Сентябрь | C55: September | D55: 46771 | E55: 54.794996 | F55: 6260 | G55: 32.01 | H55: 300 | I55: 30 | N55: 12215.7 | O55: 51.25 | R55: 40 | S55: 11 | V55: 17234.3 | W55: 62.45 | Z55: 10721 | AA55: 60.69 | AC55: =(F55*G55+H55*I55+J55*K55+L55*M55+N55*O55+P55*Q55+R55*S55+T55*U55+X55*Y55+Z55*AA55)/(F55+H55+J55+L55+N55+P55+R55+T55+X55+Z55) -> 50.328395
A56: Тогуздун айы | B56: Октябрь | C56: October | D56: 49572.5 | E56: 48.633955 | F56: 2794 | G56: 37.49 | H56: 8320 | I56: 36.29 | N56: 10236 | O56: 50.53 | R56: 525 | S56: 54.71 | V56: 9440.5 | W56: 68.76 | Z56: 18257 | AA56: 44.32 | AC56: =(F56*G56+H56*I56+J56*K56+L56*M56+N56*O56+P56*Q56+R56*S56+T56*U56+X56*Y56+Z56*AA56)/(F56+H56+J56+L56+N56+P56+R56+T56+X56+Z56) -> 43.89958
A57: Жетинин айы | B57: Ноябрь | C57: November | D57: 27607.4 | E57: 51.104604 | F57: 5079 | G57: 36.45 | L57: 2607 | M57: 50.98 | N57: 5365 | O57: 57.57 | V57: 7388.4 | W57: 62.46 | Z57: 7168 | AA57: 44.99 | AC57: =(F57*G57+H57*I57+J57*K57+L57*M57+N57*O57+P57*Q57+R57*S57+T57*U57+X57*Y57+Z57*AA57)/(F57+H57+J57+L57+N57+P57+R57+T57+X57+Z57) -> 46.95513
A58: Бештин айы | B58: Декабрь | C58: December | D58: 36285.5 | E58: 54.797878 | F58: 2500 | G58: 40 | H58: 790 | I58: 47.87 | J58: 2000 | K58: 70 | N58: 5813 | O58: 63.98 | R58: 6537 | S58: 42.84 | V58: 12020.8 | W58: 58.48 | Z58: 6624.7 | AA58: 53.68 | AC58: =(F58*G58+H58*I58+J58*K58+L58*M58+N58*O58+P58*Q58+R58*S58+T58*U58+X58*Y58+Z58*AA58)/(F58+H58+J58+L58+N58+P58+R58+T58+X58+Z58) -> 52.973744
A59: Үчтүн айы 2000 ж. | B59: Январь 2000 г. | C59: January 2000 | D59: 25217.1 | E59: 53.290258 | F59: 220 | G59: 74.55 | H59: 80 | I59: 50 | J59: 3358 | K59: 72.98 | N59: 2734.9 | O59: 49.33 | R59: 300 | S59: 11 | V59: 10090.2 | W59: 57.09 | Z59: 8434 | AA59: 43.17 | AC59: =(F59*G59+H59*I59+J59*K59+L59*M59+N59*O59+P59*Q59+R59*S59+T59*U59+X59*Y59+Z59*AA59)/(F59+H59+J59+L59+N59+P59+R59+T59+X59+Z59) -> 50.755689
A60: Бирдин айы | B60: Февраль | C60: February | D60: 26676.9 | E60: 50.493021 | F60: 881.1 | G60: 45 | H60: 60 | I60: 70 | J60: 2200 | K60: 46.36 | N60: 5838.5 | O60: 55.95 | P60: 30 | Q60: 60 | R60: 200 | S60: 11 | V60: 10379.3 | W60: 49.73 | Z60: 7088 | AA60: 49.99 | AC60: =(F60*G60+H60*I60+J60*K60+L60*M60+N60*O60+P60*Q60+R60*S60+T60*U60+X60*Y60+Z60*AA60)/(F60+H60+J60+L60+N60+P60+R60+T60+X60+Z60) -> 50.97896
A61: Жалган куран | B61: Март | C61: March | D61: 38817.4 | E61: 48.850652 | F61: 160 | G61: 72.13 | H61: 706 | I61: 17.97 | J61: 4322.6 | K61: 42.8 | L61: 78.4 | M61: 60 | N61: 8772.3 | O61: 55.28 | R61: 1918 | S61: 28.7 | V61: 8297.5 | W61: 54.43 | Z61: 14562.6 | AA61: 47.43 | AC61: =(F61*G61+H61*I61+J61*K61+L61*M61+N61*O61+P61*Q61+R61*S61+T61*U61+X61*Y61+Z61*AA61)/(F61+H61+J61+L61+N61+P61+R61+T61+X61+Z61) -> 47.333784
A62: Чын куран | B62: Апрель | C62: April | D62: 51253.6 | E62: 39.203089 | F62: 19549 | G62: 10.22 | H62: 985 | I62: 41.9 | J62: 2000 | K62: 55 | L62: 952 | M62: 57.5 | N62: 5589.7 | O62: 57.42 | R62: 185 | S62: 10.46 | V62: 13359.9 | W62: 60.96 | Z62: 8633 | AA62: 54 | AC62: =(F62*G62+H62*I62+J62*K62+L62*M62+N62*O62+P62*Q62+R62*S62+T62*U62+X62*Y62+Z62*AA62)/(F62+H62+J62+L62+N62+P62+R62+T62+X62+Z62) -> 31.532417
A63: Бугу | B63: Май | C63: May | D63: 47832.9 | E63: 53.890533 | F63: 12600 | G63: 43.83 | H63: 646 | I63: 44.82 | J63: 260 | K63: 62.31 | L63: 1100 | M63: 54.55 | N63: 7687.4 | O63: 60.27 | V63: 13356.7 | W63: 61.18 | Z63: 12182.8 | AA63: 52.52 | AC63: =(F63*G63+H63*I63+J63*K63+L63*M63+N63*O63+P63*Q63+R63*S63+T63*U63+X63*Y63+Z63*AA63)/(F63+H63+J63+L63+N63+P63+R63+T63+X63+Z63) -> 51.066462
A64: Кулжа | B64: Июнь | C64: June | D64: 64012.6 | E64: 42.919747 | F64: 4845 | G64: 56.87 | H64: 1225 | I64: 48.02 | J64: 1042 | K64: 51.92 | L64: 2912 | M64: 48.43 | N64: 11866 | O64: 44.76 | R64: 484 | S64: 16.44 | V64: 14660.5 | W64: 49.39 | Z64: 26978.1 | AA64: 35.39 | AC64: =(F64*G64+H64*I64+J64*K64+L64*M64+N64*O64+P64*Q64+R64*S64+T64*U64+X64*Y64+Z64*AA64)/(F64+H64+J64+L64+N64+P64+R64+T64+X64+Z64) -> 40.997699
A65: Теке | B65: Июль | C65: July | D65: 68244.2 | E65: 45.385783 | F65: 15633 | G65: 35.99 | H65: 1349 | I65: 43.94 | J65: 1663 | K65: 53.46 | L65: 3784 | M65: 39.24 | N65: 7140.5 | O65: 54.73 | R65: 265 | S65: 15.38 | V65: 17390.7 | W65: 52.43 | Z65: 21019 | AA65: 44.31 | AC65: =(F65*G65+H65*I65+J65*K65+L65*M65+N65*O65+P65*Q65+R65*S65+T65*U65+X65*Y65+Z65*AA65)/(F65+H65+J65+L65+N65+P65+R65+T65+X65+Z65) -> 42.976826
A66: Баш оона | B66: Август | C66: August | D66: 88586.9 | E66: 40.7429 | F66: 11920 | G66: 41.29 | H66: 4612.7 | I66: 34.54 | N66: 13124.2 | O66: 48.51 | P66: 700 | Q66: 48 | R66: 603 | S66: 25.97 | V66: 20422 | W66: 51.91 | Z66: 37205 | AA66: 32.57 | AC66: =(F66*G66+H66*I66+J66*K66+L66*M66+N66*O66+P66*Q66+R66*S66+T66*U66+X66*Y66+Z66*AA66)/(F66+H66+J66+L66+N66+P66+R66+T66+X66+Z66) -> 37.39727
A67: Аяк оона | B67: Сентябрь | C67: September | D67: 129794.5 | E67: 38.202732 | F67: 8435 | G67: 35.18 | H67: 3192.5 | I67: 30 | J67: 5121 | K67: 26.36 | L67: 5000 | M67: 0 | N67: 47697.8 | O67: 50.03 | R67: 175 | S67: 5.69 | V67: 16912.2 | W67: 46.25 | Z67: 43261 | AA67: 29.16 | AC67: =(F67*G67+H67*I67+J67*K67+L67*M67+N67*O67+P67*Q67+R67*S67+T67*U67+X67*Y67+Z67*AA67)/(F67+H67+J67+L67+N67+P67+R67+T67+X67+Z67) -> 36.997078
A68: Тогуздун айы | B68: Октябрь | C68: October | D68: 66694.9 | E68: 46.034229 | F68: 10560.8 | G68: 49.23 | H68: 50 | I68: 32 | J68: 500 | K68: 36 | L68: 2000 | M68: 45 | N68: 16083.3 | O68: 47.65 | R68: 400 | S68: 73.25 | V68: 21935.8 | W68: 47.77 | Z68: 15165 | AA68: 39.38 | AC68: =(F68*G68+H68*I68+J68*K68+L68*M68+N68*O68+P68*Q68+R68*S68+T68*U68+X68*Y68+Z68*AA68)/(F68+H68+J68+L68+N68+P68+R68+T68+X68+Z68) -> 45.183552
A69: Жетинин айы | B69: Ноябрь | C69: November | D69: 56854.8 | E69: 52.335014 | F69: 8710.2 | G69: 56.23 | H69: 170 | I69: 41.88 | N69: 22232.8 | O69: 50.96 | R69: 700 | S69: 10.57 | V69: 14972.8 | W69: 53.93 | Z69: 10069 | AA69: 52.71 | AC69: =(F69*G69+H69*I69+J69*K69+L69*M69+N69*O69+P69*Q69+R69*S69+T69*U69+X69*Y69+Z69*AA69)/(F69+H69+J69+L69+N69+P69+R69+T69+X69+Z69) -> 51.764806
A70: Бештин айы | B70: Декабрь | C70: December | D70: 49966 | E70: 50.104194 | F70: 8700 | G70: 44.03 | H70: 610 | I70: 36.43 | J70: 40 | K70: 75 | N70: 6156 | O70: 48.7 | R70: 3050 | S70: 45.62 | V70: 12416 | W70: 50.79 | Z70: 18994 | AA70: 54 | AC70: =(F70*G70+H70*I70+J70*K70+L70*M70+N70*O70+P70*Q70+R70*S70+T70*U70+X70*Y70+Z70*AA70)/(F70+H70+J70+L70+N70+P70+R70+T70+X70+Z70) -> 49.87743
A71: Үчтүн айы 2001 ж. | B71: Январь 2001 г. | C71: January 2001 | D71: 60094.1 | E71: 49.263844 | F71: 7340 | G71: 55 | H71: 485 | I71: 40.05 | N71: 9404 | O71: 43.2 | R71: 200 | S71: 27.5 | V71: 9449.2 | W71: 51.79 | Z71: 33215.9 | AA71: 49.26 | AC71: =(F71*G71+H71*I71+J71*K71+L71*M71+N71*O71+P71*Q71+R71*S71+T71*U71+X71*Y71+Z71*AA71)/(F71+H71+J71+L71+N71+P71+R71+T71+X71+Z71) -> 48.79252
A72: Бирдин айы | B72: Февраль | C72: February | D72: 85027.5 | E72: 42.196879 | F72: 18820 | G72: 38.59 | H72: 567 | I72: 42.21 | J72: 3100 | K72: 45.48 | N72: 27729 | O72: 43.15 | P72: 50 | Q72: 53 | R72: 4270 | S72: 33.42 | V72: 15801.5 | W72: 51.14 | Z72: 14690 | AA72: 37.22 | AC72: =(F72*G72+H72*I72+J72*K72+L72*M72+N72*O72+P72*Q72+R72*S72+T72*U72+X72*Y72+Z72*AA72)/(F72+H72+J72+L72+N72+P72+R72+T72+X72+Z72) -> 40.155526
A73: Жалган куран | B73: Март | C73: March | D73: 81907.8 | E73: 41.385274 | F73: 6850 | G73: 44.68 | H73: 3980 | I73: 33.91 | J73: 3000 | K73: 45 | N73: 8055.3 | O73: 44.13 | R73: 1190 | S73: 34.87 | V73: 24669.5 | W73: 46.34 | Z73: 34163 | AA73: 37.28 | AC73: =(F73*G73+H73*I73+J73*K73+L73*M73+N73*O73+P73*Q73+R73*S73+T73*U73+X73*Y73+Z73*AA73)/(F73+H73+J73+L73+N73+P73+R73+T73+X73+Z73) -> 39.249805
A74: Чын куран | B74: Апрель | C74: April | D74: 117002.1 | E74: 34.259529 | F74: 7910 | G74: 39.45 | H74: 7465 | I74: 34.29 | J74: 3150 | K74: 46 | L74: 5910 | M74: 24 | N74: 26740.6 | O74: 35.92 | P74: 500 | Q74: 50 | R74: 3571 | S74: 39.73 | V74: 15827.5 | W74: 47.73 | Z74: 45928 | AA74: 27.67 | AC74: =(F74*G74+H74*I74+J74*K74+L74*M74+N74*O74+P74*Q74+R74*S74+T74*U74+X74*Y74+Z74*AA74)/(F74+H74+J74+L74+N74+P74+R74+T74+X74+Z74) -> 32.152243
A75: Бугу | B75: Май | C75: May | D75: 82798.3 | E75: 36.80242 | F75: 2440 | G75: 40.87 | H75: 3702 | I75: 37.98 | J75: 9755 | K75: 44.78 | L75: 5000 | M75: 26.4 | N75: 13681.7 | O75: 38.34 | P75: 40 | Q75: 50 | R75: 1488 | S75: 25.84 | V75: 7980.6 | W75: 52.96 | Z75: 38711 | AA75: 32.3 | AC75: =(F75*G75+H75*I75+J75*K75+L75*M75+N75*O75+P75*Q75+R75*S75+T75*U75+X75*Y75+Z75*AA75)/(F75+H75+J75+L75+N75+P75+R75+T75+X75+Z75) -> 35.078935
A76: Кулжа | B76: Июнь | C76: June | D76: 141348.1 | E76: 32.643207 | F76: 13787 | G76: 36.42 | H76: 595 | I76: 32.95 | J76: 8860 | K76: 45.08 | L76: 9000 | M76: 24.11 | N76: 30308.1 | O76: 33.31 | R76: 3645 | S76: 15.3 | V76: 24007 | W76: 24.44 | Z76: 51146 | AA76: 35.66 | AC76: =(F76*G76+H76*I76+J76*K76+L76*M76+N76*O76+P76*Q76+R76*S76+T76*U76+X76*Y76+Z76*AA76)/(F76+H76+J76+L76+N76+P76+R76+T76+X76+Z76) -> 34.321514
A77: Теке | B77: Июль | C77: July | D77: 115436.4 | E77: 28.498407 | F77: 9548 | G77: 34.84 | H77: 1080 | I77: 31.28 | J77: 8650 | K77: 45.23 | L77: 10500 | M77: 24.57 | N77: 43263.3 | O77: 25.75 | P77: 1800 | Q77: 30 | R77: 1070 | S77: 46.48 | V77: 11810.5 | W77: 35.82 | Z77: 27714.6 | AA77: 22.85 | AC77: =(F77*G77+H77*I77+J77*K77+L77*M77+N77*O77+P77*Q77+R77*S77+T77*U77+X77*Y77+Z77*AA77)/(F77+H77+J77+L77+N77+P77+R77+T77+X77+Z77) -> 27.663947
A78: Баш оона | B78: Август | C78: August | D78: 97254.1 | E78: 30.74892 | F78: 5318 | G78: 38.35 | H78: 1020 | I78: 36.22 | J78: 10840 | K78: 45.33 | L78: 3280 | M78: 25.43 | N78: 27405 | O78: 29.7 | P78: 50 | Q78: 50 | R78: 490 | S78: 56.73 | V78: 17012 | W78: 37.45 | Z78: 31839.1 | AA78: 21.78 | AC78: =(F78*G78+H78*I78+J78*K78+L78*M78+N78*O78+P78*Q78+R78*S78+T78*U78+X78*Y78+Z78*AA78)/(F78+H78+J78+L78+N78+P78+R78+T78+X78+Z78) -> 29.328234
A79: Аяк оона | B79: Сентябрь | C79: September | D79: 72854.9 | E79: 35.936433 | F79: 6915 | G79: 35.5 | H79: 260 | I79: 33.85 | J79: 10200 | K79: 45 | L79: 10720 | M79: 24.74 | N79: 17826.1 | O79: 31.83 | R79: 250 | S79: 38.76 | V79: 17161.5 | W79: 37.39 | Z79: 9522.3 | AA79: 44.2 | AC79: =(F79*G79+H79*I79+J79*K79+L79*M79+N79*O79+P79*Q79+R79*S79+T79*U79+X79*Y79+Z79*AA79)/(F79+H79+J79+L79+N79+P79+R79+T79+X79+Z79) -> 35.488527
A80: Тогуздун айы | B80: Октябрь | C80: October | D80: 81993.4 | E80: 38.664751 | F80: 10100 | G80: 34.93 | H80: 3595 | I80: 35.88 | J80: 16300 | K80: 42.1 | L80: 1000 | M80: 28 | N80: 15415.1 | O80: 34.16 | P80: 55 | Q80: 56 | R80: 6580 | S80: 37.15 | V80: 13357.7 | W80: 44.28 | Z80: 15590.6 | AA80: 39.04 | AC80: =(F80*G80+H80*I80+J80*K80+L80*M80+N80*O80+P80*Q80+R80*S80+T80*U80+X80*Y80+Z80*AA80)/(F80+H80+J80+L80+N80+P80+R80+T80+X80+Z80) -> 37.571926
A81: Жетинин айы | B81: Ноябрь | C81: November | D81: 94202.2 | E81: 38.161213 | F81: 28750 | G81: 37.21 | H81: 300 | I81: 43.81 | J81: 10100 | K81: 45 | N81: 19403.2 | O81: 34.33 | P81: 5387 | Q81: 41.71 | R81: 75 | S81: 60 | V81: 10333.7 | W81: 42.49 | Z81: 19853.3 | AA81: 36.42 | AC81: =(F81*G81+H81*I81+J81*K81+L81*M81+N81*O81+P81*Q81+R81*S81+T81*U81+X81*Y81+Z81*AA81)/(F81+H81+J81+L81+N81+P81+R81+T81+X81+Z81) -> 37.62785
A82: Бештин айы | B82: Декабрь | C82: December | D82: 140363.7 | E82: 27.952176 | F82: 50238.8 | G82: 24.48 | H82: 1805 | I82: 34.41 | J82: 9000 | K82: 45 | L82: 1300 | M82: 28.77 | N82: 14991.5 | O82: 26.22 | P82: 10813 | Q82: 32.88 | R82: 185 | S82: 5 | V82: 18972.4 | W82: 39.67 | Z82: 33058 | AA82: 20.78 | AC82: =(F82*G82+H82*I82+J82*K82+L82*M82+N82*O82+P82*Q82+R82*S82+T82*U82+X82*Y82+Z82*AA82)/(F82+H82+J82+L82+N82+P82+R82+T82+X82+Z82) -> 26.120782
A83: Үчтүн айы 2002 ж. | B83: Январь 2002 г. | C83: January 2002 | D83: 90041.9 | E83: 25.332385 | F83: 1100 | G83: 40.91 | H83: 800 | I83: 36.25 | J83: 9100 | K83: 45.16 | L83: 6400 | M83: 15.7 | N83: 13644 | O83: 29.62 | P83: 205 | Q83: 57 | R83: 2683 | S83: 23.85 | V83: 11027 | W83: 36.25 | Z83: 45082.9 | AA83: 18.1 | AC83: =(F83*G83+H83*I83+J83*K83+L83*M83+N83*O83+P83*Q83+R83*S83+T83*U83+X83*Y83+Z83*AA83)/(F83+H83+J83+L83+N83+P83+R83+T83+X83+Z83) -> 23.808767
A84: Бирдин айы | B84: Февраль | C84: February | D84: 62766.9 | E84: 33.383146 | F84: 13080 | G84: 25.11 | H84: 2480 | I84: 28.11 | J84: 16813.7 | K84: 42.87 | N84: 9404.9 | O84: 32.9 | P84: 100 | Q84: 40 | R84: 500 | S84: 60 | V84: 9065.3 | W84: 42.97 | Z84: 11323 | AA84: 21.5 | AC84: =(F84*G84+H84*I84+J84*K84+L84*M84+N84*O84+P84*Q84+R84*S84+T84*U84+X84*Y84+Z84*AA84)/(F84+H84+J84+L84+N84+P84+R84+T84+X84+Z84) -> 31.764801
A85: Жалган куран | B85: Март | C85: March | D85: 142870.2 | E85: 23.530827 | F85: 2000 | G85: 30 | H85: 655 | I85: 42.1 | J85: 18933 | K85: 43 | N85: 28534.1 | O85: 30.52 | P85: 45 | Q85: 50 | V85: 14123.4 | W85: 36.48 | Z85: 78579.7 | AA85: 13.64 | AC85: =(F85*G85+H85*I85+J85*K85+L85*M85+N85*O85+P85*Q85+R85*S85+T85*U85+X85*Y85+Z85*AA85)/(F85+H85+J85+L85+N85+P85+R85+T85+X85+Z85) -> 22.110315
A86: Чын куран | B86: Апрель | C86: April | D86: 82354.2 | E86: 35.577221 | F86: 1470 | G86: 29.73 | H86: 847 | I86: 34.41 | J86: 22141.3 | K86: 43.17 | L86: 2880 | M86: 24 | N86: 15155.5 | O86: 32.48 | P86: 300 | Q86: 40 | R86: 440 | S86: 40.32 | V86: 20193.4 | W86: 39.91 | Z86: 18927 | AA86: 26.64 | AC86: =(F86*G86+H86*I86+J86*K86+L86*M86+N86*O86+P86*Q86+R86*S86+T86*U86+X86*Y86+Z86*AA86)/(F86+H86+J86+L86+N86+P86+R86+T86+X86+Z86) -> 34.169686
A87: Бугу | B87: Май | C87: May | D87: 120956.2 | E87: 14.931596 | F87: 69771 | G87: 0.7 | H87: 7595 | I87: 28.86 | J87: 21850.4 | K87: 38.04 | L87: 6000 | M87: 20.33 | N87: 7278.6 | O87: 33.9 | V87: 6951.5 | W87: 40.29 | Z87: 1509.7 | AA87: 38.45 | AC87: =(F87*G87+H87*I87+J87*K87+L87*M87+N87*O87+P87*Q87+R87*S87+T87*U87+X87*Y87+Z87*AA87)/(F87+H87+J87+L87+N87+P87+R87+T87+X87+Z87) -> 13.385353
A88: Кулжа | B88: Июнь | C88: June | D88: 108130.3 | E88: 28.097567 | F88: 13349 | G88: 25.53 | H88: 2422 | I88: 33.06 | J88: 38121.3 | K88: 35.42 | L88: 6600 | M88: 17 | N88: 4601.3 | O88: 39.55 | P88: 40 | Q88: 50 | R88: 440 | S88: 37.63 | V88: 8391.5 | W88: 42.68 | Z88: 34165.2 | AA88: 17.45 | AC88: =(F88*G88+H88*I88+J88*K88+L88*M88+N88*O88+P88*Q88+R88*S88+T88*U88+X88*Y88+Z88*AA88)/(F88+H88+J88+L88+N88+P88+R88+T88+X88+Z88) -> 26.870677
A89: Теке | B89: Июль | C89: July | D89: 113514.9 | E89: 32.725977 | F89: 15865.2 | G89: 29.69 | H89: 365 | I89: 34.73 | J89: 38341 | K89: 38 | N89: 39217.9 | O89: 25.92 | P89: 50 | Q89: 50 | R89: 10 | S89: 24 | V89: 11081.8 | W89: 41.92 | Z89: 8584 | AA89: 33.83 | AC89: =(F89*G89+H89*I89+J89*K89+L89*M89+N89*O89+P89*Q89+R89*S89+T89*U89+X89*Y89+Z89*AA89)/(F89+H89+J89+L89+N89+P89+R89+T89+X89+Z89) -> 31.731315
A90: Баш оона | B90: Август | C90: August | D90: 62067.4 | E90: 35.787984 | F90: 224 | G90: 34.48 | H90: 825 | I90: 42.83 | J90: 29104.1 | K90: 37.2 | N90: 16774.7 | O90: 29.52 | P90: 475 | Q90: 41.5 | R90: 546 | S90: 34.84 | V90: 9595.6 | W90: 38.91 | Z90: 4523 | AA90: 41.62 | AC90: =(F90*G90+H90*I90+J90*K90+L90*M90+N90*O90+P90*Q90+R90*S90+T90*U90+X90*Y90+Z90*AA90)/(F90+H90+J90+L90+N90+P90+R90+T90+X90+Z90) -> 35.217056
A91: Аяк оона | B91: Сентябрь | C91: September | D91: 102991.3 | E91: 36.67582 | F91: 1000 | G91: 30 | H91: 940 | I91: 41.81 | J91: 16065.4 | K91: 35 | L91: 7600 | M91: 20.68 | N91: 14296.4 | O91: 38.24 | P91: 20 | Q91: 50 | V91: 7863.5 | W91: 40.04 | Z91: 55206 | AA91: 38.51 | AC91: =(F91*G91+H91*I91+J91*K91+L91*M91+N91*O91+P91*Q91+R91*S91+T91*U91+X91*Y91+Z91*AA91)/(F91+H91+J91+L91+N91+P91+R91+T91+X91+Z91) -> 36.397728
A92: Тогуздун айы | B92: Октябрь | C92: October | D92: 106636.4 | E92: 36.392385 | F92: 3100 | G92: 21.94 | H92: 800 | I92: 30 | J92: 20453.2 | K92: 35 | N92: 10201.9 | O92: 41.2 | P92: 140 | Q92: 50 | R92: 1340 | S92: 14.34 | V92: 9276.3 | W92: 38.85 | Z92: 61325 | AA92: 36.95 | AC92: =(F92*G92+H92*I92+J92*K92+L92*M92+N92*O92+P92*Q92+R92*S92+T92*U92+X92*Y92+Z92*AA92)/(F92+H92+J92+L92+N92+P92+R92+T92+X92+Z92) -> 36.158227
A93: Жетинин айы | B93: Ноябрь | C93: November | D93: 95445.4 | E93: 35.498179 | F93: 5691 | G93: 32.36 | H93: 2694.1 | I93: 34.68 | J93: 13680.8 | K93: 34.27 | N93: 20882.3 | O93: 33.28 | P93: 1355 | Q93: 42.83 | R93: 627.9 | S93: 10.96 | V93: 21130.9 | W93: 36.66 | Z93: 29383.4 | AA93: 37.68 | AC93: =(F93*G93+H93*I93+J93*K93+L93*M93+N93*O93+P93*Q93+R93*S93+T93*U93+X93*Y93+Z93*AA93)/(F93+H93+J93+L93+N93+P93+R93+T93+X93+Z93) -> 35.167821
A94: Бештин айы | B94: Декабрь | C94: December | D94: 297803.3 | E94: 24.778271 | F94: 9729 | G94: 28.14 | H94: 1165 | I94: 40.88 | J94: 24382 | K94: 27 | L94: 17500 | M94: 18.14 | N94: 25173.1 | O94: 34.29 | P94: 65 | Q94: 46.2 | R94: 1070.6 | S94: 14.42 | V94: 19625.6 | W94: 31.75 | Z94: 199093 | AA94: 22.99 | AC94: =(F94*G94+H94*I94+J94*K94+L94*M94+N94*O94+P94*Q94+R94*S94+T94*U94+X94*Y94+Z94*AA94)/(F94+H94+J94+L94+N94+P94+R94+T94+X94+Z94) -> 24.286411
A95: Үчтүн айы 2003 ж. | B95: Январь 2003 г. | C95: January 2003 | D95: 117622.4 | E95: 26.452338 | F95: 15700 | G95: 48.71 | H95: 850 | I95: 41.8 | J95: 10932 | K95: 27 | L95: 21000 | M95: 17.71 | N95: 20693.2 | O95: 30.2 | P95: 720 | Q95: 41.39 | R95: 975 | S95: 33.23 | V95: 22425.2 | W95: 21.81 | Z95: 24327 | AA95: 19.23 | AC95: =(F95*G95+H95*I95+J95*K95+L95*M95+N95*O95+P95*Q95+R95*S95+T95*U95+X95*Y95+Z95*AA95)/(F95+H95+J95+L95+N95+P95+R95+T95+X95+Z95) -> 27.545914
A96: Бирдин айы | B96: Февраль | C96: February | D96: 88792.1 | E96: 27.201976 | F96: 15927 | G96: 30.64 | H96: 685 | I96: 36.03 | J96: 80 | K96: 35 | L96: 18000 | M96: 17 | N96: 17341.6 | O96: 36 | P96: 210 | Q96: 44.5 | R96: 720 | S96: 33.99 | V96: 23647.5 | W96: 27.48 | Z96: 12181 | AA96: 23.47 | AC96: =(F96*G96+H96*I96+J96*K96+L96*M96+N96*O96+P96*Q96+R96*S96+T96*U96+X96*Y96+Z96*AA96)/(F96+H96+J96+L96+N96+P96+R96+T96+X96+Z96) -> 27.101054
A97: Жалган куран | B97: Март | C97: March | D97: 155554.4 | E97: 25.534059 | F97: 5029 | G97: 33.2 | H97: 9675 | I97: 27.87 | J97: 16750 | K97: 27.11 | L97: 19500 | M97: 17.23 | N97: 14301.6 | O97: 36.78 | P97: 270 | Q97: 41.3 | R97: 8500 | S97: 34.24 | V97: 17742.8 | W97: 34.6 | Z97: 63786 | AA97: 20.43 | AC97: =(F97*G97+H97*I97+J97*K97+L97*M97+N97*O97+P97*Q97+R97*S97+T97*U97+X97*Y97+Z97*AA97)/(F97+H97+J97+L97+N97+P97+R97+T97+X97+Z97) -> 24.366848
A98: Чын куран | B98: Апрель | C98: April | D98: 144281.6 | E98: 27.316721 | F98: 45120 | G98: 26.74 | H98: 3305 | I98: 32.76 | L98: 14500 | M98: 17 | N98: 49295 | O98: 30.24 | P98: 900 | Q98: 37.78 | R98: 1380 | S98: 24.8 | T98: 445 | U98: 15.49 | V98: 8506.7 | W98: 33.65 | X98: 4610 | Y98: 35.82 | Z98: 16219.9 | AA98: 22.37 | AC98: =(F98*G98+H98*I98+J98*K98+L98*M98+N98*O98+P98*Q98+R98*S98+T98*U98+X98*Y98+Z98*AA98)/(F98+H98+J98+L98+N98+P98+R98+T98+X98+Z98) -> 26.919923
A99: Бугу | B99: Май | C99: May | D99: 223589.3 | E99: 24.305418 | F99: 11492.5 | G99: 25.16 | H99: 2025 | I99: 30.26 | J99: 31077 | K99: 27.08 | L99: 25000 | M99: 17 | N99: 104882.2 | O99: 25.59 | P99: 80 | Q99: 33.88 | R99: 800 | S99: 20.25 | T99: 1765 | U99: 16.57 | V99: 9159.2 | W99: 30.84 | Z99: 37308.4 | AA99: 21.52 | AC99: =(F99*G99+H99*I99+J99*K99+L99*M99+N99*O99+P99*Q99+R99*S99+T99*U99+X99*Y99+Z99*AA99)/(F99+H99+J99+L99+N99+P99+R99+T99+X99+Z99) -> 24.026299
A100: Кулжа | B100: Июнь | C100: June | D100: 151940.6 | E100: 25.299156 | F100: 16997.8 | G100: 27.27 | H100: 2695 | I100: 31.79 | J100: 150 | K100: 25 | L100: 20000 | M100: 16 | N100: 83791.9 | O100: 27.34 | R100: 1447 | S100: 30.93 | T100: 4750 | U100: 10.65 | V100: 5518.4 | W100: 34.09 | Z100: 16590.5 | AA100: 23.91 | AC100: =(F100*G100+H100*I100+J100*K100+L100*M100+N100*O100+P100*Q100+R100*S100+T100*U100+X100*Y100+Z100*AA100)/(F100+H100+J100+L100+N100+P100+R100+T100+X100+Z100) -> 24.967844
A101: Теке | B101: Июль | C101: July | D101: 168260.7 | E101: 25.173495 | F101: 25120 | G101: 25.52 | H101: 2570 | I101: 31.72 | J101: 12699.7 | K101: 20 | L101: 38000 | M101: 16.47 | N101: 61068.9 | O101: 30.23 | P101: 2070 | Q101: 27.9 | R101: 790 | S101: 39.9 | T101: 842.5 | U101: 21.84 | V101: 11318 | W101: 30.69 | Z101: 13781.6 | AA101: 24.1 | AC101: =(F101*G101+H101*I101+J101*K101+L101*M101+N101*O101+P101*Q101+R101*S101+T101*U101+X101*Y101+Z101*AA101)/(F101+H101+J101+L101+N101+P101+R101+T101+X101+Z101) -> 24.775669
A102: Баш оона | B102: Август | C102: August | D102: 139356.5 | E102: 24.981744 | F102: 25920.8 | G102: 21.33 | H102: 4025 | I102: 29.19 | J102: 300 | K102: 25 | L102: 20000 | M102: 16 | N102: 59834.8 | O102: 28.55 | P102: 1200 | Q102: 31.67 | R102: 1260 | S102: 34.29 | T102: 1435.7 | U102: 13.89 | V102: 11576.1 | W102: 31.66 | X102: 50 | Y102: 25 | Z102: 13754.1 | AA102: 22.27 | AC102: =(F102*G102+H102*I102+J102*K102+L102*M102+N102*O102+P102*Q102+R102*S102+T102*U102+X102*Y102+Z102*AA102)/(F102+H102+J102+L102+N102+P102+R102+T102+X102+Z102) -> 24.376736
...

Sheet 4. отрасли_ин вал
A2: 4-таблица. Тармактар боюнча коммерциялык банктар тарабынан чет өлкө валютасындагы берилген кредиттер жана кредиттердин орточо салмактанып алынган пайыздык чендери (бир мезгил ичинде) | B2: Таблица 4. Общий объем и средневзвешенные процентные ставки по выданным кредитам в разрезе отраслей в иностранной валюте (за период) | C2: Table 4. Total volume and average weighted interest rates of newly issued credits by sectors in Foreign currency (for the period)
A4: (миң сом / пайыздар) | B4: (тыс. сомов / проценты) | C4: (ths of soms / percent)
A5: Мезгил аралыгы | B5: Период | C5: Period | D5: Жалпы чет өлкө валютасында | F5: Өнөр жайы | H5: Айыл чарбасы | J5: Транспорт | L5: Байланыш | N5: Cоода | P5: Даярдоо жана кайра иштетүү ишканалары | R5: Курулуш | T5: Ипотека | V5: Керектөө кредиттери | X5: Социалдык кызмат көрсөтүүлөр | Z5: Жана башкалаp | AC5: Керектөө кредиттерин эске албагандагы орточо салмактанып алынган чендер
D6: Итого в ин. валюте | F6: Промышленность | H6: Сельское хоз-во | J6: Транспорт | L6: Связь | N6: Торговля и коммерческие операции | P6: Заготовка и переработка | R6: Строительство | T6: Ипотека | V6: Потребительские кредиты | X6: Социальные услуги | Z6: Прочие
D7: Total in Foreign currency | F7: Industry | H7: Agriculture | J7: Transport | L7: Communication | N7: Trade | P7: Procurement and processing | R7: Construction | T7: Mortgage | V7: Consumer loans | X7: Social services | Z7: Others | AC7: Средневзв. ставка без учета потребительских кредитов
D8: көлөм | E8: орточо салмактанып алынган чендер | F8: көлөм | G8: орточо салмактанып алынган чендер | H8: көлөм | I8: орточо салмактанып алынган чендер | J8: көлөм | K8: орточо салмактанып алынган чендер | L8: көлөм | M8: орточо салмактанып алынган чендер | N8: көлөм | O8: орточо салмактанып алынган чендер | P8: көлөм | Q8: орточо салмактанып алынган чендер | R8: көлөм | S8: орточо салмактанып алынган чендер | T8: көлөм | U8: орточо салмактанып алынган чендер | V8: көлөм | W8: орточо салмактанып алынган чендер | X8: көлөм | Y8: орточо салмактанып алынган чендер | Z8: көлөм | AA8: орточо салмактанып алынган чендер
D9: объем | E9: средневзв. ставка | F9: объем | G9: средневзв. ставка | H9: объем | I9: средневзв. ставка | J9: объем | K9: средневзв. ставка | L9: объем | M9: средневзв. ставка | N9: объем | O9: средневзв. ставка | P9: объем | Q9: средневзв. ставка | R9: объем | S9: средневзв. ставка | T9: объем | U9: средневзв. ставка | V9: объем | W9: средневзв. ставка | X9: объем | Y9: средневзв. ставка | Z9: объем | AA9: средневзв. ставка | AC9: Average weighted interest rate excluding consumer loans
D10: volume | E10: average weighted interest rate | F10: volume | G10: average weighted interest rate | H10: volume | I10: average weighted interest rate | J10: volume | K10: average weighted interest rate | L10: volume | M10: average weighted interest rate | N10: volume | O10: average weighted interest rate | P10: volume | Q10: average weighted interest rate | R10: volume | S10: average weighted interest rate | T10: volume | U10: average weighted interest rate | V10: volume | W10: average weighted interest rate | X10: volume | Y10: average weighted interest rate | Z10: volume | AA10: average weighted interest rate
A11: Үчтүн айы 1996 ж. | B11: Январь 1996 г. | C11: January 1996 | D11: 10911 | E11: 49.966163 | F11: 344 | G11: 84 | N11: 4064 | O11: 44.85502 | V11: 1094 | W11: 58.951554 | Z11: 5409 | AA11: 49.824552 | AC11: =(F11*G11+H11*I11+J11*K11+L11*M11+N11*O11+P11*Q11+R11*S11+T11*U11+X11*Y11+Z11*AA11)/(F11+H11+J11+L11+N11+P11+R11+T11+X11+Z11) -> 48.964837
A12: Бирдин айы | B12: Февраль | C12: February | D12: 13985 | E12: 49.613336 | F12: 2608 | G12: 44.888804 | L12: 703 | M12: 12.31 | N12: 1368 | O12: 39 | V12: 543 | W12: 107.46041 | Z12: 8763 | AA12: 52.084398 | AC12: =(F12*G12+H12*I12+J12*K12+L12*M12+N12*O12+P12*Q12+R12*S12+T12*U12+X12*Y12+Z12*AA12)/(F12+H12+J12+L12+N12+P12+R12+T12+X12+Z12) -> 47.276559
A13: Жалган куран | B13: Март | C13: March | D13: 12542.7 | E13: 42.672551 | N13: 4367 | O13: 47.411953 | V13: 57 | W13: 40 | Z13: 8118.7 | AA13: 40.142018 | AC13: =(F13*G13+H13*I13+J13*K13+L13*M13+N13*O13+P13*Q13+R13*S13+T13*U13+X13*Y13+Z13*AA13)/(F13+H13+J13+L13+N13+P13+R13+T13+X13+Z13) -> 42.684751
A14: Чын куран | B14: Апрель | C14: April | D14: 23147.5 | E14: 52.480778 | N14: 8018 | O14: 44.190821 | V14: 267 | W14: 36.310861 | Z14: 14862.5 | AA14: 57.243519 | AC14: =(F14*G14+H14*I14+J14*K14+L14*M14+N14*O14+P14*Q14+R14*S14+T14*U14+X14*Y14+Z14*AA14)/(F14+H14+J14+L14+N14+P14+R14+T14+X14+Z14) -> 52.66947
A15: Бугу | B15: Май | C15: May | D15: 5493 | E15: 37.606226 | V15: 481 | W15: 39.407484 | Z15: 5012 | AA15: 37.43336 | AC15: =(F15*G15+H15*I15+J15*K15+L15*M15+N15*O15+P15*Q15+R15*S15+T15*U15+X15*Y15+Z15*AA15)/(F15+H15+J15+L15+N15+P15+R15+T15+X15+Z15) -> 37.43336
A16: Кулжа | B16: Июнь | C16: June | D16: 15736.8 | E16: 43.456039 | N16: 3172 | O16: 44 | V16: 6372.8 | W16: 65.688708 | Z16: 6192 | AA16: 20.295543 | AC16: =(F16*G16+H16*I16+J16*K16+L16*M16+N16*O16+P16*Q16+R16*S16+T16*U16+X16*Y16+Z16*AA16)/(F16+H16+J16+L16+N16+P16+R16+T16+X16+Z16) -> 28.325288
A17: Теке | B17: Июль | C17: July | D17: 6614 | E17: 26.538403 | L17: 2296 | M17: 9 | N17: 1403 | O17: 35 | V17: 1213 | W17: 35.525144 | Z17: 1702 | AA17: 36.817861 | AC17: =(F17*G17+H17*I17+J17*K17+L17*M17+N17*O17+P17*Q17+R17*S17+T17*U17+X17*Y17+Z17*AA17)/(F17+H17+J17+L17+N17+P17+R17+T17+X17+Z17) -> 24.520089
A18: Баш оона | B18: Август | C18: August | D18: 20176.6 | E18: 46.987728 | F18: 559 | G18: 9 | J18: 3038 | K18: 9 | L18: 590.1 | M18: 13 | N18: 4903 | O18: 42 | V18: 7955 | W18: 61.15624 | Z18: 3131.5 | AA18: 68.843813 | AC18: =(F18*G18+H18*I18+J18*K18+L18*M18+N18*O18+P18*Q18+R18*S18+T18*U18+X18*Y18+Z18*AA18)/(F18+H18+J18+L18+N18+P18+R18+T18+X18+Z18) -> 37.765489
A19: Аяк оона | B19: Сентябрь | C19: September | D19: 29758.4 | E19: 66.576444 | F19: 549 | G19: 9 | N19: 8096 | O19: 40.369936 | V19: 19322 | W19: 80.605292 | Z19: 1791.4 | AA19: 51.343642 | AC19: =(F19*G19+H19*I19+J19*K19+L19*M19+N19*O19+P19*Q19+R19*S19+T19*U19+X19*Y19+Z19*AA19)/(F19+H19+J19+L19+N19+P19+R19+T19+X19+Z19) -> 40.603369
A20: Тогуздун айы | B20: Октябрь | C20: October | D20: 27620.9 | E20: 65.984924 | F20: 1128.4 | G20: 20.136476 | N20: 7254 | O20: 35.488282 | V20: 15918.5 | W20: 86.316236 | Z20: 3320 | AA20: 50.718072 | AC20: =(F20*G20+H20*I20+J20*K20+L20*M20+N20*O20+P20*Q20+R20*S20+T20*U20+X20*Y20+Z20*AA20)/(F20+H20+J20+L20+N20+P20+R20+T20+X20+Z20) -> 38.328719
A21: Жетинин айы | B21: Ноябрь | C21: November | D21: 18642 | E21: 44.004362 | F21: 1040 | G21: 60 | N21: 10703 | O21: 43.334579 | V21: 1159 | W21: 27.515962 | Z21: 5740 | AA21: 45.684376 | AC21: =(F21*G21+H21*I21+J21*K21+L21*M21+N21*O21+P21*Q21+R21*S21+T21*U21+X21*Y21+Z21*AA21)/(F21+H21+J21+L21+N21+P21+R21+T21+X21+Z21) -> 45.097427
A22: Бештин айы | B22: Декабрь | C22: December | D22: 18996 | E22: 37.17844 | N22: 4931 | O22: 40.289191 | V22: 2646 | W22: 59.319444 | Z22: 11419 | AA22: 30.70465 | AC22: =(F22*G22+H22*I22+J22*K22+L22*M22+N22*O22+P22*Q22+R22*S22+T22*U22+X22*Y22+Z22*AA22)/(F22+H22+J22+L22+N22+P22+R22+T22+X22+Z22) -> 33.595254
A23: Үчтүн айы 1997 ж. | B23: Январь 1997 г. | C23: January 1997 | D23: 22149.2 | E23: 43.520511 | F23: 1577.8 | G23: 60 | J23: 2323 | K23: 9 | N23: 10390 | O23: 41.052743 | V23: 1200.4 | W23: 53.564645 | Z23: 6658 | AA23: 53.699685 | AC23: =(F23*G23+H23*I23+J23*K23+L23*M23+N23*O23+P23*Q23+R23*S23+T23*U23+X23*Y23+Z23*AA23)/(F23+H23+J23+L23+N23+P23+R23+T23+X23+Z23) -> 42.944966
A24: Бирдин айы | B24: Февраль | C24: February | D24: 22336.5 | E24: 54.02863 | F24: 2185 | G24: 9 | N24: 5275 | O24: 41.148246 | V24: 14746.5 | W24: 65.299461 | Z24: 130 | AA24: 55 | AC24: =(F24*G24+H24*I24+J24*K24+L24*M24+N24*O24+P24*Q24+R24*S24+T24*U24+X24*Y24+Z24*AA24)/(F24+H24+J24+L24+N24+P24+R24+T24+X24+Z24) -> 32.130698
A25: Жалган куран | B25: Март | C25: March | D25: 43729 | E25: 54.114561 | F25: 608 | G25: 12.690789 | N25: 19175 | O25: 45.117757 | R25: 714 | S25: 41 | V25: 16958 | W25: 72.857059 | Z25: 6274 | AA25: 36.458822 | AC25: =(F25*G25+H25*I25+J25*K25+L25*M25+N25*O25+P25*Q25+R25*S25+T25*U25+X25*Y25+Z25*AA25)/(F25+H25+J25+L25+N25+P25+R25+T25+X25+Z25) -> 42.242189
A26: Чын куран | B26: Апрель | C26: April | D26: 27078 | E26: 59.01516 | F26: 1319 | G26: 9 | N26: 2601 | O26: 40.215302 | R26: 713 | S26: 48 | V26: 9808 | W26: 47.619953 | Z26: 12637 | AA26: 77.570705 | AC26: =(F26*G26+H26*I26+J26*K26+L26*M26+N26*O26+P26*Q26+R26*S26+T26*U26+X26*Y26+Z26*AA26)/(F26+H26+J26+L26+N26+P26+R26+T26+X26+Z26) -> 65.48674
A27: Бугу | B27: Май | C27: May | D27: 50926.8 | E27: 41.274831 | F27: 2372 | G27: 45.956998 | J27: 4073.9 | K27: 33.337306 | N27: 12231 | O27: 42.494416 | R27: 1595 | S27: 48 | V27: 6190 | W27: 53.123732 | Z27: 24464.9 | AA27: 38.096501 | AC27: =(F27*G27+H27*I27+J27*K27+L27*M27+N27*O27+P27*Q27+R27*S27+T27*U27+X27*Y27+Z27*AA27)/(F27+H27+J27+L27+N27+P27+R27+T27+X27+Z27) -> 39.635359
A28: Кулжа | B28: Июнь | C28: June | D28: 30621 | E28: 61.810824 | F28: 6127 | G28: 24.262788 | N28: 521 | O28: 60 | R28: 173 | S28: 42 | V28: 6141 | W28: 53.884465 | Z28: 17659 | AA28: 77.842496 | AC28: =(F28*G28+H28*I28+J28*K28+L28*M28+N28*O28+P28*Q28+R28*S28+T28*U28+X28*Y28+Z28*AA28)/(F28+H28+J28+L28+N28+P28+R28+T28+X28+Z28) -> 63.799213
A29: Теке | B29: Июль | C29: July | D29: 51641.2 | E29: 48.858251 | F29: 181 | G29: 60 | H29: 864 | I29: 60 | J29: 1210.7 | K29: 35 | N29: 14790.4 | O29: 41.30152 | R29: 3801 | S29: 36 | V29: 10485.1 | W29: 64.698095 | Z29: 20309 | AA29: 48.843182 | AC29: =(F29*G29+H29*I29+J29*K29+L29*M29+N29*O29+P29*Q29+R29*S29+T29*U29+X29*Y29+Z29*AA29)/(F29+H29+J29+L29+N29+P29+R29+T29+X29+Z29) -> 44.822826
A30: Баш оона | B30: Август | C30: August | D30: 75477.2 | E30: 55.729227 | F30: 859 | G30: 35 | H30: 446 | I30: 9 | J30: 6948.7 | K30: 32.109762 | N30: 8701 | O30: 41.240536 | V30: 13547.5 | W30: 67.438789 | Z30: 44975 | AA30: 59.513619 | AC30: =(F30*G30+H30*I30+J30*K30+L30*M30+N30*O30+P30*Q30+R30*S30+T30*U30+X30*Y30+Z30*AA30)/(F30+H30+J30+L30+N30+P30+R30+T30+X30+Z30) -> 53.167689
A31: Аяк оона | B31: Сентябрь | C31: September | D31: 114454.5 | E31: 50.098636 | F31: 560 | G31: 10.625 | H31: 4500 | I31: 60 | J31: 5535.8 | K31: 32.828498 | N31: 21813 | O31: 41.126635 | R31: 523 | S31: 40 | V31: 11965.4 | W31: 50.425126 | Z31: 69557.3 | AA31: 53.983697 | AC31: =(F31*G31+H31*I31+J31*K31+L31*M31+N31*O31+P31*Q31+R31*S31+T31*U31+X31*Y31+Z31*AA31)/(F31+H31+J31+L31+N31+P31+R31+T31+X31+Z31) -> 50.060519
A32: Тогуздун айы | B32: Октябрь | C32: October | D32: 91586 | E32: 51.913779 | F32: 46 | G32: 57 | J32: 1295.3 | K32: 30 | N32: 19642 | O32: 41.813522 | R32: 542 | S32: 40 | V32: 10844.1 | W32: 48.90605 | Z32: 59216.6 | AA32: 56.399237 | AC32: =(F32*G32+H32*I32+J32*K32+L32*M32+N32*O32+P32*Q32+R32*S32+T32*U32+X32*Y32+Z32*AA32)/(F32+H32+J32+L32+N32+P32+R32+T32+X32+Z32) -> 52.317734
A33: Жетинин айы | B33: Ноябрь | C33: November | D33: 95173.7 | E33: 46.520062 | F33: 4079.2 | G33: 43.535252 | H33: 17 | I33: 15 | J33: 10708.9 | K33: 40.582916 | N33: 32605.8 | O33: 37.995267 | R33: 523 | S33: 40 | V33: 13564.8 | W33: 50.028603 | Z33: 33675 | AA33: 55.727691 | AC33: =(F33*G33+H33*I33+J33*K33+L33*M33+N33*O33+P33*Q33+R33*S33+T33*U33+X33*Y33+Z33*AA33)/(F33+H33+J33+L33+N33+P33+R33+T33+X33+Z33) -> 45.936883
A34: Бештин айы | B34: Декабрь | C34: December | D34: 129730.6 | E34: 34.650444 | F34: 3708.5 | G34: 37.766617 | H34: 134 | I34: 15 | J34: 19112 | K34: 32.727082 | N34: 19914 | O34: 39.684644 | P34: 1481.1 | Q34: 40 | R34: 1651 | S34: 36.050878 | V34: 53690 | W34: 31.14714 | Z34: 30040 | AA34: 38.160499 | AC34: =(F34*G34+H34*I34+J34*K34+L34*M34+N34*O34+P34*Q34+R34*S34+T34*U34+X34*Y34+Z34*AA34)/(F34+H34+J34+L34+N34+P34+R34+T34+X34+Z34) -> 37.124022
A35: Үчтүн айы 1998 ж. | B35: Январь 1998 г. | C35: January 1998 | D35: 118616.6 | E35: 35.749316 | J35: 6604 | K35: 23.50106 | N35: 18258.2 | O35: 32.686793 | R35: 269.9 | S35: 42 | V35: 23856.8 | W35: 42.227564 | Z35: 69627.7 | AA35: 35.470207 | AC35: =(F35*G35+H35*I35+J35*K35+L35*M35+N35*O35+P35*Q35+R35*S35+T35*U35+X35*Y35+Z35*AA35)/(F35+H35+J35+L35+N35+P35+R35+T35+X35+Z35) -> 34.118347
A36: Бирдин айы | B36: Февраль | C36: February | D36: 130674.9 | E36: 36.170179 | F36: 1642 | G36: 45.429354 | H36: 4945 | I36: 30 | J36: 9245.9 | K36: 29.946355 | N36: 15011.3 | O36: 28.706614 | P36: 1324.4 | Q36: 40 | R36: 3026.2 | S36: 42.529575 | V36: 20134.1 | W36: 41.555258 | Z36: 75346 | AA36: 36.862317 | AC36: =(F36*G36+H36*I36+J36*K36+L36*M36+N36*O36+P36*Q36+R36*S36+T36*U36+X36*Y36+Z36*AA36)/(F36+H36+J36+L36+N36+P36+R36+T36+X36+Z36) -> 35.18933
A37: Жалган куран | B37: Март | C37: March | D37: 216156.9 | E37: 50.158157 | F37: 7040 | G37: 29.872159 | H37: 421 | I37: 42.691211 | J37: 5293 | K37: 30 | N37: 17094.3 | O37: 39.155065 | R37: 6284 | S37: 26.382877 | V37: 38535.1 | W37: 37.194333 | Z37: 141489.5 | AA37: 57.859862 | AC37: =(F37*G37+H37*I37+J37*K37+L37*M37+N37*O37+P37*Q37+R37*S37+T37*U37+X37*Y37+Z37*AA37)/(F37+H37+J37+L37+N37+P37+R37+T37+X37+Z37) -> 52.970662
A38: Чын куран | B38: Апрель | C38: April | D38: 173088.4 | E38: 36.484562 | F38: 2940.2 | G38: 34.692606 | H38: 690.6 | I38: 36.445989 | J38: 1993 | K38: 34.187155 | N38: 30577.8 | O38: 37.177001 | R38: 16450.3 | S38: 26.409634 | V38: 17944.3 | W38: 34.934002 | Z38: 102492.2 | AA38: 38.262845 | AC38: =(F38*G38+H38*I38+J38*K38+L38*M38+N38*O38+P38*Q38+R38*S38+T38*U38+X38*Y38+Z38*AA38)/(F38+H38+J38+L38+N38+P38+R38+T38+X38+Z38) -> 36.663903
A39: Бугу | B39: Май | C39: May | D39: 195094.5 | E39: 48.944161 | F39: 2527.3 | G39: 43.999921 | H39: 0.5 | I39: 51 | L39: 996 | M39: 40 | N39: 131939.8 | O39: 53.982653 | P39: 1805 | Q39: 40 | R39: 12390.8 | S39: 20.578776 | V39: 26374 | W39: 46.265132 | Z39: 19061.1 | AA39: 38.183813 | AC39: =(F39*G39+H39*I39+J39*K39+L39*M39+N39*O39+P39*Q39+R39*S39+T39*U39+X39*Y39+Z39*AA39)/(F39+H39+J39+L39+N39+P39+R39+T39+X39+Z39) -> 49.36294
A40: Кулжа | B40: Июнь | C40: June | D40: 119625.1 | E40: 39.764024 | F40: 3757.5 | G40: 35.54358 | N40: 72124.8 | O40: 42.899965 | P40: 1604.3 | Q40: 40 | R40: 6415.9 | S40: 22.968126 | V40: 13471.1 | W40: 41.001421 | Z40: 22251.5 | AA40: 34.38876 | AC40: =(F40*G40+H40*I40+J40*K40+L40*M40+N40*O40+P40*Q40+R40*S40+T40*U40+X40*Y40+Z40*AA40)/(F40+H40+J40+L40+N40+P40+R40+T40+X40+Z40) -> 39.606996
A41: Теке | B41: Июль | C41: July | D41: 128539.5 | E41: 40.456094 | F41: 11801.2 | G41: 39.111116 | J41: 6828.2 | K41: 30 | L41: 1948.1 | M41: 40 | N41: 49514.6 | O41: 46.351926 | R41: 14119.8 | S41: 23.92371 | V41: 20777.6 | W41: 42.233821 | Z41: 23550 | AA41: 40.147154 | AC41: =(F41*G41+H41*I41+J41*K41+L41*M41+N41*O41+P41*Q41+R41*S41+T41*U41+X41*Y41+Z41*AA41)/(F41+H41+J41+L41+N41+P41+R41+T41+X41+Z41) -> 40.11333
A42: Баш оона | B42: Август | C42: August | D42: 113112.1 | E42: 42.37143 | F42: 654.1 | G42: 42.591194 | J42: 221 | K42: 45 | L42: 1587 | M42: 50 | N42: 42273.4 | O42: 48.405252 | R42: 964.1 | S42: 39.721502 | V42: 27474.9 | W42: 32.922376 | Z42: 39937.6 | AA42: 42.227837 | AC42: =(F42*G42+H42*I42+J42*K42+L42*M42+N42*O42+P42*Q42+R42*S42+T42*U42+X42*Y42+Z42*AA42)/(F42+H42+J42+L42+N42+P42+R42+T42+X42+Z42) -> 45.402961
A43: Аяк оона | B43: Сентябрь | C43: September | D43: 104672.7 | E43: 38.626823 | F43: 2086.4 | G43: 58.07 | N43: 50623.1 | O43: 35 | R43: 889.7 | S43: 27.48 | V43: 20873.7 | W43: 42 | Z43: 30199.8 | AA43: 41.36 | AC43: =(F43*G43+H43*I43+J43*K43+L43*M43+N43*O43+P43*Q43+R43*S43+T43*U43+X43*Y43+Z43*AA43)/(F43+H43+J43+L43+N43+P43+R43+T43+X43+Z43) -> 37.78659
A44: Тогуздун айы | B44: Октябрь | C44: October | D44: 236863.6 | E44: 43.135169 | F44: 5078 | G44: 33.74 | H44: 4592 | I44: 56.57 | N44: 151837 | O44: 50 | R44: 7471.2 | S44: 20.62 | V44: 22401.2 | W44: 36.17 | Z44: 45484.2 | AA44: 27.04 | AC44: =(F44*G44+H44*I44+J44*K44+L44*M44+N44*O44+P44*Q44+R44*S44+T44*U44+X44*Y44+Z44*AA44)/(F44+H44+J44+L44+N44+P44+R44+T44+X44+Z44) -> 43.862701
A45: Жетинин айы | B45: Ноябрь | C45: November | D45: 206607.1 | E45: 45.999562 | F45: 10189.7 | G45: 38.14 | H45: 29 | I45: 40 | N45: 157967.4 | O45: 48.46 | R45: 1455 | S45: 32 | V45: 15384.2 | W45: 41.08 | Z45: 21581.8 | AA45: 36.16 | AC45: =(F45*G45+H45*I45+J45*K45+L45*M45+N45*O45+P45*Q45+R45*S45+T45*U45+X45*Y45+Z45*AA45)/(F45+H45+J45+L45+N45+P45+R45+T45+X45+Z45) -> 46.395349
A46: Бештин айы | B46: Декабрь | C46: December | D46: 177542.2 | E46: 26.499057 | F46: 19024.8 | G46: 22.95 | N46: 41535.8 | O46: 23.72 | R46: 59265 | S46: 20.34 | V46: 34737.4 | W46: 32.39 | Z46: 22979.2 | AA46: 41.44 | AC46: =(F46*G46+H46*I46+J46*K46+L46*M46+N46*O46+P46*Q46+R46*S46+T46*U46+X46*Y46+Z46*AA46)/(F46+H46+J46+L46+N46+P46+R46+T46+X46+Z46) -> 25.06608
A47: Үчтүн айы 1999 ж. | B47: Январь 1999 г. | C47: January 1999 | D47: 25088.3 | E47: 36.394857 | F47: 908 | G47: 30 | J47: 69 | K47: 15 | N47: 1361.9 | O47: 56.67 | R47: 832.4 | S47: 43.52 | V47: 12238.7 | W47: 36.57 | Z47: 9678.3 | AA47: 33.46 | AC47: =(F47*G47+H47*I47+J47*K47+L47*M47+N47*O47+P47*Q47+R47*S47+T47*U47+X47*Y47+Z47*AA47)/(F47+H47+J47+L47+N47+P47+R47+T47+X47+Z47) -> 36.228041
A48: Бирдин айы | B48: Февраль | C48: February | D48: 53941.7 | E48: 40.874579 | H48: 92 | I48: 40 | J48: 1528 | K48: 42 | N48: 1695.5 | O48: 46.23 | P48: 2750.5 | Q48: 28 | R48: 978 | S48: 48.12 | V48: 19374.1 | W48: 44.83 | Z48: 27523.6 | AA48: 38.73 | AC48: =(F48*G48+H48*I48+J48*K48+L48*M48+N48*O48+P48*Q48+R48*S48+T48*U48+X48*Y48+Z48*AA48)/(F48+H48+J48+L48+N48+P48+R48+T48+X48+Z48) -> 38.657684
A49: Жалган куран | B49: Март | C49: March | D49: 66755.4 | E49: 36.883444 | F49: 1212 | G49: 36.27 | H49: 50.6 | I49: 40 | J49: 3299 | K49: 14.2 | N49: 5299.4 | O49: 39.56 | P49: 371 | Q49: 45 | R49: 8671.5 | S49: 40.39 | V49: 18731 | W49: 41.25 | Z49: 29120.9 | AA49: 35.03 | AC49: =(F49*G49+H49*I49+J49*K49+L49*M49+N49*O49+P49*Q49+R49*S49+T49*U49+X49*Y49+Z49*AA49)/(F49+H49+J49+L49+N49+P49+R49+T49+X49+Z49) -> 35.180352
A50: Чын куран | B50: Апрель | C50: April | D50: 79233.8 | E50: 35.218015 | F50: 742.4 | G50: 55 | J50: 973.7 | K50: 45 | L50: 749 | M50: 40 | N50: 10710.7 | O50: 21.55 | R50: 1685.1 | S50: 36.89 | V50: 38028.5 | W50: 39.82 | Z50: 26344.4 | AA50: 32.97 | AC50: =(F50*G50+H50*I50+J50*K50+L50*M50+N50*O50+P50*Q50+R50*S50+T50*U50+X50*Y50+Z50*AA50)/(F50+H50+J50+L50+N50+P50+R50+T50+X50+Z50) -> 30.970829
A51: Бугу | B51: Май | C51: May | D51: 42725.4 | E51: 34.28724 | F51: 5753 | G51: 31.75 | H51: 2076.6 | I51: 38 | J51: 3059.2 | K51: 45.38 | N51: 4911.8 | O51: 27.46 | P51: 862 | Q51: 45 | R51: 2800.3 | S51: 42.69 | V51: 5463.4 | W51: 44.65 | Z51: 17799.1 | AA51: 29.63 | AC51: =(F51*G51+H51*I51+J51*K51+L51*M51+N51*O51+P51*Q51+R51*S51+T51*U51+X51*Y51+Z51*AA51)/(F51+H51+J51+L51+N51+P51+R51+T51+X51+Z51) -> 32.767839
A52: Кулжа | B52: Июнь | C52: June | D52: 53689.9 | E52: 31.919245 | F52: 211 | G52: 40 | J52: 1474.7 | K52: 45.43 | L52: 2107.1 | M52: 30 | N52: 981.8 | O52: 54.42 | R52: 3940 | S52: 39.82 | V52: 21652.2 | W52: 39.42 | Z52: 23323.1 | AA52: 21.92 | AC52: =(F52*G52+H52*I52+J52*K52+L52*M52+N52*O52+P52*Q52+R52*S52+T52*U52+X52*Y52+Z52*AA52)/(F52+H52+J52+L52+N52+P52+R52+T52+X52+Z52) -> 26.849971
A53: Теке | B53: Июль | C53: July | D53: 75184.3 | E53: 31.23703 | F53: 11539 | G53: 15 | H53: 2453 | I53: 30.18 | N53: 13202.2 | O53: 37.06 | P53: 2812.1 | Q53: 16 | R53: 7913.6 | S53: 22 | V53: 15476.4 | W53: 40.09 | Z53: 21788 | AA53: 35.46 | AC53: =(F53*G53+H53*I53+J53*K53+L53*M53+N53*O53+P53*Q53+R53*S53+T53*U53+X53*Y53+Z53*AA53)/(F53+H53+J53+L53+N53+P53+R53+T53+X53+Z53) -> 28.942323
A54: Баш оона | B54: Август | C54: August | D54: 82679.3 | E54: 38.078484 | F54: 4616.4 | G54: 29.32 | J54: 2123.5 | K54: 27 | L54: 2124 | M54: 32 | N54: 19004.8 | O54: 34.03 | P54: 849.4 | Q54: 50 | R54: 1049 | S54: 40 | V54: 19390 | W54: 54.13 | Z54: 33522.2 | AA54: 33.02 | AC54: =(F54*G54+H54*I54+J54*K54+L54*M54+N54*O54+P54*Q54+R54*S54+T54*U54+X54*Y54+Z54*AA54)/(F54+H54+J54+L54+N54+P54+R54+T54+X54+Z54) -> 33.160767
A55: Аяк оона | B55: Сентябрь | C55: September | D55: 97589.8 | E55: 33.402499 | F55: 12605.6 | G55: 29.01 | H55: 153 | I55: 17 | L55: 7867.1 | M55: 34.65 | N55: 15953.1 | O55: 36.1 | R55: 9144 | S55: 22.71 | V55: 26714.9 | W55: 40.36 | Z55: 25152.1 | AA55: 30.1 | AC55: =(F55*G55+H55*I55+J55*K55+L55*M55+N55*O55+P55*Q55+R55*S55+T55*U55+X55*Y55+Z55*AA55)/(F55+H55+J55+L55+N55+P55+R55+T55+X55+Z55) -> 30.780006
A56: Тогуздун айы | B56: Октябрь | C56: October | D56: 74340 | E56: 34.686453 | F56: 3907.2 | G56: 30.64 | N56: 11432.3 | O56: 37.1 | P56: 1203.5 | Q56: 50 | V56: 21305.3 | W56: 39.24 | Z56: 36491.7 | AA56: 31.2 | AC56: =(F56*G56+H56*I56+J56*K56+L56*M56+N56*O56+P56*Q56+R56*S56+T56*U56+X56*Y56+Z56*AA56)/(F56+H56+J56+L56+N56+P56+R56+T56+X56+Z56) -> 32.857186
A57: Жетинин айы | B57: Ноябрь | C57: November | D57: 117398 | E57: 31.931288 | F57: 17035.1 | G57: 18.87 | H57: 3684 | I57: 15.28 | J57: 7489.4 | K57: 30.3 | L57: 3624.1 | M57: 32.38 | N57: 10046.5 | O57: 41.98 | P57: 2491.6 | Q57: 50 | R57: 10872.4 | S57: 25.83 | V57: 18132.8 | W57: 39.92 | Z57: 44022.1 | AA57: 33.52 | AC57: =(F57*G57+H57*I57+J57*K57+L57*M57+N57*O57+P57*Q57+R57*S57+T57*U57+X57*Y57+Z57*AA57)/(F57+H57+J57+L57+N57+P57+R57+T57+X57+Z57) -> 30.471988
A58: Бештин айы | B58: Декабрь | C58: December | D58: 77809.9 | E58: 33.253487 | F58: 7670.6 | G58: 29.16 | H58: 3180.1 | I58: 33.57 | J58: 9136 | K58: 26.73 | L58: 3566 | M58: 35.04 | N58: 16786 | O58: 30.99 | P58: 1692.9 | Q58: 50 | R58: 2816 | S58: 31.61 | V58: 15934.2 | W58: 32.85 | Z58: 17028.1 | AA58: 39.38 | AC58: =(F58*G58+H58*I58+J58*K58+L58*M58+N58*O58+P58*Q58+R58*S58+T58*U58+X58*Y58+Z58*AA58)/(F58+H58+J58+L58+N58+P58+R58+T58+X58+Z58) -> 33.357393
A59: Үчтүн айы 2000 ж. | B59: Январь 2000 г. | C59: January 2000 | D59: 106480.3 | E59: 30.333989 | F59: 26833.6 | G59: 22.67 | H59: 40 | I59: 15.1 | L59: 2339 | M59: 30 | N59: 28813.3 | O59: 31.55 | R59: 468 | S59: 35 | V59: 20949.8 | W59: 33.98 | Z59: 27036.6 | AA59: 33.79 | AC59: =(F59*G59+H59*I59+J59*K59+L59*M59+N59*O59+P59*Q59+R59*S59+T59*U59+X59*Y59+Z59*AA59)/(F59+H59+J59+L59+N59+P59+R59+T59+X59+Z59) -> 29.440937
A60: Бирдин айы | B60: Февраль | C60: February | D60: 88314.5 | E60: 29.751707 | F60: 31775.7 | G60: 19.09 | H60: 1919.7 | I60: 39.84 | J60: 4721.7 | K60: 31 | N60: 14958.7 | O60: 34.77 | R60: 402 | S60: 40 | V60: 19150.7 | W60: 38.35 | Z60: 15386 | AA60: 34.28 | AC60: =(F60*G60+H60*I60+J60*K60+L60*M60+N60*O60+P60*Q60+R60*S60+T60*U60+X60*Y60+Z60*AA60)/(F60+H60+J60+L60+N60+P60+R60+T60+X60+Z60) -> 27.370933
A61: Жалган куран | B61: Март | C61: March | D61: 101299.6 | E61: 29.6686 | F61: 18314.1 | G61: 16.18 | H61: 940.3 | I61: 32.4 | J61: 2365.4 | K61: 35 | L61: 1531 | M61: 34.68 | N61: 30478.8 | O61: 29.99 | R61: 812 | S61: 40 | V61: 23751.5 | W61: 35.48 | Z61: 23106.5 | AA61: 32.61 | AC61: =(F61*G61+H61*I61+J61*K61+L61*M61+N61*O61+P61*Q61+R61*S61+T61*U61+X61*Y61+Z61*AA61)/(F61+H61+J61+L61+N61+P61+R61+T61+X61+Z61) -> 27.88868
A62: Чын куран | B62: Апрель | C62: April | D62: 90676.5 | E62: 33.531326 | F62: 11493.8 | G62: 17.98 | H62: 41 | I62: 17 | J62: 8267.5 | K62: 31.53 | L62: 3696 | M62: 35.35 | N62: 8742.9 | O62: 37.58 | V62: 32811.9 | W62: 38.76 | Z62: 25623.4 | AA62: 32.84 | AC62: =(F62*G62+H62*I62+J62*K62+L62*M62+N62*O62+P62*Q62+R62*S62+T62*U62+X62*Y62+Z62*AA62)/(F62+H62+J62+L62+N62+P62+R62+T62+X62+Z62) -> 30.566426
A63: Бугу | B63: Май | C63: May | D63: 90486.4 | E63: 33.753025 | F63: 2374 | G63: 31.91 | H63: 48 | I63: 40 | J63: 1687 | K63: 35 | L63: 2522.5 | M63: 30.26 | N63: 6817.9 | O63: 36.62 | P63: 4825 | Q63: 40 | R63: 1930 | S63: 34 | V63: 29394.4 | W63: 36.66 | Z63: 40887.6 | AA63: 30.7 | AC63: =(F63*G63+H63*I63+J63*K63+L63*M63+N63*O63+P63*Q63+R63*S63+T63*U63+X63*Y63+Z63*AA63)/(F63+H63+J63+L63+N63+P63+R63+T63+X63+Z63) -> 32.354335
A64: Кулжа | B64: Июнь | C64: June | D64: 100777.5 | E64: 32.744477 | F64: 140.9 | G64: 40 | H64: 94 | I64: 30 | J64: 2000 | K64: 50 | L64: 3120.8 | M64: 34.03 | N64: 20771.9 | O64: 34.58 | R64: 3059.5 | S64: 37.85 | V64: 26299.4 | W64: 33.21 | Z64: 45291 | AA64: 30.42 | AC64: =(F64*G64+H64*I64+J64*K64+L64*M64+N64*O64+P64*Q64+R64*S64+T64*U64+X64*Y64+Z64*AA64)/(F64+H64+J64+L64+N64+P64+R64+T64+X64+Z64) -> 32.580093
A65: Теке | B65: Июль | C65: July | D65: 164957.1 | E65: 31.12239 | F65: 22564.6 | G65: 27.45 | J65: 4260.7 | K65: 34.95 | L65: 7719.5 | M65: 32.49 | N65: 35005.2 | O65: 32.47 | R65: 5774.3 | S65: 32.81 | V65: 21866.4 | W65: 33.97 | Z65: 67766.4 | AA65: 30.19 | AC65: =(F65*G65+H65*I65+J65*K65+L65*M65+N65*O65+P65*Q65+R65*S65+T65*U65+X65*Y65+Z65*AA65)/(F65+H65+J65+L65+N65+P65+R65+T65+X65+Z65) -> 30.687232
A66: Баш оона | B66: Август | C66: August | D66: 136370.2 | E66: 30.103408 | F66: 8049.8 | G66: 24.49 | H66: 63 | I66: 15.5 | J66: 16007.4 | K66: 34.24 | L66: 7275.6 | M66: 29.82 | N66: 18538.5 | O66: 34.08 | R66: 3024.8 | S66: 31.84 | V66: 16659.1 | W66: 33.99 | Z66: 66752 | AA66: 27.68 | AC66: =(F66*G66+H66*I66+J66*K66+L66*M66+N66*O66+P66*Q66+R66*S66+T66*U66+X66*Y66+Z66*AA66)/(F66+H66+J66+L66+N66+P66+R66+T66+X66+Z66) -> 29.562546
A67: Аяк оона | B67: Сентябрь | C67: September | D67: 185658.8 | E67: 27.935873 | F67: 8443.3 | G67: 30 | H67: 1440 | I67: 30 | J67: 19891.3 | K67: 20.97 | N67: 19174.3 | O67: 30.29 | R67: 2781.3 | S67: 32.65 | V67: 27868.2 | W67: 31.44 | Z67: 106060.4 | AA67: 27.58 | AC67: =(F67*G67+H67*I67+J67*K67+L67*M67+N67*O67+P67*Q67+R67*S67+T67*U67+X67*Y67+Z67*AA67)/(F67+H67+J67+L67+N67+P67+R67+T67+X67+Z67) -> 27.316991
A68: Тогуздун айы | B68: Октябрь | C68: October | D68: 152183.4 | E68: 27.493805 | F68: 9351.6 | G68: 29.04 | H68: 9182.4 | I68: 26.84 | J68: 3608 | K68: 30.34 | N68: 20470.9 | O68: 29.1 | P68: 1208 | Q68: 40 | V68: 27844.9 | W68: 28.55 | Z68: 80517.6 | AA68: 26.3 | AC68: =(F68*G68+H68*I68+J68*K68+L68*M68+N68*O68+P68*Q68+R68*S68+T68*U68+X68*Y68+Z68*AA68)/(F68+H68+J68+L68+N68+P68+R68+T68+X68+Z68) -> 27.257276
A69: Жетинин айы | B69: Ноябрь | C69: November | D69: 109584.5 | E69: 28.926723 | F69: 4134.1 | G69: 29.17 | J69: 15652 | K69: 30 | L69: 1386.6 | M69: 12 | N69: 23551.9 | O69: 24.53 | R69: 1476.6 | S69: 24 | V69: 29281.4 | W69: 30.77 | Z69: 34101.9 | AA69: 30.76 | AC69: =(F69*G69+H69*I69+J69*K69+L69*M69+N69*O69+P69*Q69+R69*S69+T69*U69+X69*Y69+Z69*AA69)/(F69+H69+J69+L69+N69+P69+R69+T69+X69+Z69) -> 28.254598
A70: Бештин айы | B70: Декабрь | C70: December | D70: 207555.4 | E70: 31.387947 | F70: 27866 | G70: 41.4 | H70: 48 | I70: 40 | J70: 3142.8 | K70: 33.85 | N70: 46533.5 | O70: 26.12 | R70: 3631.3 | S70: 32.39 | V70: 34984.1 | W70: 32.48 | Z70: 91349.7 | AA70: 30.47 | AC70: =(F70*G70+H70*I70+J70*K70+L70*M70+N70*O70+P70*Q70+R70*S70+T70*U70+X70*Y70+Z70*AA70)/(F70+H70+J70+L70+N70+P70+R70+T70+X70+Z70) -> 31.166563
A71: Үчтүн айы 2001 ж. | B71: Январь 2001 г. | C71: January 2001 | D71: 129618.9 | E71: 26.794056 | F71: 22311.3 | G71: 26.45 | H71: 49 | I71: 45 | J71: 1937 | K71: 36 | L71: 7333 | M71: 24 | N71: 13065.4 | O71: 18.71 | R71: 1925.3 | S71: 34.95 | V71: 34998.9 | W71: 30.53 | Z71: 47999 | AA71: 26.14 | AC71: =(F71*G71+H71*I71+J71*K71+L71*M71+N71*O71+P71*Q71+R71*S71+T71*U71+X71*Y71+Z71*AA71)/(F71+H71+J71+L71+N71+P71+R71+T71+X71+Z71) -> 25.412171
A72: Бирдин айы | B72: Февраль | C72: February | D72: 120056.2 | E72: 29.809137 | F72: 13126.2 | G72: 26.57 | H72: 835 | I72: 32 | L72: 4908.9 | M72: 25 | N72: 15374.5 | O72: 31.35 | R72: 1473 | S72: 29 | V72: 26047.2 | W72: 31.3 | Z72: 58291.4 | AA72: 29.86 | AC72: =(F72*G72+H72*I72+J72*K72+L72*M72+N72*O72+P72*Q72+R72*S72+T72*U72+X72*Y72+Z72*AA72)/(F72+H72+J72+L72+N72+P72+R72+T72+X72+Z72) -> 29.396062
A73: Жалган куран | B73: Март | C73: March | D73: 109654.5 | E73: 28.203157 | F73: 5300.4 | G73: 29.03 | H73: 247 | I73: 30 | J73: 12733.1 | K73: 27.01 | N73: 19191.7 | O73: 28.7 | R73: 544 | S73: 44.28 | V73: 19752.1 | W73: 32.04 | Z73: 51886.2 | AA73: 26.59 | AC73: =(F73*G73+H73*I73+J73*K73+L73*M73+N73*O73+P73*Q73+R73*S73+T73*U73+X73*Y73+Z73*AA73)/(F73+H73+J73+L73+N73+P73+R73+T73+X73+Z73) -> 27.36018
A74: Чын куран | B74: Апрель | C74: April | D74: 157383.4 | E74: 28.352204 | F74: 11844.9 | G74: 28.56 | H74: 8125.1 | I74: 26.17 | J74: 3470 | K74: 28 | L74: 4706.5 | M74: 26.74 | N74: 27128.2 | O74: 27.53 | P74: 3963.3 | Q74: 30 | R74: 2715 | S74: 27.24 | V74: 32187.2 | W74: 27.37 | Z74: 63243.2 | AA74: 29.53 | AC74: =(F74*G74+H74*I74+J74*K74+L74*M74+N74*O74+P74*Q74+R74*S74+T74*U74+X74*Y74+Z74*AA74)/(F74+H74+J74+L74+N74+P74+R74+T74+X74+Z74) -> 28.604723
A75: Бугу | B75: Май | C75: May | D75: 119189.3 | E75: 27.071428 | F75: 35382.9 | G75: 18.89 | H75: 1011.6 | I75: 25.63 | J75: 10313.6 | K75: 25.71 | L75: 1473 | M75: 25 | N75: 18489.7 | O75: 29.7 | R75: 1758.8 | S75: 37.91 | V75: 17475 | W75: 29.02 | Z75: 33284.7 | AA75: 33.27 | AC75: =(F75*G75+H75*I75+J75*K75+L75*M75+N75*O75+P75*Q75+R75*S75+T75*U75+X75*Y75+Z75*AA75)/(F75+H75+J75+L75+N75+P75+R75+T75+X75+Z75) -> 26.736655
A76: Кулжа | B76: Июнь | C76: June | D76: 117697.3 | E76: 23.668754 | F76: 8918.6 | G76: 26.85 | H76: 1162 | I76: 32.67 | J76: 7410.8 | K76: 27.09 | L76: 3603.1 | M76: 22.07 | N76: 10550.9 | O76: 30.65 | P76: 163 | Q76: 45 | R76: 1441.3 | S76: 30 | V76: 26759.1 | W76: 30.03 | Z76: 57688.5 | AA76: 18.21 | AC76: =(F76*G76+H76*I76+J76*K76+L76*M76+N76*O76+P76*Q76+R76*S76+T76*U76+X76*Y76+Z76*AA76)/(F76+H76+J76+L76+N76+P76+R76+T76+X76+Z76) -> 21.796919
A77: Теке | B77: Июль | C77: July | D77: 139728.8 | E77: 21.048665 | F77: 24459.1 | G77: 22.51 | H77: 435 | I77: 35.4 | J77: 14315.2 | K77: 21 | L77: 2920 | M77: 24 | N77: 21794 | O77: 25.27 | P77: 71 | Q77: 45 | R77: 3464.2 | S77: 28.67 | V77: 15168.9 | W77: 29.9 | Z77: 57101.4 | AA77: 15.72 | AC77: =(F77*G77+H77*I77+J77*K77+L77*M77+N77*O77+P77*Q77+R77*S77+T77*U77+X77*Y77+Z77*AA77)/(F77+H77+J77+L77+N77+P77+R77+T77+X77+Z77) -> 19.970749
A78: Баш оона | B78: Август | C78: August | D78: 144288.8 | E78: 21.486738 | F78: 39242.3 | G78: 20.01 | H78: 987.6 | I78: 9.18 | J78: 4940.5 | K78: 28.74 | L78: 517.6 | M78: 24 | N78: 35836.2 | O78: 25.25 | P78: 72 | Q78: 40 | R78: 2753.3 | S78: 25.1 | V78: 13879 | W78: 31.84 | Z78: 46060.3 | AA78: 15.91 | AC78: =(F78*G78+H78*I78+J78*K78+L78*M78+N78*O78+P78*Q78+R78*S78+T78*U78+X78*Y78+Z78*AA78)/(F78+H78+J78+L78+N78+P78+R78+T78+X78+Z78) -> 20.384881
A79: Аяк оона | B79: Сентябрь | C79: September | D79: 77795.5 | E79: 23.753406 | F79: 4388.4 | G79: 19.13 | H79: 57 | I79: 38 | J79: 191 | K79: 35 | L79: 2958.9 | M79: 6 | N79: 30928.8 | O79: 26.3 | P79: 4541.2 | Q79: 31.23 | R79: 1032.8 | S79: 23.74 | V79: 10638.1 | W79: 30.68 | Z79: 23059.3 | AA79: 18.7 | AC79: =(F79*G79+H79*I79+J79*K79+L79*M79+N79*O79+P79*Q79+R79*S79+T79*U79+X79*Y79+Z79*AA79)/(F79+H79+J79+L79+N79+P79+R79+T79+X79+Z79) -> 22.656196
A80: Тогуздун айы | B80: Октябрь | C80: October | D80: 102312.9 | E80: 24.889152 | F80: 11151 | G80: 24.62 | H80: 287.9 | I80: 29.22 | J80: 3347.2 | K80: 28 | L80: 2201.6 | M80: 22.99 | N80: 29819.3 | O80: 26.71 | P80: 2590.5 | Q80: 30 | R80: 1045.3 | S80: 25.69 | V80: 22878.9 | W80: 28.8 | Z80: 28991.2 | AA80: 19.29 | AC80: =(F80*G80+H80*I80+J80*K80+L80*M80+N80*O80+P80*Q80+R80*S80+T80*U80+X80*Y80+Z80*AA80)/(F80+H80+J80+L80+N80+P80+R80+T80+X80+Z80) -> 23.762733
A81: Жетинин айы | B81: Ноябрь | C81: November | D81: 171816.5 | E81: 25.610316 | F81: 46912.6 | G81: 22.34 | L81: 3448.5 | M81: 23.65 | N81: 34824.2 | O81: 27.49 | P81: 2155.4 | Q81: 30 | R81: 4866.5 | S81: 24.73 | V81: 32536.9 | W81: 25.18 | Z81: 47072.4 | AA81: 27.81 | AC81: =(F81*G81+H81*I81+J81*K81+L81*M81+N81*O81+P81*Q81+R81*S81+T81*U81+X81*Y81+Z81*AA81)/(F81+H81+J81+L81+N81+P81+R81+T81+X81+Z81) -> 25.710842
A82: Бештин айы | B82: Декабрь | C82: December | D82: 138154.6 | E82: 19.453024 | F82: 9118.4 | G82: 16.24 | H82: 95 | I82: 25 | L82: 957 | M82: 23 | N82: 46395.8 | O82: 21.93 | P82: 1049.8 | Q82: 30 | R82: 18524 | S82: 20.04 | V82: 18051 | W82: 27.41 | Z82: 43963.6 | AA82: 13.65 | AC82: =(F82*G82+H82*I82+J82*K82+L82*M82+N82*O82+P82*Q82+R82*S82+T82*U82+X82*Y82+Z82*AA82)/(F82+H82+J82+L82+N82+P82+R82+T82+X82+Z82) -> 18.257128
A83: Үчтүн айы 2002 ж. | B83: Январь 2002 г. | C83: January 2002 | D83: 152039.3 | E83: 23.566359 | F83: 25716.6 | G83: 21.61 | H83: 164 | I83: 33 | L83: 1681.6 | M83: 22.28 | N83: 64153.3 | O83: 24.98 | P83: 409 | Q83: 31.5 | R83: 2785.6 | S83: 13.64 | V83: 12281.8 | W83: 30.19 | Z83: 44847.4 | AA83: 21.41 | AC83: =(F83*G83+H83*I83+J83*K83+L83*M83+N83*O83+P83*Q83+R83*S83+T83*U83+X83*Y83+Z83*AA83)/(F83+H83+J83+L83+N83+P83+R83+T83+X83+Z83) -> 22.984277
A84: Бирдин айы | B84: Февраль | C84: February | D84: 148862.4 | E84: 22.128436 | F84: 47723.1 | G84: 18.32 | H84: 1294.3 | I84: 28.47 | L84: 2390.1 | M84: 19.21 | N84: 32442.3 | O84: 20.51 | P84: 314 | Q84: 40 | R84: 20333.8 | S84: 20.46 | V84: 19707 | W84: 30.12 | Z84: 24657.8 | AA84: 26.34 | AC84: =(F84*G84+H84*I84+J84*K84+L84*M84+N84*O84+P84*Q84+R84*S84+T84*U84+X84*Y84+Z84*AA84)/(F84+H84+J84+L84+N84+P84+R84+T84+X84+Z84) -> 20.909055
A85: Жалган куран | B85: Март | C85: March | D85: 94978.6 | E85: 23.066426 | F85: 6996.9 | G85: 19.45 | H85: 288 | I85: 14.47 | J85: 6809.9 | K85: 24.51 | N85: 27531.9 | O85: 23.7 | P85: 58 | Q85: 30 | R85: 1006.9 | S85: 16.43 | V85: 21073.6 | W85: 27.56 | Z85: 31213.4 | AA85: 20.25 | AC85: =(F85*G85+H85*I85+J85*K85+L85*M85+N85*O85+P85*Q85+R85*S85+T85*U85+X85*Y85+Z85*AA85)/(F85+H85+J85+L85+N85+P85+R85+T85+X85+Z85) -> 21.785109
A86: Чын куран | B86: Апрель | C86: April | D86: 198130.6 | E86: 22.061724 | F86: 44000.6 | G86: 19.49 | H86: 1566.6 | I86: 28.88 | J86: 1119.9 | K86: 25 | L86: 3845 | M86: 22 | N86: 30705.4 | O86: 27.94 | P86: 48 | Q86: 35 | R86: 13525.1 | S86: 19.42 | V86: 26369.5 | W86: 29.37 | Z86: 76950.5 | AA86: 18.96 | AC86: =(F86*G86+H86*I86+J86*K86+L86*M86+N86*O86+P86*Q86+R86*S86+T86*U86+X86*Y86+Z86*AA86)/(F86+H86+J86+L86+N86+P86+R86+T86+X86+Z86) -> 20.939726
A87: Бугу | B87: Май | C87: May | D87: 187590.7 | E87: 22.480324 | F87: 22195.2 | G87: 18.86 | H87: 608 | I87: 30.85 | J87: 3351.5 | K87: 28 | L87: 6702.8 | M87: 22.57 | N87: 59597.8 | O87: 24.38 | P87: 958 | Q87: 28 | R87: 550.3 | S87: 28.04 | V87: 24616 | W87: 27.45 | Z87: 69011.1 | AA87: 19.76 | AC87: =(F87*G87+H87*I87+J87*K87+L87*M87+N87*O87+P87*Q87+R87*S87+T87*U87+X87*Y87+Z87*AA87)/(F87+H87+J87+L87+N87+P87+R87+T87+X87+Z87) -> 21.729695
A88: Кулжа | B88: Июнь | C88: June | D88: 94000.7 | E88: 25.164531 | F88: 12691.7 | G88: 21.42 | L88: 1395.6 | M88: 15 | N88: 30615.7 | O88: 25.71 | P88: 373 | Q88: 28 | R88: 1300.7 | S88: 25.47 | V88: 21385 | W88: 27.17 | Z88: 26239 | AA88: 25.19 | AC88: =(F88*G88+H88*I88+J88*K88+L88*M88+N88*O88+P88*Q88+R88*S88+T88*U88+X88*Y88+Z88*AA88)/(F88+H88+J88+L88+N88+P88+R88+T88+X88+Z88) -> 24.57393
A89: Теке | B89: Июль | C89: July | D89: 129969.4 | E89: 25.941444 | F89: 38442.5 | G89: 24.14 | H89: 1573 | I89: 12.35 | N89: 38795.9 | O89: 25.26 | P89: 1851.3 | Q89: 30 | R89: 2545 | S89: 22 | V89: 17628.7 | W89: 30.86 | Z89: 29133 | AA89: 27.07 | AC89: =(F89*G89+H89*I89+J89*K89+L89*M89+N89*O89+P89*Q89+R89*S89+T89*U89+X89*Y89+Z89*AA89)/(F89+H89+J89+L89+N89+P89+R89+T89+X89+Z89) -> 25.169616
A90: Баш оона | B90: Август | C90: August | D90: 176123 | E90: 24.688175 | F90: 11460.9 | G90: 24.66 | H90: 23 | I90: 36.8 | J90: 5465 | K90: 28 | L90: 2310 | M90: 20 | N90: 62232.6 | O90: 30.77 | P90: 1385.8 | Q90: 25 | R90: 12461 | S90: 16.28 | V90: 50510.2 | W90: 17.69 | Z90: 30274.5 | AA90: 27.07 | AC90: =(F90*G90+H90*I90+J90*K90+L90*M90+N90*O90+P90*Q90+R90*S90+T90*U90+X90*Y90+Z90*AA90)/(F90+H90+J90+L90+N90+P90+R90+T90+X90+Z90) -> 27.502214
A91: Аяк оона | B91: Сентябрь | C91: September | D91: 104320.7 | E91: 21.457975 | F91: 11257.2 | G91: 21.78 | H91: 170 | I91: 36.4 | L91: 6900.6 | M91: 16.67 | N91: 15618.2 | O91: 24.76 | P91: 331 | Q91: 30 | R91: 9859.1 | S91: 15.71 | V91: 36295.5 | W91: 18.87 | Z91: 23889.1 | AA91: 26.61 | AC91: =(F91*G91+H91*I91+J91*K91+L91*M91+N91*O91+P91*Q91+R91*S91+T91*U91+X91*Y91+Z91*AA91)/(F91+H91+J91+L91+N91+P91+R91+T91+X91+Z91) -> 22.838814
A92: Тогуздун айы | B92: Октябрь | C92: October | D92: 235068 | E92: 22.686766 | F92: 26447.7 | G92: 22.26 | H92: 9995 | I92: 23.09 | N92: 73124.5 | O92: 21.74 | P92: 21340.3 | Q92: 27.41 | R92: 7655.2 | S92: 23.81 | V92: 55450.9 | W92: 21.78 | Z92: 41054.4 | AA92: 23.11 | AC92: =(F92*G92+H92*I92+J92*K92+L92*M92+N92*O92+P92*Q92+R92*S92+T92*U92+X92*Y92+Z92*AA92)/(F92+H92+J92+L92+N92+P92+R92+T92+X92+Z92) -> 22.9667
A93: Жетинин айы | B93: Ноябрь | C93: November | D93: 211191.1 | E93: 20.130695 | F93: 30902.7 | G93: 18.34 | H93: 207 | I93: 35 | N93: 75035.3 | O93: 22.3 | P93: 2308.4 | Q93: 25 | R93: 5835.4 | S93: 22.99 | V93: 30537.4 | W93: 19.88 | Z93: 66364.9 | AA93: 18.16 | AC93: =(F93*G93+H93*I93+J93*K93+L93*M93+N93*O93+P93*Q93+R93*S93+T93*U93+X93*Y93+Z93*AA93)/(F93+H93+J93+L93+N93+P93+R93+T93+X93+Z93) -> 20.173072
A94: Бештин айы | B94: Декабрь | C94: December | D94: 297971.8 | E94: 18.262743 | F94: 54546.9 | G94: 19.5 | H94: 3132 | I94: 23.55 | J94: 3830.8 | K94: 24.03 | N94: 109929.7 | O94: 21.06 | P94: 11183 | Q94: 24.18 | R94: 9458 | S94: 20.55 | V94: 22086.2 | W94: 26.38 | Z94: 83805.2 | AA94: 10.14 | AC94: =(F94*G94+H94*I94+J94*K94+L94*M94+N94*O94+P94*Q94+R94*S94+T94*U94+X94*Y94+Z94*AA94)/(F94+H94+J94+L94+N94+P94+R94+T94+X94+Z94) -> 17.61291
A95: Үчтүн айы 2003 ж. | B95: Январь 2003 г. | C95: January 2003 | D95: 204057.9 | E95: 17.191223 | F95: 36797.6 | G95: 18.72 | H95: 1424 | I95: 30 | J95: 5370.3 | K95: 22.3 | N95: 52715.2 | O95: 22.67 | P95: 257 | Q95: 28.64 | R95: 1642.8 | S95: 23 | V95: 22503 | W95: 22.5 | Z95: 83348 | AA95: 10.92 | AC95: =(F95*G95+H95*I95+J95*K95+L95*M95+N95*O95+P95*Q95+R95*S95+T95*U95+X95*Y95+Z95*AA95)/(F95+H95+J95+L95+N95+P95+R95+T95+X95+Z95) -> 16.533222
A96: Бирдин айы | B96: Февраль | C96: February | D96: 204482.4 | E96: 18.644378 | F96: 24900.7 | G96: 17.77 | H96: 6197 | I96: 16.4 | J96: 106.1 | K96: 25 | L96: 443.6 | M96: 28.02 | N96: 50585.5 | O96: 23.86 | P96: 5073 | Q96: 24.55 | R96: 11722.5 | S96: 18.57 | V96: 23557 | W96: 28.95 | Z96: 81897 | AA96: 12.48 | AC96: =(F96*G96+H96*I96+J96*K96+L96*M96+N96*O96+P96*Q96+R96*S96+T96*U96+X96*Y96+Z96*AA96)/(F96+H96+J96+L96+N96+P96+R96+T96+X96+Z96) -> 17.302557
A97: Жалган куран | B97: Март | C97: March | D97: 234299 | E97: 19.461453 | F97: 49881.7 | G97: 19.42 | H97: 297 | I97: 23.45 | L97: 9.1 | M97: 30 | N97: 48589.8 | O97: 25.04 | P97: 2552.4 | Q97: 28.43 | R97: 10787.7 | S97: 23.48 | V97: 24986.6 | W97: 26.46 | Z97: 97194.7 | AA97: 14.2 | AC97: =(F97*G97+H97*I97+J97*K97+L97*M97+N97*O97+P97*Q97+R97*S97+T97*U97+X97*Y97+Z97*AA97)/(F97+H97+J97+L97+N97+P97+R97+T97+X97+Z97) -> 18.626004
A98: Чын куран | B98: Апрель | C98: April | D98: 269112 | E98: 19.104007 | F98: 51493.4 | G98: 20.892876 | H98: 7944.3 | I98: 17.443891 | J98: 243.4 | K98: 25 | L98: 2876.8 | M98: 22.30812 | N98: 86035.6 | O98: 23.603453 | P98: 4426 | Q98: 24 | R98: 1562 | S98: 28.588348 | T98: 8318.1 | U98: 20.447218 | V98: 11133 | W98: 25.610241 | X98: 1416.2 | Y98: 25.437509 | Z98: 93663.2 | AA98: 12.636661 | AC98: =(F98*G98+H98*I98+J98*K98+L98*M98+N98*O98+P98*Q98+R98*S98+T98*U98+X98*Y98+Z98*AA98)/(F98+H98+J98+L98+N98+P98+R98+T98+X98+Z98) -> 18.823232
A99: Бугу | B99: Май | C99: May | D99: 244269.2 | E99: 19.181381 | F99: 39692.5 | G99: 19.985889 | H99: 1080.6 | I99: 26.124375 | J99: 185.1 | K99: 23.4792 | L99: 1266 | M99: 20 | N99: 79871.6 | O99: 22.793361 | P99: 7104.6 | Q99: 20.946542 | R99: 419 | S99: 29.579952 | T99: 4683.2 | U99: 20 | V99: 17502.1 | W99: 19.368867 | Z99: 92464.5 | AA99: 15.355319 | AC99: =(F99*G99+H99*I99+J99*K99+L99*M99+N99*O99+P99*Q99+R99*S99+T99*U99+X99*Y99+Z99*AA99)/(F99+H99+J99+L99+N99+P99+R99+T99+X99+Z99) -> 19.166911
A100: Кулжа | B100: Июнь | C100: June | D100: 229388.7 | E100: 17.411362 | F100: 50332.6 | G100: 17.316457 | H100: 8397.3 | I100: 21.847915 | J100: 432.4 | K100: 25.685754 | L100: 33 | M100: 30 | N100: 54481.7 | O100: 22.026855 | P100: 5843.6 | Q100: 28.177413 | R100: 2553 | S100: 21.257501 | T100: 6718.2 | U100: 20.182942 | V100: 19112.1 | W100: 20.203566 | Z100: 81484.8 | AA100: 12.101807 | AC100: =(F100*G100+H100*I100+J100*K100+L100*M100+N100*O100+P100*Q100+R100*S100+T100*U100+X100*Y100+Z100*AA100)/(F100+H100+J100+L100+N100+P100+R100+T100+X100+Z100) -> 17.157578
A101: Теке | B101: Июль | C101: July | D101: 238590.2 | E101: 20.076608 | F101: 72307 | G101: 18.40917 | H101: 1557.9 | I101: 19.36132 | J101: 3029 | K101: 17.566524 | L101: 2094.9 | M101: 20 | N101: 63571.3 | O101: 23.112559 | P101: 14199.8 | Q101: 14.791335 | R101: 10311.7 | S101: 20.19025 | T101: 10078.3 | U101: 19.475259 | V101: 14575.5 | W101: 24.559772 | Z101: 46864.8 | AA101: 19.031902 | AC101: =(F101*G101+H101*I101+J101*K101+L101*M101+N101*O101+P101*Q101+R101*S101+T101*U101+X101*Y101+Z101*AA101)/(F101+H101+J101+L101+N101+P101+R101+T101+X101+Z101) -> 19.784911
A102: Баш оона | B102: Август | C102: August | D102: 184791.4 | E102: 20.528462 | F102: 37987 | G102: 18.174862 | H102: 2265 | I102: 18.565298 | J102: 740.6 | K102: 24.224143 | L102: 1276.8 | M102: 20 | N102: 55769.1 | O102: 22.047246 | P102: 5363.1 | Q102: 25.040089 | R102: 10189 | S102: 18.644519 | T102: 1540.7 | U102: 19.74596 | V102: 16763.3 | W102: 22.018163 | Z102: 52896.8 | AA102: 20.11864 | AC102: =(F102*G102+H102*I102+J102*K102+L102*M102+N102*O102+P102*Q102+R102*S102+T102*U102+X102*Y102+Z102*AA102)/(F102+H102+J102+L102+N102+P102+R102+T102+X102+Z102) -> 20.379842
...

Sheet 5. сроки_общ
A2: 5-таблица. Мөөнөттөр боюнча коммерциялык банктар тарабынан берилген кредиттер жана кредиттердин орточо салмактанып алынган пайыздык чендери (бир мезгил ичинде) | B2: Таблица 5. Общий объем и средневзвешенные процентные ставки по выданным кредитам в разрезе срочностей (за период) | C2: Table 5. Total volume and average weighted interest rates of newly issued credits by maturity (for the period)
A4: (миң сом / пайыздар) | B4: (тыс. сомов / проценты) | C4: (ths of soms / percent)
A5: Мезгил аралыгы | B5: Период | C5: Period | D5: Жалпы улуттук валютада жана чет өлкө валютасында | F5: 0 - 1 айга | H5: 1 - 3 айга | J5: 3 - 6 айга | L5: 6 - 12 айга | N5: 1 - 3 жыл | P5: 3 жылдан ашкан мөөнөткө | S5: Кыска мөөнөттү кредиттер | U5: Узак мөөнөттү кредиттер
D6: Итого в нац. и ин. валюте | F6: 0 - 1 месяца | H6: 1 - 3 месяца | J6: 3 - 6 месяцев | L6: 6 - 12 месяцев | N6: 1 - 3 года | P6: более 3 лет | S6: Краткосрочные кредиты | U6: Долгосрочные кредиты
D7: Total in National and Foreign currencies | F7: 0 - 1 month | H7: 1 - 3 months | J7: 3 - 6 months | L7: 6 - 12 months | N7: 1 - 3 years | P7: more than 3 years | S7: Short-maturity credits | U7: Long-maturity credits
D8: көлөм | E8: орточо салмактанып алынган чендер | F8: көлөм | G8: орточо салмактанып алынган чендер | H8: көлөм | I8: орточо салмактанып алынган чендер | J8: көлөм | K8: орточо салмактанып алынган чендер | L8: көлөм | M8: орточо салмактанып алынган чендер | N8: көлөм | O8: орточо салмактанып алынган чендер | P8: көлөм | Q8: орточо салмактанып алынган чендер | S8: көлөм | T8: орточо салмактанып алынган чендер | U8: көлөм | V8: орточо салмактанып алынган чендер
D9: объем | E9: средневзв. ставка | F9: объем | G9: средневзв. ставка | H9: объем | I9: средневзв. ставка | J9: объем | K9: средневзв. ставка | L9: объем | M9: средневзв. ставка | N9: объем | O9: средневзв. ставка | P9: объем | Q9: средневзв. ставка | S9: объем | T9: средневзв. ставка | U9: объем | V9: средневзв. ставка
D10: volume | E10: average weighted interest rate | F10: volume | G10: average weighted interest rate | H10: volume | I10: average weighted interest rate | J10: volume | K10: average weighted interest rate | L10: volume | M10: average weighted interest rate | N10: volume | O10: average weighted interest rate | P10: volume | Q10: average weighted interest rate | S10: volume | T10: average weighted interest rate | U10: volume | V10: average weighted interest rate
A11: Үчтүн айы 1996 ж. | B11: Январь 1996 г. | C11: January 1996 | D11: 54428 | E11: 58.615446 | F11: 5214 | G11: 62.754402 | H11: 25128 | I11: 59.117249 | J11: 21999 | K11: 58.34691 | L11: 2039 | M11: 45.58332 | N11: 48 | O11: 21 | S11: =F11+H11+J11+L11 -> 54380 | T11: =(F11*G11+H11*I11+J11*K11+L11*M11)/(F11+H11+J11+L11) -> 58.646888 | U11: =N11+P11 -> 48 | V11: =(N11*O11+P11*Q11)/(N11+P11) -> 21
A12: Бирдин айы | B12: Февраль | C12: February | D12: 45653.5 | E12: 54.526157 | F12: 2410 | G12: 67.862971 | H12: 16471.5 | I12: 66.958202 | J12: 20600 | K12: 47.57367 | L12: 3417 | M12: 57.432136 | N12: 2730 | O12: 16.900139 | P12: 25 | Q12: 20 | S12: =F12+H12+J12+L12 -> 42898.5 | T12: =(F12*G12+H12*I12+J12*K12+L12*M12)/(F12+H12+J12+L12) -> 56.941735 | U12: =N12+P12 -> 2755 | V12: =(N12*O12+P12*Q12)/(N12+P12) -> 16.928269
A13: Жалган куран | B13: Март | C13: March | D13: 37106.3 | E13: 54.602125 | F13: 7260.8 | G13: 36.341827 | H13: 15767.8 | I13: 66.813898 | J13: 7169.7 | K13: 53.259919 | L13: 4197 | M13: 64.62 | N13: 2711 | O13: 20.53 | S13: =F13+H13+J13+L13 -> 34395.3 | T13: =(F13*G13+H13*I13+J13*K13+L13*M13)/(F13+H13+J13+L13) -> 57.288254 | U13: =N13+P13 -> 2711 | V13: =(N13*O13+P13*Q13)/(N13+P13) -> 20.53
A14: Чын куран | B14: Апрель | C14: April | D14: 66848.3 | E14: 57.716208 | F14: 6633 | G14: 42.492468 | H14: 11236.5 | I14: 65.100391 | J14: 44089 | K14: 60.744169 | L14: 4251.8 | M14: 34.33869 | N14: 558 | O14: 34.24 | P14: 80 | Q14: 20 | S14: =F14+H14+J14+L14 -> 66210.3 | T14: =(F14*G14+H14*I14+J14*K14+L14*M14)/(F14+H14+J14+L14) -> 57.95932 | U14: =N14+P14 -> 638 | V14: =(N14*O14+P14*Q14)/(N14+P14) -> 32.45442
A15: Бугу | B15: Май | C15: May | D15: 39034.3 | E15: 58.996474 | F15: 7871.8 | G15: 62.221238 | H15: 17059.5 | I15: 60.575528 | J15: 11821 | K15: 56.420655 | L15: 2026 | M15: 47.43 | N15: 256 | O15: 65 | S15: =F15+H15+J15+L15 -> 38778.3 | T15: =(F15*G15+H15*I15+J15*K15+L15*M15)/(F15+H15+J15+L15) -> 58.956249 | U15: =N15+P15 -> 256 | V15: =(N15*O15+P15*Q15)/(N15+P15) -> 65
A16: Кулжа | B16: Июнь | C16: June | D16: 38953.6 | E16: 55.990876 | F16: 2629 | G16: 68.55 | H16: 25029.4 | I16: 55.869996 | J16: 9022.2 | K16: 59.310565 | L16: 510 | M16: 12.35 | N16: 1683 | O16: 35.324522 | P16: 80 | Q16: 20 | S16: =F16+H16+J16+L16 -> 37190.6 | T16: =(F16*G16+H16*I16+J16*K16+L16*M16)/(F16+H16+J16+L16) -> 57.004208 | U16: =N16+P16 -> 1763 | V16: =(N16*O16+P16*Q16)/(N16+P16) -> 34.629138
A17: Теке | B17: Июль | C17: July | D17: 47240.1 | E17: 48.502777 | F17: 4504 | G17: 59.634902 | H17: 12155.6 | I17: 53.485007 | J17: 21626.5 | K17: 47.498353 | L17: 4042 | M17: 59.02 | N17: 4912 | O17: 21.744479 | S17: =F17+H17+J17+L17 -> 42328.1 | T17: =(F17*G17+H17*I17+J17*K17+L17*M17)/(F17+H17+J17+L17) -> 51.609213 | U17: =N17+P17 -> 4912 | V17: =(N17*O17+P17*Q17)/(N17+P17) -> 21.744479
A18: Баш оона | B18: Август | C18: August | D18: 57133.4 | E18: 55.621883 | F18: 2269 | G18: 70.148863 | H18: 29960 | I18: 64.744514 | J18: 16875.6 | K18: 51.442086 | L18: 2901.7 | M18: 41.23918 | N18: 5112.1 | O18: 17.754925 | P18: 15 | Q18: 20 | S18: =F18+H18+J18+L18 -> 52006.3 | T18: =(F18*G18+H18*I18+J18*K18+L18*M18)/(F18+H18+J18+L18) -> 59.352294 | U18: =N18+P18 -> 5127.1 | V18: =(N18*O18+P18*Q18)/(N18+P18) -> 17.761494
A19: Аяк оона | B19: Сентябрь | C19: September | D19: 55070.4 | E19: 60.943224 | F19: 1132 | G19: 71.599064 | H19: 37003 | I19: 68.037825 | J19: 14889.4 | K19: 46.462339 | L19: 1321 | M19: 42.243936 | N19: 725 | O19: 13.748359 | S19: =F19+H19+J19+L19 -> 54345.4 | T19: =(F19*G19+H19*I19+J19*K19+L19*M19)/(F19+H19+J19+L19) -> 61.573829 | U19: =N19+P19 -> 725 | V19: =(N19*O19+P19*Q19)/(N19+P19) -> 13.748359
A20: Тогуздун айы | B20: Октябрь | C20: October | D20: 50828.8 | E20: 61.105922 | F20: 8805 | G20: 70.637263 | H20: 18421.3 | I20: 67.050542 | J20: 20287.5 | K20: 56.529227 | L20: 1850 | M20: 46.360368 | N20: 985 | O20: 11.12797 | P20: 480 | Q20: 11 | S20: =F20+H20+J20+L20 -> 49363.8 | T20: =(F20*G20+H20*I20+J20*K20+L20*M20)/(F20+H20+J20+L20) -> 62.590858 | U20: =N20+P20 -> 1465 | V20: =(N20*O20+P20*Q20)/(N20+P20) -> 11.086041
A21: Жетинин айы | B21: Ноябрь | C21: November | D21: 58241.7 | E21: 52.81693 | F21: 3179 | G21: 53.99 | H21: 20445.9 | I21: 51.802907 | J21: 27649 | K21: 54.495447 | L21: 4856 | M21: 57.650115 | N21: 2111.8 | O21: 27.76 | S21: =F21+H21+J21+L21 -> 56129.9 | T21: =(F21*G21+H21*I21+J21*K21+L21*M21)/(F21+H21+J21+L21) -> 53.758956 | U21: =N21+P21 -> 2111.8 | V21: =(N21*O21+P21*Q21)/(N21+P21) -> 27.76
A22: Бештин айы | B22: Декабрь | C22: December | D22: 65604.1 | E22: 52.142973 | F22: 4299 | G22: 60.683094 | H22: 27875 | I22: 61.851693 | J22: 14243.7 | K22: 56.473661 | L22: 8081 | M22: 36.194454 | N22: 11105.4 | O22: 30.527159 | S22: =F22+H22+J22+L22 -> 54498.7 | T22: =(F22*G22+H22*I22+J22*K22+L22*M22)/(F22+H22+J22+L22) -> 56.549493 | U22: =N22+P22 -> 11105.4 | V22: =(N22*O22+P22*Q22)/(N22+P22) -> 30.527159
A23: Үчтүн айы 1997 ж. | B23: Январь 1997 г. | C23: January 1997 | D23: 55700.1 | E23: 49.996214 | F23: 510 | G23: 67.47 | H23: 9098.4 | I23: 57.390847 | J23: 38556 | K23: 49.847889 | L23: 3574.2 | M23: 57.126157 | N23: 3961.5 | O23: 25.772638 | S23: =F23+H23+J23+L23 -> 51738.6 | T23: =(F23*G23+H23*I23+J23*K23+L23*M23)/(F23+H23+J23+L23) -> 51.850844 | U23: =N23+P23 -> 3961.5 | V23: =(N23*O23+P23*Q23)/(N23+P23) -> 25.772638
A24: Бирдин айы | B24: Февраль | C24: February | D24: 52519.9 | E24: 57.330642 | F24: 2862 | G24: 65.86608 | H24: 8970.5 | I24: 58.411924 | J24: 36277 | K24: 59.795128 | L24: 1907.4 | M24: 54.147745 | N24: 2303 | O24: 9.5636127 | P24: 200 | Q24: 20 | S24: =F24+H24+J24+L24 -> 50016.9 | T24: =(F24*G24+H24*I24+J24*K24+L24*M24)/(F24+H24+J24+L24) -> 59.679072 | U24: =N24+P24 -> 2503 | V24: =(N24*O24+P24*Q24)/(N24+P24) -> 10.397523
A25: Жалган куран | B25: Март | C25: March | D25: 98752 | E25: 63.831802 | F25: 1454 | G25: 59.376307 | H25: 36018 | I25: 69.996274 | J25: 52363 | K25: 65.744315 | L25: 2934 | M25: 56.42 | N25: 5983 | O25: 14.712089 | S25: =F25+H25+J25+L25 -> 92769 | T25: =(F25*G25+H25*I25+J25*K25+L25*M25)/(F25+H25+J25+L25) -> 67.00045 | U25: =N25+P25 -> 5983 | V25: =(N25*O25+P25*Q25)/(N25+P25) -> 14.712089
A26: Чын куран | B26: Апрель | C26: April | D26: 58672.5 | E26: 57.811019 | F26: 3554.5 | G26: 44.011654 | H26: 10560 | I26: 63.601723 | J26: 37376 | K26: 61.057861 | L26: 5558 | M26: 46.296808 | N26: 1624 | O26: 15.130049 | S26: =F26+H26+J26+L26 -> 57048.5 | T26: =(F26*G26+H26*I26+J26*K26+L26*M26)/(F26+H26+J26+L26) -> 59.028544 | U26: =N26+P26 -> 1624 | V26: =(N26*O26+P26*Q26)/(N26+P26) -> 15.130049
A27: Бугу | B27: Май | C27: May | D27: 118484.9 | E27: 51.316368 | F27: 9398.4 | G27: 47.94666 | H27: 13101.2 | I27: 69.431347 | J27: 58299.8 | K27: 59.445367 | L27: 20093 | M27: 50.433475 | N27: 11023.9 | O27: 14.654329 | P27: 6568.6 | Q27: 12.073644 | S27: =F27+H27+J27+L27 -> 100892.4 | T27: =(F27*G27+H27*I27+J27*K27+L27*M27)/(F27+H27+J27+L27) -> 57.876199 | U27: =N27+P27 -> 17592.5 | V27: =(N27*O27+P27*Q27)/(N27+P27) -> 13.690766
A28: Кулжа | B28: Июнь | C28: June | D28: 110883.5 | E28: 62.437515 | F28: 3558 | G28: 40.011383 | H28: 33077.1 | I28: 56.877542 | J28: 58277.4 | K28: 73.330979 | L28: 10170 | M28: 54.21 | N28: 5127 | O28: 13.664227 | P28: 674 | Q28: 6.67 | S28: =F28+H28+J28+L28 -> 105082.5 | T28: =(F28*G28+H28*I28+J28*K28+L28*M28)/(F28+H28+J28+L28) -> 65.173165 | U28: =N28+P28 -> 5801 | V28: =(N28*O28+P28*Q28)/(N28+P28) -> 12.851589
A29: Теке | B29: Июль | C29: July | D29: 119101.9 | E29: 63.131711 | F29: 1821 | G29: 56.679588 | H29: 28542.7 | I29: 44.580664 | J29: 78552.5 | K29: 72.174891 | L29: 6028.7 | M29: 53.666276 | N29: 4157 | O29: 36.196969 | S29: =F29+H29+J29+L29 -> 114944.9 | T29: =(F29*G29+H29*I29+J29*K29+L29*M29)/(F29+H29+J29+L29) -> 64.10656 | U29: =N29+P29 -> 4157 | V29: =(N29*O29+P29*Q29)/(N29+P29) -> 36.196969
A30: Баш оона | B30: Август | C30: August | D30: 120063.2 | E30: 61.502382 | F30: 14682.2 | G30: 56.148543 | H30: 20214 | I30: 57.184754 | J30: 81103 | K30: 64.370013 | L30: 2883 | M30: 53.066767 | N30: 921 | O30: 27.690554 | P30: 260 | Q30: 18.85 | S30: =F30+H30+J30+L30 -> 118882.2 | T30: =(F30*G30+H30*I30+J30*K30+L30*M30)/(F30+H30+J30+L30) -> 61.858793 | U30: =N30+P30 -> 1181 | V30: =(N30*O30+P30*Q30)/(N30+P30) -> 25.744285
A31: Аяк оона | B31: Сентябрь | C31: September | D31: 177335.6 | E31: 55.641614 | F31: 12321.1 | G31: 50.532147 | H31: 25824.6 | I31: 55.063453 | J31: 94286.9 | K31: 64.144237 | L31: 32374 | M31: 48.701693 | N31: 12529 | O31: 15.787825 | S31: =F31+H31+J31+L31 -> 164806.6 | T31: =(F31*G31+H31*I31+J31*K31+L31*M31)/(F31+H31+J31+L31) -> 58.670182 | U31: =N31+P31 -> 12529 | V31: =(N31*O31+P31*Q31)/(N31+P31) -> 15.787825
A32: Тогуздун айы | B32: Октябрь | C32: October | D32: 143930.1 | E32: 55.845151 | F32: 1969.8 | G32: 41.802684 | H32: 19813.9 | I32: 57.567335 | J32: 106494.1 | K32: 58.57019 | L32: 7874.9 | M32: 53.486888 | N32: 7777.4 | O32: 20.061235 | S32: =F32+H32+J32+L32 -> 136152.7 | T32: =(F32*G32+H32*I32+J32*K32+L32*M32)/(F32+H32+J32+L32) -> 57.88765 | U32: =N32+P32 -> 7777.4 | V32: =(N32*O32+P32*Q32)/(N32+P32) -> 20.061235
A33: Жетинин айы | B33: Ноябрь | C33: November | D33: 182181.1 | E33: 52.033916 | F33: 13694.1 | G33: 32.118449 | H33: 23745.8 | I33: 48.528979 | J33: 129150.2 | K33: 55.886934 | L33: 14360 | M33: 43.785982 | N33: 1058 | O33: 36.616985 | P33: 173 | Q33: 11 | S33: =F33+H33+J33+L33 -> 180950.1 | T33: =(F33*G33+H33*I33+J33*K33+L33*M33)/(F33+H33+J33+L33) -> 52.16227 | U33: =N33+P33 -> 1231 | V33: =(N33*O33+P33*Q33)/(N33+P33) -> 33.016872
A34: Бештин айы | B34: Декабрь | C34: December | D34: 320566.6 | E34: 43.750549 | F34: 31787.7 | G34: 47.559871 | H34: 66841.9 | I34: 36.982216 | J34: 144709.5 | K34: 47.592028 | L34: 48901.5 | M34: 42.333955 | N34: 28326 | O34: 38.263962 | S34: =F34+H34+J34+L34 -> 292240.6 | T34: =(F34*G34+H34*I34+J34*K34+L34*M34)/(F34+H34+J34+L34) -> 44.281982 | U34: =N34+P34 -> 28326 | V34: =(N34*O34+P34*Q34)/(N34+P34) -> 38.263962
A35: Үчтүн айы 1998 ж. | B35: Январь 1998 г. | C35: January 1998 | D35: 241890.4 | E35: 45.119276 | F35: 20857 | G35: 36.488777 | H35: 54984.2 | I35: 36.28408 | J35: 124478.1 | K35: 53.237882 | L35: 26390.1 | M35: 49.361497 | N35: 15092 | O35: 15.089784 | P35: 89 | Q35: 0 | S35: =F35+H35+J35+L35 -> 226709.4 | T35: =(F35*G35+H35*I35+J35*K35+L35*M35)/(F35+H35+J35+L35) -> 47.13392 | U35: =N35+P35 -> 15181 | V35: =(N35*O35+P35*Q35)/(N35+P35) -> 15.001319
A36: Бирдин айы | B36: Февраль | C36: February | D36: 230325.5 | E36: 43.6295 | F36: 15269 | G36: 36.723196 | H36: 35196.1 | I36: 43.250526 | J36: 103651 | K36: 56.839083 | L36: 37171.2 | M36: 40.200359 | N36: 38988.2 | O36: 14.851626 | P36: 50 | Q36: 14 | S36: =F36+H36+J36+L36 -> 191287.3 | T36: =(F36*G36+H36*I36+J36*K36+L36*M36)/(F36+H36+J36+L36) -> 49.499887 | U36: =N36+P36 -> 39038.2 | V36: =(N36*O36+P36*Q36)/(N36+P36) -> 14.850536
A37: Жалган куран | B37: Март | C37: March | D37: 314207.4 | E37: 51.271368 | F37: 15598 | G37: 38.310364 | H37: 47314.9 | I37: 42.508975 | J37: 207652.7 | K37: 56.648157 | L37: 42476.8 | M37: 40.088045 | N37: 1165 | O37: 29.901219 | S37: =F37+H37+J37+L37 -> 313042.4 | T37: =(F37*G37+H37*I37+J37*K37+L37*M37)/(F37+H37+J37+L37) -> 51.35032 | U37: =N37+P37 -> 1165 | V37: =(N37*O37+P37*Q37)/(N37+P37) -> 29.901219
A38: Чын куран | B38: Апрель | C38: April | D38: 319374.7 | E38: 42.645025 | F38: 13073.2 | G38: 34.453959 | H38: 82442.3 | I38: 44.51633 | J38: 137545.6 | K38: 48.715775 | L38: 66239.7 | M38: 38.195151 | N38: 19949.9 | O38: 13.378773 | P38: 124 | Q38: 14 | S38: =F38+H38+J38+L38 -> 299300.8 | T38: =(F38*G38+H38*I38+J38*K38+L38*M38)/(F38+H38+J38+L38) -> 44.607726 | U38: =N38+P38 -> 20073.9 | V38: =(N38*O38+P38*Q38)/(N38+P38) -> 13.382611
A39: Бугу | B39: Май | C39: May | D39: 451460.7 | E39: 51.468943 | F39: 59012.7 | G39: 38.026993 | H39: 62005.8 | I39: 56.353228 | J39: 146510.4 | K39: 55.339566 | L39: 179629 | M39: 51.606142 | N39: 3936.8 | O39: 30.155363 | P39: 366 | Q39: 4.39 | S39: =F39+H39+J39+L39 -> 447157.9 | T39: =(F39*G39+H39*I39+J39*K39+L39*M39)/(F39+H39+J39+L39) -> 51.695574 | U39: =N39+P39 -> 4302.8 | V39: =(N39*O39+P39*Q39)/(N39+P39) -> 27.963738
A40: Кулжа | B40: Июнь | C40: June | D40: 182816.4 | E40: 42.432046 | F40: 36497.6 | G40: 36.112254 | H40: 20716.4 | I40: 43.010775 | J40: 81531.4 | K40: 47.848598 | L40: 36061.6 | M40: 41.270349 | N40: 8009.4 | O40: 19.797309 | S40: =F40+H40+J40+L40 -> 174807 | T40: =(F40*G40+H40*I40+J40*K40+L40*M40)/(F40+H40+J40+L40) -> 43.467807 | U40: =N40+P40 -> 8009.4 | V40: =(N40*O40+P40*Q40)/(N40+P40) -> 19.797309
A41: Теке | B41: Июль | C41: July | D41: 215605.9 | E41: 44.843237 | F41: 8086.8 | G41: 44.611342 | H41: 29551.5 | I41: 49.666984 | J41: 146257.8 | K41: 46.132371 | L41: 14504.4 | M41: 42.929816 | N41: 17205.4 | O41: 27.299537 | S41: =F41+H41+J41+L41 -> 198400.5 | T41: =(F41*G41+H41*I41+J41*K41+L41*M41)/(F41+H41+J41+L41) -> 46.362722 | U41: =N41+P41 -> 17205.4 | V41: =(N41*O41+P41*Q41)/(N41+P41) -> 27.299537
A42: Баш оона | B42: Август | C42: August | D42: 154691.3 | E42: 45.967958 | F42: 16591.8 | G42: 32.736516 | H42: 30420 | I42: 47.12244 | J42: 79208 | K42: 49.798618 | L42: 21149.1 | M42: 46.051132 | N42: 7322.4 | O42: 29.462734 | S42: =F42+H42+J42+L42 -> 147368.9 | T42: =(F42*G42+H42*I42+J42*K42+L42*M42)/(F42+H42+J42+L42) -> 46.787425 | U42: =N42+P42 -> 7322.4 | V42: =(N42*O42+P42*Q42)/(N42+P42) -> 29.462734
A43: Аяк оона | B43: Сентябрь | C43: September | D43: 295434.2 | E43: 46.083683 | F43: 75622 | G43: 39.52432 | H43: 19583.7 | I43: 54.286809 | J43: 164810.3 | K43: 49.750323 | L43: 14533.3 | M43: 42.475097 | N43: 19978.9 | O43: 35.741376 | P43: 906 | S43: =F43+H43+J43+L43 -> 274549.3 | T43: =(F43*G43+H43*I43+J43*K43+L43*M43)/(F43+H43+J43+L43) -> 46.872142 | U43: =N43+P43 -> 20884.9 | V43: =(N43*O43+P43*Q43)/(N43+P43) -> 34.190893
A44: Тогуздун айы | B44: Октябрь | C44: October | D44: 261025.5 | E44: 44.680242 | F44: 9253 | G44: 27.497073 | H44: 50815.3 | I44: 26.921443 | J44: 188992 | K44: 50.211943 | L44: 11565.7 | M44: 47.179561 | N44: 399.5 | O44: 11.289812 | S44: =F44+H44+J44+L44 -> 260626 | T44: =(F44*G44+H44*I44+J44*K44+L44*M44)/(F44+H44+J44+L44) -> 44.729888 | U44: =N44+P44 -> 399.5 | V44: =(N44*O44+P44*Q44)/(N44+P44) -> 11.289812
A45: Жетинин айы | B45: Ноябрь | C45: November | D45: 256187.5 | E45: 48.93425 | F45: 11261.7 | G45: 25.856803 | H45: 34481.1 | I45: 48.789952 | J45: 192139.1 | K45: 50.836723 | L45: 17461.4 | M45: 41.906954 | N45: 844.2 | O45: 74.97 | S45: =F45+H45+J45+L45 -> 255343.3 | T45: =(F45*G45+H45*I45+J45*K45+L45*M45)/(F45+H45+J45+L45) -> 48.847959 | U45: =N45+P45 -> 844.2 | V45: =(N45*O45+P45*Q45)/(N45+P45) -> 74.97
A46: Бештин айы | B46: Декабрь | C46: December | D46: 292970.7 | E46: 32.783794 | F46: 30437.7 | G46: 55.29171 | H46: 31379.4 | I46: 53.867514 | J46: 60225 | K46: 42.252545 | L46: 33814.8 | M46: 37.235307 | N46: 136932.8 | O46: 17.715074 | P46: 181 | Q46: 11.11 | S46: =F46+H46+J46+L46 -> 155856.9 | T46: =(F46*G46+H46*I46+J46*K46+L46*M46)/(F46+H46+J46+L46) -> 46.048951 | U46: =N46+P46 -> 137113.8 | V46: =(N46*O46+P46*Q46)/(N46+P46) -> 17.706355
A47: Үчтүн айы 1999 ж. | B47: Январь 1999 г. | C47: January 1999 | D47: 69182 | E47: 54.718127 | F47: 13028.1 | G47: 60.813079 | H47: 20999 | I47: 59.644737 | J47: 18792.3 | K47: 58.941981 | L47: 14260.6 | M47: 44.157792 | N47: 2102 | O47: 1.6026927 | S47: =F47+H47+J47+L47 -> 67080 | T47: =(F47*G47+H47*I47+J47*K47+L47*M47)/(F47+H47+J47+L47) -> 56.38239 | U47: =N47+P47 -> 2102 | V47: =(N47*O47+P47*Q47)/(N47+P47) -> 1.6026927
A48: Бирдин айы | B48: Февраль | C48: February | D48: 100445.3 | E48: 51.067518 | F48: 17208.4 | G48: 44.765302 | H48: 34444.5 | I48: 53.450153 | J48: 26259.8 | K48: 55.618568 | L48: 20166.6 | M48: 47.918007 | N48: 2366 | O48: 38.57328 | S48: =F48+H48+J48+L48 -> 98079.3 | T48: =(F48*G48+H48*I48+J48*K48+L48*M48)/(F48+H48+J48+L48) -> 51.369441 | U48: =N48+P48 -> 2366 | V48: =(N48*O48+P48*Q48)/(N48+P48) -> 38.57328
A49: Жалган куран | B49: Март | C49: March | D49: 122421.5 | E49: 44.48094 | F49: 9511.6 | G49: 64.186918 | H49: 49608.4 | I49: 42.00029 | J49: 31053.7 | K49: 49.522194 | L49: 26398.8 | M49: 42.554713 | N49: 5849 | O49: 15.412002 | S49: =F49+H49+J49+L49 -> 116572.5 | T49: =(F49*G49+H49*I49+J49*K49+L49*M49)/(F49+H49+J49+L49) -> 45.939893 | U49: =N49+P49 -> 5849 | V49: =(N49*O49+P49*Q49)/(N49+P49) -> 15.412002
A50: Чын куран | B50: Апрель | C50: April | D50: 144027.8 | E50: 43.81741 | F50: 5981.6 | G50: 56.007384 | H50: 41351.3 | I50: 38.890857 | J50: 44701.4 | K50: 49.213098 | L50: 30576.5 | M50: 51.542452 | N50: 21417 | O50: 27.634355 | S50: =F50+H50+J50+L50 -> 122610.8 | T50: =(F50*G50+H50*I50+J50*K50+L50*M50)/(F50+H50+J50+L50) -> 46.644206 | U50: =N50+P50 -> 21417 | V50: =(N50*O50+P50*Q50)/(N50+P50) -> 27.634355
A51: Бугу | B51: Май | C51: May | D51: 100517.8 | E51: 41.028791 | F51: 14174.6 | G51: 42.508059 | H51: 25342.1 | I51: 45.702748 | J51: 42839.2 | K51: 37.195284 | L51: 16697.9 | M51: 45.521016 | N51: 1264 | O51: 6.21 | P51: 200 | Q51: 11 | S51: =F51+H51+J51+L51 -> 99053.8 | T51: =(F51*G51+H51*I51+J51*K51+L51*M51)/(F51+H51+J51+L51) -> 41.535609 | U51: =N51+P51 -> 1464 | V51: =(N51*O51+P51*Q51)/(N51+P51) -> 6.8643716
A52: Кулжа | B52: Июнь | C52: June | D52: 87956.8 | E52: 42.295822 | F52: 8808.3 | G52: 52.206534 | H52: 33564.2 | I52: 28.879728 | J52: 37920.3 | K52: 50.565382 | L52: 6553 | M52: 55.658816 | N52: 714 | O52: 6.4871429 | P52: 397 | Q52: 11 | S52: =F52+H52+J52+L52 -> 86845.8 | T52: =(F52*G52+H52*I52+J52*K52+L52*M52)/(F52+H52+J52+L52) -> 42.735083 | U52: =N52+P52 -> 1111 | V52: =(N52*O52+P52*Q52)/(N52+P52) -> 8.099748
A53: Теке | B53: Июль | C53: July | D53: 123131.9 | E53: 35.175176 | F53: 8804 | G53: 41.287169 | H53: 28326.1 | I53: 31.095774 | J53: 45826.6 | K53: 48.518317 | L53: 19476 | M53: 26.384314 | N53: 20699.2 | O53: 16.884379 | S53: =F53+H53+J53+L53 -> 102432.7 | T53: =(F53*G53+H53*I53+J53*K53+L53*M53)/(F53+H53+J53+L53) -> 38.870445 | U53: =N53+P53 -> 20699.2 | V53: =(N53*O53+P53*Q53)/(N53+P53) -> 16.884379
A54: Баш оона | B54: Август | C54: August | D54: 134266.2 | E54: 44.595712 | F54: 16760.5 | G54: 37.151495 | H54: 58392.6 | I54: 46.175197 | J54: 45731.8 | K54: 47.450943 | L54: 13143.3 | M54: 37.724323 | N54: 238 | O54: 12.98 | S54: =F54+H54+J54+L54 -> 134028.2 | T54: =(F54*G54+H54*I54+J54*K54+L54*M54)/(F54+H54+J54+L54) -> 44.653338 | U54: =N54+P54 -> 238 | V54: =(N54*O54+P54*Q54)/(N54+P54) -> 12.98
A55: Аяк оона | B55: Сентябрь | C55: September | D55: 144360.8 | E55: 40.335015 | F55: 37930.1 | G55: 32.048099 | H55: 39044.9 | I55: 42.688507 | J55: 42981.3 | K55: 44.205128 | L55: 16353.6 | M55: 42.607432 | N55: 8010.9 | O55: 42.84864 | P55: 40 | Q55: 11 | S55: =F55+H55+J55+L55 -> 136309.9 | T55: =(F55*G55+H55*I55+J55*K55+L55*M55)/(F55+H55+J55+L55) -> 40.196162 | U55: =N55+P55 -> 8050.9 | V55: =(N55*O55+P55*Q55)/(N55+P55) -> 42.690403
A56: Тогуздун айы | B56: Октябрь | C56: October | D56: 123912.5 | E56: 40.26723 | F56: 7702.5 | G56: 39.690018 | H56: 37093.1 | I56: 41.301544 | J56: 52961.3 | K56: 40.764913 | L56: 24239.6 | M56: 38.111196 | N56: 1566 | O56: 41.717867 | P56: 350 | Q56: 11 | S56: =F56+H56+J56+L56 -> 121996.5 | T56: =(F56*G56+H56*I56+J56*K56+L56*M56)/(F56+H56+J56+L56) -> 40.33294 | U56: =N56+P56 -> 1916 | V56: =(N56*O56+P56*Q56)/(N56+P56) -> 36.106566
A57: Жетинин айы | B57: Ноябрь | C57: November | D57: 145005.4 | E57: 35.581616 | F57: 10871.9 | G57: 43.092032 | H57: 44274.3 | I57: 38.689527 | J57: 56645.8 | K57: 36.032144 | L57: 12830.4 | M57: 47.25045 | N57: 20283 | O57: 16.243297 | P57: 100 | Q57: 11 | S57: =F57+H57+J57+L57 -> 124622.4 | T57: =(F57*G57+H57*I57+J57*K57+L57*M57)/(F57+H57+J57+L57) -> 38.747094 | U57: =N57+P57 -> 20383 | V57: =(N57*O57+P57*Q57)/(N57+P57) -> 16.217573
A58: Бештин айы | B58: Декабрь | C58: December | D58: 114095.4 | E58: 40.104741 | F58: 19972.8 | G58: 39.022007 | H58: 47808.4 | I58: 43.041892 | J58: 36381.3 | K58: 40.37959 | L58: 8516.8 | M58: 29.536472 | N58: 1082.5 | O58: 16.489954 | P58: 333.6 | Q58: 0 | S58: =F58+H58+J58+L58 -> 112679.3 | T58: =(F58*G58+H58*I58+J58*K58+L58*M58)/(F58+H58+J58+L58) -> 40.448964 | U58: =N58+P58 -> 1416.1 | V58: =(N58*O58+P58*Q58)/(N58+P58) -> 12.605307
A59: Үчтүн айы 2000 ж. | B59: Январь 2000 г. | C59: January 2000 | D59: 131697.4 | E59: 34.728913 | F59: 19307.4 | G59: 40.441174 | H59: 58081.4 | I59: 32.527488 | J59: 25585.6 | K59: 40.081734 | L59: 15637 | M59: 45.674134 | N59: 12637 | O59: 12.581113 | P59: 449 | Q59: 11 | S59: =F59+H59+J59+L59 -> 118611.4 | T59: =(F59*G59+H59*I59+J59*K59+L59*M59)/(F59+H59+J59+L59) -> 37.178363 | U59: =N59+P59 -> 13086 | V59: =(N59*O59+P59*Q59)/(N59+P59) -> 12.526862
A60: Бирдин айы | B60: Февраль | C60: February | D60: 114991.4 | E60: 34.562539 | F60: 12776.8 | G60: 40.186938 | H60: 47594.3 | I60: 35.406162 | J60: 22197.2 | K60: 43.019638 | L60: 22187.8 | M60: 34.216406 | N60: 10035.3 | O60: 5.919739 | P60: 200 | Q60: 11 | S60: =F60+H60+J60+L60 -> 104756.1 | T60: =(F60*G60+H60*I60+J60*K60+L60*M60)/(F60+H60+J60+L60) -> 37.350515 | U60: =N60+P60 -> 10235.3 | V60: =(N60*O60+P60*Q60)/(N60+P60) -> 6.0190084
A61: Жалган куран | B61: Март | C61: March | D61: 140117 | E61: 34.983231 | F61: 6962.8 | G61: 44.759848 | H61: 45955.7 | I61: 38.085969 | J61: 43605.2 | K61: 39.629625 | L61: 33226.4 | M61: 33.288483 | N61: 10366.9 | O61: 0.58667779 | S61: =F61+H61+J61+L61 -> 129750.1 | T61: =(F61*G61+H61*I61+J61*K61+L61*M61)/(F61+H61+J61+L61) -> 37.734348 | U61: =N61+P61 -> 10366.9 | V61: =(N61*O61+P61*Q61)/(N61+P61) -> 0.58667779
A62: Чын куран | B62: Апрель | C62: April | D62: 141930.1 | E62: 35.578908 | F62: 38619.8 | G62: 24.931136 | H62: 37189.1 | I62: 41.972853 | J62: 30732 | K62: 43.538452 | L62: 27857.7 | M62: 38.629183 | N62: 2650 | O62: 14.741509 | P62: 4881.5 | Q62: 14.943112 | S62: =F62+H62+J62+L62 -> 134398.6 | T62: =(F62*G62+H62*I62+J62*K62+L62*M62)/(F62+H62+J62+L62) -> 36.7408 | U62: =N62+P62 -> 7531.5 | V62: =(N62*O62+P62*Q62)/(N62+P62) -> 14.872177
A63: Бугу | B63: Май | C63: May | D63: 138319.3 | E63: 40.718403 | F63: 19746.9 | G63: 42.081159 | H63: 27237.6 | I63: 44.922435 | J63: 46777 | K63: 43.283048 | L63: 44079.3 | M63: 35.126588 | N63: 478.5 | O63: 9.39 | S63: =F63+H63+J63+L63 -> 137840.8 | T63: =(F63*G63+H63*I63+J63*K63+L63*M63)/(F63+H63+J63+L63) -> 40.826506 | U63: =N63+P63 -> 478.5 | V63: =(N63*O63+P63*Q63)/(N63+P63) -> 9.39
A64: Кулжа | B64: Июнь | C64: June | D64: 164790.1 | E64: 36.696241 | F64: 23203.6 | G64: 39.082511 | H64: 19852 | I64: 46.822316 | J64: 46568.9 | K64: 39.115946 | L64: 65594.8 | M64: 35.232024 | N64: 9102 | O64: 8.2841485 | P64: 468.8 | Q64: 5.87 | S64: =F64+H64+J64+L64 -> 155219.3 | T64: =(F64*G64+H64*I64+J64*K64+L64*M64)/(F64+H64+J64+L64) -> 38.455242 | U64: =N64+P64 -> 9570.8 | V64: =(N64*O64+P64*Q64)/(N64+P64) -> 8.1658979
A65: Теке | B65: Июль | C65: July | D65: 233201.3 | E65: 35.297213 | F65: 25743.5 | G65: 31.550296 | H65: 34094.8 | I65: 42.056658 | J65: 75774.1 | K65: 37.081672 | L65: 89909.7 | M65: 33.771695 | N65: 7679.2 | O65: 18.116264 | S65: =F65+H65+J65+L65 -> 225522.1 | T65: =(F65*G65+H65*I65+J65*K65+L65*M65)/(F65+H65+J65+L65) -> 35.882788 | U65: =N65+P65 -> 7679.2 | V65: =(N65*O65+P65*Q65)/(N65+P65) -> 18.116264
A66: Баш оона | B66: Август | C66: August | D66: 224957.1 | E66: 34.291674 | F66: 28562 | G66: 36.539372 | H66: 34203.3 | I66: 37.144244 | J66: 87270.7 | K66: 34.262161 | L66: 60653 | M66: 35.191974 | N66: 13897.1 | O66: 19.529678 | P66: 371 | Q66: 10.68 | S66: =F66+H66+J66+L66 -> 210689 | T66: =(F66*G66+H66*I66+J66*K66+L66*M66)/(F66+H66+J66+L66) -> 35.306423 | U66: =N66+P66 -> 14268.1 | V66: =(N66*O66+P66*Q66)/(N66+P66) -> 19.299568
A67: Аяк оона | B67: Сентябрь | C67: September | D67: 315453.3 | E67: 32.159575 | F67: 87285.9 | G67: 38.283118 | H67: 37875.6 | I67: 31.537038 | J67: 87724.7 | K67: 30.298376 | L67: 58185.5 | M67: 31.929581 | N67: 44361.6 | O67: 24.622998 | P67: 20 | Q67: 11 | S67: =F67+H67+J67+L67 -> 271071.7 | T67: =(F67*G67+H67*I67+J67*K67+L67*M67)/(F67+H67+J67+L67) -> 33.392697 | U67: =N67+P67 -> 44381.6 | V67: =(N67*O67+P67*Q67)/(N67+P67) -> 24.616859
A68: Тогуздун айы | B68: Октябрь | C68: October | D68: 218878.3 | E68: 33.143059 | F68: 22017.5 | G68: 29.963748 | H68: 64381.3 | I68: 30.616955 | J68: 67270.9 | K68: 35.802132 | L68: 44936.8 | M68: 35.487769 | N68: 20161.8 | O68: 30.760737 | P68: 110 | Q68: 2 | S68: =F68+H68+J68+L68 -> 198606.5 | T68: =(F68*G68+H68*I68+J68*K68+L68*M68)/(F68+H68+J68+L68) -> 33.402908 | U68: =N68+P68 -> 20271.8 | V68: =(N68*O68+P68*Q68)/(N68+P68) -> 30.604674
A69: Жетинин айы | B69: Ноябрь | C69: November | D69: 166439.3 | E69: 36.923301 | F69: 42980.9 | G69: 29.893654 | H69: 49775 | I69: 37.871836 | J69: 33421.9 | K69: 42.844551 | L69: 36740.5 | M69: 38.656802 | N69: 3146 | O69: 38.05 | P69: 375 | Q69: 11 | S69: =F69+H69+J69+L69 -> 162918.3 | T69: =(F69*G69+H69*I69+J69*K69+L69*M69)/(F69+H69+J69+L69) -> 36.964192 | U69: =N69+P69 -> 3521 | V69: =(N69*O69+P69*Q69)/(N69+P69) -> 35.169071
A70: Бештин айы | B70: Декабрь | C70: December | D70: 257521.4 | E70: 35.018098 | F70: 36253.9 | G70: 41.401773 | H70: 72230.5 | I70: 34.636126 | J70: 78350.8 | K70: 32.726309 | L70: 30469.1 | M70: 33.092491 | N70: 36355.1 | O70: 35.351285 | P70: 3862 | Q70: 40.73 | S70: =F70+H70+J70+L70 -> 217304.3 | T70: =(F70*G70+H70*I70+J70*K70+L70*M70)/(F70+H70+J70+L70) -> 34.859832 | U70: =N70+P70 -> 40217.1 | V70: =(N70*O70+P70*Q70)/(N70+P70) -> 35.867796
A71: Үчтүн айы 2001 ж. | B71: Январь 2001 г. | C71: January 2001 | D71: 189713 | E71: 33.911617 | F71: 30652 | G71: 43.191695 | H71: 46815.1 | I71: 31.218095 | J71: 85440.5 | K71: 31.526297 | L71: 16911.7 | M71: 36.711617 | N71: 9667 | O71: 34.494853 | P71: 226.7 | Q71: 0 | S71: =F71+H71+J71+L71 -> 179819.3 | T71: =(F71*G71+H71*I71+J71*K71+L71*M71)/(F71+H71+J71+L71) -> 33.922212 | U71: =N71+P71 -> 9893.7 | V71: =(N71*O71+P71*Q71)/(N71+P71) -> 33.704452
A72: Бирдин айы | B72: Февраль | C72: February | D72: 205083.7 | E72: 34.946595 | F72: 21780.1 | G72: 29.548576 | H72: 40286.9 | I72: 32.636705 | J72: 83338.4 | K72: 38.084197 | L72: 54153.3 | M72: 34.821158 | N72: 5525 | O72: 26.996329 | S72: =F72+H72+J72+L72 -> 199558.7 | T72: =(F72*G72+H72*I72+J72*K72+L72*M72)/(F72+H72+J72+L72) -> 35.167393 | U72: =N72+P72 -> 5525 | V72: =(N72*O72+P72*Q72)/(N72+P72) -> 26.996329
A73: Жалган куран | B73: Март | C73: March | D73: 191562.3 | E73: 33.839627 | F73: 25474.8 | G73: 27.228885 | H73: 49020.9 | I73: 35.318876 | J73: 61643.6 | K73: 33.426577 | L73: 47841.6 | M73: 37.024954 | N73: 7491.4 | O73: 30 | P73: 90 | Q73: 11 | S73: =F73+H73+J73+L73 -> 183980.9 | T73: =(F73*G73+H73*I73+J73*K73+L73*M73)/(F73+H73+J73+L73) -> 34.008319 | U73: =N73+P73 -> 7581.4 | V73: =(N73*O73+P73*Q73)/(N73+P73) -> 29.774448
A74: Чын куран | B74: Апрель | C74: April | D74: 274385.5 | E74: 30.870119 | F74: 48006.4 | G74: 23.803163 | H74: 59923.9 | I74: 31.984216 | J74: 98467.1 | K74: 32.241715 | L74: 55375.8 | M74: 33.507652 | N74: 12132.3 | O74: 30.977388 | P74: 480 | Q74: 11 | S74: =F74+H74+J74+L74 -> 261773.2 | T74: =(F74*G74+H74*I74+J74*K74+L74*M74)/(F74+H74+J74+L74) -> 30.903027 | U74: =N74+P74 -> 12612.3 | V74: =(N74*O74+P74*Q74)/(N74+P74) -> 30.217087
A75: Бугу | B75: Май | C75: May | D75: 201987.6 | E75: 31.0609 | F75: 41361.4 | G75: 23.927006 | H75: 49113.5 | I75: 34.976291 | J75: 46535.8 | K75: 34.290482 | L75: 45439.3 | M75: 34.260109 | N75: 14593.6 | O75: 23.50166 | P75: 4944 | Q75: 14.418588 | S75: =F75+H75+J75+L75 -> 182450 | T75: =(F75*G75+H75*I75+J75*K75+L75*M75)/(F75+H75+J75+L75) -> 32.118131 | U75: =N75+P75 -> 19537.6 | V75: =(N75*O75+P75*Q75)/(N75+P75) -> 21.203184
A76: Кулжа | B76: Июнь | C76: June | D76: 259045.4 | E76: 28.567109 | F76: 65777.4 | G76: 26.631756 | H76: 52510.1 | I76: 35.890465 | J76: 68418.4 | K76: 32.494694 | L76: 51472.4 | M76: 25.528163 | N76: 20792.1 | O76: 10.902706 | P76: 75 | Q76: 0 | S76: =F76+H76+J76+L76 -> 238178.3 | T76: =(F76*G76+H76*I76+J76*K76+L76*M76)/(F76+H76+J76+L76) -> 30.118656 | U76: =N76+P76 -> 20867.1 | V76: =(N76*O76+P76*Q76)/(N76+P76) -> 10.86352
A77: Теке | B77: Июль | C77: July | D77: 255165.2 | E77: 24.419535 | F77: 48924.2 | G77: 17.818971 | H77: 43191.8 | I77: 31.481196 | J77: 76291.8 | K77: 27.186234 | L77: 41999.2 | M77: 26.230097 | N77: 44758.2 | O77: 18.397935 | S77: =F77+H77+J77+L77 -> 210407 | T77: =(F77*G77+H77*I77+J77*K77+L77*M77)/(F77+H77+J77+L77) -> 25.698947 | U77: =N77+P77 -> 44758.2 | V77: =(N77*O77+P77*Q77)/(N77+P77) -> 18.397935
A78: Баш оона | B78: Август | C78: August | D78: 241542.9 | E78: 25.21299 | F78: 67738.1 | G78: 15.388481 | H78: 26536.8 | I78: 37.471935 | J78: 49050.2 | K78: 33.041968 | L78: 63816.8 | M78: 27.704961 | N78: 34401 | O78: 19.32282 | S78: =F78+H78+J78+L78 -> 207141.9 | T78: =(F78*G78+H78*I78+J78*K78+L78*M78)/(F78+H78+J78+L78) -> 26.192329 | U78: =N78+P78 -> 34401 | V78: =(N78*O78+P78*Q78)/(N78+P78) -> 19.32282
A79: Аяк оона | B79: Сентябрь | C79: September | D79: 150650.4 | E79: 29.646712 | F79: 23848.4 | G79: 23.898118 | H79: 36818 | I79: 32.343892 | J79: 31653.4 | K79: 37.114072 | L79: 49734.6 | M79: 26.539207 | N79: 8596 | O79: 24.516764 | S79: =F79+H79+J79+L79 -> 142054.4 | T79: =(F79*G79+H79*I79+J79*K79+L79*M79)/(F79+H79+J79+L79) -> 29.956641 | U79: =N79+P79 -> 8596 | V79: =(N79*O79+P79*Q79)/(N79+P79) -> 24.516764
A80: Тогуздун айы | B80: Октябрь | C80: October | D80: 184306.3 | E80: 31.017692 | F80: 27068.5 | G80: 24.047105 | H80: 30960.1 | I80: 37.764435 | J80: 59813.7 | K80: 33.665417 | L80: 62173.9 | M80: 28.600293 | N80: 4290.1 | O80: 24.453794 | S80: =F80+H80+J80+L80 -> 180016.2 | T80: =(F80*G80+H80*I80+J80*K80+L80*M80)/(F80+H80+J80+L80) -> 31.17472 | U80: =N80+P80 -> 4290.1 | V80: =(N80*O80+P80*Q80)/(N80+P80) -> 24.453794
A81: Жетинин айы | B81: Ноябрь | C81: November | D81: 266018.7 | E81: 30.054573 | F81: 39462.4 | G81: 26.382301 | H81: 30925.9 | I81: 33.646603 | J81: 84928 | K81: 33.783079 | L81: 55695.6 | M81: 31.317481 | N81: 55006.8 | O81: 23.634697 | S81: =F81+H81+J81+L81 -> 211011.9 | T81: =(F81*G81+H81*I81+J81*K81+L81*M81)/(F81+H81+J81+L81) -> 31.728237 | U81: =N81+P81 -> 55006.8 | V81: =(N81*O81+P81*Q81)/(N81+P81) -> 23.634697
A82: Бештин айы | B82: Декабрь | C82: December | D82: 278518.3 | E82: 23.735679 | F82: 91817 | G82: 16.698474 | H82: 41546.1 | I82: 33.185272 | J82: 39185.4 | K82: 31.313711 | L82: 82082 | M82: 25.250036 | N82: 23887.8 | O82: 16.702348 | S82: =F82+H82+J82+L82 -> 254630.5 | T82: =(F82*G82+H82*I82+J82*K82+L82*M82)/(F82+H82+J82+L82) -> 24.394314 | U82: =N82+P82 -> 23887.8 | V82: =(N82*O82+P82*Q82)/(N82+P82) -> 16.702348
A83: Үчтүн айы 2002 ж. | B83: Январь 2002 г. | C83: January 2002 | D83: 242081.2 | E83: 24.223224 | F83: 78569 | G83: 18.846148 | H83: 43058.4 | I83: 31.214577 | J83: 42373 | K83: 28.748295 | L83: 68111.3 | M83: 24.200207 | N83: 9969.5 | O83: 17.335951 | S83: =F83+H83+J83+L83 -> 232111.7 | T83: =(F83*G83+H83*I83+J83*K83+L83*M83)/(F83+H83+J83+L83) -> 24.519366 | U83: =N83+P83 -> 9969.5 | V83: =(N83*O83+P83*Q83)/(N83+P83) -> 17.335951
A84: Бирдин айы | B84: Февраль | C84: February | D84: 211629.3 | E84: 25.467089 | F84: 26613.8 | G84: 24.25949 | H84: 31682.4 | I84: 33.918608 | J84: 43235.9 | K84: 24.785579 | L84: 95541.7 | M84: 24.765382 | N84: 14555.5 | O84: 15.913272 | S84: =F84+H84+J84+L84 -> 197073.8 | T84: =(F84*G84+H84*I84+J84*K84+L84*M84)/(F84+H84+J84+L84) -> 26.173005 | U84: =N84+P84 -> 14555.5 | V84: =(N84*O84+P84*Q84)/(N84+P84) -> 15.913272
A85: Жалган куран | B85: Март | C85: March | D85: 237848.8 | E85: 23.346617 | F85: 66141.7 | G85: 12.147488 | H85: 40759.6 | I85: 34.281253 | J85: 40990.6 | K85: 30.455009 | L85: 78465.8 | M85: 24.252811 | N85: 11491.1 | O85: 17.472944 | S85: =F85+H85+J85+L85 -> 226357.7 | T85: =(F85*G85+H85*I85+J85*K85+L85*M85)/(F85+H85+J85+L85) -> 23.644572 | U85: =N85+P85 -> 11491.1 | V85: =(N85*O85+P85*Q85)/(N85+P85) -> 17.472944
A86: Чын куран | B86: Апрель | C86: April | D86: 280484.8 | E86: 26.02942 | F86: 46979.4 | G86: 16.727188 | H86: 70387.7 | I86: 34.306921 | J86: 52324 | K86: 29.329003 | L86: 69066.2 | M86: 27.224397 | N86: 37802.3 | O86: 16.987079 | P86: 3925.2 | Q86: 11.099082 | S86: =F86+H86+J86+L86 -> 238757.3 | T86: =(F86*G86+H86*I86+J86*K86+L86*M86)/(F86+H86+J86+L86) -> 27.708116 | U86: =N86+P86 -> 41727.5 | V86: =(N86*O86+P86*Q86)/(N86+P86) -> 16.43321
A87: Бугу | B87: Май | C87: May | D87: 308546.9 | E87: 19.520639 | F87: 86181.9 | G87: 4.319979 | H87: 46126.7 | I87: 32.344161 | J87: 38202 | K87: 25.261334 | L87: 125288.2 | M87: 23.632776 | N87: 12748.1 | O87: 18.292847 | S87: =F87+H87+J87+L87 -> 295798.8 | T87: =(F87*G87+H87*I87+J87*K87+L87*M87)/(F87+H87+J87+L87) -> 19.574707 | U87: =N87+P87 -> 12748.1 | V87: =(N87*O87+P87*Q87)/(N87+P87) -> 18.292847
A88: Кулжа | B88: Июнь | C88: June | D88: 202131 | E88: 26.734989 | F88: 50958.5 | G88: 19.633057 | H88: 33506.7 | I88: 35.972721 | J88: 43701.4 | K88: 26.749188 | L88: 65128.5 | M88: 28.785806 | N88: 6528.4 | O88: 19.64011 | P88: 2307.5 | Q88: 11.3 | S88: =F88+H88+J88+L88 -> 193295.1 | T88: =(F88*G88+H88*I88+J88*K88+L88*M88)/(F88+H88+J88+L88) -> 27.158224 | U88: =N88+P88 -> 8835.9 | V88: =(N88*O88+P88*Q88)/(N88+P88) -> 17.462086
A89: Теке | B89: Июль | C89: July | D89: 243484.3 | E89: 29.104693 | F89: 26347.8 | G89: 28.628322 | H89: 60477.3 | I89: 33.875592 | J89: 46469 | K89: 26.522402 | L89: 94261.4 | M89: 28.89871 | N89: 15928.8 | O89: 20.53655 | S89: =F89+H89+J89+L89 -> 227555.5 | T89: =(F89*G89+H89*I89+J89*K89+L89*M89)/(F89+H89+J89+L89) -> 29.704841 | U89: =N89+P89 -> 15928.8 | V89: =(N89*O89+P89*Q89)/(N89+P89) -> 20.53655
A90: Баш оона | B90: Август | C90: August | D90: 238190.4 | E90: 27.579577 | F90: 80696.1 | G90: 23.754045 | H90: 42425.2 | I90: 34.453056 | J90: 28543.6 | K90: 27.21336 | L90: 78271.7 | M90: 28.660874 | N90: 8253.8 | O90: 20.62384 | S90: =F90+H90+J90+L90 -> 229936.6 | T90: =(F90*G90+H90*I90+J90*K90+L90*M90)/(F90+H90+J90+L90) -> 27.827841 | U90: =N90+P90 -> 8253.8 | V90: =(N90*O90+P90*Q90)/(N90+P90) -> 20.62384
A91: Аяк оона | B91: Сентябрь | C91: September | D91: 207312 | E91: 29.019738 | F91: 40455.1 | G91: 15.15018 | H91: 42258.9 | I91: 29.021616 | J91: 18262.4 | K91: 25.902578 | L91: 53664 | M91: 32.052914 | N91: 52671.6 | O91: 37.667335 | S91: =F91+H91+J91+L91 -> 154640.4 | T91: =(F91*G91+H91*I91+J91*K91+L91*M91)/(F91+H91+J91+L91) -> 26.076332 | U91: =N91+P91 -> 52671.6 | V91: =(N91*O91+P91*Q91)/(N91+P91) -> 37.667335
A92: Тогуздун айы | B92: Октябрь | C92: October | D92: 341704.4 | E92: 26.963218 | F92: 70349.9 | G92: 19.427243 | H92: 63988 | I92: 28.464535 | J92: 40075.4 | K92: 23.652633 | L92: 117888.3 | M92: 28.015741 | N92: 46178.8 | O92: 37.66741 | P92: 3224 | S92: =F92+H92+J92+L92 -> 292301.6 | T92: =(F92*G92+H92*I92+J92*K92+L92*M92)/(F92+H92+J92+L92) -> 25.448749 | U92: =N92+P92 -> 49402.8 | V92: =(N92*O92+P92*Q92)/(N92+P92) -> 35.209255
A93: Жетинин айы | B93: Ноябрь | C93: November | D93: 306636.5 | E93: 24.914789 | F93: 109299.8 | G93: 16.175969 | H93: 38056.9 | I93: 27.414591 | J93: 21092.3 | K93: 25.623765 | L93: 108336.4 | M93: 30.21676 | N93: 28466.1 | O93: 35.11989 | P93: 1385 | Q93: 10.69 | S93: =F93+H93+J93+L93 -> 276785.4 | T93: =(F93*G93+H93*I93+J93*K93+L93*M93)/(F93+H93+J93+L93) -> 23.936897 | U93: =N93+P93 -> 29851.1 | V93: =(N93*O93+P93*Q93)/(N93+P93) -> 33.986418
A94: Бештин айы | B94: Декабрь | C94: December | D94: 595775.1 | E94: 21.519642 | F94: 193280.3 | G94: 17.015805 | H94: 55927.4 | I94: 23.116441 | J94: 61396.5 | K94: 25.229672 | L94: 156167.2 | M94: 25.515377 | N94: 120245.7 | O94: 21.726912 | P94: 8758 | Q94: 10.47 | S94: =F94+H94+J94+L94 -> 466771.4 | T94: =(F94*G94+H94*I94+J94*K94+L94*M94)/(F94+H94+J94+L94) -> 21.670867 | U94: =N94+P94 -> 129003.7 | V94: =(N94*O94+P94*Q94)/(N94+P94) -> 20.962685
A95: Үчтүн айы 2003 ж. | B95: Январь 2003 г. | C95: January 2003 | D95: 321680.3 | E95: 20.577948 | F95: 164333.9 | G95: 15.274514 | H95: 37058.7 | I95: 19.757776 | J95: 34955.9 | K95: 25.685077 | L95: 75810.3 | M95: 28.808385 | N95: 9521.5 | O95: 31.026567 | S95: =F95+H95+J95+L95 -> 312158.8 | T95: =(F95*G95+H95*I95+J95*K95+L95*M95)/(F95+H95+J95+L95) -> 20.259353 | U95: =N95+P95 -> 9521.5 | V95: =(N95*O95+P95*Q95)/(N95+P95) -> 31.026567
A96: Бирдин айы | B96: Февраль | C96: February | D96: 293274.5 | E96: 21.236339 | F96: 100510.5 | G96: 11.943663 | H96: 20856.3 | I96: 23.88307 | J96: 42859.5 | K96: 25.370928 | L96: 106700.4 | M96: 28.661094 | N96: 22347.8 | O96: 17.18391 | S96: =F96+H96+J96+L96 -> 270926.7 | T96: =(F96*G96+H96*I96+J96*K96+L96*M96)/(F96+H96+J96+L96) -> 21.570821 | U96: =N96+P96 -> 22347.8 | V96: =(N96*O96+P96*Q96)/(N96+P96) -> 17.18391
A97: Жалган куран | B97: Март | C97: March | D97: 389853.4 | E97: 21.884133 | F97: 87511.2 | G97: 13.379494 | H97: 54196.9 | I97: 24.853076 | J97: 24767.5 | K97: 23.696098 | L97: 179290.2 | M97: 25.64782 | N97: 43735.6 | O97: 18.894484 | P97: 352 | Q97: 6.7359091 | S97: =F97+H97+J97+L97 -> 345765.8 | T97: =(F97*G97+H97*I97+J97*K97+L97*M97)/(F97+H97+J97+L97) -> 22.278407 | U97: =N97+P97 -> 44087.6 | V97: =(N97*O97+P97*Q97)/(N97+P97) -> 18.797408
A98: Чын куран | B98: Апрель | C98: April | D98: 413393.6 | E98: 21.969974 | F98: 93177 | G98: 12.012414 | H98: 62482.3 | I98: 22.803358 | J98: 38826.2 | K98: 22.479903 | L98: 181387.3 | M98: 26.844332 | N98: 26468 | O98: 22.571033 | P98: 11052.8 | Q98: 18.064934 | S98: =F98+H98+J98+L98 -> 375872.8 | T98: =(F98*G98+H98*I98+J98*K98+L98*M98)/(F98+H98+J98+L98) -> 22.045003 | U98: =N98+P98 -> 37520.8 | V98: =(N98*O98+P98*Q98)/(N98+P98) -> 21.243635
A99: Бугу | B99: Май | C99: May | D99: 467858.5 | E99: 21.630183 | F99: 66880.4 | G99: 11.958525 | H99: 97664.7 | I99: 20.874613 | J99: 93072.4 | K99: 21.641433 | L99: 167959.3 | M99: 26.484915 | N99: 35847.3 | O99: 19.572489 | P99: 6434.4 | Q99: 18.195666 | S99: =F99+H99+J99+L99 -> 425576.8 | T99: =(F99*G99+H99*I99+J99*K99+L99*M99)/(F99+H99+J99+L99) -> 21.855307 | U99: =N99+P99 -> 42281.7 | V99: =(N99*O99+P99*Q99)/(N99+P99) -> 19.362965
A100: Кулжа | B100: Июнь | C100: June | D100: 381329.3 | E100: 20.555133 | F100: 77172.8 | G100: 12.064927 | H100: 36818.3 | I100: 18.73787 | J100: 61836.9 | K100: 23.180858 | L100: 147665.5 | M100: 24.903979 | N100: 31325.9 | O100: 19.970186 | P100: 26509.9 | Q100: 18.130961 | S100: =F100+H100+J100+L100 -> 323493.5 | T100: =(F100*G100+H100*I100+J100*K100+L100*M100)/(F100+H100+J100+L100) -> 20.809913 | U100: =N100+P100 -> 57835.8 | V100: =(N100*O100+P100*Q100)/(N100+P100) -> 19.12715
A101: Теке | B101: Июль | C101: July | D101: 406850.9 | E101: 22.185017 | F101: 25733 | G101: 27.884641 | H101: 53712.8 | I101: 15.51379 | J101: 75241.4 | K101: 22.267575 | L101: 156515 | M101: 24.351224 | N101: 74242.7 | O101: 20.658492 | P101: 21406 | Q101: 21.259662 | S101: =F101+H101+J101+L101 -> 311202.2 | T101: =(F101*G101+H101*I101+J101*K101+L101*M101)/(F101+H101+J101+L101) -> 22.6143 | U101: =N101+P101 -> 95648.7 | V101: =(N101*O101+P101*Q101)/(N101+P101) -> 20.793033
A102: Баш оона | B102: Август | C102: August | D102: 324147.9 | E102: 22.442683 | F102: 63300.7 | G102: 22.967181 | H102: 20058.9 | I102: 15.665034 | J102: 52181.9 | K102: 18.930217 | L102: 138144.8 | M102: 24.724756 | N102: 34653.8 | O102: 21.765504 | P102: 15807.8 | Q102: 22.079727 | S102: =F102+H102+J102+L102 -> 273686.3 | T102: =(F102*G102+H102*I102+J102*K102+L102*M102)/(F102+H102+J102+L102) -> 22.549441 | U102: =N102+P102 -> 50461.6 | V102: =(N102*O102+P102*Q102)/(N102+P102) -> 21.863939
...

Sheet 6. сроки_нац вал
A2: 6-таблица. Мөөнөттөр боюнча коммерциялык банктар тарабынан улуттук валютадагы берилген кредиттер жана кредиттердин орточо салмактанып алынган пайыздык чендери (бир мезгил ичинде) | B2: Таблица 6. Общий объем и средневзвешенные процентные ставки по выданным кредитам в разрезе срочностей в национальной валюте (за период) | C2: Table 6. Total volume and average weighted interest rates of newly issued credits by maturity in National currency (for the period)
A4: (миң сом / пайыздар) | B4: (тыс. сомов / проценты) | C4: (ths of soms / percent)
A5: Мезгил аралыгы | B5: Период | C5: Period | D5: Жалпы улуттук валютада | F5: 0 - 1 айга | H5: 1 - 3 айга | J5: 3 - 6 айга | L5: 6 - 12 айга | N5: 1 - 3 жыл | P5: 3 жылдан ашкан мөөнөткө | S5: Кыска мөөнөттү кредиттер | U5: Узак мөөнөттү кредиттер
D6: Итого в нац. валюте | F6: 0 - 1 месяца | H6: 1 - 3 месяца | J6: 3 - 6 месяцев | L6: 6 - 12 месяцев | N6: 1 - 3 года | P6: более 3 лет | S6: Краткосрочные кредиты | U6: Долгосрочные кредиты
D7: Total in National currency | F7: 0 - 1 month | H7: 1 - 3 months | J7: 3 - 6 months | L7: 6 - 12 months | N7: 1 - 3 years | P7: more than 3 years | S7: Short-maturity credits | U7: Long-maturity credits
D8: көлөм | E8: орточо салмактанып алынган чендер | F8: көлөм | G8: орточо салмактанып алынган чендер | H8: көлөм | I8: орточо салмактанып алынган чендер | J8: көлөм | K8: орточо салмактанып алынган чендер | L8: көлөм | M8: орточо салмактанып алынган чендер | N8: көлөм | O8: орточо салмактанып алынган чендер | P8: көлөм | Q8: орточо салмактанып алынган чендер | S8: көлөм | T8: орточо салмактанып алынган чендер | U8: көлөм | V8: орточо салмактанып алынган чендер
D9: объем | E9: средневзв. ставка | F9: объем | G9: средневзв. ставка | H9: объем | I9: средневзв. ставка | J9: объем | K9: средневзв. ставка | L9: объем | M9: средневзв. ставка | N9: объем | O9: средневзв. ставка | P9: объем | Q9: средневзв. ставка | S9: объем | T9: средневзв. ставка | U9: объем | V9: средневзв. ставка
D10: volume | E10: average weighted interest rate | F10: volume | G10: average weighted interest rate | H10: volume | I10: average weighted interest rate | J10: volume | K10: average weighted interest rate | L10: volume | M10: average weighted interest rate | N10: volume | O10: average weighted interest rate | P10: volume | Q10: average weighted interest rate | S10: volume | T10: average weighted interest rate | U10: volume | V10: average weighted interest rate
A11: Үчтүн айы 1996 ж. | B11: Январь 1996 г. | C11: January 1996 | D11: 43517 | E11: 60.784077 | F11: 4515 | G11: 64.52 | H11: 19944 | I11: 64.64 | J11: 18013 | K11: 55.62 | L11: 997 | M11: 61.87 | N11: 48 | O11: 21 | S11: =F11+H11+J11+L11 -> 43469 | T11: =(F11*G11+H11*I11+J11*K11+L11*M11)/(F11+H11+J11+L11) -> 60.82623 | U11: =N11+P11 -> 48 | V11: =(N11*O11+P11*Q11)/(N11+P11) -> 21
A12: Бирдин айы | B12: Февраль | C12: February | D12: 31668.5 | E12: 56.695688 | F12: 928 | G12: 80.42 | H12: 14416.5 | I12: 66.02 | J12: 11493 | K12: 47.22 | L12: 2714 | M12: 69.12 | N12: 2092 | O12: 18.3 | P12: 25 | Q12: 20 | S12: =F12+H12+J12+L12 -> 29551.5 | T12: =(F12*G12+H12*I12+J12*K12+L12*M12)/(F12+H12+J12+L12) -> 59.445315 | U12: =N12+P12 -> 2117 | V12: =(N12*O12+P12*Q12)/(N12+P12) -> 18.320076
A13: Жалган куран | B13: Март | C13: March | D13: 24563.6 | E13: 60.693621 | F13: 1585.8 | G13: 71.92 | H13: 10701.8 | I13: 71.63 | J13: 5368 | K13: 52.79 | L13: 4197 | M13: 64.62 | N13: 2711 | O13: 20.53 | S13: =F13+H13+J13+L13 -> 21852.6 | T13: =(F13*G13+H13*I13+J13*K13+L13*M13)/(F13+H13+J13+L13) -> 65.67674 | U13: =N13+P13 -> 2711 | V13: =(N13*O13+P13*Q13)/(N13+P13) -> 20.53
A14: Чын куран | B14: Апрель | C14: April | D14: 43700.8 | E14: 60.489318 | F14: 2390 | G14: 73.05 | H14: 9413 | I14: 65.3 | J14: 27474 | K14: 62.44 | L14: 3785.8 | M14: 31.18 | N14: 558 | O14: 34.24 | P14: 80 | Q14: 20 | S14: =F14+H14+J14+L14 -> 43062.8 | T14: =(F14*G14+H14*I14+J14*K14+L14*M14)/(F14+H14+J14+L14) -> 60.905845 | U14: =N14+P14 -> 638 | V14: =(N14*O14+P14*Q14)/(N14+P14) -> 32.45442
A15: Бугу | B15: Май | C15: May | D15: 33541.3 | E15: 62.499518 | F15: 6113.8 | G15: 74.08 | H15: 16353.5 | I15: 62.12 | J15: 8792 | K15: 58.55 | L15: 2026 | M15: 47.43 | N15: 256 | O15: 65 | S15: =F15+H15+J15+L15 -> 33285.3 | T15: =(F15*G15+H15*I15+J15*K15+L15*M15)/(F15+H15+J15+L15) -> 62.479668 | U15: =N15+P15 -> 256 | V15: =(N15*O15+P15*Q15)/(N15+P15) -> 65
A16: Кулжа | B16: Июнь | C16: June | D16: 23216.8 | E16: 64.487234 | F16: 2629 | G16: 68.55 | H16: 11114.6 | I16: 68.79 | J16: 7810.2 | K16: 62.81 | L16: 510 | M16: 12.35 | N16: 1073 | O16: 50.29 | P16: 80 | Q16: 20 | S16: =F16+H16+J16+L16 -> 22063.8 | T16: =(F16*G16+H16*I16+J16*K16+L16*M16)/(F16+H16+J16+L16) -> 65.339989 | U16: =N16+P16 -> 1153 | V16: =(N16*O16+P16*Q16)/(N16+P16) -> 48.188352
A17: Теке | B17: Июль | C17: July | D17: 40626.1 | E17: 52.078616 | F17: 3528 | G17: 66.45 | H17: 11629.6 | I17: 54.08 | J17: 18810.5 | K17: 49.32 | L17: 4042 | M17: 59.02 | N17: 2616 | O17: 32.93 | S17: =F17+H17+J17+L17 -> 38010.1 | T17: =(F17*G17+H17*I17+J17*K17+L17*M17)/(F17+H17+J17+L17) -> 53.397836 | U17: =N17+P17 -> 2616 | V17: =(N17*O17+P17*Q17)/(N17+P17) -> 32.93
A18: Баш оона | B18: Август | C18: August | D18: 36956.8 | E18: 60.335708 | F18: 2121 | G18: 71.97 | H18: 16887 | I18: 69.06 | J18: 14295.1 | K18: 51.91 | L18: 2123.6 | M18: 51.85 | N18: 1515.1 | O18: 38.54 | P18: 15 | Q18: 20 | S18: =F18+H18+J18+L18 -> 35426.7 | T18: =(F18*G18+H18*I18+J18*K18+L18*M18)/(F18+H18+J18+L18) -> 61.282363 | U18: =N18+P18 -> 1530.1 | V18: =(N18*O18+P18*Q18)/(N18+P18) -> 38.358247
A19: Аяк оона | B19: Сентябрь | C19: September | D19: 25312 | E19: 54.320451 | F19: 1079 | G19: 72.66 | H19: 14156 | I19: 57.35 | J19: 8595 | K19: 49.43 | L19: 1306 | M19: 42.04 | N19: 176 | O19: 28.56 | S19: =F19+H19+J19+L19 -> 25136 | T19: =(F19*G19+H19*I19+J19*K19+L19*M19)/(F19+H19+J19+L19) -> 54.503574 | U19: =N19+P19 -> 176 | V19: =(N19*O19+P19*Q19)/(N19+P19) -> 28.56
A20: Тогуздун айы | B20: Октябрь | C20: October | D20: 23207.9 | E20: 55.299174 | F20: 4871 | G20: 60.16 | H20: 7196.9 | I20: 59.69 | J20: 9803 | K20: 51.63 | L20: 754 | M20: 61.42 | N20: 103 | O20: 29.35 | P20: 480 | Q20: 11 | S20: =F20+H20+J20+L20 -> 22624.9 | T20: =(F20*G20+H20*I20+J20*K20+L20*M20)/(F20+H20+J20+L20) -> 56.356576 | U20: =N20+P20 -> 583 | V20: =(N20*O20+P20*Q20)/(N20+P20) -> 14.241938
A21: Жетинин айы | B21: Ноябрь | C21: November | D21: 39599.7 | E21: 56.965545 | F21: 1479 | G21: 68.99 | H21: 16000.9 | I21: 54.34 | J21: 18413 | K21: 61.33 | L21: 1595 | M21: 60.39 | N21: 2111.8 | O21: 27.76 | S21: =F21+H21+J21+L21 -> 37487.9 | T21: =(F21*G21+H21*I21+J21*K21+L21*M21)/(F21+H21+J21+L21) -> 58.608683 | U21: =N21+P21 -> 2111.8 | V21: =(N21*O21+P21*Q21)/(N21+P21) -> 27.76
A22: Бештин айы | B22: Декабрь | C22: December | D22: 46608.1 | E22: 58.242047 | F22: 3970 | G22: 59.49 | H22: 24218 | I22: 65.02 | J22: 10317.7 | K22: 58.37 | L22: 4867 | M22: 27.54 | N22: 3235.4 | O22: 51.78 | S22: =F22+H22+J22+L22 -> 43372.7 | T22: =(F22*G22+H22*I22+J22*K22+L22*M22)/(F22+H22+J22+L22) -> 58.726134 | U22: =N22+P22 -> 3235.4 | V22: =(N22*O22+P22*Q22)/(N22+P22) -> 51.78
A23: Үчтүн айы 1997 ж. | B23: Январь 1997 г. | C23: January 1997 | D23: 33550.9 | E23: 54.270492 | F23: 510 | G23: 67.47 | H23: 8276 | I23: 57.38 | J23: 23411 | K23: 52.79 | L23: 1258.9 | M23: 56.88 | N23: 95 | O23: 42.16 | S23: =F23+H23+J23+L23 -> 33455.9 | T23: =(F23*G23+H23*I23+J23*K23+L23*M23)/(F23+H23+J23+L23) -> 54.303113 | U23: =N23+P23 -> 95 | V23: =(N23*O23+P23*Q23)/(N23+P23) -> 42.16
A24: Бирдин айы | B24: Февраль | C24: February | D24: 30183.4 | E24: 59.774025 | F24: 2103 | G24: 68.29 | H24: 6619.4 | I24: 57.72 | J24: 19382 | K24: 60.68 | L24: 1761 | M24: 54.52 | N24: 118 | O24: 20 | P24: 200 | Q24: 20 | S24: =F24+H24+J24+L24 -> 29865.4 | T24: =(F24*G24+H24*I24+J24*K24+L24*M24)/(F24+H24+J24+L24) -> 60.196586 | U24: =N24+P24 -> 318 | V24: =(N24*O24+P24*Q24)/(N24+P24) -> 20
A25: Жалган куран | B25: Март | C25: March | D25: 55023 | E25: 71.556019 | F25: 1059 | G25: 66.1 | H25: 15810 | I25: 70.49 | J25: 31988 | K25: 79.62 | L25: 2599 | M25: 56.42 | N25: 3567 | O25: 16.61 | S25: =F25+H25+J25+L25 -> 51456 | T25: =(F25*G25+H25*I25+J25*K25+L25*M25)/(F25+H25+J25+L25) -> 75.364718 | U25: =N25+P25 -> 3567 | V25: =(N25*O25+P25*Q25)/(N25+P25) -> 16.61
A26: Чын куран | B26: Апрель | C26: April | D26: 31594.5 | E26: 56.778585 | F26: 989.5 | G26: 64.65 | H26: 6020 | I26: 71.68 | J26: 22855 | K26: 53.14 | L26: 1425 | M26: 50 | N26: 305 | O26: 41.64 | S26: =F26+H26+J26+L26 -> 31289.5 | T26: =(F26*G26+H26*I26+J26*K26+L26*M26)/(F26+H26+J26+L26) -> 56.928026 | U26: =N26+P26 -> 305 | V26: =(N26*O26+P26*Q26)/(N26+P26) -> 41.64
A27: Бугу | B27: Май | C27: May | D27: 67558.1 | E27: 58.885331 | F27: 4640 | G27: 59.87 | H27: 7495.2 | I27: 80.3 | J27: 38985 | K27: 58.69 | L27: 14266 | M27: 55.32 | N27: 1251.9 | O27: 11.8 | P27: 920 | Q27: 7 | S27: =F27+H27+J27+L27 -> 65386.2 | T27: =(F27*G27+H27*I27+J27*K27+L27*M27)/(F27+H27+J27+L27) -> 60.515615 | U27: =N27+P27 -> 2171.9 | V27: =(N27*O27+P27*Q27)/(N27+P27) -> 9.7667572
A28: Кулжа | B28: Июнь | C28: June | D28: 80262.5 | E28: 62.678952 | F28: 3306 | G28: 39.25 | H28: 25190.1 | I28: 57.91 | J28: 40491.4 | K28: 71.1 | L28: 10170 | M28: 54.21 | N28: 431 | O28: 16.87 | P28: 674 | Q28: 6.67 | S28: =F28+H28+J28+L28 -> 79157.5 | T28: =(F28*G28+H28*I28+J28*K28+L28*M28)/(F28+H28+J28+L28) -> 63.402374 | U28: =N28+P28 -> 1105 | V28: =(N28*O28+P28*Q28)/(N28+P28) -> 10.648462
A29: Теке | B29: Июль | C29: July | D29: 67460.7 | E29: 74.055643 | F29: 1350 | G29: 49.44 | H29: 7956.5 | I29: 73.69 | J29: 54101.5 | K29: 76.1 | L29: 3696.7 | M29: 57.43 | N29: 356 | O29: 38.3 | S29: =F29+H29+J29+L29 -> 67104.7 | T29: =(F29*G29+H29*I29+J29*K29+L29*M29)/(F29+H29+J29+L29) -> 74.249406 | U29: =N29+P29 -> 356 | V29: =(N29*O29+P29*Q29)/(N29+P29) -> 38.3
A30: Баш оона | B30: Август | C30: August | D30: 44586 | E30: 71.275489 | F30: 2418 | G30: 52.54 | H30: 12134 | I30: 66.93 | J30: 27299 | K30: 76.57 | L30: 2000 | M30: 61.03 | N30: 475 | O30: 45.24 | P30: 260 | Q30: 18.85 | S30: =F30+H30+J30+L30 -> 43851 | T30: =(F30*G30+H30*I30+J30*K30+L30*M30)/(F30+H30+J30+L30) -> 71.868709 | U30: =N30+P30 -> 735 | V30: =(N30*O30+P30*Q30)/(N30+P30) -> 35.904762
A31: Аяк оона | B31: Сентябрь | C31: September | D31: 62881.1 | E31: 65.72869 | F31: 6950.1 | G31: 64.22 | H31: 12650.4 | I31: 59.92 | J31: 31106.6 | K31: 72.46 | L31: 11764 | M31: 55.73 | N31: 410 | O31: 46.76 | S31: =F31+H31+J31+L31 -> 62471.1 | T31: =(F31*G31+H31*I31+J31*K31+L31*M31)/(F31+H31+J31+L31) -> 65.85348 | U31: =N31+P31 -> 410 | V31: =(N31*O31+P31*Q31)/(N31+P31) -> 46.76
A32: Тогуздун айы | B32: Октябрь | C32: October | D32: 52344.1 | E32: 62.725622 | F32: 330.5 | G32: 74.85 | H32: 10127.4 | I32: 64.92 | J32: 35588.4 | K32: 63.95 | L32: 5371.5 | M32: 57.61 | N32: 926.3 | O32: 16.89 | S32: =F32+H32+J32+L32 -> 51417.8 | T32: =(F32*G32+H32*I32+J32*K32+L32*M32)/(F32+H32+J32+L32) -> 63.548791 | U32: =N32+P32 -> 926.3 | V32: =(N32*O32+P32*Q32)/(N32+P32) -> 16.89
A33: Жетинин айы | B33: Ноябрь | C33: November | D33: 87007.4 | E33: 58.063586 | F33: 2443.2 | G33: 49.38 | H33: 11753.8 | I33: 55.68 | J33: 69498.4 | K33: 59 | L33: 2098 | M33: 64.92 | N33: 1041 | O33: 36.97 | P33: 173 | Q33: 11 | S33: =F33+H33+J33+L33 -> 85793.4 | T33: =(F33*G33+H33*I33+J33*K33+L33*M33)/(F33+H33+J33+L33) -> 58.415969 | U33: =N33+P33 -> 1214 | V33: =(N33*O33+P33*Q33)/(N33+P33) -> 33.269168
A34: Бештин айы | B34: Декабрь | C34: December | D34: 190836 | E34: 49.935871 | F34: 22611.7 | G34: 54.56 | H34: 28212.9 | I34: 50.02 | J34: 79568.4 | K34: 54.97 | L34: 32355 | M34: 44.31 | N34: 28088 | O34: 38.35 | S34: =F34+H34+J34+L34 -> 162748 | T34: =(F34*G34+H34*I34+J34*K34+L34*M34)/(F34+H34+J34+L34) -> 51.935683 | U34: =N34+P34 -> 28088 | V34: =(N34*O34+P34*Q34)/(N34+P34) -> 38.35
A35: Үчтүн айы 1998 ж. | B35: Январь 1998 г. | C35: January 1998 | D35: 123273.8 | E35: 54.136729 | F35: 6964 | G35: 50.91 | H35: 17537 | I35: 50.45 | J35: 76673.2 | K35: 56.46 | L35: 21312.6 | M35: 51.02 | N35: 698 | O35: 25.19 | P35: 89 | Q35: 0 | S35: =F35+H35+J35+L35 -> 122486.8 | T35: =(F35*G35+H35*I35+J35*K35+L35*M35)/(F35+H35+J35+L35) -> 54.337419 | U35: =N35+P35 -> 787 | V35: =(N35*O35+P35*Q35)/(N35+P35) -> 22.341321
A36: Бирдин айы | B36: Февраль | C36: February | D36: 99650.6 | E36: 53.411775 | F36: 5188 | G36: 50.72 | H36: 10391.7 | I36: 50.89 | J36: 54533.7 | K36: 61.81 | L36: 28259 | M36: 40.56 | N36: 1228.2 | O36: 10.29 | P36: 50 | Q36: 14 | S36: =F36+H36+J36+L36 -> 98372.4 | T36: =(F36*G36+H36*I36+J36*K36+L36*M36)/(F36+H36+J36+L36) -> 53.96719 | U36: =N36+P36 -> 1278.2 | V36: =(N36*O36+P36*Q36)/(N36+P36) -> 10.435126
A37: Жалган куран | B37: Март | C37: March | D37: 98050.5 | E37: 53.728045 | F37: 4275 | G37: 48.8 | H37: 15823.1 | I37: 52.08 | J37: 56377.4 | K37: 58.28 | L37: 20699 | M37: 44.81 | N37: 876 | O37: 24.92 | S37: =F37+H37+J37+L37 -> 97174.5 | T37: =(F37*G37+H37*I37+J37*K37+L37*M37)/(F37+H37+J37+L37) -> 53.984164 | U37: =N37+P37 -> 876 | V37: =(N37*O37+P37*Q37)/(N37+P37) -> 24.92
A38: Чын куран | B38: Апрель | C38: April | D38: 146286.3 | E38: 49.934344 | F38: 6526 | G38: 47.45 | H38: 15170.2 | I38: 51.95 | J38: 91470.4 | K38: 53.64 | L38: 32435.7 | M38: 39.67 | N38: 560 | O38: 21.3 | P38: 124 | Q38: 14 | S38: =F38+H38+J38+L38 -> 145602.3 | T38: =(F38*G38+H38*I38+J38*K38+L38*M38)/(F38+H38+J38+L38) -> 50.074395 | U38: =N38+P38 -> 684 | V38: =(N38*O38+P38*Q38)/(N38+P38) -> 19.976608
A39: Бугу | B39: Май | C39: May | D39: 256366.2 | E39: 53.393707 | F39: 27401.7 | G39: 44.08 | H39: 14266.5 | I39: 50.14 | J39: 104037.3 | K39: 59.23 | L39: 108210.5 | M39: 50.97 | N39: 2084.2 | O39: 40.96 | P39: 366 | Q39: 4.39 | S39: =F39+H39+J39+L39 -> 253916 | T39: =(F39*G39+H39*I39+J39*K39+L39*M39)/(F39+H39+J39+L39) -> 53.564201 | U39: =N39+P39 -> 2450.2 | V39: =(N39*O39+P39*Q39)/(N39+P39) -> 35.497336
A40: Кулжа | B40: Июнь | C40: June | D40: 63191.3 | E40: 47.483057 | F40: 2266.6 | G40: 27.84 | H40: 4543.5 | I40: 55.65 | J40: 32408.7 | K40: 51.56 | L40: 23351.5 | M40: 43.23 | N40: 621 | O40: 6.44 | S40: =F40+H40+J40+L40 -> 62570.3 | T40: =(F40*G40+H40*I40+J40*K40+L40*M40)/(F40+H40+J40+L40) -> 47.888948 | U40: =N40+P40 -> 621 | V40: =(N40*O40+P40*Q40)/(N40+P40) -> 6.44
A41: Теке | B41: Июль | C41: July | D41: 87066.4 | E41: 51.320958 | F41: 1816 | G41: 60.88 | H41: 14079.6 | I41: 53.29 | J41: 64725 | K41: 52.27 | L41: 4372.8 | M41: 50.39 | N41: 2073 | O41: 1.82 | S41: =F41+H41+J41+L41 -> 84993.4 | T41: =(F41*G41+H41*I41+J41*K41+L41*M41)/(F41+H41+J41+L41) -> 52.526209 | U41: =N41+P41 -> 2073 | V41: =(N41*O41+P41*Q41)/(N41+P41) -> 1.82
A42: Баш оона | B42: Август | C42: August | D42: 41579.2 | E42: 55.752096 | F42: 966.2 | G42: 75.86 | H42: 8156 | I42: 53.08 | J42: 22453 | K42: 55.71 | L42: 9416 | M42: 57.99 | N42: 588 | O42: 25.6 | S42: =F42+H42+J42+L42 -> 40991.2 | T42: =(F42*G42+H42*I42+J42*K42+L42*M42)/(F42+H42+J42+L42) -> 56.185398 | U42: =N42+P42 -> 588 | V42: =(N42*O42+P42*Q42)/(N42+P42) -> 25.6
A43: Аяк оона | B43: Сентябрь | C43: September | D43: 190761.5 | E43: 50.177987 | F43: 42368.4 | G43: 49.99 | H43: 7256.4 | I43: 67.77 | J43: 121351.9 | K43: 50.9 | L43: 5972.8 | M43: 49.19 | N43: 13812 | O43: 35.55 | S43: =F43+H43+J43+L43 -> 176949.5 | T43: =(F43*G43+H43*I43+J43*K43+L43*M43)/(F43+H43+J43+L43) -> 51.316202 | U43: =N43+P43 -> 13812 | V43: =(N43*O43+P43*Q43)/(N43+P43) -> 35.55
A44: Тогуздун айы | B44: Октябрь | C44: October | D44: 24161.9 | E44: 59.831639 | F44: 766 | G44: 71.34 | H44: 4707.6 | I44: 57.2 | J44: 15264.5 | K44: 63.55 | L44: 3113.3 | M44: 48.02 | N44: 310.5 | O44: 7.36 | S44: =F44+H44+J44+L44 -> 23851.4 | T44: =(F44*G44+H44*I44+J44*K44+L44*M44)/(F44+H44+J44+L44) -> 60.519752 | U44: =N44+P44 -> 310.5 | V44: =(N44*O44+P44*Q44)/(N44+P44) -> 7.36
A45: Жетинин айы | B45: Ноябрь | C45: November | D45: 49580.4 | E45: 61.151621 | F45: 359 | G45: 59.47 | H45: 10476.2 | I45: 73.72 | J45: 31278 | K45: 58.38 | L45: 6623 | M45: 52.67 | N45: 844.2 | O45: 74.97 | S45: =F45+H45+J45+L45 -> 48736.2 | T45: =(F45*G45+H45*I45+J45*K45+L45*M45)/(F45+H45+J45+L45) -> 60.909514 | U45: =N45+P45 -> 844.2 | V45: =(N45*O45+P45*Q45)/(N45+P45) -> 74.97
A46: Бештин айы | B46: Декабрь | C46: December | D46: 115428.5 | E46: 42.446203 | F46: 17787.4 | G46: 79.63 | H46: 10790.3 | I46: 73.44 | J46: 16316.8 | K46: 58.19 | L46: 12616 | M46: 57.66 | N46: 57737 | O46: 17.53 | P46: 181 | Q46: 11.11 | S46: =F46+H46+J46+L46 -> 57510.5 | T46: =(F46*G46+H46*I46+J46*K46+L46*M46)/(F46+H46+J46+L46) -> 67.566157 | U46: =N46+P46 -> 57918 | V46: =(N46*O46+P46*Q46)/(N46+P46) -> 17.509937
A47: Үчтүн айы 1999 ж. | B47: Январь 1999 г. | C47: January 1999 | D47: 44093.7 | E47: 65.145172 | F47: 11134.8 | G47: 64.25 | H47: 14108 | I47: 69.88 | J47: 9330.9 | K47: 76.78 | L47: 9440 | M47: 48.15 | N47: 80 | O47: 3.44 | S47: =F47+H47+J47+L47 -> 44013.7 | T47: =(F47*G47+H47*I47+J47*K47+L47*M47)/(F47+H47+J47+L47) -> 65.257873 | U47: =N47+P47 -> 80 | V47: =(N47*O47+P47*Q47)/(N47+P47) -> 3.44
A48: Бирдин айы | B48: Февраль | C48: February | D48: 46503.6 | E48: 62.892046 | F48: 4941.6 | G48: 60.74 | H48: 20503 | I48: 60.08 | J48: 9777 | K48: 74.97 | L48: 10005 | M48: 57.91 | N48: 1277 | O48: 62.94 | S48: =F48+H48+J48+L48 -> 45226.6 | T48: =(F48*G48+H48*I48+J48*K48+L48*M48)/(F48+H48+J48+L48) -> 62.890959 | U48: =N48+P48 -> 1277 | V48: =(N48*O48+P48*Q48)/(N48+P48) -> 62.94
A49: Жалган куран | B49: Март | C49: March | D49: 55666.1 | E49: 53.596374 | F49: 6435 | G49: 71.51 | H49: 15295 | I49: 56 | J49: 17265.6 | K49: 56.28 | L49: 14120.5 | M49: 46.15 | N49: 2550 | O49: 16.98 | S49: =F49+H49+J49+L49 -> 53116.1 | T49: =(F49*G49+H49*I49+J49*K49+L49*M49)/(F49+H49+J49+L49) -> 55.351502 | U49: =N49+P49 -> 2550 | V49: =(N49*O49+P49*Q49)/(N49+P49) -> 16.98
A50: Чын куран | B50: Апрель | C50: April | D50: 64794 | E50: 54.333861 | F50: 4357 | G50: 61.07 | H50: 14389 | I50: 56.6 | J50: 18743 | K50: 62.61 | L50: 19267 | M50: 60.02 | N50: 8038 | O50: 13.71 | S50: =F50+H50+J50+L50 -> 56756 | T50: =(F50*G50+H50*I50+J50*K50+L50*M50)/(F50+H50+J50+L50) -> 60.088871 | U50: =N50+P50 -> 8038 | V50: =(N50*O50+P50*Q50)/(N50+P50) -> 13.71
A51: Бугу | B51: Май | C51: May | D51: 57792.4 | E51: 46.012928 | F51: 5117.7 | G51: 59.14 | H51: 10731.1 | I51: 66.62 | J51: 27383 | K51: 37.52 | L51: 13096.6 | M51: 46.14 | N51: 1264 | O51: 6.21 | P51: 200 | Q51: 11 | S51: =F51+H51+J51+L51 -> 56328.4 | T51: =(F51*G51+H51*I51+J51*K51+L51*M51)/(F51+H51+J51+L51) -> 47.032295 | U51: =N51+P51 -> 1464 | V51: =(N51*O51+P51*Q51)/(N51+P51) -> 6.8643716
A52: Кулжа | B52: Июнь | C52: June | D52: 34266.9 | E52: 58.551359 | F52: 1905.5 | G52: 71.14 | H52: 10033 | I52: 51.77 | J52: 14899.4 | K52: 66.21 | L52: 6338 | M52: 56.19 | N52: 694 | O52: 6.53 | P52: 397 | Q52: 11 | S52: =F52+H52+J52+L52 -> 33175.9 | T52: =(F52*G52+H52*I52+J52*K52+L52*M52)/(F52+H52+J52+L52) -> 60.211996 | U52: =N52+P52 -> 1091 | V52: =(N52*O52+P52*Q52)/(N52+P52) -> 8.156572
A53: Теке | B53: Июль | C53: July | D53: 47947.6 | E53: 41.350441 | F53: 528 | G53: 83.72 | H53: 5693.5 | I53: 43.72 | J53: 18625.1 | K53: 61.85 | L53: 3607 | M53: 55.44 | N53: 19494 | O53: 17.31 | S53: =F53+H53+J53+L53 -> 28453.6 | T53: =(F53*G53+H53*I53+J53*K53+L53*M53)/(F53+H53+J53+L53) -> 57.815478 | U53: =N53+P53 -> 19494 | V53: =(N53*O53+P53*Q53)/(N53+P53) -> 17.31
A54: Баш оона | B54: Август | C54: August | D54: 51586.9 | E54: 55.039387 | F54: 4160.8 | G54: 41.88 | H54: 15451.9 | I54: 62.28 | J54: 24960 | K54: 56.09 | L54: 6776.2 | M54: 44.24 | N54: 238 | O54: 12.98 | S54: =F54+H54+J54+L54 -> 51348.9 | T54: =(F54*G54+H54*I54+J54*K54+L54*M54)/(F54+H54+J54+L54) -> 55.237486 | U54: =N54+P54 -> 238 | V54: =(N54*O54+P54*Q54)/(N54+P54) -> 12.98
A55: Аяк оона | B55: Сентябрь | C55: September | D55: 46771 | E55: 54.794996 | F55: 5615.8 | G55: 35.95 | H55: 8656.5 | I55: 66.73 | J55: 18179 | K55: 57.76 | L55: 7859.7 | M55: 54.73 | N55: 6420 | O55: 47.17 | P55: 40 | Q55: 11 | S55: =F55+H55+J55+L55 -> 40311 | T55: =(F55*G55+H55*I55+J55*K55+L55*M55)/(F55+H55+J55+L55) -> 56.057073 | U55: =N55+P55 -> 6460 | V55: =(N55*O55+P55*Q55)/(N55+P55) -> 46.946037
A56: Тогуздун айы | B56: Октябрь | C56: October | D56: 49572.5 | E56: 48.633955 | F56: 713 | G56: 79 | H56: 11640.5 | I56: 54.14 | J56: 15012 | K56: 57.31 | L56: 21019 | M56: 38.64 | N56: 838 | O56: 57.11 | P56: 350 | Q56: 11 | S56: =F56+H56+J56+L56 -> 48384.5 | T56: =(F56*G56+H56*I56+J56*K56+L56*M56)/(F56+H56+J56+L56) -> 48.756431 | U56: =N56+P56 -> 1188 | V56: =(N56*O56+P56*Q56)/(N56+P56) -> 43.525404
A57: Жетинин айы | B57: Ноябрь | C57: November | D57: 27607.4 | E57: 51.104604 | F57: 1898 | G57: 54.78 | H57: 4898 | I57: 66.18 | J57: 10653 | K57: 48.13 | L57: 7617.4 | M57: 53.67 | N57: 2441 | O57: 24.6 | P57: 100 | Q57: 11 | S57: =F57+H57+J57+L57 -> 25066.4 | T57: =(F57*G57+H57*I57+J57*K57+L57*M57)/(F57+H57+J57+L57) -> 53.844063 | U57: =N57+P57 -> 2541 | V57: =(N57*O57+P57*Q57)/(N57+P57) -> 24.064778
A58: Бештин айы | B58: Декабрь | C58: December | D58: 36285.5 | E58: 54.797878 | F58: 4616.7 | G58: 69.53 | H58: 12091.2 | I58: 60.86 | J58: 14116 | K58: 52.54 | L58: 4136.5 | M58: 42.24 | N58: 991.5 | O58: 15.25 | P58: 333.6 | Q58: 0 | S58: =F58+H58+J58+L58 -> 34960.4 | T58: =(F58*G58+H58*I58+J58*K58+L58*M58)/(F58+H58+J58+L58) -> 56.442432 | U58: =N58+P58 -> 1325.1 | V58: =(N58*O58+P58*Q58)/(N58+P58) -> 11.410743
A59: Үчтүн айы 2000 ж. | B59: Январь 2000 г. | C59: January 2000 | D59: 25217.1 | E59: 53.290258 | F59: 4474 | G59: 65.51 | H59: 3457.2 | I59: 57.61 | J59: 5340 | K59: 62.04 | L59: 9136.9 | M59: 56.27 | N59: 2360 | O59: 0.48 | P59: 449 | Q59: 11 | S59: =F59+H59+J59+L59 -> 22408.1 | T59: =(F59*G59+H59*I59+J59*K59+L59*M59)/(F59+H59+J59+L59) -> 59.696627 | U59: =N59+P59 -> 2809 | V59: =(N59*O59+P59*Q59)/(N59+P59) -> 2.1615522
A60: Бирдин айы | B60: Февраль | C60: February | D60: 26676.9 | E60: 50.493021 | F60: 3397 | G60: 49.18 | H60: 11404.1 | I60: 56.18 | J60: 4239 | K60: 61.15 | L60: 6059.5 | M60: 43.15 | N60: 1377.3 | O60: 11.89 | P60: 200 | Q60: 11 | S60: =F60+H60+J60+L60 -> 25099.6 | T60: =(F60*G60+H60*I60+J60*K60+L60*M60)/(F60+H60+J60+L60) -> 52.926305 | U60: =N60+P60 -> 1577.3 | V60: =(N60*O60+P60*Q60)/(N60+P60) -> 11.777149
A61: Жалган куран | B61: Март | C61: March | D61: 38817.4 | E61: 48.850652 | F61: 1536.4 | G61: 70.86 | H61: 8503.5 | I61: 56.17 | J61: 16668 | K61: 48.76 | L61: 10319.6 | M61: 47.78 | N61: 1789.9 | O61: 2.2 | S61: =F61+H61+J61+L61 -> 37027.5 | T61: =(F61*G61+H61*I61+J61*K61+L61*M61)/(F61+H61+J61+L61) -> 51.105613 | U61: =N61+P61 -> 1789.9 | V61: =(N61*O61+P61*Q61)/(N61+P61) -> 2.2
A62: Чын куран | B62: Апрель | C62: April | D62: 51253.6 | E62: 39.203089 | F62: 23980 | G62: 18.43 | H62: 6908.4 | I62: 65.26 | J62: 10062 | K62: 55.45 | L62: 9970.7 | M62: 55.76 | N62: 250 | O62: 10.34 | P62: 82.5 | Q62: 0 | S62: =F62+H62+J62+L62 -> 50921.1 | T62: =(F62*G62+H62*I62+J62*K62+L62*M62)/(F62+H62+J62+L62) -> 39.407981 | U62: =N62+P62 -> 332.5 | V62: =(N62*O62+P62*Q62)/(N62+P62) -> 7.7744361
A63: Бугу | B63: Май | C63: May | D63: 47832.9 | E63: 53.890533 | F63: 8436.3 | G63: 52.5 | H63: 8014.4 | I63: 65.7 | J63: 17548.8 | K63: 55.28 | L63: 13354.9 | M63: 47.45 | N63: 478.5 | O63: 9.39 | S63: =F63+H63+J63+L63 -> 47354.4 | T63: =(F63*G63+H63*I63+J63*K63+L63*M63)/(F63+H63+J63+L63) -> 54.34003 | U63: =N63+P63 -> 478.5 | V63: =(N63*O63+P63*Q63)/(N63+P63) -> 9.39
A64: Кулжа | B64: Июнь | C64: June | D64: 64012.6 | E64: 42.919747 | F64: 7785 | G64: 45.96 | H64: 5485.7 | I64: 71.21 | J64: 21191.1 | K64: 47.53 | L64: 21160 | M64: 45.4 | N64: 7922 | O64: 3.56 | P64: 468.8 | Q64: 5.87 | S64: =F64+H64+J64+L64 -> 55621.8 | T64: =(F64*G64+H64*I64+J64*K64+L64*M64)/(F64+H64+J64+L64) -> 48.83539 | U64: =N64+P64 -> 8390.8 | V64: =(N64*O64+P64*Q64)/(N64+P64) -> 3.6890614
A65: Теке | B65: Июль | C65: July | D65: 68244.2 | E65: 45.385783 | F65: 14882.5 | G65: 31.93 | H65: 11569 | I65: 53.83 | J65: 23885 | K65: 48.23 | L65: 16065 | M65: 52.12 | N65: 1842.7 | O65: 5.53 | S65: =F65+H65+J65+L65 -> 66401.5 | T65: =(F65*G65+H65*I65+J65*K65+L65*M65)/(F65+H65+J65+L65) -> 46.493511 | U65: =N65+P65 -> 1842.7 | V65: =(N65*O65+P65*Q65)/(N65+P65) -> 5.53
A66: Баш оона | B66: Август | C66: August | D66: 88586.9 | E66: 40.7429 | F66: 14265.5 | G66: 41.73 | H66: 10084 | I66: 52.51 | J66: 32662.7 | K66: 42.04 | L66: 19225.2 | M66: 46.38 | N66: 11978.5 | O66: 18 | P66: 371 | Q66: 10.68 | S66: =F66+H66+J66+L66 -> 76237.4 | T66: =(F66*G66+H66*I66+J66*K66+L66*M66)/(F66+H66+J66+L66) -> 44.461312 | U66: =N66+P66 -> 12349.5 | V66: =(N66*O66+P66*Q66)/(N66+P66) -> 17.780095
A67: Аяк оона | B67: Сентябрь | C67: September | D67: 129794.5 | E67: 38.202732 | F67: 67143.4 | G67: 40.36 | H67: 4982.3 | I67: 52.71 | J67: 36310.5 | K67: 35.79 | L67: 16707.6 | M67: 40.27 | N67: 4630.7 | O67: 2.77 | P67: 20 | Q67: 11 | S67: =F67+H67+J67+L67 -> 125143.8 | T67: =(F67*G67+H67*I67+J67*K67+L67*M67)/(F67+H67+J67+L67) -> 39.513683 | U67: =N67+P67 -> 4650.7 | V67: =(N67*O67+P67*Q67)/(N67+P67) -> 2.8053925
A68: Тогуздун айы | B68: Октябрь | C68: October | D68: 66694.9 | E68: 46.034229 | F68: 10990.5 | G68: 30.72 | H68: 18269.3 | I68: 45.4 | J68: 19744 | K68: 52.2 | L68: 16136.3 | M68: 50.28 | N68: 1444.8 | O68: 42.3 | P68: 110 | Q68: 2 | S68: =F68+H68+J68+L68 -> 65140.1 | T68: =(F68*G68+H68*I68+J68*K68+L68*M68)/(F68+H68+J68+L68) -> 46.193118 | U68: =N68+P68 -> 1554.8 | V68: =(N68*O68+P68*Q68)/(N68+P68) -> 39.448829
A69: Жетинин айы | B69: Ноябрь | C69: November | D69: 56854.8 | E69: 52.335014 | F69: 5504 | G69: 49.12 | H69: 20252.2 | I69: 55.63 | J69: 13536.8 | K69: 55.69 | L69: 14040.8 | M69: 49.92 | N69: 3146 | O69: 38.05 | P69: 375 | Q69: 11 | S69: =F69+H69+J69+L69 -> 53333.8 | T69: =(F69*G69+H69*I69+J69*K69+L69*M69)/(F69+H69+J69+L69) -> 53.470173 | U69: =N69+P69 -> 3521 | V69: =(N69*O69+P69*Q69)/(N69+P69) -> 35.169071
A70: Бештин айы | B70: Декабрь | C70: December | D70: 49966 | E70: 50.104194 | F70: 2936.5 | G70: 39.72 | H70: 20077.5 | I70: 51.9 | J70: 12060 | K70: 51.34 | L70: 4500 | M70: 49.15 | N70: 6530 | O70: 53.17 | P70: 3862 | Q70: 40.73 | S70: =F70+H70+J70+L70 -> 39574 | T70: =(F70*G70+H70*I70+J70*K70+L70*M70)/(F70+H70+J70+L70) -> 50.512848 | U70: =N70+P70 -> 10392 | V70: =(N70*O70+P70*Q70)/(N70+P70) -> 48.546898
A71: Үчтүн айы 2001 ж. | B71: Январь 2001 г. | C71: January 2001 | D71: 60094.1 | E71: 49.263844 | F71: 21736 | G71: 48.89 | H71: 10998.5 | I71: 46.55 | J71: 15690 | K71: 54.76 | L71: 6620.9 | M71: 51.34 | N71: 4822 | O71: 38.77 | P71: 226.7 | Q71: 0 | S71: =F71+H71+J71+L71 -> 55045.4 | T71: =(F71*G71+H71*I71+J71*K71+L71*M71)/(F71+H71+J71+L71) -> 50.390307 | U71: =N71+P71 -> 5048.7 | V71: =(N71*O71+P71*Q71)/(N71+P71) -> 37.029124
A72: Бирдин айы | B72: Февраль | C72: February | D72: 85027.5 | E72: 42.196879 | F72: 7331 | G72: 28.58 | H72: 12493.5 | I72: 39.37 | J72: 35350 | K72: 46.14 | L72: 24534 | M72: 45.35 | N72: 5319 | O72: 26.88 | S72: =F72+H72+J72+L72 -> 79708.5 | T72: =(F72*G72+H72*I72+J72*K72+L72*M72)/(F72+H72+J72+L72) -> 43.220673 | U72: =N72+P72 -> 5319 | V72: =(N72*O72+P72*Q72)/(N72+P72) -> 26.88
A73: Жалган куран | B73: Март | C73: March | D73: 81907.8 | E73: 41.385274 | F73: 16746 | G73: 23.59 | H73: 23641.5 | I73: 44.99 | J73: 16941 | K73: 47.35 | L73: 24489.3 | M73: 46.06 | P73: 90 | Q73: 11 | S73: =F73+H73+J73+L73 -> 81817.8 | T73: =(F73*G73+H73*I73+J73*K73+L73*M73)/(F73+H73+J73+L73) -> 41.418893 | U73: =N73+P73 -> 90 | V73: =(N73*O73+P73*Q73)/(N73+P73) -> 11
A74: Чын куран | B74: Апрель | C74: April | D74: 117002.1 | E74: 34.259529 | F74: 25882 | G74: 19.66 | H74: 23131.5 | I74: 38.56 | J74: 34983 | K74: 39.05 | L74: 25726.6 | M74: 39.59 | N74: 6799 | O74: 32.05 | P74: 480 | Q74: 11 | S74: =F74+H74+J74+L74 -> 109723.1 | T74: =(F74*G74+H74*I74+J74*K74+L74*M74)/(F74+H74+J74+L74) -> 34.499508 | U74: =N74+P74 -> 7279 | V74: =(N74*O74+P74*Q74)/(N74+P74) -> 30.661897
A75: Бугу | B75: Май | C75: May | D75: 82798.3 | E75: 36.80242 | F75: 22150 | G75: 25.13 | H75: 21989.6 | I75: 42.57 | J75: 14140.9 | K75: 41.21 | L75: 21619.8 | M75: 40.43 | N75: 2783 | O75: 34.67 | P75: 115 | Q75: 11 | S75: =F75+H75+J75+L75 -> 79900.3 | T75: =(F75*G75+H75*I75+J75*K75+L75*M75)/(F75+H75+J75+L75) -> 36.915528 | U75: =N75+P75 -> 2898 | V75: =(N75*O75+P75*Q75)/(N75+P75) -> 33.730714
A76: Кулжа | B76: Июнь | C76: June | D76: 141348.1 | E76: 32.643207 | F76: 46940 | G76: 31.4 | H76: 31781 | I76: 40.6 | J76: 33959 | K76: 35.98 | L76: 14831.1 | M76: 40.1 | N76: 13762 | O76: 2.46 | P76: 75 | Q76: 0 | S76: =F76+H76+J76+L76 -> 127511.1 | T76: =(F76*G76+H76*I76+J76*K76+L76*M76)/(F76+H76+J76+L76) -> 35.924688 | U76: =N76+P76 -> 13837 | V76: =(N76*O76+P76*Q76)/(N76+P76) -> 2.4466662
A77: Теке | B77: Июль | C77: July | D77: 115436.4 | E77: 28.498407 | F77: 20563.6 | G77: 27.32 | H77: 28000 | I77: 34.9 | J77: 21043.5 | K77: 34.16 | L77: 23922.3 | M77: 24.87 | N77: 21907 | O77: 19.95 | S77: =F77+H77+J77+L77 -> 93529.4 | T77: =(F77*G77+H77*I77+J77*K77+L77*M77)/(F77+H77+J77+L77) -> 30.501544 | U77: =N77+P77 -> 21907 | V77: =(N77*O77+P77*Q77)/(N77+P77) -> 19.95
A78: Баш оона | B78: Август | C78: August | D78: 97254.1 | E78: 30.74892 | F78: 23312.1 | G78: 18.53 | H78: 15580 | I78: 43.88 | J78: 19113 | K78: 42.49 | L78: 22098 | M78: 33.85 | N78: 17151 | O78: 18.34 | S78: =F78+H78+J78+L78 -> 80103.1 | T78: =(F78*G78+H78*I78+J78*K78+L78*M78)/(F78+H78+J78+L78) -> 33.403854 | U78: =N78+P78 -> 17151 | V78: =(N78*O78+P78*Q78)/(N78+P78) -> 18.34
A79: Аяк оона | B79: Сентябрь | C79: September | D79: 72854.9 | E79: 35.936433 | F79: 14026.3 | G79: 27.09 | H79: 23919.5 | I79: 35.63 | J79: 18733 | K79: 41.4 | L79: 13589.1 | M79: 38.48 | N79: 2587 | O79: 33.87 | S79: =F79+H79+J79+L79 -> 70267.9 | T79: =(F79*G79+H79*I79+J79*K79+L79*M79)/(F79+H79+J79+L79) -> 36.014724 | U79: =N79+P79 -> 2587 | V79: =(N79*O79+P79*Q79)/(N79+P79) -> 33.87
A80: Тогуздун айы | B80: Октябрь | C80: October | D80: 81993.4 | E80: 38.664751 | F80: 5058.6 | G80: 26.21 | H80: 23256 | I80: 40.86 | J80: 22000.5 | K80: 42.87 | L80: 31127.2 | M80: 36.54 | N80: 551.1 | O80: 12.81 | S80: =F80+H80+J80+L80 -> 81442.3 | T80: =(F80*G80+H80*I80+J80*K80+L80*M80)/(F80+H80+J80+L80) -> 38.841921 | U80: =N80+P80 -> 551.1 | V80: =(N80*O80+P80*Q80)/(N80+P80) -> 12.81
A81: Жетинин айы | B81: Ноябрь | C81: November | D81: 94202.2 | E81: 38.161213 | F81: 7238.3 | G81: 32.18 | H81: 13473.1 | I81: 40.43 | J81: 47855.5 | K81: 38.48 | L81: 21719.1 | M81: 40.95 | N81: 3916.2 | O81: 22 | S81: =F81+H81+J81+L81 -> 90286 | T81: =(F81*G81+H81*I81+J81*K81+L81*M81)/(F81+H81+J81+L81) -> 38.860097 | U81: =N81+P81 -> 3916.2 | V81: =(N81*O81+P81*Q81)/(N81+P81) -> 22
A82: Бештин айы | B82: Декабрь | C82: December | D82: 140363.7 | E82: 27.952176 | F82: 50590 | G82: 20.78 | H82: 26739.8 | I82: 37.33 | J82: 22180.1 | K82: 34.69 | L82: 40600.5 | M82: 27.13 | N82: 253.3 | O82: 10.39 | S82: =F82+H82+J82+L82 -> 140110.4 | T82: =(F82*G82+H82*I82+J82*K82+L82*M82)/(F82+H82+J82+L82) -> 27.980622 | U82: =N82+P82 -> 253.3 | V82: =(N82*O82+P82*Q82)/(N82+P82) -> 10.39
A83: Үчтүн айы 2002 ж. | B83: Январь 2002 г. | C83: January 2002 | D83: 90041.9 | E83: 25.332385 | F83: 44448.9 | G83: 15.22 | H83: 15305.6 | I83: 40.96 | J83: 5853.5 | K83: 42.9 | L83: 23510.9 | M83: 30.29 | N83: 923 | O83: 15.14 | S83: =F83+H83+J83+L83 -> 89118.9 | T83: =(F83*G83+H83*I83+J83*K83+L83*M83)/(F83+H83+J83+L83) -> 25.434447 | U83: =N83+P83 -> 923 | V83: =(N83*O83+P83*Q83)/(N83+P83) -> 15.14
A84: Бирдин айы | B84: Февраль | C84: February | D84: 62766.9 | E84: 33.383146 | F84: 7416 | G84: 31.17 | H84: 19494.7 | I84: 41.77 | J84: 5842.5 | K84: 43.83 | L84: 27733.9 | M84: 26.49 | N84: 2279.8 | O84: 26 | S84: =F84+H84+J84+L84 -> 60487.1 | T84: =(F84*G84+H84*I84+J84*K84+L84*M84)/(F84+H84+J84+L84) -> 33.663345 | U84: =N84+P84 -> 2279.8 | V84: =(N84*O84+P84*Q84)/(N84+P84) -> 26
A85: Жалган куран | B85: Март | C85: March | D85: 142870.2 | E85: 23.530827 | F85: 64784.7 | G85: 11.58 | H85: 25559 | I85: 39.92 | J85: 25930 | K85: 34.21 | L85: 24537.3 | M85: 27.27 | N85: 2059.2 | O85: 17.12 | S85: =F85+H85+J85+L85 -> 140811 | T85: =(F85*G85+H85*I85+J85*K85+L85*M85)/(F85+H85+J85+L85) -> 23.625424 | U85: =N85+P85 -> 2059.2 | V85: =(N85*O85+P85*Q85)/(N85+P85) -> 17.12
A86: Чын куран | B86: Апрель | C86: April | D86: 82354.2 | E86: 35.577221 | F86: 9057 | G86: 14.58 | H86: 36155.3 | I86: 39.36 | J86: 16402.8 | K86: 37.78 | L86: 18439.9 | M86: 37.23 | N86: 2219.2 | O86: 30.89 | P86: 80 | Q86: 0 | S86: =F86+H86+J86+L86 -> 80055 | T86: =(F86*G86+H86*I86+J86*K86+L86*M86)/(F86+H86+J86+L86) -> 35.742164 | U86: =N86+P86 -> 2299.2 | V86: =(N86*O86+P86*Q86)/(N86+P86) -> 29.815191
A87: Бугу | B87: Май | C87: May | D87: 120956.2 | E87: 14.931596 | F87: 74355.7 | G87: 1.64 | H87: 24721.4 | I87: 37.11 | J87: 5448.5 | K87: 36.09 | L87: 15687.7 | M87: 35.04 | N87: 742.9 | O87: 27.55 | S87: =F87+H87+J87+L87 -> 120213.3 | T87: =(F87*G87+H87*I87+J87*K87+L87*M87)/(F87+H87+J87+L87) -> 14.854329 | U87: =N87+P87 -> 742.9 | V87: =(N87*O87+P87*Q87)/(N87+P87) -> 27.55
A88: Кулжа | B88: Июнь | C88: June | D88: 108130.3 | E88: 28.097567 | F88: 33638.2 | G88: 16.71 | H88: 32062.8 | I88: 36.52 | J88: 16919.5 | K88: 28.22 | L88: 25085.3 | M88: 32.69 | N88: 424.5 | O88: 18.06 | S88: =F88+H88+J88+L88 -> 107705.8 | T88: =(F88*G88+H88*I88+J88*K88+L88*M88)/(F88+H88+J88+L88) -> 28.137153 | U88: =N88+P88 -> 424.5 | V88: =(N88*O88+P88*Q88)/(N88+P88) -> 18.06
A89: Теке | B89: Июль | C89: July | D89: 113514.9 | E89: 32.725977 | F89: 12087.2 | G89: 30.75 | H89: 47340 | I89: 35.52 | J89: 13369.2 | K89: 31.48 | L89: 36520.5 | M89: 31.79 | N89: 4198 | O89: 18.99 | S89: =F89+H89+J89+L89 -> 109316.9 | T89: =(F89*G89+H89*I89+J89*K89+L89*M89)/(F89+H89+J89+L89) -> 33.252382 | U89: =N89+P89 -> 4198 | V89: =(N89*O89+P89*Q89)/(N89+P89) -> 18.99
A90: Баш оона | B90: Август | C90: August | D90: 62067.4 | E90: 35.787984 | F90: 5080 | G90: 23.07 | H90: 29937.1 | I90: 37.22 | J90: 5328.7 | K90: 33.85 | L90: 19559.6 | M90: 40.13 | N90: 2162 | O90: 11.28 | S90: =F90+H90+J90+L90 -> 59905.4 | T90: =(F90*G90+H90*I90+J90*K90+L90*M90)/(F90+H90+J90+L90) -> 36.670445 | U90: =N90+P90 -> 2162 | V90: =(N90*O90+P90*Q90)/(N90+P90) -> 11.28
A91: Аяк оона | B91: Сентябрь | C91: September | D91: 102991.3 | E91: 36.67582 | F91: 19147 | G91: 17.02 | H91: 21135.4 | I91: 34.76 | J91: 3469 | K91: 36.66 | L91: 18989.9 | M91: 41.48 | N91: 40250 | O91: 44.78 | S91: =F91+H91+J91+L91 -> 62741.3 | T91: =(F91*G91+H91*I91+J91*K91+L91*M91)/(F91+H91+J91+L91) -> 31.48521 | U91: =N91+P91 -> 40250 | V91: =(N91*O91+P91*Q91)/(N91+P91) -> 44.78
A92: Тогуздун айы | B92: Октябрь | C92: October | D92: 106636.4 | E92: 36.392385 | F92: 6517 | G92: 16.07 | H92: 32616.2 | I92: 35.5 | J92: 2882 | K92: 34.14 | L92: 22149.1 | M92: 38.89 | N92: 42472.1 | O92: 39.04 | S92: =F92+H92+J92+L92 -> 64164.3 | T92: =(F92*G92+H92*I92+J92*K92+L92*M92)/(F92+H92+J92+L92) -> 34.635666 | U92: =N92+P92 -> 42472.1 | V92: =(N92*O92+P92*Q92)/(N92+P92) -> 39.04
A93: Жетинин айы | B93: Ноябрь | C93: November | D93: 95445.4 | E93: 35.498179 | F93: 9604 | G93: 26.93 | H93: 22999.2 | I93: 31.3 | J93: 9051.5 | K93: 29.42 | L93: 31910.8 | M93: 40.22 | N93: 21879.9 | O93: 39.31 | S93: =F93+H93+J93+L93 -> 73565.5 | T93: =(F93*G93+H93*I93+J93*K93+L93*M93)/(F93+H93+J93+L93) -> 34.367444 | U93: =N93+P93 -> 21879.9 | V93: =(N93*O93+P93*Q93)/(N93+P93) -> 39.31
A94: Бештин айы | B94: Декабрь | C94: December | D94: 297803.3 | E94: 24.778271 | F94: 51059 | G94: 22.38 | H94: 35602 | I94: 24.81 | J94: 16786.4 | K94: 29.72 | L94: 102432.3 | M94: 26.73 | N94: 91923.6 | O94: 23.02 | S94: =F94+H94+J94+L94 -> 205879.7 | T94: =(F94*G94+H94*I94+J94*K94+L94*M94)/(F94+H94+J94+L94) -> 25.562954 | U94: =N94+P94 -> 91923.6 | V94: =(N94*O94+P94*Q94)/(N94+P94) -> 23.02
A95: Үчтүн айы 2003 ж. | B95: Январь 2003 г. | C95: January 2003 | D95: 117622.4 | E95: 26.452338 | F95: 57583 | G95: 20.14 | H95: 4535 | I95: 24.26 | J95: 17658.8 | K95: 29.04 | L95: 31755.6 | M95: 35.16 | N95: 6090 | O95: 34.89 | S95: =F95+H95+J95+L95 -> 111532.4 | T95: =(F95*G95+H95*I95+J95*K95+L95*M95)/(F95+H95+J95+L95) -> 25.993157 | U95: =N95+P95 -> 6090 | V95: =(N95*O95+P95*Q95)/(N95+P95) -> 34.89
A96: Бирдин айы | B96: Февраль | C96: February | D96: 88792.1 | E96: 27.201976 | F96: 27853 | G96: 17.04 | H96: 5615 | I96: 24.57 | J96: 16276 | K96: 30.06 | L96: 33605 | M96: 37.19 | N96: 5443.1 | O96: 11.73 | S96: =F96+H96+J96+L96 -> 83349 | T96: =(F96*G96+H96*I96+J96*K96+L96*M96)/(F96+H96+J96+L96) -> 28.213922 | U96: =N96+P96 -> 5443.1 | V96: =(N96*O96+P96*Q96)/(N96+P96) -> 11.73
A97: Жалган куран | B97: Март | C97: March | D97: 155554.4 | E97: 25.534059 | F97: 24278 | G97: 20.15 | H97: 10227 | I97: 34.11 | J97: 5604.8 | K97: 28.23 | L97: 101552.9 | M97: 25.96 | N97: 13771.7 | O97: 24.67 | P97: 120 | Q97: 0 | S97: =F97+H97+J97+L97 -> 141662.7 | T97: =(F97*G97+H97*I97+J97*K97+L97*M97)/(F97+H97+J97+L97) -> 25.642469 | U97: =N97+P97 -> 13891.7 | V97: =(N97*O97+P97*Q97)/(N97+P97) -> 24.456894
A98: Чын куран | B98: Апрель | C98: April | D98: 144281.6 | E98: 27.316721 | F98: 26543.7 | G98: 17.214846 | H98: 15447.2 | I98: 28.263944 | J98: 10692 | K98: 29.294796 | L98: 78014.7 | M98: 30.798691 | N98: 13319 | O98: 24.704482 | P98: 265 | Q98: 9.7169811 | S98: =F98+H98+J98+L98 -> 130697.6 | T98: =(F98*G98+H98*I98+J98*K98+L98*M98)/(F98+H98+J98+L98) -> 27.617302 | U98: =N98+P98 -> 13584 | V98: =(N98*O98+P98*Q98)/(N98+P98) -> 24.412102
A99: Бугу | B99: Май | C99: May | D99: 223589.3 | E99: 24.305418 | F99: 13637.7 | G99: 27.217727 | H99: 50931.2 | I99: 19.630935 | J99: 72722 | K99: 21.952454 | L99: 77440.6 | M99: 29.670011 | N99: 8387.8 | O99: 19.449689 | P99: 470 | Q99: 13.191489 | S99: =F99+H99+J99+L99 -> 214731.5 | T99: =(F99*G99+H99*I99+J99*K99+L99*M99)/(F99+H99+J99+L99) -> 24.519477 | U99: =N99+P99 -> 8857.8 | V99: =(N99*O99+P99*Q99)/(N99+P99) -> 19.117625
