Workbook

Sheet 1. общая
A2: 1-таблица. Коммерциялык банктар тарабынан берилген кредиттер жана кредиттердин орточо салмактанып алынган пайыздык чендери (бир мезгил ичинде) | B2: Таблица 1. Общий объем и средневзвешенные процентные ставки по выданным кредитам в действующих коммерческих банках (за период) | C2: Table 1. Total volume and average weighted interest rates of newly issued credits by commercial banks (for the period)
A4: (миң сом / пайыздар) | B4: (тыс. сомов / проценты) | C4: (ths of soms / percent)
A5: Мезгил аралыгы | B5: Период | C5: Period | D5: Жалпы улуттук валютада жана чет өлкө валютасында | F5: Жалпы улуттук валютада | H5: Жалпы чет өлкө валютасында
D6: Итого в нац. и ин. валюте | F6: Итого в нац. валюте | H6: Итого в ин. валюте
D7: Total in National and Foreign currencies | F7: Total in National currency | H7: Total in Foreign currency
D8: көлөм | E8: орточо салмактанып алынган чендер | F8: көлөм | G8: орточо салмактанып алынган чендер | H8: көлөм | I8: орточо салмактанып алынган чендер
D9: объем | E9: средневзв. ставка | F9: объем | G9: средневзв. ставка | H9: объем | I9: средневзв. ставка
D10: volume | E10: average weighted interest rate | F10: volume | G10: average weighted interest rate | H10: volume | I10: average weighted interest rate
A11: Үчтүн айы 1996 ж. | B11: Январь 1996 г. | C11: January 1996 | D11: ='2. отрасли_общ'!D11 -> 54428 | E11: ='2. отрасли_общ'!E11 -> 58.615446 | F11: ='3. отрасли_нац вал'!D11 -> 43517 | G11: ='3. отрасли_нац вал'!E11 -> 60.784077 | H11: ='4. отрасли_ин вал'!D11 -> 10911 | I11: ='4. отрасли_ин вал'!E11 -> 49.966163
A12: Бирдин айы | B12: Февраль | C12: February | D12: ='2. отрасли_общ'!D12 -> 45653.5 | E12: ='2. отрасли_общ'!E12 -> 54.526157 | F12: ='3. отрасли_нац вал'!D12 -> 31668.5 | G12: ='3. отрасли_нац вал'!E12 -> 56.695688 | H12: ='4. отрасли_ин вал'!D12 -> 13985 | I12: ='4. отрасли_ин вал'!E12 -> 49.613336
A13: Жалган куран | B13: Март | C13: March | D13: ='2. отрасли_общ'!D13 -> 37106.3 | E13: ='2. отрасли_общ'!E13 -> 54.602125 | F13: ='3. отрасли_нац вал'!D13 -> 24563.6 | G13: ='3. отрасли_нац вал'!E13 -> 60.693621 | H13: ='4. отрасли_ин вал'!D13 -> 12542.7 | I13: ='4. отрасли_ин вал'!E13 -> 42.672551
A14: Чын куран | B14: Апрель | C14: April | D14: ='2. отрасли_общ'!D14 -> 66848.3 | E14: ='2. отрасли_общ'!E14 -> 57.716208 | F14: ='3. отрасли_нац вал'!D14 -> 43700.8 | G14: ='3. отрасли_нац вал'!E14 -> 60.489318 | H14: ='4. отрасли_ин вал'!D14 -> 23147.5 | I14: ='4. отрасли_ин вал'!E14 -> 52.480778
A15: Бугу | B15: Май | C15: May | D15: ='2. отрасли_общ'!D15 -> 39034.3 | E15: ='2. отрасли_общ'!E15 -> 58.996474 | F15: ='3. отрасли_нац вал'!D15 -> 33541.3 | G15: ='3. отрасли_нац вал'!E15 -> 62.499518 | H15: ='4. отрасли_ин вал'!D15 -> 5493 | I15: ='4. отрасли_ин вал'!E15 -> 37.606226
A16: Кулжа | B16: Июнь | C16: June | D16: ='2. отрасли_общ'!D16 -> 38953.6 | E16: ='2. отрасли_общ'!E16 -> 55.990876 | F16: ='3. отрасли_нац вал'!D16 -> 23216.8 | G16: ='3. отрасли_нац вал'!E16 -> 64.487234 | H16: ='4. отрасли_ин вал'!D16 -> 15736.8 | I16: ='4. отрасли_ин вал'!E16 -> 43.456039
A17: Теке | B17: Июль | C17: July | D17: ='2. отрасли_общ'!D17 -> 47240.1 | E17: ='2. отрасли_общ'!E17 -> 48.502777 | F17: ='3. отрасли_нац вал'!D17 -> 40626.1 | G17: ='3. отрасли_нац вал'!E17 -> 52.078616 | H17: ='4. отрасли_ин вал'!D17 -> 6614 | I17: ='4. отрасли_ин вал'!E17 -> 26.538403
A18: Баш оона | B18: Август | C18: August | D18: ='2. отрасли_общ'!D18 -> 57133.4 | E18: ='2. отрасли_общ'!E18 -> 55.621883 | F18: ='3. отрасли_нац вал'!D18 -> 36956.8 | G18: ='3. отрасли_нац вал'!E18 -> 60.335708 | H18: ='4. отрасли_ин вал'!D18 -> 20176.6 | I18: ='4. отрасли_ин вал'!E18 -> 46.987728
A19: Аяк оона | B19: Сентябрь | C19: September | D19: ='2. отрасли_общ'!D19 -> 55070.4 | E19: ='2. отрасли_общ'!E19 -> 60.943224 | F19: ='3. отрасли_нац вал'!D19 -> 25312 | G19: ='3. отрасли_нац вал'!E19 -> 54.320451 | H19: ='4. отрасли_ин вал'!D19 -> 29758.4 | I19: ='4. отрасли_ин вал'!E19 -> 66.576444
A20: Тогуздун айы | B20: Октябрь | C20: October | D20: ='2. отрасли_общ'!D20 -> 50828.8 | E20: ='2. отрасли_общ'!E20 -> 61.105922 | F20: ='3. отрасли_нац вал'!D20 -> 23207.9 | G20: ='3. отрасли_нац вал'!E20 -> 55.299174 | H20: ='4. отрасли_ин вал'!D20 -> 27620.9 | I20: ='4. отрасли_ин вал'!E20 -> 65.984924
A21: Жетинин айы | B21: Ноябрь | C21: November | D21: ='2. отрасли_общ'!D21 -> 58241.7 | E21: ='2. отрасли_общ'!E21 -> 52.81693 | F21: ='3. отрасли_нац вал'!D21 -> 39599.7 | G21: ='3. отрасли_нац вал'!E21 -> 56.965545 | H21: ='4. отрасли_ин вал'!D21 -> 18642 | I21: ='4. отрасли_ин вал'!E21 -> 44.004362
A22: Бештин айы | B22: Декабрь | C22: December | D22: ='2. отрасли_общ'!D22 -> 65604.1 | E22: ='2. отрасли_общ'!E22 -> 52.142973 | F22: ='3. отрасли_нац вал'!D22 -> 46608.1 | G22: ='3. отрасли_нац вал'!E22 -> 58.242047 | H22: ='4. отрасли_ин вал'!D22 -> 18996 | I22: ='4. отрасли_ин вал'!E22 -> 37.17844
... A382: Бештин айы | B382: Декабрь | C382: December | D382: ='2. отрасли_общ'!D382 -> 0 | E382: ='2. отрасли_общ'!E382 -> 0 | F382: ='3. отрасли_нац вал'!D382 -> 0 | G382: ='3. отрасли_нац вал'!E382 -> 0 | H382: ='4. отрасли_ин вал'!D382 -> 0 | I382: ='4. отрасли_ин вал'!E382 -> 0
A383: * алдын ала маалыматтар | B383: * предварительные данные | C383: *preliminary data

Sheet 2. отрасли_общ
A2: 2-таблица. Тармактар боюнча коммерциялык банктар тарабынан берилген кредиттер жана кредиттердин орточо салмактанып алынган пайыздык чендери (бир мезгил ичинде) | B2: Таблица 2. Общий объем и средневзвешенные процентные ставки по выданным кредитам в разрезе отраслей (за период) | C2: Table 2. Total volume and average weighted interest rates of newly issued credits by sectors (for the period)
A4: (миң сом / пайыздар) | B4: (тыс. сомов / проценты) | C4: (ths of soms / percent)
A5: Мезгил аралыгы | B5: Период | C5: Period | D5: Жалпы улуттук валютада жана чет өлкө валютасында | F5: Өнөр жайы | H5: Айыл чарбасы | J5: Транспорт | L5: Байланыш | N5: Cоода | P5: Даярдоо жана кайра иштетүү ишканалары | R5: Курулуш | T5: Ипотека | V5: Керектөө кредиттери | X5: Социалдык кызмат көрсөтүүлөр | Z5: Жана башкалаp
D6: Итого в нац. и ин. валюте | F6: Промышленность | H6: Сельское хоз-во | J6: Транспорт | L6: Связь | N6: Торговля и коммерческие операции | P6: Заготовка и переработка | R6: Строительство | T6: Ипотека | V6: Потребительские кредиты | X6: Социальные услуги | Z6: Прочие
D7: Total in National and Foreign currencies | F7: Industry | H7: Agriculture | J7: Transport | L7: Communication | N7: Trade | P7: Procurement and processing | R7: Construction | T7: Mortgage | V7: Consumer loans | X7: Social services | Z7: Others
D8: көлөм | E8: орточо салмактанып алынган чендер | F8: көлөм | G8: орточо салмактанып алынган чендер | H8: көлөм | I8: орточо салмактанып алынган чендер | J8: көлөм | K8: орточо салмактанып алынган чендер | L8: көлөм | M8: орточо салмактанып алынган чендер | N8: көлөм | O8: орточо салмактанып алынган чендер | P8: көлөм | Q8: орточо салмактанып алынган чендер | R8: көлөм | S8: орточо салмактанып алынган чендер | T8: көлөм | U8: орточо салмактанып алынган чендер | V8: көлөм | W8: орточо салмактанып алынган чендер | X8: көлөм | Y8: орточо салмактанып алынган чендер | Z8: көлөм | AA8: орточо салмактанып алынган чендер
D9: объем | E9: средневзв. ставка | F9: объем | G9: средневзв. ставка | H9: объем | I9: средневзв. ставка | J9: объем | K9: средневзв. ставка | L9: объем | M9: средневзв. ставка | N9: объем | O9: средневзв. ставка | P9: объем | Q9: средневзв. ставка | R9: объем | S9: средневзв. ставка | T9: объем | U9: средневзв. ставка | V9: объем | W9: средневзв. ставка | X9: объем | Y9: средневзв. ставка | Z9: объем | AA9: средневзв. ставка
D10: volume | E10: average weighted interest rate | F10: volume | G10: average weighted interest rate | H10: volume | I10: average weighted interest rate | J10: volume | K10: average weighted interest rate | L10: volume | M10: average weighted interest rate | N10: volume | O10: average weighted interest rate | P10: volume | Q10: average weighted interest rate | R10: volume | S10: average weighted interest rate | T10: volume | U10: average weighted interest rate | V10: volume | W10: average weighted interest rate | X10: volume | Y10: average weighted interest rate | Z10: volume | AA10: average weighted interest rate
A11: Үчтүн айы 1996 ж. | B11: Январь 1996 г. | C11: January 1996 | D11: 54428 | E11: 58.615446 | F11: 4206 | G11: 40.103661 | H11: 310 | I11: 75 | J11: 1247 | K11: 64.073777 | L11: 13 | M11: 31 | N11: 16689 | O11: 48.920295 | P11: 72 | Q11: 110 | R11: 515 | S11: 68.462136 | V11: 4049 | W11: 75.645345 | Z11: 27327 | AA11: 64.119578
A12: Бирдин айы | B12: Февраль | C12: February | D12: 45653.5 | E12: 54.526157 | F12: 7572 | G12: 53.666033 | H12: 2598 | I12: 30.333333 | J12: 100 | K12: 70 | L12: 703 | M12: 12.31 | N12: 15473 | O12: 47.634602 | R12: 368 | S12: 74.375 | V12: 3233.5 | W12: 89.557291 | Z12: 15606 | AA12: 59.879987
A13: Жалган куран | B13: Март | C13: March | D13: 37106.3 | E13: 54.602125 | F13: 4367 | G13: 65.316922 | H13: 2534 | I13: 24.746646 | J13: 70 | K13: 80 | N13: 8387 | O13: 51.35958 | R13: 505 | S13: 83.772277 | V13: 2235.6 | W13: 64.337645 | Z13: 19007.7 | AA13: 55.537745
A14: Чын куран | B14: Апрель | C14: April | D14: 66848.3 | E14: 57.716208 | F14: 6539 | G14: 57.899679 | H14: 395 | I14: 65.063291 | J14: 250 | K14: 62 | L14: 350 | M14: 65 | N14: 28195.8 | O14: 50.884728 | P14: 50 | Q14: 50 | R14: 938 | S14: 83.679104 | V14: 2504 | W14: 57.698682 | Z14: 27626.5 | AA14: 63.542986
A15: Бугу | B15: Май | C15: May | D15: 39034.3 | E15: 58.996474 | F15: 1400 | G15: 63.607143 | H15: 610 | I15: 63.278689 | J15: 140 | K15: 70 | L15: 30 | M15: 60 | N15: 15196.5 | O15: 62.439404 | P15: 100 | Q15: 55 | R15: 1220 | S15: 56.318443 | V15: 4294 | W15: 64.298701 | Z15: 16043.8 | AA15: 53.881784
A16: Кулжа | B16: Июнь | C16: June | D16: 38953.6 | E16: 55.990876 | F16: 2104 | G16: 58.287072 | H16: 156 | I16: 60 | N16: 7592 | O16: 51.407745 | P16: 120 | Q16: 28 | R16: 511 | S16: 68.176125 | V16: 13576.6 | W16: 66.864764 | Z16: 14894 | AA16: 47.85608
A17: Теке | B17: Июль | C17: July | D17: 47240.1 | E17: 48.502777 | F17: 3041 | G17: 48.672805 | H17: 31 | I17: 65 | J17: 300 | K17: 60 | L17: 2296 | M17: 9 | N17: 18172 | O17: 38.568457 | P17: 600 | Q17: 54.666667 | R17: 432 | S17: 61.070463 | V17: 7348.5 | W17: 66.622854 | Z17: 15019.6 | AA17: 56.789566
A18: Баш оона | B18: Август | C18: August | D18: 57133.4 | E18: 55.621883 | F18: 3056 | G18: 51.268979 | H18: 80 | I18: 57.5 | J18: 3038 | K18: 9 | L18: 590.1 | M18: 13 | N18: 12081 | O18: 44.301631 | R18: 41 | S18: 67.439024 | V18: 19971.3 | W18: 65.2014 | Z18: 18276 | AA18: 62.456022
A19: Аяк оона | B19: Сентябрь | C19: September | D19: 55070.4 | E19: 60.943224 | F19: 1359 | G19: 43.849154 | H19: 253 | I19: 67.628458 | N19: 15512 | O19: 40.835095 | P19: 1723 | Q19: 30 | R19: 825 | S19: 70 | V19: 23982 | W19: 79.911836 | Z19: 11416.4 | AA19: 54.32072
A20: Тогуздун айы | B20: Октябрь | C20: October | D20: 50828.8 | E20: 61.105922 | F20: 2529.4 | G20: 46.138215 | J20: 200 | K20: 70 | N20: 18004 | O20: 43.499611 | R20: 882 | S20: 31.839116 | V20: 19637.4 | W20: 83.927536 | Z20: 9576 | AA20: 53.871241
A21: Жетинин айы | B21: Ноябрь | C21: November | D21: 58241.7 | E21: 52.81693 | F21: 10884 | G21: 38.577067 | J21: 25 | K21: 65 | N21: 14421 | O21: 49.743014 | R21: 3062 | S21: 39.813651 | V21: 4655.7 | W21: 64.052409 | Z21: 25194 | AA21: 60.220204
A22: Бештин айы | B22: Декабрь | C22: December | D22: 65604.1 | E22: 52.142973 | F22: 6031 | G22: 54.391676 | H22: 1728 | I22: 14.322917 | J22: 735 | K22: 53.251701 | N22: 13730 | O22: 45.314785 | R22: 3254 | S22: 73.423479 | V22: 10469.1 | W22: 65.348583 | Z22: 29657 | AA22: 50.026427
A23: Үчтүн айы 1997 ж. | B23: Январь 1997 г. | C23: January 1997 | D23: 55700.1 | E23: 49.996214 | F23: 5197.8 | G23: 53.321059 | H23: 140 | I23: 57 | J23: 2813 | K23: 18.406328 | N23: 25518 | O23: 44.116081 | P23: 300 | Q23: 50 | R23: 191 | S23: 61.39 | V23: 6014.3 | W23: 65.727144 | Z23: 15526 | AA23: 57.972223
A24: Бирдин айы | B24: Февраль | C24: February | D24: 52519.9 | E24: 57.330642 | F24: 4690 | G24: 26.620458 | H24: 515 | I24: 51 | J24: 1200 | K24: 62.08 | N24: 16225 | O24: 54.201695 | P24: 470 | Q24: 50 | R24: 535 | S24: 65.05 | V24: 21830.9 | W24: 66.007073 | Z24: 7054 | AA24: 57.650241
A25: Жалган куран | B25: Март | C25: March | D25: 98752 | E25: 63.831802 | F25: 3527 | G25: 54.385407 | J25: 349 | K25: 70 | N25: 31632 | O25: 53.420157 | R25: 994 | S25: 44.943662 | V25: 24971 | W25: 71.028917 | Z25: 37279 | AA25: 69.187256
A26: Чын куран | B26: Апрель | C26: April | D26: 58672.5 | E26: 57.811019 | F26: 4420 | G26: 45.3701 | N26: 19673 | O26: 49.921252 | R26: 1561 | S26: 36.591928 | V26: 15599.5 | W26: 56.359476 | Z26: 17419 | AA26: 73.079236
A27: Бугу | B27: Май | C27: May | D27: 118484.9 | E27: 51.316368 | F27: 6274 | G27: 57.669841 | H27: 66 | I27: 0 | J27: 4373.9 | K27: 36.421237 | N27: 37600 | O27: 47.686684 | R27: 2607 | S27: 52.922194 | V27: 23781.1 | W27: 48.675319 | Z27: 43782.9 | AA27: 56.426427
A28: Кулжа | B28: Июнь | C28: June | D28: 110883.5 | E28: 62.437515 | F28: 14281.9 | G28: 40.249069 | H28: 285 | I28: 65.96 | J28: 9427 | K28: 38.28 | N28: 19019.6 | O28: 52.812433 | R28: 383 | S28: 52.001044 | V28: 19408 | W28: 62.125437 | Z28: 48079 | AA28: 77.764992
A29: Теке | B29: Июль | C29: July | D29: 119101.9 | E29: 63.131711 | F29: 1304 | G29: 54.505567 | H29: 1189 | I29: 53.713204 | J29: 1210.7 | K29: 35 | N29: 23941.2 | O29: 47.550232 | R29: 5114.5 | S29: 44.531522 | V29: 29679.1 | W29: 70.985423 | Z29: 56663.4 | AA29: 68.274757
A30: Баш оона | B30: Август | C30: August | D30: 120063.2 | E30: 61.502382 | F30: 7574 | G30: 50.329067 | H30: 571 | I30: 20.164623 | J30: 7448.7 | K30: 33.981916 | N30: 13714 | O30: 48.554772 | R30: 950 | S30: 61.83 | V30: 21438.5 | W30: 67.693208 | Z30: 68367 | AA30: 66.735238
A31: Аяк оона | B31: Сентябрь | C31: September | D31: 177335.6 | E31: 55.641614 | F31: 2280 | G31: 43.225789 | H31: 4500 | I31: 60 | J31: 5535.8 | K31: 32.828498 | N31: 40596.1 | O31: 47.082914 | R31: 1888.9 | S31: 28.003451 | V31: 24976.3 | W31: 59.721053 | Z31: 97558.5 | AA31: 60.076061
A32: Тогуздун айы | B32: Октябрь | C32: October | D32: 143930.1 | E32: 55.845151 | F32: 5058.5 | G32: 56.811728 | H32: 540 | I32: 68.24 | J32: 2090.3 | K32: 38.751351 | N32: 22563 | O32: 44.284452 | R32: 572 | S32: 41.311189 | V32: 20540.7 | W32: 55.908678 | Z32: 92565.6 | AA32: 59.000692
A33: Жетинин айы | B33: Ноябрь | C33: November | D33: 182181.1 | E33: 52.033916 | F33: 9316.2 | G33: 49.170555 | H33: 17 | I33: 15 | J33: 12658.9 | K33: 44.099241 | N33: 63975.6 | O33: 43.759084 | R33: 696 | S33: 32.791667 | V33: 23703.4 | W33: 57.005439 | Z33: 71814 | AA33: 59.727952
A34: Бештин айы | B34: Декабрь | C34: December | D34: 320566.6 | E34: 43.750549 | F34: 17079.5 | G34: 44.783766 | H34: 1134 | I34: 32.636684 | J34: 22692 | K34: 36.046915 | N34: 49244.4 | O34: 44.792202 | P34: 1481.1 | Q34: 40 | R34: 4501 | S34: 46.118085 | V34: 74102.9 | W34: 37.155862 | Z34: 150331.7 | AA34: 47.754201
A35: Үчтүн айы 1998 ж. | B35: Январь 1998 г. | C35: January 1998 | D35: 241890.4 | E35: 45.119276 | F35: 7517 | G35: 47.16 | H35: 100 | I35: 60 | J35: 13704 | K35: 38.069396 | N35: 49910.4 | O35: 38.903795 | R35: 849.9 | S35: 35.284857 | V35: 34460.8 | W35: 46.160872 | Z35: 135348.3 | AA35: 47.79864
A36: Бирдин айы | B36: Февраль | C36: February | D36: 230325.5 | E36: 43.6295 | F36: 5586 | G36: 49.814386 | H36: 5075 | I36: 30.472867 | J36: 14545.9 | K36: 37.59568 | N36: 43097.8 | O36: 36.665982 | P36: 1324.4 | Q36: 40 | R36: 3491.2 | S36: 42.593564 | V36: 35778.2 | W36: 45.864267 | Z36: 121427 | AA36: 46.500623
A37: Жалган куран | B37: Март | C37: March | D37: 314207.4 | E37: 51.271368 | F37: 9944 | G37: 35.548697 | H37: 581 | I37: 46.700516 | J37: 8103 | K37: 37.435073 | L37: 1248.1 | M37: 55 | N37: 36740.3 | O37: 41.066676 | R37: 7449 | S37: 29.40245 | V37: 63479.4 | W37: 43.888517 | Z37: 186662.6 | AA37: 58.092219
A38: Чын куран | B38: Апрель | C38: April | D38: 319374.7 | E38: 42.645025 | F38: 13099.2 | G38: 44.857961 | H38: 1130.6 | I38: 39.420838 | J38: 7414 | K38: 45.734634 | N38: 64939.4 | O38: 40.078238 | R38: 16990.3 | S38: 27.463882 | V38: 38882 | W38: 43.079252 | Z38: 176919.2 | AA38: 44.677072
A39: Бугу | B39: Май | C39: May | D39: 451460.7 | E39: 51.468943 | F39: 33339.3 | G39: 55.644846 | H39: 595.5 | I39: 49.081612 | J39: 90 | K39: 65.56 | L39: 996 | M39: 40 | N39: 291370.5 | O39: 56.596699 | P39: 1805 | Q39: 40 | R39: 12662.8 | S39: 20.310514 | V39: 46719 | W39: 48.649305 | Z39: 63882.6 | AA39: 34.65899
A40: Кулжа | B40: Июнь | C40: June | D40: 182816.4 | E40: 42.432046 | F40: 15643.5 | G40: 41.611697 | H40: 175 | I40: 60 | J40: 2226 | K40: 57.86 | N40: 101548.7 | O40: 44.076367 | P40: 3218.7 | Q40: 44.905344 | R40: 6415.9 | S40: 22.968126 | V40: 26819 | W40: 45.534789 | Z40: 26769.6 | AA40: 36.535816
A41: Теке | B41: Июль | C41: July | D41: 215605.9 | E41: 44.843237 | F41: 23493.2 | G41: 47.103236 | H41: 1869.1 | I41: 36.77 | J41: 7328.2 | K41: 32.729183 | L41: 1948.1 | M41: 40 | N41: 93820 | O41: 48.296639 | P41: 3325 | Q41: 36 | R41: 14169.8 | S41: 24.015724 | V41: 40383.5 | W41: 47.664631 | Z41: 29269 | AA41: 43.027824
A42: Баш оона | B42: Август | C42: August | D42: 154691.3 | E42: 45.967958 | F42: 1045.1 | G42: 51.494967 | H42: 3320 | I42: 64.97 | J42: 1321 | K42: 65.059803 | L42: 1587 | M42: 50 | N42: 53128.1 | O42: 48.818932 | R42: 1119.1 | S42: 41.145117 | V42: 45888.9 | W42: 42.006255 | Z42: 47282.1 | AA42: 44.598564
...

Sheet 3. отрасли_нац вал
A2: 3-таблица. Тармактар боюнча коммерциялык банктар тарабынан улуттук валютадагы берилген кредиттер жана кредиттердин орточо салмактанып алынган пайыздык чендери (бир мезгил ичинде) | B2: Таблица 3. Общий объем и средневзвешенные процентные ставки по выданным кредитам в разрезе отраслей в национальной валюте (за период) | C2: Table 3. Total volume and average weighted interest rates of newly issued credits by sectors in National currency (for the period)
A4: (миң сом / пайыздар) | B4: (тыс. сомов / проценты) | C4: (ths of soms / percent)
A5: Мезгил аралыгы | B5: Период | C5: Period | D5: Жалпы улуттук валютада | F5: Өнөр жайы | H5: Айыл чарбасы | J5: Транспорт | L5: Байланыш | N5: Cоода | P5: Даярдоо жана кайра иштетүү ишканалары | R5: Курулуш | T5: Ипотека | V5: Керектөө кредиттери | X5: Социалдык кызмат көрсөтүүлөр | Z5: Жана башкалаp | AC5: Керектөө кредиттерин эске албагандагы орточо салмактанып алынган чендер
D6: Итого в нац. валюте | F6: Промышленность | H6: Сельское хоз-во | J6: Транспорт | L6: Связь | N6: Торговля и коммерческие операции | P6: Заготовка и переработка | R6: Строительство | T6: Ипотека | V6: Потребительские кредиты | X6: Социальные услуги | Z6: Прочие
D7: Total in National currency | F7: Industry | H7: Agriculture | J7: Transport | L7: Communication | N7: Trade | P7: Procurement and processing | R7: Construction | T7: Mortgage | V7: Consumer loans | X7: Social services | Z7: Others | AC7: Средневзв. ставка без учета потребительских кредитов
D8: көлөм | E8: орточо салмактанып алынган чендер | F8: көлөм | G8: орточо салмактанып алынган чендер | H8: көлөм | I8: орточо салмактанып алынган чендер | J8: көлөм | K8: орточо салмактанып алынган чендер | L8: көлөм | M8: орточо салмактанып алынган чендер | N8: көлөм | O8: орточо салмактанып алынган чендер | P8: көлөм | Q8: орточо салмактанып алынган чендер | R8: көлөм | S8: орточо салмактанып алынган чендер | T8: көлөм | U8: орточо салмактанып алынган чендер | V8: көлөм | W8: орточо салмактанып алынган чендер | X8: көлөм | Y8: орточо салмактанып алынган чендер | Z8: көлөм | AA8: орточо салмактанып алынган чендер
D9: объем | E9: средневзв. ставка | F9: объем | G9: средневзв. ставка | H9: объем | I9: средневзв. ставка | J9: объем | K9: средневзв. ставка | L9: объем | M9: средневзв. ставка | N9: объем | O9: средневзв. ставка | P9: объем | Q9: средневзв. ставка | R9: объем | S9: средневзв. ставка | T9: объем | U9: средневзв. ставка | V9: объем | W9: средневзв. ставка | X9: объем | Y9: средневзв. ставка | Z9: объем | AA9: средневзв. ставка | AC9: Average weighted interest rate excluding consumer loans
D10: volume | E10: average weighted interest rate | F10: volume | G10: average weighted interest rate | H10: volume | I10: average weighted interest rate | J10: volume | K10: average weighted interest rate | L10: volume | M10: average weighted interest rate | N10: volume | O10: average weighted interest rate | P10: volume | Q10: average weighted interest rate | R10: volume | S10: average weighted interest rate | T10: volume | U10: average weighted interest rate | V10: volume | W10: average weighted interest rate | X10: volume | Y10: average weighted interest rate | Z10: volume | AA10: average weighted interest rate
A11: Үчтүн айы 1996 ж. | B11: Январь 1996 г. | C11: January 1996 | D11: 43517 | E11: 60.784077 | F11: 3862 | G11: 36.193682 | H11: 310 | I11: 75 | J11: 1247 | K11: 64.073777 | L11: 13 | M11: 31 | N11: 12625 | O11: 50.228911 | P11: 72 | Q11: 110 | R11: 515 | S11: 68.462136 | V11: 2955 | W11: 81.825719 | Z11: 21918 | AA11: 67.647354 | AC11: =(F11*G11+H11*I11+J11*K11+L11*M11+N11*O11+P11*Q11+R11*S11+T11*U11+X11*Y11+Z11*AA11)/(F11+H11+J11+L11+N11+P11+R11+T11+X11+Z11) -> 59.251164
A12: Бирдин айы | B12: Февраль | C12: February | D12: 31668.5 | E12: 56.695688 | F12: 4964 | G12: 58.277438 | H12: 2598 | I12: 30.333333 | J12: 100 | K12: 70 | N12: 14105 | O12: 48.472045 | R12: 368 | S12: 74.375 | V12: 2690.5 | W12: 85.944062 | Z12: 6843 | AA12: 69.862853 | AC12: =(F12*G12+H12*I12+J12*K12+L12*M12+N12*O12+P12*Q12+R12*S12+T12*U12+X12*Y12+Z12*AA12)/(F12+H12+J12+L12+N12+P12+R12+T12+X12+Z12) -> 53.980085
A13: Жалган куран | B13: Март | C13: March | D13: 24563.6 | E13: 60.693621 | F13: 4367 | G13: 65.316922 | H13: 2534 | I13: 24.746646 | J13: 70 | K13: 80 | N13: 4020 | O13: 55.64796 | R13: 505 | S13: 83.772277 | V13: 2178.6 | W13: 64.974406 | Z13: 10889 | AA13: 67.016604 | AC13: =(F13*G13+H13*I13+J13*K13+L13*M13+N13*O13+P13*Q13+R13*S13+T13*U13+X13*Y13+Z13*AA13)/(F13+H13+J13+L13+N13+P13+R13+T13+X13+Z13) -> 60.276998
A14: Чын куран | B14: Апрель | C14: April | D14: 43700.8 | E14: 60.489318 | F14: 6539 | G14: 57.899679 | H14: 395 | I14: 65.063291 | J14: 250 | K14: 62 | L14: 350 | M14: 65 | N14: 20177.8 | O14: 53.544668 | P14: 50 | Q14: 50 | R14: 938 | S14: 83.679104 | V14: 2237 | W14: 60.251453 | Z14: 12764 | AA14: 70.878134 | AC14: =(F14*G14+H14*I14+J14*K14+L14*M14+N14*O14+P14*Q14+R14*S14+T14*U14+X14*Y14+Z14*AA14)/(F14+H14+J14+L14+N14+P14+R14+T14+X14+Z14) -> 60.502151
A15: Бугу | B15: Май | C15: May | D15: 33541.3 | E15: 62.499518 | F15: 1400 | G15: 63.607143 | H15: 610 | I15: 63.278689 | J15: 140 | K15: 70 | L15: 30 | M15: 60 | N15: 15196.5 | O15: 62.439404 | P15: 100 | Q15: 55 | R15: 1220 | S15: 56.318443 | V15: 3813 | W15: 67.438662 | Z15: 11031.8 | AA15: 61.35468 | AC15: =(F15*G15+H15*I15+J15*K15+L15*M15+N15*O15+P15*Q15+R15*S15+T15*U15+X15*Y15+Z15*AA15)/(F15+H15+J15+L15+N15+P15+R15+T15+X15+Z15) -> 61.866015
A16: Кулжа | B16: Июнь | C16: June | D16: 23216.8 | E16: 64.487234 | F16: 2104 | G16: 58.287072 | H16: 156 | I16: 60 | N16: 4420 | O16: 56.723891 | P16: 120 | Q16: 28 | R16: 511 | S16: 68.176125 | V16: 7203.8 | W16: 67.905155 | Z16: 8702 | AA16: 67.467071 | AC16: =(F16*G16+H16*I16+J16*K16+L16*M16+N16*O16+P16*Q16+R16*S16+T16*U16+X16*Y16+Z16*AA16)/(F16+H16+J16+L16+N16+P16+R16+T16+X16+Z16) -> 62.949607
A17: Теке | B17: Июль | C17: July | D17: 40626.1 | E17: 52.078616 | F17: 3041 | G17: 48.672805 | H17: 31 | I17: 65 | J17: 300 | K17: 60 | N17: 16769 | O17: 38.867017 | P17: 600 | Q17: 54.666667 | R17: 432 | S17: 61.070463 | V17: 6135.5 | W17: 72.77093 | Z17: 13317.6 | AA17: 59.341966 | AC17: =(F17*G17+H17*I17+J17*K17+L17*M17+N17*O17+P17*Q17+R17*S17+T17*U17+X17*Y17+Z17*AA17)/(F17+H17+J17+L17+N17+P17+R17+T17+X17+Z17) -> 48.397679
A18: Баш оона | B18: Август | C18: August | D18: 36956.8 | E18: 60.335708 | F18: 2497 | G18: 60.731678 | H18: 80 | I18: 57.5 | N18: 7178 | O18: 45.873781 | R18: 41 | S18: 67.439024 | V18: 12016.3 | W18: 67.879367 | Z18: 15144.5 | AA18: 61.135188 | AC18: =(F18*G18+H18*I18+J18*K18+L18*M18+N18*O18+P18*Q18+R18*S18+T18*U18+X18*Y18+Z18*AA18)/(F18+H18+J18+L18+N18+P18+R18+T18+X18+Z18) -> 56.701183
A19: Аяк оона | B19: Сентябрь | C19: September | D19: 25312 | E19: 54.320451 | F19: 810 | G19: 67.469136 | H19: 253 | I19: 67.628458 | N19: 7416 | O19: 41.342907 | P19: 1723 | Q19: 30 | R19: 825 | S19: 70 | V19: 4660 | W19: 77.036521 | Z19: 9625 | AA19: 54.874812 | AC19: =(F19*G19+H19*I19+J19*K19+L19*M19+N19*O19+P19*Q19+R19*S19+T19*U19+X19*Y19+Z19*AA19)/(F19+H19+J19+L19+N19+P19+R19+T19+X19+Z19) -> 49.194706
A20: Тогуздун айы | B20: Октябрь | C20: October | D20: 23207.9 | E20: 55.299174 | F20: 1401 | G20: 67.080657 | J20: 200 | K20: 70 | N20: 10750 | O20: 48.905581 | R20: 882 | S20: 31.839116 | V20: 3718.9 | W20: 73.702869 | Z20: 6256 | AA20: 55.544597 | AC20: =(F20*G20+H20*I20+J20*K20+L20*M20+N20*O20+P20*Q20+R20*S20+T20*U20+X20*Y20+Z20*AA20)/(F20+H20+J20+L20+N20+P20+R20+T20+X20+Z20) -> 51.787372
A21: Жетинин айы | B21: Ноябрь | C21: November | D21: 39599.7 | E21: 56.965545 | F21: 9844 | G21: 36.313775 | J21: 25 | K21: 65 | N21: 3718 | O21: 68.190963 | R21: 3062 | S21: 39.813651 | V21: 3496.7 | W21: 76.16261 | Z21: 19454 | AA21: 64.509073 | AC21: =(F21*G21+H21*I21+J21*K21+L21*M21+N21*O21+P21*Q21+R21*S21+T21*U21+X21*Y21+Z21*AA21)/(F21+H21+J21+L21+N21+P21+R21+T21+X21+Z21) -> 55.106243
A22: Бештин айы | B22: Декабрь | C22: December | D22: 46608.1 | E22: 58.242047 | F22: 6031 | G22: 54.391676 | H22: 1728 | I22: 14.322917 | J22: 735 | K22: 53.251701 | N22: 8799 | O22: 48.131151 | R22: 3254 | S22: 73.423479 | V22: 7823.1 | W22: 67.387813 | Z22: 18238 | AA22: 62.123992 | AC22: =(F22*G22+H22*I22+J22*K22+L22*M22+N22*O22+P22*Q22+R22*S22+T22*U22+X22*Y22+Z22*AA22)/(F22+H22+J22+L22+N22+P22+R22+T22+X22+Z22) -> 56.397307
A23: Үчтүн айы 1997 ж. | B23: Январь 1997 г. | C23: January 1997 | D23: 33550.9 | E23: 54.270492 | F23: 3620 | G23: 50.41 | H23: 140 | I23: 57 | J23: 490 | K23: 63 | N23: 15128 | O23: 46.22 | P23: 300 | Q23: 50 | R23: 191 | S23: 61.39 | V23: 4813.9 | W23: 68.76 | Z23: 8868 | AA23: 61.18 | AC23: =(F23*G23+H23*I23+J23*K23+L23*M23+N23*O23+P23*Q23+R23*S23+T23*U23+X23*Y23+Z23*AA23)/(F23+H23+J23+L23+N23+P23+R23+T23+X23+Z23) -> 51.843271
A24: Бирдин айы | B24: Февраль | C24: February | D24: 30183.4 | E24: 59.774025 | F24: 2505 | G24: 41.99 | H24: 515 | I24: 51 | J24: 1200 | K24: 62.08 | N24: 10950 | O24: 60.49 | P24: 470 | Q24: 50 | R24: 535 | S24: 65.05 | V24: 7084.4 | W24: 67.48 | Z24: 6924 | AA24: 57.7 | AC24: =(F24*G24+H24*I24+J24*K24+L24*M24+N24*O24+P24*Q24+R24*S24+T24*U24+X24*Y24+Z24*AA24)/(F24+H24+J24+L24+N24+P24+R24+T24+X24+Z24) -> 57.410624
A25: Жалган куран | B25: Март | C25: March | D25: 55023 | E25: 71.556019 | F25: 2919 | G25: 63.07 | J25: 349 | K25: 70 | N25: 12457 | O25: 66.2 | R25: 280 | S25: 55 | V25: 8013 | W25: 67.16 | Z25: 31005 | AA25: 75.81 | AC25: =(F25*G25+H25*I25+J25*K25+L25*M25+N25*O25+P25*Q25+R25*S25+T25*U25+X25*Y25+Z25*AA25)/(F25+H25+J25+L25+N25+P25+R25+T25+X25+Z25) -> 72.305335
A26: Чын куран | B26: Апрель | C26: April | D26: 31594.5 | E26: 56.778585 | F26: 3101 | G26: 60.84 | N26: 17072 | O26: 51.4 | R26: 848 | S26: 27 | V26: 5791.5 | W26: 71.16 | Z26: 4782 | AA26: 61.21 | AC26: =(F26*G26+H26*I26+J26*K26+L26*M26+N26*O26+P26*Q26+R26*S26+T26*U26+X26*Y26+Z26*AA26)/(F26+H26+J26+L26+N26+P26+R26+T26+X26+Z26) -> 53.550667
A27: Бугу | B27: Май | C27: May | D27: 67558.1 | E27: 58.885331 | F27: 3902 | G27: 64.79 | H27: 66 | I27: 0 | J27: 300 | K27: 78.3 | N27: 25369 | O27: 50.19 | R27: 1012 | S27: 60.68 | V27: 17591.1 | W27: 47.11 | Z27: 19318 | AA27: 79.64 | AC27: =(F27*G27+H27*I27+J27*K27+L27*M27+N27*O27+P27*Q27+R27*S27+T27*U27+X27*Y27+Z27*AA27)/(F27+H27+J27+L27+N27+P27+R27+T27+X27+Z27) -> 63.030888
A28: Кулжа | B28: Июнь | C28: June | D28: 80262.5 | E28: 62.678952 | F28: 8154.9 | G28: 52.26 | H28: 285 | I28: 65.96 | J28: 9427 | K28: 38.28 | N28: 18498.6 | O28: 52.61 | R28: 210 | S28: 60.24 | V28: 13267 | W28: 65.94 | Z28: 30420 | AA28: 77.72 | AC28: =(F28*G28+H28*I28+J28*K28+L28*M28+N28*O28+P28*Q28+R28*S28+T28*U28+X28*Y28+Z28*AA28)/(F28+H28+J28+L28+N28+P28+R28+T28+X28+Z28) -> 62.033172
A29: Теке | B29: Июль | C29: July | D29: 67460.7 | E29: 74.055643 | F29: 1123 | G29: 53.62 | H29: 325 | I29: 37 | N29: 9150.8 | O29: 57.65 | R29: 1313.5 | S29: 69.22 | V29: 19194 | W29: 74.42 | Z29: 36354.4 | AA29: 79.13 | AC29: =(F29*G29+H29*I29+J29*K29+L29*M29+N29*O29+P29*Q29+R29*S29+T29*U29+X29*Y29+Z29*AA29)/(F29+H29+J29+L29+N29+P29+R29+T29+X29+Z29) -> 73.910751
A30: Баш оона | B30: Август | C30: August | D30: 44586 | E30: 71.275489 | F30: 6715 | G30: 52.29 | H30: 125 | I30: 60 | J30: 500 | K30: 60 | N30: 5013 | O30: 61.25 | R30: 950 | S30: 61.83 | V30: 7891 | W30: 68.13 | Z30: 23392 | AA30: 80.62 | AC30: =(F30*G30+H30*I30+J30*K30+L30*M30+N30*O30+P30*Q30+R30*S30+T30*U30+X30*Y30+Z30*AA30)/(F30+H30+J30+L30+N30+P30+R30+T30+X30+Z30) -> 71.951905
A31: Аяк оона | B31: Сентябрь | C31: September | D31: 62881.1 | E31: 65.72869 | F31: 1720 | G31: 53.84 | N31: 18783.1 | O31: 54 | R31: 1365.9 | S31: 23.41 | V31: 13010.9 | W31: 68.27 | Z31: 28001.2 | AA31: 75.21 | AC31: =(F31*G31+H31*I31+J31*K31+L31*M31+N31*O31+P31*Q31+R31*S31+T31*U31+X31*Y31+Z31*AA31)/(F31+H31+J31+L31+N31+P31+R31+T31+X31+Z31) -> 65.065674
A32: Тогуздун айы | B32: Октябрь | C32: October | D32: 52344.1 | E32: 62.725622 | F32: 5012.5 | G32: 56.81 | H32: 540 | I32: 68.24 | J32: 795 | K32: 53.01 | N32: 2921 | O32: 60.9 | R32: 30 | S32: 65 | V32: 9696.6 | W32: 63.74 | Z32: 33349 | AA32: 63.62 | AC32: =(F32*G32+H32*I32+J32*K32+L32*M32+N32*O32+P32*Q32+R32*S32+T32*U32+X32*Y32+Z32*AA32)/(F32+H32+J32+L32+N32+P32+R32+T32+X32+Z32) -> 62.494987
A33: Жетинин айы | B33: Ноябрь | C33: November | D33: 87007.4 | E33: 58.063586 | F33: 5237 | G33: 53.56 | J33: 1950 | K33: 63.41 | N33: 31369.8 | O33: 49.75 | R33: 173 | S33: 11 | V33: 10138.6 | W33: 66.34 | Z33: 38139 | AA33: 63.26 | AC33: =(F33*G33+H33*I33+J33*K33+L33*M33+N33*O33+P33*Q33+R33*S33+T33*U33+X33*Y33+Z33*AA33)/(F33+H33+J33+L33+N33+P33+R33+T33+X33+Z33) -> 56.971969
A34: Бештин айы | B34: Декабрь | C34: December | D34: 190836 | E34: 49.935871 | F34: 13371 | G34: 46.73 | H34: 1000 | I34: 35 | J34: 3580 | K34: 53.77 | N34: 29330.4 | O34: 48.26 | R34: 2850 | S34: 51.95 | V34: 20412.9 | W34: 52.96 | Z34: 120291.7 | AA34: 50.15 | AC34: =(F34*G34+H34*I34+J34*K34+L34*M34+N34*O34+P34*Q34+R34*S34+T34*U34+X34*Y34+Z34*AA34)/(F34+H34+J34+L34+N34+P34+R34+T34+X34+Z34) -> 49.573648
A35: Үчтүн айы 1998 ж. | B35: Январь 1998 г. | C35: January 1998 | D35: 123273.8 | E35: 54.136729 | F35: 7517 | G35: 47.16 | H35: 100 | I35: 60 | J35: 7100 | K35: 51.62 | N35: 31652.2 | O35: 42.49 | R35: 580 | S35: 32.16 | V35: 10604 | W35: 55.01 | Z35: 65720.6 | AA35: 60.86 | AC35: =(F35*G35+H35*I35+J35*K35+L35*M35+N35*O35+P35*Q35+R35*S35+T35*U35+X35*Y35+Z35*AA35)/(F35+H35+J35+L35+N35+P35+R35+T35+X35+Z35) -> 54.05454
A36: Бирдин айы | B36: Февраль | C36: February | D36: 99650.6 | E36: 53.411775 | F36: 3944 | G36: 51.64 | H36: 130 | I36: 48.46 | J36: 5300 | K36: 50.94 | N36: 28086.5 | O36: 40.92 | R36: 465 | S36: 43.01 | V36: 15644.1 | W36: 51.41 | Z36: 46081 | AA36: 62.26 | AC36: =(F36*G36+H36*I36+J36*K36+L36*M36+N36*O36+P36*Q36+R36*S36+T36*U36+X36*Y36+Z36*AA36)/(F36+H36+J36+L36+N36+P36+R36+T36+X36+Z36) -> 53.784555
A37: Жалган куран | B37: Март | C37: March | D37: 98050.5 | E37: 53.728045 | F37: 2904 | G37: 49.31 | H37: 160 | I37: 57.25 | J37: 2810 | K37: 51.44 | L37: 1248.1 | M37: 55 | N37: 19646 | O37: 42.73 | R37: 1165 | S37: 45.69 | V37: 24944.3 | W37: 54.23 | Z37: 45173.1 | AA37: 58.82 | AC37: =(F37*G37+H37*I37+J37*K37+L37*M37+N37*O37+P37*Q37+R37*S37+T37*U37+X37*Y37+Z37*AA37)/(F37+H37+J37+L37+N37+P37+R37+T37+X37+Z37) -> 53.556775
A38: Чын куран | B38: Апрель | C38: April | D38: 146286.3 | E38: 49.934344 | F38: 10159 | G38: 47.8 | H38: 440 | I38: 44.09 | J38: 5421 | K38: 49.98 | N38: 34361.6 | O38: 42.66 | R38: 540 | S38: 59.58 | V38: 20937.7 | W38: 50.06 | Z38: 74427 | AA38: 53.51 | AC38: =(F38*G38+H38*I38+J38*K38+L38*M38+N38*O38+P38*Q38+R38*S38+T38*U38+X38*Y38+Z38*AA38)/(F38+H38+J38+L38+N38+P38+R38+T38+X38+Z38) -> 49.913355
A39: Бугу | B39: Май | C39: May | D39: 256366.2 | E39: 53.393707 | F39: 30812 | G39: 56.6 | H39: 595 | I39: 49.08 | J39: 90 | K39: 65.56 | N39: 159430.7 | O39: 58.76 | R39: 272 | S39: 8.09 | V39: 20345 | W39: 51.74 | Z39: 44821.5 | AA39: 33.16 | AC39: =(F39*G39+H39*I39+J39*K39+L39*M39+N39*O39+P39*Q39+R39*S39+T39*U39+X39*Y39+Z39*AA39)/(F39+H39+J39+L39+N39+P39+R39+T39+X39+Z39) -> 53.536257
A40: Кулжа | B40: Июнь | C40: June | D40: 63191.3 | E40: 47.483057 | F40: 11886 | G40: 43.53 | H40: 175 | I40: 60 | J40: 2226 | K40: 57.86 | N40: 29423.9 | O40: 46.96 | P40: 1614.4 | Q40: 49.78 | V40: 13347.9 | W40: 50.11 | Z40: 4518.1 | AA40: 47.11 | AC40: =(F40*G40+H40*I40+J40*K40+L40*M40+N40*O40+P40*Q40+R40*S40+T40*U40+X40*Y40+Z40*AA40)/(F40+H40+J40+L40+N40+P40+R40+T40+X40+Z40) -> 46.77957
A41: Теке | B41: Июль | C41: July | D41: 87066.4 | E41: 51.320958 | F41: 11692 | G41: 55.17 | H41: 1869.1 | I41: 36.77 | J41: 500 | K41: 70 | N41: 44305.4 | O41: 50.47 | P41: 3325 | Q41: 36 | R41: 50 | S41: 50 | V41: 19605.9 | W41: 53.42 | Z41: 5719 | AA41: 54.89 | AC41: =(F41*G41+H41*I41+J41*K41+L41*M41+N41*O41+P41*Q41+R41*S41+T41*U41+X41*Y41+Z41*AA41)/(F41+H41+J41+L41+N41+P41+R41+T41+X41+Z41) -> 50.710918
A42: Баш оона | B42: Август | C42: August | D42: 41579.2 | E42: 55.752096 | F42: 391 | G42: 66.39 | H42: 3320 | I42: 64.97 | J42: 1100 | K42: 69.09 | N42: 10854.7 | O42: 50.43 | R42: 155 | S42: 50 | V42: 18414 | W42: 55.56 | Z42: 7344.5 | AA42: 57.49 | AC42: =(F42*G42+H42*I42+J42*K42+L42*M42+N42*O42+P42*Q42+R42*S42+T42*U42+X42*Y42+Z42*AA42)/(F42+H42+J42+L42+N42+P42+R42+T42+X42+Z42) -> 55.904793
...

Sheet 4. отрасли_ин вал
A2: 4-таблица. Тармактар боюнча коммерциялык банктар тарабынан чет өлкө валютасындагы берилген кредиттер жана кредиттердин орточо салмактанып алынган пайыздык чендери (бир мезгил ичинде) | B2: Таблица 4. Общий объем и средневзвешенные процентные ставки по выданным кредитам в разрезе отраслей в иностранной валюте (за период) | C2: Table 4. Total volume and average weighted interest rates of newly issued credits by sectors in Foreign currency (for the period)
A4: (миң сом / пайыздар) | B4: (тыс. сомов / проценты) | C4: (ths of soms / percent)
A5: Мезгил аралыгы | B5: Период | C5: Period | D5: Жалпы чет өлкө валютасында | F5: Өнөр жайы | H5: Айыл чарбасы | J5: Транспорт | L5: Байланыш | N5: Cоода | P5: Даярдоо жана кайра иштетүү ишканалары | R5: Курулуш | T5: Ипотека | V5: Керектөө кредиттери | X5: Социалдык кызмат көрсөтүүлөр | Z5: Жана башкалаp | AC5: Керектөө кредиттерин эске албагандагы орточо салмактанып алынган чендер
D6: Итого в ин. валюте | F6: Промышленность | H6: Сельское хоз-во | J6: Транспорт | L6: Связь | N6: Торговля и коммерческие операции | P6: Заготовка и переработка | R6: Строительство | T6: Ипотека | V6: Потребительские кредиты | X6: Социальные услуги | Z6: Прочие
D7: Total in Foreign currency | F7: Industry | H7: Agriculture | J7: Transport | L7: Communication | N7: Trade | P7: Procurement and processing | R7: Construction | T7: Mortgage | V7: Consumer loans | X7: Social services | Z7: Others | AC7: Средневзв. ставка без учета потребительских кредитов
D8: көлөм | E8: орточо салмактанып алынган чендер | F8: көлөм | G8: орточо салмактанып алынган чендер | H8: көлөм | I8: орточо салмактанып алынган чендер | J8: көлөм | K8: орточо салмактанып алынган чендер | L8: көлөм | M8: орточо салмактанып алынган чендер | N8: көлөм | O8: орточо салмактанып алынган чендер | P8: көлөм | Q8: орточо салмактанып алынган чендер | R8: көлөм | S8: орточо салмактанып алынган чендер | T8: көлөм | U8: орточо салмактанып алынган чендер | V8: көлөм | W8: орточо салмактанып алынган чендер | X8: көлөм | Y8: орточо салмактанып алынган чендер | Z8: көлөм | AA8: орточо салмактанып алынган чендер
D9: объем | E9: средневзв. ставка | F9: объем | G9: средневзв. ставка | H9: объем | I9: средневзв. ставка | J9: объем | K9: средневзв. ставка | L9: объем | M9: средневзв. ставка | N9: объем | O9: средневзв. ставка | P9: объем | Q9: средневзв. ставка | R9: объем | S9: средневзв. ставка | T9: объем | U9: средневзв. ставка | V9: объем | W9: средневзв. ставка | X9: объем | Y9: средневзв. ставка | Z9: объем | AA9: средневзв. ставка | AC9: Average weighted interest rate excluding consumer loans
D10: volume | E10: average weighted interest rate | F10: volume | G10: average weighted interest rate | H10: volume | I10: average weighted interest rate | J10: volume | K10: average weighted interest rate | L10: volume | M10: average weighted interest rate | N10: volume | O10: average weighted interest rate | P10: volume | Q10: average weighted interest rate | R10: volume | S10: average weighted interest rate | T10: volume | U10: average weighted interest rate | V10: volume | W10: average weighted interest rate | X10: volume | Y10: average weighted interest rate | Z10: volume | AA10: average weighted interest rate
A11: Үчтүн айы 1996 ж. | B11: Январь 1996 г. | C11: January 1996 | D11: 10911 | E11: 49.966163 | F11: 344 | G11: 84 | N11: 4064 | O11: 44.85502 | V11: 1094 | W11: 58.951554 | Z11: 5409 | AA11: 49.824552 | AC11: =(F11*G11+H11*I11+J11*K11+L11*M11+N11*O11+P11*Q11+R11*S11+T11*U11+X11*Y11+Z11*AA11)/(F11+H11+J11+L11+N11+P11+R11+T11+X11+Z11) -> 48.964837
A12: Бирдин айы | B12: Февраль | C12: February | D12: 13985 | E12: 49.613336 | F12: 2608 | G12: 44.888804 | L12: 703 | M12: 12.31 | N12: 1368 | O12: 39 | V12: 543 | W12: 107.46041 | Z12: 8763 | AA12: 52.084398 | AC12: =(F12*G12+H12*I12+J12*K12+L12*M12+N12*O12+P12*Q12+R12*S12+T12*U12+X12*Y12+Z12*AA12)/(F12+H12+J12+L12+N12+P12+R12+T12+X12+Z12) -> 47.276559
A13: Жалган куран | B13: Март | C13: March | D13: 12542.7 | E13: 42.672551 | N13: 4367 | O13: 47.411953 | V13: 57 | W13: 40 | Z13: 8118.7 | AA13: 40.142018 | AC13: =(F13*G13+H13*I13+J13*K13+L13*M13+N13*O13+P13*Q13+R13*S13+T13*U13+X13*Y13+Z13*AA13)/(F13+H13+J13+L13+N13+P13+R13+T13+X13+Z13) -> 42.684751
A14: Чын куран | B14: Апрель | C14: April | D14: 23147.5 | E14: 52.480778 | N14: 8018 | O14: 44.190821 | V14: 267 | W14: 36.310861 | Z14: 14862.5 | AA14: 57.243519 | AC14: =(F14*G14+H14*I14+J14*K14+L14*M14+N14*O14+P14*Q14+R14*S14+T14*U14+X14*Y14+Z14*AA14)/(F14+H14+J14+L14+N14+P14+R14+T14+X14+Z14) -> 52.66947
A15: Бугу | B15: Май | C15: May | D15: 5493 | E15: 37.606226 | V15: 481 | W15: 39.407484 | Z15: 5012 | AA15: 37.43336 | AC15: =(F15*G15+H15*I15+J15*K15+L15*M15+N15*O15+P15*Q15+R15*S15+T15*U15+X15*Y15+Z15*AA15)/(F15+H15+J15+L15+N15+P15+R15+T15+X15+Z15) -> 37.43336
A16: Кулжа | B16: Июнь | C16: June | D16: 15736.8 | E16: 43.456039 | N16: 3172 | O16: 44 | V16: 6372.8 | W16: 65.688708 | Z16: 6192 | AA16: 20.295543 | AC16: =(F16*G16+H16*I16+J16*K16+L16*M16+N16*O16+P16*Q16+R16*S16+T16*U16+X16*Y16+Z16*AA16)/(F16+H16+J16+L16+N16+P16+R16+T16+X16+Z16) -> 28.325288
A17: Теке | B17: Июль | C17: July | D17: 6614 | E17: 26.538403 | L17: 2296 | M17: 9 | N17: 1403 | O17: 35 | V17: 1213 | W17: 35.525144 | Z17: 1702 | AA17: 36.817861 | AC17: =(F17*G17+H17*I17+J17*K17+L17*M17+N17*O17+P17*Q17+R17*S17+T17*U17+X17*Y17+Z17*AA17)/(F17+H17+J17+L17+N17+P17+R17+T17+X17+Z17) -> 24.520089
A18: Баш оона | B18: Август | C18: August | D18: 20176.6 | E18: 46.987728 | F18: 559 | G18: 9 | J18: 3038 | K18: 9 | L18: 590.1 | M18: 13 | N18: 4903 | O18: 42 | V18: 7955 | W18: 61.15624 | Z18: 3131.5 | AA18: 68.843813 | AC18: =(F18*G18+H18*I18+J18*K18+L18*M18+N18*O18+P18*Q18+R18*S18+T18*U18+X18*Y18+Z18*AA18)/(F18+H18+J18+L18+N18+P18+R18+T18+X18+Z18) -> 37.765489
A19: Аяк оона | B19: Сентябрь | C19: September | D19: 29758.4 | E19: 66.576444 | F19: 549 | G19: 9 | N19: 8096 | O19: 40.369936 | V19: 19322 | W19: 80.605292 | Z19: 1791.4 | AA19: 51.343642 | AC19: =(F19*G19+H19*I19+J19*K19+L19*M19+N19*O19+P19*Q19+R19*S19+T19*U19+X19*Y19+Z19*AA19)/(F19+H19+J19+L19+N19+P19+R19+T19+X19+Z19) -> 40.603369
A20: Тогуздун айы | B20: Октябрь | C20: October | D20: 27620.9 | E20: 65.984924 | F20: 1128.4 | G20: 20.136476 | N20: 7254 | O20: 35.488282 | V20: 15918.5 | W20: 86.316236 | Z20: 3320 | AA20: 50.718072 | AC20: =(F20*G20+H20*I20+J20*K20+L20*M20+N20*O20+P20*Q20+R20*S20+T20*U20+X20*Y20+Z20*AA20)/(F20+H20+J20+L20+N20+P20+R20+T20+X20+Z20) -> 38.328719
A21: Жетинин айы | B21: Ноябрь | C21: November | D21: 18642 | E21: 44.004362 | F21: 1040 | G21: 60 | N21: 10703 | O21: 43.334579 | V21: 1159 | W21: 27.515962 | Z21: 5740 | AA21: 45.684376 | AC21: =(F21*G21+H21*I21+J21*K21+L21*M21+N21*O21+P21*Q21+R21*S21+T21*U21+X21*Y21+Z21*AA21)/(F21+H21+J21+L21+N21+P21+R21+T21+X21+Z21) -> 45.097427
A22: Бештин айы | B22: Декабрь | C22: December | D22: 18996 | E22: 37.17844 | N22: 4931 | O22: 40.289191 | V22: 2646 | W22: 59.319444 | Z22: 11419 | AA22: 30.70465 | AC22: =(F22*G22+H22*I22+J22*K22+L22*M22+N22*O22+P22*Q22+R22*S22+T22*U22+X22*Y22+Z22*AA22)/(F22+H22+J22+L22+N22+P22+R22+T22+X22+Z22) -> 33.595254
A23: Үчтүн айы 1997 ж. | B23: Январь 1997 г. | C23: January 1997 | D23: 22149.2 | E23: 43.520511 | F23: 1577.8 | G23: 60 | J23: 2323 | K23: 9 | N23: 10390 | O23: 41.052743 | V23: 1200.4 | W23: 53.564645 | Z23: 6658 | AA23: 53.699685 | AC23: =(F23*G23+H23*I23+J23*K23+L23*M23+N23*O23+P23*Q23+R23*S23+T23*U23+X23*Y23+Z23*AA23)/(F23+H23+J23+L23+N23+P23+R23+T23+X23+Z23) -> 42.944966
A24: Бирдин айы | B24: Февраль | C24: February | D24: 22336.5 | E24: 54.02863 | F24: 2185 | G24: 9 | N24: 5275 | O24: 41.148246 | V24: 14746.5 | W24: 65.299461 | Z24: 130 | AA24: 55 | AC24: =(F24*G24+H24*I24+J24*K24+L24*M24+N24*O24+P24*Q24+R24*S24+T24*U24+X24*Y24+Z24*AA24)/(F24+H24+J24+L24+N24+P24+R24+T24+X24+Z24) -> 32.130698
A25: Жалган куран | B25: Март | C25: March | D25: 43729 | E25: 54.114561 | F25: 608 | G25: 12.690789 | N25: 19175 | O25: 45.117757 | R25: 714 | S25: 41 | V25: 16958 | W25: 72.857059 | Z25: 6274 | AA25: 36.458822 | AC25: =(F25*G25+H25*I25+J25*K25+L25*M25+N25*O25+P25*Q25+R25*S25+T25*U25+X25*Y25+Z25*AA25)/(F25+H25+J25+L25+N25+P25+R25+T25+X25+Z25) -> 42.242189
A26: Чын куран | B26: Апрель | C26: April | D26: 27078 | E26: 59.01516 | F26: 1319 | G26: 9 | N26: 2601 | O26: 40.215302 | R26: 713 | S26: 48 | V26: 9808 | W26: 47.619953 | Z26: 12637 | AA26: 77.570705 | AC26: =(F26*G26+H26*I26+J26*K26+L26*M26+N26*O26+P26*Q26+R26*S26+T26*U26+X26*Y26+Z26*AA26)/(F26+H26+J26+L26+N26+P26+R26+T26+X26+Z26) -> 65.48674
A27: Бугу | B27: Май | C27: May | D27: 50926.8 | E27: 41.274831 | F27: 2372 | G27: 45.956998 | J27: 4073.9 | K27: 33.337306 | N27: 12231 | O27: 42.494416 | R27: 1595 | S27: 48 | V27: 6190 | W27: 53.123732 | Z27: 24464.9 | AA27: 38.096501 | AC27: =(F27*G27+H27*I27+J27*K27+L27*M27+N27*O27+P27*Q27+R27*S27+T27*U27+X27*Y27+Z27*AA27)/(F27+H27+J27+L27+N27+P27+R27+T27+X27+Z27) -> 39.635359
A28: Кулжа | B28: Июнь | C28: June | D28: 30621 | E28: 61.810824 | F28: 6127 | G28: 24.262788 | N28: 521 | O28: 60 | R28: 173 | S28: 42 | V28: 6141 | W28: 53.884465 | Z28: 17659 | AA28: 77.842496 | AC28: =(F28*G28+H28*I28+J28*K28+L28*M28+N28*O28+P28*Q28+R28*S28+T28*U28+X28*Y28+Z28*AA28)/(F28+H28+J28+L28+N28+P28+R28+T28+X28+Z28) -> 63.799213
A29: Теке | B29: Июль | C29: July | D29: 51641.2 | E29: 48.858251 | F29: 181 | G29: 60 | H29: 864 | I29: 60 | J29: 1210.7 | K29: 35 | N29: 14790.4 | O29: 41.30152 | R29: 3801 | S29: 36 | V29: 10485.1 | W29: 64.698095 | Z29: 20309 | AA29: 48.843182 | AC29: =(F29*G29+H29*I29+J29*K29+L29*M29+N29*O29+P29*Q29+R29*S29+T29*U29+X29*Y29+Z29*AA29)/(F29+H29+J29+L29+N29+P29+R29+T29+X29+Z29) -> 44.822826
A30: Баш оона | B30: Август | C30: August | D30: 75477.2 | E30: 55.729227 | F30: 859 | G30: 35 | H30: 446 | I30: 9 | J30: 6948.7 | K30: 32.109762 | N30: 8701 | O30: 41.240536 | V30: 13547.5 | W30: 67.438789 | Z30: 44975 | AA30: 59.513619 | AC30: =(F30*G30+H30*I30+J30*K30+L30*M30+N30*O30+P30*Q30+R30*S30+T30*U30+X30*Y30+Z30*AA30)/(F30+H30+J30+L30+N30+P30+R30+T30+X30+Z30) -> 53.167689
A31: Аяк оона | B31: Сентябрь | C31: September | D31: 114454.5 | E31: 50.098636 | F31: 560 | G31: 10.625 | H31: 4500 | I31: 60 | J31: 5535.8 | K31: 32.828498 | N31: 21813 | O31: 41.126635 | R31: 523 | S31: 40 | V31: 11965.4 | W31: 50.425126 | Z31: 69557.3 | AA31: 53.983697 | AC31: =(F31*G31+H31*I31+J31*K31+L31*M31+N31*O31+P31*Q31+R31*S31+T31*U31+X31*Y31+Z31*AA31)/(F31+H31+J31+L31+N31+P31+R31+T31+X31+Z31) -> 50.060519
A32: Тогуздун айы | B32: Октябрь | C32: October | D32: 91586 | E32: 51.913779 | F32: 46 | G32: 57 | J32: 1295.3 | K32: 30 | N32: 19642 | O32: 41.813522 | R32: 542 | S32: 40 | V32: 10844.1 | W32: 48.90605 | Z32: 59216.6 | AA32: 56.399237 | AC32: =(F32*G32+H32*I32+J32*K32+L32*M32+N32*O32+P32*Q32+R32*S32+T32*U32+X32*Y32+Z32*AA32)/(F32+H32+J32+L32+N32+P32+R32+T32+X32+Z32) -> 52.317734
A33: Жетинин айы | B33: Ноябрь | C33: November | D33: 95173.7 | E33: 46.520062 | F33: 4079.2 | G33: 43.535252 | H33: 17 | I33: 15 | J33: 10708.9 | K33: 40.582916 | N33: 32605.8 | O33: 37.995267 | R33: 523 | S33: 40 | V33: 13564.8 | W33: 50.028603 | Z33: 33675 | AA33: 55.727691 | AC33: =(F33*G33+H33*I33+J33*K33+L33*M33+N33*O33+P33*Q33+R33*S33+T33*U33+X33*Y33+Z33*AA33)/(F33+H33+J33+L33+N33+P33+R33+T33+X33+Z33) -> 45.936883
A34: Бештин айы | B34: Декабрь | C34: December | D34: 129730.6 | E34: 34.650444 | F34: 3708.5 | G34: 37.766617 | H34: 134 | I34: 15 | J34: 19112 | K34: 32.727082 | N34: 19914 | O34: 39.684644 | P34: 1481.1 | Q34: 40 | R34: 1651 | S34: 36.050878 | V34: 53690 | W34: 31.14714 | Z34: 30040 | AA34: 38.160499 | AC34: =(F34*G34+H34*I34+J34*K34+L34*M34+N34*O34+P34*Q34+R34*S34+T34*U34+X34*Y34+Z34*AA34)/(F34+H34+J34+L34+N34+P34+R34+T34+X34+Z34) -> 37.124022
A35: Үчтүн айы 1998 ж. | B35: Январь 1998 г. | C35: January 1998 | D35: 118616.6 | E35: 35.749316 | J35: 6604 | K35: 23.50106 | N35: 18258.2 | O35: 32.686793 | R35: 269.9 | S35: 42 | V35: 23856.8 | W35: 42.227564 | Z35: 69627.7 | AA35: 35.470207 | AC35: =(F35*G35+H35*I35+J35*K35+L35*M35+N35*O35+P35*Q35+R35*S35+T35*U35+X35*Y35+Z35*AA35)/(F35+H35+J35+L35+N35+P35+R35+T35+X35+Z35) -> 34.118347
A36: Бирдин айы | B36: Февраль | C36: February | D36: 130674.9 | E36: 36.170179 | F36: 1642 | G36: 45.429354 | H36: 4945 | I36: 30 | J36: 9245.9 | K36: 29.946355 | N36: 15011.3 | O36: 28.706614 | P36: 1324.4 | Q36: 40 | R36: 3026.2 | S36: 42.529575 | V36: 20134.1 | W36: 41.555258 | Z36: 75346 | AA36: 36.862317 | AC36: =(F36*G36+H36*I36+J36*K36+L36*M36+N36*O36+P36*Q36+R36*S36+T36*U36+X36*Y36+Z36*AA36)/(F36+H36+J36+L36+N36+P36+R36+T36+X36+Z36) -> 35.18933
A37: Жалган куран | B37: Март | C37: March | D37: 216156.9 | E37: 50.158157 | F37: 7040 | G37: 29.872159 | H37: 421 | I37: 42.691211 | J37: 5293 | K37: 30 | N37: 17094.3 | O37: 39.155065 | R37: 6284 | S37: 26.382877 | V37: 38535.1 | W37: 37.194333 | Z37: 141489.5 | AA37: 57.859862 | AC37: =(F37*G37+H37*I37+J37*K37+L37*M37+N37*O37+P37*Q37+R37*S37+T37*U37+X37*Y37+Z37*AA37)/(F37+H37+J37+L37+N37+P37+R37+T37+X37+Z37) -> 52.970662
A38: Чын куран | B38: Апрель | C38: April | D38: 173088.4 | E38: 36.484562 | F38: 2940.2 | G38: 34.692606 | H38: 690.6 | I38: 36.445989 | J38: 1993 | K38: 34.187155 | N38: 30577.8 | O38: 37.177001 | R38: 16450.3 | S38: 26.409634 | V38: 17944.3 | W38: 34.934002 | Z38: 102492.2 | AA38: 38.262845 | AC38: =(F38*G38+H38*I38+J38*K38+L38*M38+N38*O38+P38*Q38+R38*S38+T38*U38+X38*Y38+Z38*AA38)/(F38+H38+J38+L38+N38+P38+R38+T38+X38+Z38) -> 36.663903
A39: Бугу | B39: Май | C39: May | D39: 195094.5 | E39: 48.944161 | F39: 2527.3 | G39: 43.999921 | H39: 0.5 | I39: 51 | L39: 996 | M39: 40 | N39: 131939.8 | O39: 53.982653 | P39: 1805 | Q39: 40 | R39: 12390.8 | S39: 20.578776 | V39: 26374 | W39: 46.265132 | Z39: 19061.1 | AA39: 38.183813 | AC39: =(F39*G39+H39*I39+J39*K39+L39*M39+N39*O39+P39*Q39+R39*S39+T39*U39+X39*Y39+Z39*AA39)/(F39+H39+J39+L39+N39+P39+R39+T39+X39+Z39) -> 49.36294
A40: Кулжа | B40: Июнь | C40: June | D40: 119625.1 | E40: 39.764024 | F40: 3757.5 | G40: 35.54358 | N40: 72124.8 | O40: 42.899965 | P40: 1604.3 | Q40: 40 | R40: 6415.9 | S40: 22.968126 | V40: 13471.1 | W40: 41.001421 | Z40: 22251.5 | AA40: 34.38876 | AC40: =(F40*G40+H40*I40+J40*K40+L40*M40+N40*O40+P40*Q40+R40*S40+T40*U40+X40*Y40+Z40*AA40)/(F40+H40+J40+L40+N40+P40+R40+T40+X40+Z40) -> 39.606996
A41: Теке | B41: Июль | C41: July | D41: 128539.5 | E41: 40.456094 | F41: 11801.2 | G41: 39.111116 | J41: 6828.2 | K41: 30 | L41: 1948.1 | M41: 40 | N41: 49514.6 | O41: 46.351926 | R41: 14119.8 | S41: 23.92371 | V41: 20777.6 | W41: 42.233821 | Z41: 23550 | AA41: 40.147154 | AC41: =(F41*G41+H41*I41+J41*K41+L41*M41+N41*O41+P41*Q41+R41*S41+T41*U41+X41*Y41+Z41*AA41)/(F41+H41+J41+L41+N41+P41+R41+T41+X41+Z41) -> 40.11333
A42: Баш оона | B42: Август | C42: August | D42: 113112.1 | E42: 42.37143 | F42: 654.1 | G42: 42.591194 | J42: 221 | K42: 45 | L42: 1587 | M42: 50 | N42: 42273.4 | O42: 48.405252 | R42: 964.1 | S42: 39.721502 | V42: 27474.9 | W42: 32.922376 | Z42: 39937.6 | AA42: 42.227837 | AC42: =(F42*G42+H42*I42+J42*K42+L42*M42+N42*O42+P42*Q42+R42*S42+T42*U42+X42*Y42+Z42*AA42)/(F42+H42+J42+L42+N42+P42+R42+T42+X42+Z42) -> 45.402961
...

Sheet 5. сроки_общ
A2: 5-таблица. Мөөнөттөр боюнча коммерциялык банктар тарабынан берилген кредиттер жана кредиттердин орточо салмактанып алынган пайыздык чендери (бир мезгил ичинде) | B2: Таблица 5. Общий объем и средневзвешенные процентные ставки по выданным кредитам в разрезе срочностей (за период) | C2: Table 5. Total volume and average weighted interest rates of newly issued credits by maturity (for the period)
A4: (миң сом / пайыздар) | B4: (тыс. сомов / проценты) | C4: (ths of soms / percent)
A5: Мезгил аралыгы | B5: Период | C5: Period | D5: Жалпы улуттук валютада жана чет өлкө валютасында | F5: 0 - 1 айга | H5: 1 - 3 айга | J5: 3 - 6 айга | L5: 6 - 12 айга | N5: 1 - 3 жыл | P5: 3 жылдан ашкан мөөнөткө | S5: Кыска мөөнөттү кредиттер | U5: Узак мөөнөттү кредиттер
D6: Итого в нац. и ин. валюте | F6: 0 - 1 месяца | H6: 1 - 3 месяца | J6: 3 - 6 месяцев | L6: 6 - 12 месяцев | N6: 1 - 3 года | P6: более 3 лет | S6: Краткосрочные кредиты | U6: Долгосрочные кредиты
D7: Total in National and Foreign currencies | F7: 0 - 1 month | H7: 1 - 3 months | J7: 3 - 6 months | L7: 6 - 12 months | N7: 1 - 3 years | P7: more than 3 years | S7: Short-maturity credits | U7: Long-maturity credits
D8: көлөм | E8: орточо салмактанып алынган чендер | F8: көлөм | G8: орточо салмактанып алынган чендер | H8: көлөм | I8: орточо салмактанып алынган чендер | J8: көлөм | K8: орточо салмактанып алынган чендер | L8: көлөм | M8: орточо салмактанып алынган чендер | N8: көлөм | O8: орточо салмактанып алынган чендер | P8: көлөм | Q8: орточо салмактанып алынган чендер | S8: көлөм | T8: орточо салмактанып алынган чендер | U8: көлөм | V8: орточо салмактанып алынган чендер
D9: объем | E9: средневзв. ставка | F9: объем | G9: средневзв. ставка | H9: объем | I9: средневзв. ставка | J9: объем | K9: средневзв. ставка | L9: объем | M9: средневзв. ставка | N9: объем | O9: средневзв. ставка | P9: объем | Q9: средневзв. ставка | S9: объем | T9: средневзв. ставка | U9: объем | V9: средневзв. ставка
D10: volume | E10: average weighted interest rate | F10: volume | G10: average weighted interest rate | H10: volume | I10: average weighted interest rate | J10: volume | K10: average weighted interest rate | L10: volume | M10: average weighted interest rate | N10: volume | O10: average weighted interest rate | P10: volume | Q10: average weighted interest rate | S10: volume | T10: average weighted interest rate | U10: volume | V10: average weighted interest rate
A11: Үчтүн айы 1996 ж. | B11: Январь 1996 г. | C11: January 1996 | D11: 54428 | E11: 58.615446 | F11: 5214 | G11: 62.754402 | H11: 25128 | I11: 59.117249 | J11: 21999 | K11: 58.34691 | L11: 2039 | M11: 45.58332 | N11: 48 | O11: 21 | S11: =F11+H11+J11+L11 -> 54380 | T11: =(F11*G11+H11*I11+J11*K11+L11*M11)/(F11+H11+J11+L11) -> 58.646888 | U11: =N11+P11 -> 48 | V11: =(N11*O11+P11*Q11)/(N11+P11) -> 21
A12: Бирдин айы | B12: Февраль | C12: February | D12: 45653.5 | E12: 54.526157 | F12: 2410 | G12: 67.862971 | H12: 16471.5 | I12: 66.958202 | J12: 20600 | K12: 47.57367 | L12: 3417 | M12: 57.432136 | N12: 2730 | O12: 16.900139 | P12: 25 | Q12: 20 | S12: =F12+H12+J12+L12 -> 42898.5 | T12: =(F12*G12+H12*I12+J12*K12+L12*M12)/(F12+H12+J12+L12) -> 56.941735 | U12: =N12+P12 -> 2755 | V12: =(N12*O12+P12*Q12)/(N12+P12) -> 16.928269
A13: Жалган куран | B13: Март | C13: March | D13: 37106.3 | E13: 54.602125 | F13: 7260.8 | G13: 36.341827 | H13: 15767.8 | I13: 66.813898 | J13: 7169.7 | K13: 53.259919 | L13: 4197 | M13: 64.62 | N13: 2711 | O13: 20.53 | S13: =F13+H13+J13+L13 -> 34395.3 | T13: =(F13*G13+H13*I13+J13*K13+L13*M13)/(F13+H13+J13+L13) -> 57.288254 | U13: =N13+P13 -> 2711 | V13: =(N13*O13+P13*Q13)/(N13+P13) -> 20.53
A14: Чын куран | B14: Апрель | C14: April | D14: 66848.3 | E14: 57.716208 | F14: 6633 | G14: 42.492468 | H14: 11236.5 | I14: 65.100391 | J14: 44089 | K14: 60.744169 | L14: 4251.8 | M14: 34.33869 | N14: 558 | O14: 34.24 | P14: 80 | Q14: 20 | S14: =F14+H14+J14+L14 -> 66210.3 | T14: =(F14*G14+H14*I14+J14*K14+L14*M14)/(F14+H14+J14+L14) -> 57.95932 | U14: =N14+P14 -> 638 | V14: =(N14*O14+P14*Q14)/(N14+P14) -> 32.45442
A15: Бугу | B15: Май | C15: May | D15: 39034.3 | E15: 58.996474 | F15: 7871.8 | G15: 62.221238 | H15: 17059.5 | I15: 60.575528 | J15: 11821 | K15: 56.420655 | L15: 2026 | M15: 47.43 | N15: 256 | O15: 65 | S15: =F15+H15+J15+L15 -> 38778.3 | T15: =(F15*G15+H15*I15+J15*K15+L15*M15)/(F15+H15+J15+L15) -> 58.956249 | U15: =N15+P15 -> 256 | V15: =(N15*O15+P15*Q15)/(N15+P15) -> 65
A16: Кулжа | B16: Июнь | C16: June | D16: 38953.6 | E16: 55.990876 | F16: 2629 | G16: 68.55 | H16: 25029.4 | I16: 55.869996 | J16: 9022.2 | K16: 59.310565 | L16: 510 | M16: 12.35 | N16: 1683 | O16: 35.324522 | P16: 80 | Q16: 20 | S16: =F16+H16+J16+L16 -> 37190.6 | T16: =(F16*G16+H16*I16+J16*K16+L16*M16)/(F16+H16+J16+L16) -> 57.004208 | U16: =N16+P16 -> 1763 | V16: =(N16*O16+P16*Q16)/(N16+P16) -> 34.629138
A17: Теке | B17: Июль | C17: July | D17: 47240.1 | E17: 48.502777 | F17: 4504 | G17: 59.634902 | H17: 12155.6 | I17: 53.485007 | J17: 21626.5 | K17: 47.498353 | L17: 4042 | M17: 59.02 | N17: 4912 | O17: 21.744479 | S17: =F17+H17+J17+L17 -> 42328.1 | T17: =(F17*G17+H17*I17+J17*K17+L17*M17)/(F17+H17+J17+L17) -> 51.609213 | U17: =N17+P17 -> 4912 | V17: =(N17*O17+P17*Q17)/(N17+P17) -> 21.744479
A18: Баш оона | B18: Август | C18: August | D18: 57133.4 | E18: 55.621883 | F18: 2269 | G18: 70.148863 | H18: 29960 | I18: 64.744514 | J18: 16875.6 | K18: 51.442086 | L18: 2901.7 | M18: 41.23918 | N18: 5112.1 | O18: 17.754925 | P18: 15 | Q18: 20 | S18: =F18+H18+J18+L18 -> 52006.3 | T18: =(F18*G18+H18*I18+J18*K18+L18*M18)/(F18+H18+J18+L18) -> 59.352294 | U18: =N18+P18 -> 5127.1 | V18: =(N18*O18+P18*Q18)/(N18+P18) -> 17.761494
A19: Аяк оона | B19: Сентябрь | C19: September | D19: 55070.4 | E19: 60.943224 | F19: 1132 | G19: 71.599064 | H19: 37003 | I19: 68.037825 | J19: 14889.4 | K19: 46.462339 | L19: 1321 | M19: 42.243936 | N19: 725 | O19: 13.748359 | S19: =F19+H19+J19+L19 -> 54345.4 | T19: =(F19*G19+H19*I19+J19*K19+L19*M19)/(F19+H19+J19+L19) -> 61.573829 | U19: =N19+P19 -> 725 | V19: =(N19*O19+P19*Q19)/(N19+P19) -> 13.748359
A20: Тогуздун айы | B20: Октябрь | C20: October | D20: 50828.8 | E20: 61.105922 | F20: 8805 | G20: 70.637263 | H20: 18421.3 | I20: 67.050542 | J20: 20287.5 | K20: 56.529227 | L20: 1850 | M20: 46.360368 | N20: 985 | O20: 11.12797 | P20: 480 | Q20: 11 | S20: =F20+H20+J20+L20 -> 49363.8 | T20: =(F20*G20+H20*I20+J20*K20+L20*M20)/(F20+H20+J20+L20) -> 62.590858 | U20: =N20+P20 -> 1465 | V20: =(N20*O20+P20*Q20)/(N20+P20) -> 11.086041
A21: Жетинин айы | B21: Ноябрь | C21: November | D21: 58241.7 | E21: 52.81693 | F21: 3179 | G21: 53.99 | H21: 20445.9 | I21: 51.802907 | J21: 27649 | K21: 54.495447 | L21: 4856 | M21: 57.650115 | N21: 2111.8 | O21: 27.76 | S21: =F21+H21+J21+L21 -> 56129.9 | T21: =(F21*G21+H21*I21+J21*K21+L21*M21)/(F21+H21+J21+L21) -> 53.758956 | U21: =N21+P21 -> 2111.8 | V21: =(N21*O21+P21*Q21)/(N21+P21) -> 27.76
A22: Бештин айы | B22: Декабрь | C22: December | D22: 65604.1 | E22: 52.142973 | F22: 4299 | G22: 60.683094 | H22: 27875 | I22: 61.851693 | J22: 14243.7 | K22: 56.473661 | L22: 8081 | M22: 36.194454 | N22: 11105.4 | O22: 30.527159 | S22: =F22+H22+J22+L22 -> 54498.7 | T22: =(F22*G22+H22*I22+J22*K22+L22*M22)/(F22+H22+J22+L22) -> 56.549493 | U22: =N22+P22 -> 11105.4 | V22: =(N22*O22+P22*Q22)/(N22+P22) -> 30.527159
A23: Үчтүн айы 1997 ж. | B23: Январь 1997 г. | C23: January 1997 | D23: 55700.1 | E23: 49.996214 | F23: 510 | G23: 67.47 | H23: 9098.4 | I23: 57.390847 | J23: 38556 | K23: 49.847889 | L23: 3574.2 | M23: 57.126157 | N23: 3961.5 | O23: 25.772638 | S23: =F23+H23+J23+L23 -> 51738.6 | T23: =(F23*G23+H23*I23+J23*K23+L23*M23)/(F23+H23+J23+L23) -> 51.850844 | U23: =N23+P23 -> 3961.5 | V23: =(N23*O23+P23*Q23)/(N23+P23) -> 25.772638
A24: Бирдин айы | B24: Февраль | C24: February | D24: 52519.9 | E24: 57.330642 | F24: 2862 | G24: 65.86608 | H24: 8970.5 | I24: 58.411924 | J24: 36277 | K24: 59.795128 | L24: 1907.4 | M24: 54.147745 | N24: 2303 | O24: 9.5636127 | P24: 200 | Q24: 20 | S24: =F24+H24+J24+L24 -> 50016.9 | T24: =(F24*G24+H24*I24+J24*K24+L24*M24)/(F24+H24+J24+L24) -> 59.679072 | U24: =N24+P24 -> 2503 | V24: =(N24*O24+P24*Q24)/(N24+P24) -> 10.397523
A25: Жалган куран | B25: Март | C25: March | D25: 98752 | E25: 63.831802 | F25: 1454 | G25: 59.376307 | H25: 36018 | I25: 69.996274 | J25: 52363 | K25: 65.744315 | L25: 2934 | M25: 56.42 | N25: 5983 | O25: 14.712089 | S25: =F25+H25+J25+L25 -> 92769 | T25: =(F25*G25+H25*I25+J25*K25+L25*M25)/(F25+H25+J25+L25) -> 67.00045 | U25: =N25+P25 -> 5983 | V25: =(N25*O25+P25*Q25)/(N25+P25) -> 14.712089
A26: Чын куран | B26: Апрель | C26: April | D26: 58672.5 | E26: 57.811019 | F26: 3554.5 | G26: 44.011654 | H26: 10560 | I26: 63.601723 | J26: 37376 | K26: 61.057861 | L26: 5558 | M26: 46.296808 | N26: 1624 | O26: 15.130049 | S26: =F26+H26+J26+L26 -> 57048.5 | T26: =(F26*G26+H26*I26+J26*K26+L26*M26)/(F26+H26+J26+L26) -> 59.028544 | U26: =N26+P26 -> 1624 | V26: =(N26*O26+P26*Q26)/(N26+P26) -> 15.130049
A27: Бугу | B27: Май | C27: May | D27: 118484.9 | E27: 51.316368 | F27: 9398.4 | G27: 47.94666 | H27: 13101.2 | I27: 69.431347 | J27: 58299.8 | K27: 59.445367 | L27: 20093 | M27: 50.433475 | N27: 11023.9 | O27: 14.654329 | P27: 6568.6 | Q27: 12.073644 | S27: =F27+H27+J27+L27 -> 100892.4 | T27: =(F27*G27+H27*I27+J27*K27+L27*M27)/(F27+H27+J27+L27) -> 57.876199 | U27: =N27+P27 -> 17592.5 | V27: =(N27*O27+P27*Q27)/(N27+P27) -> 13.690766
A28: Кулжа | B28: Июнь | C28: June | D28: 110883.5 | E28: 62.437515 | F28: 3558 | G28: 40.011383 | H28: 33077.1 | I28: 56.877542 | J28: 58277.4 | K28: 73.330979 | L28: 10170 | M28: 54.21 | N28: 5127 | O28: 13.664227 | P28: 674 | Q28: 6.67 | S28: =F28+H28+J28+L28 -> 105082.5 | T28: =(F28*G28+H28*I28+J28*K28+L28*M28)/(F28+H28+J28+L28) -> 65.173165 | U28: =N28+P28 -> 5801 | V28: =(N28*O28+P28*Q28)/(N28+P28) -> 12.851589
A29: Теке | B29: Июль | C29: July | D29: 119101.9 | E29: 63.131711 | F29: 1821 | G29: 56.679588 | H29: 28542.7 | I29: 44.580664 | J29: 78552.5 | K29: 72.174891 | L29: 6028.7 | M29: 53.666276 | N29: 4157 | O29: 36.196969 | S29: =F29+H29+J29+L29 -> 114944.9 | T29: =(F29*G29+H29*I29+J29*K29+L29*M29)/(F29+H29+J29+L29) -> 64.10656 | U29: =N29+P29 -> 4157 | V29: =(N29*O29+P29*Q29)/(N29+P29) -> 36.196969
A30: Баш оона | B30: Август | C30: August | D30: 120063.2 | E30: 61.502382 | F30: 14682.2 | G30: 56.148543 | H30: 20214 | I30: 57.184754 | J30: 81103 | K30: 64.370013 | L30: 2883 | M30: 53.066767 | N30: 921 | O30: 27.690554 | P30: 260 | Q30: 18.85 | S30: =F30+H30+J30+L30 -> 118882.2 | T30: =(F30*G30+H30*I30+J30*K30+L30*M30)/(F30+H30+J30+L30) -> 61.858793 | U30: =N30+P30 -> 1181 | V30: =(N30*O30+P30*Q30)/(N30+P30) -> 25.744285
