Workbook

Sheet 1.total deposits
A1: "Statistics" section / "Banking statistics" / "Commercial banks' deposits, as of the end of period"
A3: Table 1. Total volume and average weighted interest rates of deposits in acting commercial banks (the end of period)
A5: (ths of soms / percent)
A6: Period | B6: Total volume | C6: Average weighted interest rate | D6: of which:
D7: in national currency | F7: in foreign currency
C8: ставка | D8: volume | E8: average weighted interest rate | F8: volume | G8: average weighted interest rate
A9: January 1996 | B9: =D9+F9 -> 356635.6 | C9: =(D9*E9+F9*G9)/(D9+F9) -> 22.951274 | D9: ='6.deposits by maturity NC'!B9 -> 235164.8 | E9: ='6.deposits by maturity NC'!C9 -> 28.422674 | F9: ='10.deposits by maturity FC'!B9 -> 121470.8 | G9: ='10.deposits by maturity FC'!C9 -> 12.358763
A10: February | B10: =D10+F10 -> 431197.7 | C10: =(D10*E10+F10*G10)/(D10+F10) -> 20.448335 | D10: ='6.deposits by maturity NC'!B10 -> 298119.3 | E10: ='6.deposits by maturity NC'!C10 -> 24.767898 | F10: ='10.deposits by maturity FC'!B10 -> 133078.4 | G10: ='10.deposits by maturity FC'!C10 -> 10.771746
A11: March | B11: =D11+F11 -> 547935.9 | C11: =(D11*E11+F11*G11)/(D11+F11) -> 16.923477 | D11: ='6.deposits by maturity NC'!B11 -> 389434.2 | E11: ='6.deposits by maturity NC'!C11 -> 17.787702 | F11: ='10.deposits by maturity FC'!B11 -> 158501.7 | G11: ='10.deposits by maturity FC'!C11 -> 14.800099
A12: April | B12: =D12+F12 -> 764634.7 | C12: =(D12*E12+F12*G12)/(D12+F12) -> 12.261244 | D12: ='6.deposits by maturity NC'!B12 -> 583944.3 | E12: ='6.deposits by maturity NC'!C12 -> 11.613944 | F12: ='10.deposits by maturity FC'!B12 -> 180690.4 | G12: ='10.deposits by maturity FC'!C12 -> 14.353148
A13: May | B13: =D13+F13 -> 514295.1 | C13: =(D13*E13+F13*G13)/(D13+F13) -> 16.102905 | D13: ='6.deposits by maturity NC'!B13 -> 348348.9 | E13: ='6.deposits by maturity NC'!C13 -> 15.778603 | F13: ='10.deposits by maturity FC'!B13 -> 165946.2 | G13: ='10.deposits by maturity FC'!C13 -> 16.783671
A14: June | B14: =D14+F14 -> 550400.8 | C14: =(D14*E14+F14*G14)/(D14+F14) -> 15.187572 | D14: ='6.deposits by maturity NC'!B14 -> 422538.5 | E14: ='6.deposits by maturity NC'!C14 -> 14.975184 | F14: ='10.deposits by maturity FC'!B14 -> 127862.3 | G14: ='10.deposits by maturity FC'!C14 -> 15.88944
A15: July | B15: =D15+F15 -> 740365.3 | C15: =(D15*E15+F15*G15)/(D15+F15) -> 11.186106 | D15: ='6.deposits by maturity NC'!B15 -> 503768.8 | E15: ='6.deposits by maturity NC'!C15 -> 12.343408 | F15: ='10.deposits by maturity FC'!B15 -> 236596.5 | G15: ='10.deposits by maturity FC'!C15 -> 8.7219435
A16: August | B16: =D16+F16 -> 665643.9 | C16: =(D16*E16+F16*G16)/(D16+F16) -> 12.473021 | D16: ='6.deposits by maturity NC'!B16 -> 448908.2 | E16: ='6.deposits by maturity NC'!C16 -> 14.081075 | F16: ='10.deposits by maturity FC'!B16 -> 216735.7 | G16: ='10.deposits by maturity FC'!C16 -> 9.1423802
A17: September | B17: =D17+F17 -> 682368.7 | C17: =(D17*E17+F17*G17)/(D17+F17) -> 13.293665 | D17: ='6.deposits by maturity NC'!B17 -> 426418.2 | E17: ='6.deposits by maturity NC'!C17 -> 16.451625 | F17: ='10.deposits by maturity FC'!B17 -> 255950.5 | G17: ='10.deposits by maturity FC'!C17 -> 8.0324454
A18: October | B18: =D18+F18 -> 854244.4 | C18: =(D18*E18+F18*G18)/(D18+F18) -> 10.796218 | D18: ='6.deposits by maturity NC'!B18 -> 456755.5 | E18: ='6.deposits by maturity NC'!C18 -> 15.023193 | F18: ='10.deposits by maturity FC'!B18 -> 397488.9 | G18: ='10.deposits by maturity FC'!C18 -> 5.9389892
A19: November | B19: =D19+F19 -> 850056.5 | C19: =(D19*E19+F19*G19)/(D19+F19) -> 11.957075 | D19: ='6.deposits by maturity NC'!B19 -> 463683.6 | E19: ='6.deposits by maturity NC'!C19 -> 16.201452 | F19: ='10.deposits by maturity FC'!B19 -> 386372.9 | G19: ='10.deposits by maturity FC'!C19 -> 6.8634269
A20: December | B20: =D20+F20 -> 874677.4 | C20: =(D20*E20+F20*G20)/(D20+F20) -> 11.703016 | D20: ='6.deposits by maturity NC'!B20 -> 483932.4 | E20: ='6.deposits by maturity NC'!C20 -> 15.573179 | F20: ='10.deposits by maturity FC'!B20 -> 390745 | G20: ='10.deposits by maturity FC'!C20 -> 6.9098715
... A380: December | B380: =D380+F380 -> 0 | C380: =(D380*E380+F380*G380)/(D380+F380) -> #DIV/0! | D380: ='6.deposits by maturity NC'!B380 -> 0 | E380: ='6.deposits by maturity NC'!C380 -> #DIV/0! | F380: ='10.deposits by maturity FC'!B380 -> 0 | G380: ='10.deposits by maturity FC'!C380 -> #DIV/0!
A382: * data is given without consideration of "AsiaUniversalBank" OJS due to withdrawal of license
A383: **- preliminary data

Sheet 2.deposits by maturity
A1: "Statistics" section / "Banking statistics" / "Commercial banks' deposits, as of the end of period"
A3: Table 2. Total volume and average weighted interest rates of deposits in commercial banks (the end of period)
A5: (ths of soms / percent)
A6: Period | B6: Total volume | C6: Average weighted interest rate | D6: Settlement accounts* | F6: Demand deposits | H6: Time deposits | J6: of which, by maturity:
J7: 0 - 1 month | L7: 1 - 3 months | N7: 3 - 6 months | P7: 6 - 12 months | R7: 1 - 3 years | T7: more than 3 years
C8: ставка | D8: volume | E8: average weighted interest rate | F8: volume | G8: average weighted interest rate | H8: volume | I8: average weighted interest rate | J8: volume | K8: average weighted interest rate | L8: volume | M8: average weighted interest rate | N8: volume | O8: average weighted interest rate | P8: volume | Q8: average weighted interest rate | R8: volume | S8: average weighted interest rate | T8: volume | U8: average weighted interest rate
A9: January 1996 | B9: ='3.deposits individuals'!B9+'4.deposits legal entities'!B9 -> 356635.6 | C9: =('3.deposits individuals'!B9*'3.deposits individuals'!C9+'4.deposits legal entities'!B9*'4.deposits legal entities'!C9)/('3.deposits individuals'!B9+'4.deposits legal entities'!B9) -> 22.951274 | F9: ='3.deposits individuals'!F9+'4.deposits legal entities'!F9 -> 139312.2 | G9: =('3.deposits individuals'!F9*'3.deposits individuals'!G9+'4.deposits legal entities'!F9*'4.deposits legal entities'!G9)/('3.deposits individuals'!F9+'4.deposits legal entities'!F9) -> 8.7794117 | H9: =J9+L9+N9+P9+R9+T9 -> 217323.4 | I9: =(J9*K9+L9*M9+N9*O9+P9*Q9+R9*S9+T9*U9)/(J9+L9+N9+P9+R9+T9) -> 32.035953 | J9: ='3.deposits individuals'!J9+'4.deposits legal entities'!J9 -> 18456.2 | K9: =('3.deposits individuals'!J9*'3.deposits individuals'!K9+'4.deposits legal entities'!J9*'4.deposits legal entities'!K9)/('3.deposits individuals'!J9+'4.deposits legal entities'!J9) -> 31.556716 | L9: ='3.deposits individuals'!L9+'4.deposits legal entities'!L9 -> 65410.3 | M9: =('3.deposits individuals'!L9*'3.deposits individuals'!M9+'4.deposits legal entities'!L9*'4.deposits legal entities'!M9)/('3.deposits individuals'!L9+'4.deposits legal entities'!L9) -> 29.444254 | N9: ='3.deposits individuals'!N9+'4.deposits legal entities'!N9 -> 77058.1 | O9: =('3.deposits individuals'!N9*'3.deposits individuals'!O9+'4.deposits legal entities'!N9*'4.deposits legal entities'!O9)/('3.deposits individuals'!N9+'4.deposits legal entities'!N9) -> 35.723914 | P9: ='3.deposits individuals'!P9+'4.deposits legal entities'!P9 -> 37489.7 | Q9: =('3.deposits individuals'!P9*'3.deposits individuals'!Q9+'4.deposits legal entities'!P9*'4.deposits legal entities'!Q9)/('3.deposits individuals'!P9+'4.deposits legal entities'!P9) -> 24.831538 | R9: ='3.deposits individuals'!R9+'4.deposits legal entities'!R9 -> 18909.1 | S9: =('3.deposits individuals'!R9*'3.deposits individuals'!S9+'4.deposits legal entities'!R9*'4.deposits legal entities'!S9)/('3.deposits individuals'!R9+'4.deposits legal entities'!R9) -> 40.723445
A10: February | B10: ='3.deposits individuals'!B10+'4.deposits legal entities'!B10 -> 431197.7 | C10: =('3.deposits individuals'!B10*'3.deposits individuals'!C10+'4.deposits legal entities'!B10*'4.deposits legal entities'!C10)/('3.deposits individuals'!B10+'4.deposits legal entities'!B10) -> 20.448335 | F10: ='3.deposits individuals'!F10+'4.deposits legal entities'!F10 -> 203903.9 | G10: =('3.deposits individuals'!F10*'3.deposits individuals'!G10+'4.deposits legal entities'!F10*'4.deposits legal entities'!G10)/('3.deposits individuals'!F10+'4.deposits legal entities'!F10) -> 7.3198689 | H10: =J10+L10+N10+P10+R10+T10 -> 227293.8 | I10: =(J10*K10+L10*M10+N10*O10+P10*Q10+R10*S10+T10*U10)/(J10+L10+N10+P10+R10+T10) -> 32.225803 | J10: ='3.deposits individuals'!J10+'4.deposits legal entities'!J10 -> 12802.3 | K10: =('3.deposits individuals'!J10*'3.deposits individuals'!K10+'4.deposits legal entities'!J10*'4.deposits legal entities'!K10)/('3.deposits individuals'!J10+'4.deposits legal entities'!J10) -> 24.421448 | L10: ='3.deposits individuals'!L10+'4.deposits legal entities'!L10 -> 71762 | M10: =('3.deposits individuals'!L10*'3.deposits individuals'!M10+'4.deposits legal entities'!L10*'4.deposits legal entities'!M10)/('3.deposits individuals'!L10+'4.deposits legal entities'!L10) -> 29.335911 | N10: ='3.deposits individuals'!N10+'4.deposits legal entities'!N10 -> 80912.3 | O10: =('3.deposits individuals'!N10*'3.deposits individuals'!O10+'4.deposits legal entities'!N10*'4.deposits legal entities'!O10)/('3.deposits individuals'!N10+'4.deposits legal entities'!N10) -> 35.66666 | P10: ='3.deposits individuals'!P10+'4.deposits legal entities'!P10 -> 50843.1 | Q10: =('3.deposits individuals'!P10*'3.deposits individuals'!Q10+'4.deposits legal entities'!P10*'4.deposits legal entities'!Q10)/('3.deposits individuals'!P10+'4.deposits legal entities'!P10) -> 31.289049 | R10: ='3.deposits individuals'!R10+'4.deposits legal entities'!R10 -> 10974.1 | S10: =('3.deposits individuals'!R10*'3.deposits individuals'!S10+'4.deposits legal entities'!R10*'4.deposits legal entities'!S10)/('3.deposits individuals'!R10+'4.deposits legal entities'!R10) -> 39.198403
A11: March | B11: ='3.deposits individuals'!B11+'4.deposits legal entities'!B11 -> 547935.9 | C11: =('3.deposits individuals'!B11*'3.deposits individuals'!C11+'4.deposits legal entities'!B11*'4.deposits legal entities'!C11)/('3.deposits individuals'!B11+'4.deposits legal entities'!B11) -> 16.923477 | F11: ='3.deposits individuals'!F11+'4.deposits legal entities'!F11 -> 319773.5 | G11: =('3.deposits individuals'!F11*'3.deposits individuals'!G11+'4.deposits legal entities'!F11*'4.deposits legal entities'!G11)/('3.deposits individuals'!F11+'4.deposits legal entities'!F11) -> 6.4940511 | H11: =J11+L11+N11+P11+R11+T11 -> 228162.4 | I11: =(J11*K11+L11*M11+N11*O11+P11*Q11+R11*S11+T11*U11)/(J11+L11+N11+P11+R11+T11) -> 31.540495 | J11: ='3.deposits individuals'!J11+'4.deposits legal entities'!J11 -> 15829.6 | K11: =('3.deposits individuals'!J11*'3.deposits individuals'!K11+'4.deposits legal entities'!J11*'4.deposits legal entities'!K11)/('3.deposits individuals'!J11+'4.deposits legal entities'!J11) -> 24.775919 | L11: ='3.deposits individuals'!L11+'4.deposits legal entities'!L11 -> 78416.6 | M11: =('3.deposits individuals'!L11*'3.deposits individuals'!M11+'4.deposits legal entities'!L11*'4.deposits legal entities'!M11)/('3.deposits individuals'!L11+'4.deposits legal entities'!L11) -> 28.878591 | N11: ='3.deposits individuals'!N11+'4.deposits legal entities'!N11 -> 89255.9 | O11: =('3.deposits individuals'!N11*'3.deposits individuals'!O11+'4.deposits legal entities'!N11*'4.deposits legal entities'!O11)/('3.deposits individuals'!N11+'4.deposits legal entities'!N11) -> 33.980482 | P11: ='3.deposits individuals'!P11+'4.deposits legal entities'!P11 -> 39579.4 | Q11: =('3.deposits individuals'!P11*'3.deposits individuals'!Q11+'4.deposits legal entities'!P11*'4.deposits legal entities'!Q11)/('3.deposits individuals'!P11+'4.deposits legal entities'!P11) -> 32.968811 | R11: ='3.deposits individuals'!R11+'4.deposits legal entities'!R11 -> 5080.9 | S11: =('3.deposits individuals'!R11*'3.deposits individuals'!S11+'4.deposits legal entities'!R11*'4.deposits legal entities'!S11)/('3.deposits individuals'!R11+'4.deposits legal entities'!R11) -> 39.708886
A12: April | B12: ='3.deposits individuals'!B12+'4.deposits legal entities'!B12 -> 764634.7 | C12: =('3.deposits individuals'!B12*'3.deposits individuals'!C12+'4.deposits legal entities'!B12*'4.deposits legal entities'!C12)/('3.deposits individuals'!B12+'4.deposits legal entities'!B12) -> 12.261244 | F12: ='3.deposits individuals'!F12+'4.deposits legal entities'!F12 -> 500733 | G12: =('3.deposits individuals'!F12*'3.deposits individuals'!G12+'4.deposits legal entities'!F12*'4.deposits legal entities'!G12)/('3.deposits individuals'!F12+'4.deposits legal entities'!F12) -> 2.6003252 | H12: =J12+L12+N12+P12+R12+T12 -> 263901.7 | I12: =(J12*K12+L12*M12+N12*O12+P12*Q12+R12*S12+T12*U12)/(J12+L12+N12+P12+R12+T12) -> 30.592088 | J12: ='3.deposits individuals'!J12+'4.deposits legal entities'!J12 -> 15300.4 | K12: =('3.deposits individuals'!J12*'3.deposits individuals'!K12+'4.deposits legal entities'!J12*'4.deposits legal entities'!K12)/('3.deposits individuals'!J12+'4.deposits legal entities'!J12) -> 21.999403 | L12: ='3.deposits individuals'!L12+'4.deposits legal entities'!L12 -> 86398.2 | M12: =('3.deposits individuals'!L12*'3.deposits individuals'!M12+'4.deposits legal entities'!L12*'4.deposits legal entities'!M12)/('3.deposits individuals'!L12+'4.deposits legal entities'!L12) -> 29.96065 | N12: ='3.deposits individuals'!N12+'4.deposits legal entities'!N12 -> 110268.2 | O12: =('3.deposits individuals'!N12*'3.deposits individuals'!O12+'4.deposits legal entities'!N12*'4.deposits legal entities'!O12)/('3.deposits individuals'!N12+'4.deposits legal entities'!N12) -> 31.224158 | P12: ='3.deposits individuals'!P12+'4.deposits legal entities'!P12 -> 47081.3 | Q12: =('3.deposits individuals'!P12*'3.deposits individuals'!Q12+'4.deposits legal entities'!P12*'4.deposits legal entities'!Q12)/('3.deposits individuals'!P12+'4.deposits legal entities'!P12) -> 32.606631 | R12: ='3.deposits individuals'!R12+'4.deposits legal entities'!R12 -> 4853.6 | S12: =('3.deposits individuals'!R12*'3.deposits individuals'!S12+'4.deposits legal entities'!R12*'4.deposits legal entities'!S12)/('3.deposits individuals'!R12+'4.deposits legal entities'!R12) -> 35.018106
A13: May | B13: ='3.deposits individuals'!B13+'4.deposits legal entities'!B13 -> 514295.1 | C13: =('3.deposits individuals'!B13*'3.deposits individuals'!C13+'4.deposits legal entities'!B13*'4.deposits legal entities'!C13)/('3.deposits individuals'!B13+'4.deposits legal entities'!B13) -> 16.102905 | F13: ='3.deposits individuals'!F13+'4.deposits legal entities'!F13 -> 276871.4 | G13: =('3.deposits individuals'!F13*'3.deposits individuals'!G13+'4.deposits legal entities'!F13*'4.deposits legal entities'!G13)/('3.deposits individuals'!F13+'4.deposits legal entities'!F13) -> 4.1755961 | H13: =J13+L13+N13+P13+R13+T13 -> 237423.7 | I13: =(J13*K13+L13*M13+N13*O13+P13*Q13+R13*S13+T13*U13)/(J13+L13+N13+P13+R13+T13) -> 30.011925 | J13: ='3.deposits individuals'!J13+'4.deposits legal entities'!J13 -> 15033.1 | K13: =('3.deposits individuals'!J13*'3.deposits individuals'!K13+'4.deposits legal entities'!J13*'4.deposits legal entities'!K13)/('3.deposits individuals'!J13+'4.deposits legal entities'!J13) -> 20.653959 | L13: ='3.deposits individuals'!L13+'4.deposits legal entities'!L13 -> 71788.3 | M13: =('3.deposits individuals'!L13*'3.deposits individuals'!M13+'4.deposits legal entities'!L13*'4.deposits legal entities'!M13)/('3.deposits individuals'!L13+'4.deposits legal entities'!L13) -> 28.4506 | N13: ='3.deposits individuals'!N13+'4.deposits legal entities'!N13 -> 104497.8 | O13: =('3.deposits individuals'!N13*'3.deposits individuals'!O13+'4.deposits legal entities'!N13*'4.deposits legal entities'!O13)/('3.deposits individuals'!N13+'4.deposits legal entities'!N13) -> 30.722948 | P13: ='3.deposits individuals'!P13+'4.deposits legal entities'!P13 -> 40611.6 | Q13: =('3.deposits individuals'!P13*'3.deposits individuals'!Q13+'4.deposits legal entities'!P13*'4.deposits legal entities'!Q13)/('3.deposits individuals'!P13+'4.deposits legal entities'!P13) -> 33.860934 | R13: ='3.deposits individuals'!R13+'4.deposits legal entities'!R13 -> 5492.9 | S13: =('3.deposits individuals'!R13*'3.deposits individuals'!S13+'4.deposits legal entities'!R13*'4.deposits legal entities'!S13)/('3.deposits individuals'!R13+'4.deposits legal entities'!R13) -> 34.044261
A14: June | B14: ='3.deposits individuals'!B14+'4.deposits legal entities'!B14 -> 550400.8 | C14: =('3.deposits individuals'!B14*'3.deposits individuals'!C14+'4.deposits legal entities'!B14*'4.deposits legal entities'!C14)/('3.deposits individuals'!B14+'4.deposits legal entities'!B14) -> 15.187572 | F14: ='3.deposits individuals'!F14+'4.deposits legal entities'!F14 -> 324135.3 | G14: =('3.deposits individuals'!F14*'3.deposits individuals'!G14+'4.deposits legal entities'!F14*'4.deposits legal entities'!G14)/('3.deposits individuals'!F14+'4.deposits legal entities'!F14) -> 4.3432216 | H14: =J14+L14+N14+P14+R14+T14 -> 226265.5 | I14: =(J14*K14+L14*M14+N14*O14+P14*Q14+R14*S14+T14*U14)/(J14+L14+N14+P14+R14+T14) -> 30.722583 | J14: ='3.deposits individuals'!J14+'4.deposits legal entities'!J14 -> 12140.1 | K14: =('3.deposits individuals'!J14*'3.deposits individuals'!K14+'4.deposits legal entities'!J14*'4.deposits legal entities'!K14)/('3.deposits individuals'!J14+'4.deposits legal entities'!J14) -> 13.615972 | L14: ='3.deposits individuals'!L14+'4.deposits legal entities'!L14 -> 70616.8 | M14: =('3.deposits individuals'!L14*'3.deposits individuals'!M14+'4.deposits legal entities'!L14*'4.deposits legal entities'!M14)/('3.deposits individuals'!L14+'4.deposits legal entities'!L14) -> 25.896432 | N14: ='3.deposits individuals'!N14+'4.deposits legal entities'!N14 -> 83037.9 | O14: =('3.deposits individuals'!N14*'3.deposits individuals'!O14+'4.deposits legal entities'!N14*'4.deposits legal entities'!O14)/('3.deposits individuals'!N14+'4.deposits legal entities'!N14) -> 35.228618 | P14: ='3.deposits individuals'!P14+'4.deposits legal entities'!P14 -> 54131.3 | Q14: =('3.deposits individuals'!P14*'3.deposits individuals'!Q14+'4.deposits legal entities'!P14*'4.deposits legal entities'!Q14)/('3.deposits individuals'!P14+'4.deposits legal entities'!P14) -> 32.275651 | R14: ='3.deposits individuals'!R14+'4.deposits legal entities'!R14 -> 6339.4 | S14: =('3.deposits individuals'!R14*'3.deposits individuals'!S14+'4.deposits legal entities'!R14*'4.deposits legal entities'!S14)/('3.deposits individuals'!R14+'4.deposits legal entities'!R14) -> 44.957671
A15: July | B15: ='3.deposits individuals'!B15+'4.deposits legal entities'!B15 -> 740365.3 | C15: =('3.deposits individuals'!B15*'3.deposits individuals'!C15+'4.deposits legal entities'!B15*'4.deposits legal entities'!C15)/('3.deposits individuals'!B15+'4.deposits legal entities'!B15) -> 11.186106 | F15: ='3.deposits individuals'!F15+'4.deposits legal entities'!F15 -> 503970.9 | G15: =('3.deposits individuals'!F15*'3.deposits individuals'!G15+'4.deposits legal entities'!F15*'4.deposits legal entities'!G15)/('3.deposits individuals'!F15+'4.deposits legal entities'!F15) -> 3.6053998 | H15: =J15+L15+N15+P15+R15+T15 -> 236394.4 | I15: =(J15*K15+L15*M15+N15*O15+P15*Q15+R15*S15+T15*U15)/(J15+L15+N15+P15+R15+T15) -> 27.347468 | J15: ='3.deposits individuals'!J15+'4.deposits legal entities'!J15 -> 33968.8 | K15: =('3.deposits individuals'!J15*'3.deposits individuals'!K15+'4.deposits legal entities'!J15*'4.deposits legal entities'!K15)/('3.deposits individuals'!J15+'4.deposits legal entities'!J15) -> 12.073082 | L15: ='3.deposits individuals'!L15+'4.deposits legal entities'!L15 -> 64892.4 | M15: =('3.deposits individuals'!L15*'3.deposits individuals'!M15+'4.deposits legal entities'!L15*'4.deposits legal entities'!M15)/('3.deposits individuals'!L15+'4.deposits legal entities'!L15) -> 24.875196 | N15: ='3.deposits individuals'!N15+'4.deposits legal entities'!N15 -> 75688.4 | O15: =('3.deposits individuals'!N15*'3.deposits individuals'!O15+'4.deposits legal entities'!N15*'4.deposits legal entities'!O15)/('3.deposits individuals'!N15+'4.deposits legal entities'!N15) -> 34.93142 | P15: ='3.deposits individuals'!P15+'4.deposits legal entities'!P15 -> 56799.7 | Q15: =('3.deposits individuals'!P15*'3.deposits individuals'!Q15+'4.deposits legal entities'!P15*'4.deposits legal entities'!Q15)/('3.deposits individuals'!P15+'4.deposits legal entities'!P15) -> 28.546539 | R15: ='3.deposits individuals'!R15+'4.deposits legal entities'!R15 -> 5045.1 | S15: =('3.deposits individuals'!R15*'3.deposits individuals'!S15+'4.deposits legal entities'!R15*'4.deposits legal entities'!S15)/('3.deposits individuals'!R15+'4.deposits legal entities'!R15) -> 34.713064
A16: August | B16: ='3.deposits individuals'!B16+'4.deposits legal entities'!B16 -> 665643.9 | C16: =('3.deposits individuals'!B16*'3.deposits individuals'!C16+'4.deposits legal entities'!B16*'4.deposits legal entities'!C16)/('3.deposits individuals'!B16+'4.deposits legal entities'!B16) -> 12.473021 | F16: ='3.deposits individuals'!F16+'4.deposits legal entities'!F16 -> 443638.7 | G16: =('3.deposits individuals'!F16*'3.deposits individuals'!G16+'4.deposits legal entities'!F16*'4.deposits legal entities'!G16)/('3.deposits individuals'!F16+'4.deposits legal entities'!F16) -> 3.3661002 | H16: =J16+L16+N16+P16+R16+T16 -> 222005.2 | I16: =(J16*K16+L16*M16+N16*O16+P16*Q16+R16*S16+T16*U16)/(J16+L16+N16+P16+R16+T16) -> 30.671615 | J16: ='3.deposits individuals'!J16+'4.deposits legal entities'!J16 -> 18468.6 | K16: =('3.deposits individuals'!J16*'3.deposits individuals'!K16+'4.deposits legal entities'!J16*'4.deposits legal entities'!K16)/('3.deposits individuals'!J16+'4.deposits legal entities'!J16) -> 11.310045 | L16: ='3.deposits individuals'!L16+'4.deposits legal entities'!L16 -> 63491.8 | M16: =('3.deposits individuals'!L16*'3.deposits individuals'!M16+'4.deposits legal entities'!L16*'4.deposits legal entities'!M16)/('3.deposits individuals'!L16+'4.deposits legal entities'!L16) -> 28.076107 | N16: ='3.deposits individuals'!N16+'4.deposits legal entities'!N16 -> 89604.7 | O16: =('3.deposits individuals'!N16*'3.deposits individuals'!O16+'4.deposits legal entities'!N16*'4.deposits legal entities'!O16)/('3.deposits individuals'!N16+'4.deposits legal entities'!N16) -> 37.824135 | P16: ='3.deposits individuals'!P16+'4.deposits legal entities'!P16 -> 39853.6 | Q16: =('3.deposits individuals'!P16*'3.deposits individuals'!Q16+'4.deposits legal entities'!P16*'4.deposits legal entities'!Q16)/('3.deposits individuals'!P16+'4.deposits legal entities'!P16) -> 30.277148 | R16: ='3.deposits individuals'!R16+'4.deposits legal entities'!R16 -> 10586.5 | S16: =('3.deposits individuals'!R16*'3.deposits individuals'!S16+'4.deposits legal entities'!R16*'4.deposits legal entities'!S16)/('3.deposits individuals'!R16+'4.deposits legal entities'!R16) -> 20.960765
A17: September | B17: ='3.deposits individuals'!B17+'4.deposits legal entities'!B17 -> 682368.7 | C17: =('3.deposits individuals'!B17*'3.deposits individuals'!C17+'4.deposits legal entities'!B17*'4.deposits legal entities'!C17)/('3.deposits individuals'!B17+'4.deposits legal entities'!B17) -> 13.293665 | F17: ='3.deposits individuals'!F17+'4.deposits legal entities'!F17 -> 440415.9 | G17: =('3.deposits individuals'!F17*'3.deposits individuals'!G17+'4.deposits legal entities'!F17*'4.deposits legal entities'!G17)/('3.deposits individuals'!F17+'4.deposits legal entities'!F17) -> 4.4325444 | H17: =J17+L17+N17+P17+R17+T17 -> 241952.8 | I17: =(J17*K17+L17*M17+N17*O17+P17*Q17+R17*S17+T17*U17)/(J17+L17+N17+P17+R17+T17) -> 29.423167 | J17: ='3.deposits individuals'!J17+'4.deposits legal entities'!J17 -> 19657.2 | K17: =('3.deposits individuals'!J17*'3.deposits individuals'!K17+'4.deposits legal entities'!J17*'4.deposits legal entities'!K17)/('3.deposits individuals'!J17+'4.deposits legal entities'!J17) -> 18.274846 | L17: ='3.deposits individuals'!L17+'4.deposits legal entities'!L17 -> 67982.9 | M17: =('3.deposits individuals'!L17*'3.deposits individuals'!M17+'4.deposits legal entities'!L17*'4.deposits legal entities'!M17)/('3.deposits individuals'!L17+'4.deposits legal entities'!L17) -> 27.550662 | N17: ='3.deposits individuals'!N17+'4.deposits legal entities'!N17 -> 93759.6 | O17: =('3.deposits individuals'!N17*'3.deposits individuals'!O17+'4.deposits legal entities'!N17*'4.deposits legal entities'!O17)/('3.deposits individuals'!N17+'4.deposits legal entities'!N17) -> 33.909659 | P17: ='3.deposits individuals'!P17+'4.deposits legal entities'!P17 -> 50680.1 | Q17: =('3.deposits individuals'!P17*'3.deposits individuals'!Q17+'4.deposits legal entities'!P17*'4.deposits legal entities'!Q17)/('3.deposits individuals'!P17+'4.deposits legal entities'!P17) -> 29.995037 | R17: ='3.deposits individuals'!R17+'4.deposits legal entities'!R17 -> 9873 | S17: =('3.deposits individuals'!R17*'3.deposits individuals'!S17+'4.deposits legal entities'!R17*'4.deposits legal entities'!S17)/('3.deposits individuals'!R17+'4.deposits legal entities'!R17) -> 18.971324
A18: October | B18: ='3.deposits individuals'!B18+'4.deposits legal entities'!B18 -> 854244.4 | C18: =('3.deposits individuals'!B18*'3.deposits individuals'!C18+'4.deposits legal entities'!B18*'4.deposits legal entities'!C18)/('3.deposits individuals'!B18+'4.deposits legal entities'!B18) -> 10.796218 | F18: ='3.deposits individuals'!F18+'4.deposits legal entities'!F18 -> 676641 | G18: =('3.deposits individuals'!F18*'3.deposits individuals'!G18+'4.deposits legal entities'!F18*'4.deposits legal entities'!G18)/('3.deposits individuals'!F18+'4.deposits legal entities'!F18) -> 6.4956744 | H18: =J18+L18+N18+P18+R18+T18 -> 177603.4 | I18: =(J18*K18+L18*M18+N18*O18+P18*Q18+R18*S18+T18*U18)/(J18+L18+N18+P18+R18+T18) -> 27.18061 | J18: ='3.deposits individuals'!J18+'4.deposits legal entities'!J18 -> 17645.4 | K18: =('3.deposits individuals'!J18*'3.deposits individuals'!K18+'4.deposits legal entities'!J18*'4.deposits legal entities'!K18)/('3.deposits individuals'!J18+'4.deposits legal entities'!J18) -> 15.061597 | L18: ='3.deposits individuals'!L18+'4.deposits legal entities'!L18 -> 46564.6 | M18: =('3.deposits individuals'!L18*'3.deposits individuals'!M18+'4.deposits legal entities'!L18*'4.deposits legal entities'!M18)/('3.deposits individuals'!L18+'4.deposits legal entities'!L18) -> 26.266652 | N18: ='3.deposits individuals'!N18+'4.deposits legal entities'!N18 -> 62531.7 | O18: =('3.deposits individuals'!N18*'3.deposits individuals'!O18+'4.deposits legal entities'!N18*'4.deposits legal entities'!O18)/('3.deposits individuals'!N18+'4.deposits legal entities'!N18) -> 31.026449 | P18: ='3.deposits individuals'!P18+'4.deposits legal entities'!P18 -> 41121 | Q18: =('3.deposits individuals'!P18*'3.deposits individuals'!Q18+'4.deposits legal entities'!P18*'4.deposits legal entities'!Q18)/('3.deposits individuals'!P18+'4.deposits legal entities'!P18) -> 30.077177 | R18: ='3.deposits individuals'!R18+'4.deposits legal entities'!R18 -> 9740.7 | S18: =('3.deposits individuals'!R18*'3.deposits individuals'!S18+'4.deposits legal entities'!R18*'4.deposits legal entities'!S18)/('3.deposits individuals'!R18+'4.deposits legal entities'!R18) -> 16.586553
A19: November | B19: ='3.deposits individuals'!B19+'4.deposits legal entities'!B19 -> 850056.5 | C19: =('3.deposits individuals'!B19*'3.deposits individuals'!C19+'4.deposits legal entities'!B19*'4.deposits legal entities'!C19)/('3.deposits individuals'!B19+'4.deposits legal entities'!B19) -> 11.957075 | F19: ='3.deposits individuals'!F19+'4.deposits legal entities'!F19 -> 558407.7 | G19: =('3.deposits individuals'!F19*'3.deposits individuals'!G19+'4.deposits legal entities'!F19*'4.deposits legal entities'!G19)/('3.deposits individuals'!F19+'4.deposits legal entities'!F19) -> 3.3720608 | H19: =J19+L19+N19+P19+R19+T19 -> 291648.8 | I19: =(J19*K19+L19*M19+N19*O19+P19*Q19+R19*S19+T19*U19)/(J19+L19+N19+P19+R19+T19) -> 28.394442 | J19: ='3.deposits individuals'!J19+'4.deposits legal entities'!J19 -> 24238.9 | K19: =('3.deposits individuals'!J19*'3.deposits individuals'!K19+'4.deposits legal entities'!J19*'4.deposits legal entities'!K19)/('3.deposits individuals'!J19+'4.deposits legal entities'!J19) -> 13.914129 | L19: ='3.deposits individuals'!L19+'4.deposits legal entities'!L19 -> 81856.4 | M19: =('3.deposits individuals'!L19*'3.deposits individuals'!M19+'4.deposits legal entities'!L19*'4.deposits legal entities'!M19)/('3.deposits individuals'!L19+'4.deposits legal entities'!L19) -> 25.973476 | N19: ='3.deposits individuals'!N19+'4.deposits legal entities'!N19 -> 90623.8 | O19: =('3.deposits individuals'!N19*'3.deposits individuals'!O19+'4.deposits legal entities'!N19*'4.deposits legal entities'!O19)/('3.deposits individuals'!N19+'4.deposits legal entities'!N19) -> 37.02013 | P19: ='3.deposits individuals'!P19+'4.deposits legal entities'!P19 -> 83215.5 | Q19: =('3.deposits individuals'!P19*'3.deposits individuals'!Q19+'4.deposits legal entities'!P19*'4.deposits legal entities'!Q19)/('3.deposits individuals'!P19+'4.deposits legal entities'!P19) -> 27.605691 | R19: ='3.deposits individuals'!R19+'4.deposits legal entities'!R19 -> 11714.2 | S19: =('3.deposits individuals'!R19*'3.deposits individuals'!S19+'4.deposits legal entities'!R19*'4.deposits legal entities'!S19)/('3.deposits individuals'!R19+'4.deposits legal entities'!R19) -> 14.146954
A20: December | B20: ='3.deposits individuals'!B20+'4.deposits legal entities'!B20 -> 874677.4 | C20: =('3.deposits individuals'!B20*'3.deposits individuals'!C20+'4.deposits legal entities'!B20*'4.deposits legal entities'!C20)/('3.deposits individuals'!B20+'4.deposits legal entities'!B20) -> 11.703016 | F20: ='3.deposits individuals'!F20+'4.deposits legal entities'!F20 -> 592031.3 | G20: =('3.deposits individuals'!F20*'3.deposits individuals'!G20+'4.deposits legal entities'!F20*'4.deposits legal entities'!G20)/('3.deposits individuals'!F20+'4.deposits legal entities'!F20) -> 3.3098121 | H20: =J20+L20+N20+P20+R20+T20 -> 282646.1 | I20: =(J20*K20+L20*M20+N20*O20+P20*Q20+R20*S20+T20*U20)/(J20+L20+N20+P20+R20+T20) -> 29.283444 | J20: ='3.deposits individuals'!J20+'4.deposits legal entities'!J20 -> 16073.6 | K20: =('3.deposits individuals'!J20*'3.deposits individuals'!K20+'4.deposits legal entities'!J20*'4.deposits legal entities'!K20)/('3.deposits individuals'!J20+'4.deposits legal entities'!J20) -> 12.894672 | L20: ='3.deposits individuals'!L20+'4.deposits legal entities'!L20 -> 78407.8 | M20: =('3.deposits individuals'!L20*'3.deposits individuals'!M20+'4.deposits legal entities'!L20*'4.deposits legal entities'!M20)/('3.deposits individuals'!L20+'4.deposits legal entities'!L20) -> 27.09675 | N20: ='3.deposits individuals'!N20+'4.deposits legal entities'!N20 -> 120301 | O20: =('3.deposits individuals'!N20*'3.deposits individuals'!O20+'4.deposits legal entities'!N20*'4.deposits legal entities'!O20)/('3.deposits individuals'!N20+'4.deposits legal entities'!N20) -> 33.542223 | P20: ='3.deposits individuals'!P20+'4.deposits legal entities'!P20 -> 58556.1 | Q20: =('3.deposits individuals'!P20*'3.deposits individuals'!Q20+'4.deposits legal entities'!P20*'4.deposits legal entities'!Q20)/('3.deposits individuals'!P20+'4.deposits legal entities'!P20) -> 29.509139 | R20: ='3.deposits individuals'!R20+'4.deposits legal entities'!R20 -> 9307.6 | S20: =('3.deposits individuals'!R20*'3.deposits individuals'!S20+'4.deposits legal entities'!R20*'4.deposits legal entities'!S20)/('3.deposits individuals'!R20+'4.deposits legal entities'!R20) -> 19.541867
... A97: May | B97: ='3.deposits individuals'!B97+'4.deposits legal entities'!B97 -> 4089167.4 | C97: =('3.deposits individuals'!B97*'3.deposits individuals'!C97+'4.deposits legal entities'!B97*'4.deposits legal entities'!C97)/('3.deposits individuals'!B97+'4.deposits legal entities'!B97) -> 2.7111207 | F97: ='3.deposits individuals'!F97+'4.deposits legal entities'!F97 -> 2558817.5 | G97: =('3.deposits individuals'!F97*'3.deposits individuals'!G97+'4.deposits legal entities'!F97*'4.deposits legal entities'!G97)/('3.deposits individuals'!F97+'4.deposits legal entities'!F97) -> 0.44075029 | H97: =J97+L97+N97+P97+R97+T97 -> 1530349.9 | I97: =(J97*K97+L97*M97+N97*O97+P97*Q97+R97*S97+T97*U97)/(J97+L97+N97+P97+R97+T97) -> 6.5072875 | J97: ='3.deposits individuals'!J97+'4.deposits legal entities'!J97 -> 147529.6 | K97: =('3.deposits individuals'!J97*'3.deposits individuals'!K97+'4.deposits legal entities'!J97*'4.deposits legal entities'!K97)/('3.deposits individuals'!J97+'4.deposits legal entities'!J97) -> 6.4474644 | L97: ='3.deposits individuals'!L97+'4.deposits legal entities'!L97 -> 225766.9 | M97: =('3.deposits individuals'!L97*'3.deposits individuals'!M97+'4.deposits legal entities'!L97*'4.deposits legal entities'!M97)/('3.deposits individuals'!L97+'4.deposits legal entities'!L97) -> 8.7924339 | N97: ='3.deposits individuals'!N97+'4.deposits legal entities'!N97 -> 270543.1 | O97: =('3.deposits individuals'!N97*'3.deposits individuals'!O97+'4.deposits legal entities'!N97*'4.deposits legal entities'!O97)/('3.deposits individuals'!N97+'4.deposits legal entities'!N97) -> 9.3933635 | P97: ='3.deposits individuals'!P97+'4.deposits legal entities'!P97 -> 499658.2 | Q97: =('3.deposits individuals'!P97*'3.deposits individuals'!Q97+'4.deposits legal entities'!P97*'4.deposits legal entities'!Q97)/('3.deposits individuals'!P97+'4.deposits legal entities'!P97) -> 6.9356032 | R97: ='3.deposits individuals'!R97+'4.deposits legal entities'!R97 -> 386852.1 | S97: =('3.deposits individuals'!R97*'3.deposits individuals'!S97+'4.deposits legal entities'!R97*'4.deposits legal entities'!S97)/('3.deposits individuals'!R97+'4.deposits legal entities'!R97) -> 2.6249146
A98: June | B98: ='3.deposits individuals'!B98+'4.deposits legal entities'!B98 -> 3617222.8 | C98: =('3.deposits individuals'!B98*'3.deposits individuals'!C98+'4.deposits legal entities'!B98*'4.deposits legal entities'!C98)/('3.deposits individuals'!B98+'4.deposits legal entities'!B98) -> 2.9298488 | F98: ='3.deposits individuals'!F98+'4.deposits legal entities'!F98 -> 2250253.8 | G98: =('3.deposits individuals'!F98*'3.deposits individuals'!G98+'4.deposits legal entities'!F98*'4.deposits legal entities'!G98)/('3.deposits individuals'!F98+'4.deposits legal entities'!F98) -> 0.36687281 | H98: =J98+L98+N98+P98+R98+T98 -> 1366969 | I98: =(J98*K98+L98*M98+N98*O98+P98*Q98+R98*S98+T98*U98)/(J98+L98+N98+P98+R98+T98) -> 7.1489251 | J98: ='3.deposits individuals'!J98+'4.deposits legal entities'!J98 -> 123053.3 | K98: =('3.deposits individuals'!J98*'3.deposits individuals'!K98+'4.deposits legal entities'!J98*'4.deposits legal entities'!K98)/('3.deposits individuals'!J98+'4.deposits legal entities'!J98) -> 9.4057056 | L98: ='3.deposits individuals'!L98+'4.deposits legal entities'!L98 -> 213604.1 | M98: =('3.deposits individuals'!L98*'3.deposits individuals'!M98+'4.deposits legal entities'!L98*'4.deposits legal entities'!M98)/('3.deposits individuals'!L98+'4.deposits legal entities'!L98) -> 8.3011273 | N98: ='3.deposits individuals'!N98+'4.deposits legal entities'!N98 -> 265580.6 | O98: =('3.deposits individuals'!N98*'3.deposits individuals'!O98+'4.deposits legal entities'!N98*'4.deposits legal entities'!O98)/('3.deposits individuals'!N98+'4.deposits legal entities'!N98) -> 9.1366159 | P98: ='3.deposits individuals'!P98+'4.deposits legal entities'!P98 -> 268814.2 | Q98: =('3.deposits individuals'!P98*'3.deposits individuals'!Q98+'4.deposits legal entities'!P98*'4.deposits legal entities'!Q98)/('3.deposits individuals'!P98+'4.deposits legal entities'!P98) -> 10.596205 | R98: ='3.deposits individuals'!R98+'4.deposits legal entities'!R98 -> 411906.8 | S98: =('3.deposits individuals'!R98*'3.deposits individuals'!S98+'4.deposits legal entities'!R98*'4.deposits legal entities'!S98)/('3.deposits individuals'!R98+'4.deposits legal entities'!R98) -> 3.565348 | T98: ='3.deposits individuals'!T98+'4.deposits legal entities'!T98 -> 84010 | U98: =('3.deposits individuals'!T98*'3.deposits individuals'!U98+'4.deposits legal entities'!T98*'4.deposits legal entities'!U98)/('3.deposits individuals'!T98+'4.deposits legal entities'!T98) -> 1.17
A99: July | B99: ='3.deposits individuals'!B99+'4.deposits legal entities'!B99 -> 4114661.2 | C99: =('3.deposits individuals'!B99*'3.deposits individuals'!C99+'4.deposits legal entities'!B99*'4.deposits legal entities'!C99)/('3.deposits individuals'!B99+'4.deposits legal entities'!B99) -> 2.7601055 | F99: ='3.deposits individuals'!F99+'4.deposits legal entities'!F99 -> 2673683 | G99: =('3.deposits individuals'!F99*'3.deposits individuals'!G99+'4.deposits legal entities'!F99*'4.deposits legal entities'!G99)/('3.deposits individuals'!F99+'4.deposits legal entities'!F99) -> 0.47637827 | H99: =J99+L99+N99+P99+R99+T99 -> 1440978.2 | I99: =(J99*K99+L99*M99+N99*O99+P99*Q99+R99*S99+T99*U99)/(J99+L99+N99+P99+R99+T99) -> 6.9974788 | J99: ='3.deposits individuals'!J99+'4.deposits legal entities'!J99 -> 138854.5 | K99: =('3.deposits individuals'!J99*'3.deposits individuals'!K99+'4.deposits legal entities'!J99*'4.deposits legal entities'!K99)/('3.deposits individuals'!J99+'4.deposits legal entities'!J99) -> 8.0408172 | L99: ='3.deposits individuals'!L99+'4.deposits legal entities'!L99 -> 262376.9 | M99: =('3.deposits individuals'!L99*'3.deposits individuals'!M99+'4.deposits legal entities'!L99*'4.deposits legal entities'!M99)/('3.deposits individuals'!L99+'4.deposits legal entities'!L99) -> 8.383016 | N99: ='3.deposits individuals'!N99+'4.deposits legal entities'!N99 -> 214181.7 | O99: =('3.deposits individuals'!N99*'3.deposits individuals'!O99+'4.deposits legal entities'!N99*'4.deposits legal entities'!O99)/('3.deposits individuals'!N99+'4.deposits legal entities'!N99) -> 9.1090445 | P99: ='3.deposits individuals'!P99+'4.deposits legal entities'!P99 -> 303710 | Q99: =('3.deposits individuals'!P99*'3.deposits individuals'!Q99+'4.deposits legal entities'!P99*'4.deposits legal entities'!Q99)/('3.deposits individuals'!P99+'4.deposits legal entities'!P99) -> 10.254916 | R99: ='3.deposits individuals'!R99+'4.deposits legal entities'!R99 -> 461061.1 | S99: =('3.deposits individuals'!R99*'3.deposits individuals'!S99+'4.deposits legal entities'!R99*'4.deposits legal entities'!S99)/('3.deposits individuals'!R99+'4.deposits legal entities'!R99) -> 3.5259912 | T99: ='3.deposits individuals'!T99+'4.deposits legal entities'!T99 -> 60794 | U99: =('3.deposits individuals'!T99*'3.deposits individuals'!U99+'4.deposits legal entities'!T99*'4.deposits legal entities'!U99)/('3.deposits individuals'!T99+'4.deposits legal entities'!T99) -> 1.25
A100: August | B100: ='3.deposits individuals'!B100+'4.deposits legal entities'!B100 -> 4234963.6 | C100: =('3.deposits individuals'!B100*'3.deposits individuals'!C100+'4.deposits legal entities'!B100*'4.deposits legal entities'!C100)/('3.deposits individuals'!B100+'4.deposits legal entities'!B100) -> 2.5555636 | F100: ='3.deposits individuals'!F100+'4.deposits legal entities'!F100 -> 2811547.5 | G100: =('3.deposits individuals'!F100*'3.deposits individuals'!G100+'4.deposits legal entities'!F100*'4.deposits legal entities'!G100)/('3.deposits individuals'!F100+'4.deposits legal entities'!F100) -> 0.42267938 | H100: =J100+L100+N100+P100+R100+T100 -> 1423416.1 | I100: =(J100*K100+L100*M100+N100*O100+P100*Q100+R100*S100+T100*U100)/(J100+L100+N100+P100+R100+T100) -> 6.7684606 | J100: ='3.deposits individuals'!J100+'4.deposits legal entities'!J100 -> 155091.3 | K100: =('3.deposits individuals'!J100*'3.deposits individuals'!K100+'4.deposits legal entities'!J100*'4.deposits legal entities'!K100)/('3.deposits individuals'!J100+'4.deposits legal entities'!J100) -> 7.0434217 | L100: ='3.deposits individuals'!L100+'4.deposits legal entities'!L100 -> 227942 | M100: =('3.deposits individuals'!L100*'3.deposits individuals'!M100+'4.deposits legal entities'!L100*'4.deposits legal entities'!M100)/('3.deposits individuals'!L100+'4.deposits legal entities'!L100) -> 8.0643346 | N100: ='3.deposits individuals'!N100+'4.deposits legal entities'!N100 -> 222140.8 | O100: =('3.deposits individuals'!N100*'3.deposits individuals'!O100+'4.deposits legal entities'!N100*'4.deposits legal entities'!O100)/('3.deposits individuals'!N100+'4.deposits legal entities'!N100) -> 9.2146497 | P100: ='3.deposits individuals'!P100+'4.deposits legal entities'!P100 -> 303551.9 | Q100: =('3.deposits individuals'!P100*'3.deposits individuals'!Q100+'4.deposits legal entities'!P100*'4.deposits legal entities'!Q100)/('3.deposits individuals'!P100+'4.deposits legal entities'!P100) -> 9.8030986 | R100: ='3.deposits individuals'!R100+'4.deposits legal entities'!R100 -> 455481.1 | S100: =('3.deposits individuals'!R100*'3.deposits individuals'!S100+'4.deposits legal entities'!R100*'4.deposits legal entities'!S100)/('3.deposits individuals'!R100+'4.deposits legal entities'!R100) -> 3.528251 | T100: ='3.deposits individuals'!T100+'4.deposits legal entities'!T100 -> 59209 | U100: =('3.deposits individuals'!T100*'3.deposits individuals'!U100+'4.deposits legal entities'!T100*'4.deposits legal entities'!U100)/('3.deposits individuals'!T100+'4.deposits legal entities'!T100) -> 1.25
A101: September | B101: ='3.deposits individuals'!B101+'4.deposits legal entities'!B101 -> 4285061.9 | C101: =('3.deposits individuals'!B101*'3.deposits individuals'!C101+'4.deposits legal entities'!B101*'4.deposits legal entities'!C101)/('3.deposits individuals'!B101+'4.deposits legal entities'!B101) -> 2.5529999 | F101: ='3.deposits individuals'!F101+'4.deposits legal entities'!F101 -> 2810934 | G101: =('3.deposits individuals'!F101*'3.deposits individuals'!G101+'4.deposits legal entities'!F101*'4.deposits legal entities'!G101)/('3.deposits individuals'!F101+'4.deposits legal entities'!F101) -> 0.40938373 | H101: =J101+L101+N101+P101+R101+T101 -> 1474127.9 | I101: =(J101*K101+L101*M101+N101*O101+P101*Q101+R101*S101+T101*U101)/(J101+L101+N101+P101+R101+T101) -> 6.6405447 | J101: ='3.deposits individuals'!J101+'4.deposits legal entities'!J101 -> 171562.2 | K101: =('3.deposits individuals'!J101*'3.deposits individuals'!K101+'4.deposits legal entities'!J101*'4.deposits legal entities'!K101)/('3.deposits individuals'!J101+'4.deposits legal entities'!J101) -> 8.4784374 | L101: ='3.deposits individuals'!L101+'4.deposits legal entities'!L101 -> 233416.1 | M101: =('3.deposits individuals'!L101*'3.deposits individuals'!M101+'4.deposits legal entities'!L101*'4.deposits legal entities'!M101)/('3.deposits individuals'!L101+'4.deposits legal entities'!L101) -> 6.9989161 | N101: ='3.deposits individuals'!N101+'4.deposits legal entities'!N101 -> 203938 | O101: =('3.deposits individuals'!N101*'3.deposits individuals'!O101+'4.deposits legal entities'!N101*'4.deposits legal entities'!O101)/('3.deposits individuals'!N101+'4.deposits legal entities'!N101) -> 9.7802381 | P101: ='3.deposits individuals'!P101+'4.deposits legal entities'!P101 -> 311552.9 | Q101: =('3.deposits individuals'!P101*'3.deposits individuals'!Q101+'4.deposits legal entities'!P101*'4.deposits legal entities'!Q101)/('3.deposits individuals'!P101+'4.deposits legal entities'!P101) -> 9.638158 | R101: ='3.deposits individuals'!R101+'4.deposits legal entities'!R101 -> 553658.7 | S101: =('3.deposits individuals'!R101*'3.deposits individuals'!S101+'4.deposits legal entities'!R101*'4.deposits legal entities'!S101)/('3.deposits individuals'!R101+'4.deposits legal entities'!R101) -> 3.0766514
A102: October | B102: ='3.deposits individuals'!B102+'4.deposits legal entities'!B102 -> 4599377.1 | C102: =('3.deposits individuals'!B102*'3.deposits individuals'!C102+'4.deposits legal entities'!B102*'4.deposits legal entities'!C102)/('3.deposits individuals'!B102+'4.deposits legal entities'!B102) -> 2.5957736 | F102: ='3.deposits individuals'!F102+'4.deposits legal entities'!F102 -> 3100798.4 | G102: =('3.deposits individuals'!F102*'3.deposits individuals'!G102+'4.deposits legal entities'!F102*'4.deposits legal entities'!G102)/('3.deposits individuals'!F102+'4.deposits legal entities'!F102) -> 0.57948034 | H102: =J102+L102+N102+P102+R102+T102 -> 1498578.7 | I102: =(J102*K102+L102*M102+N102*O102+P102*Q102+R102*S102+T102*U102)/(J102+L102+N102+P102+R102+T102) -> 6.7678061 | J102: ='3.deposits individuals'!J102+'4.deposits legal entities'!J102 -> 144098.6 | K102: =('3.deposits individuals'!J102*'3.deposits individuals'!K102+'4.deposits legal entities'!J102*'4.deposits legal entities'!K102)/('3.deposits individuals'!J102+'4.deposits legal entities'!J102) -> 8.2597546 | L102: ='3.deposits individuals'!L102+'4.deposits legal entities'!L102 -> 253679.2 | M102: =('3.deposits individuals'!L102*'3.deposits individuals'!M102+'4.deposits legal entities'!L102*'4.deposits legal entities'!M102)/('3.deposits individuals'!L102+'4.deposits legal entities'!L102) -> 7.1905643 | N102: ='3.deposits individuals'!N102+'4.deposits legal entities'!N102 -> 260500.9 | O102: =('3.deposits individuals'!N102*'3.deposits individuals'!O102+'4.deposits legal entities'!N102*'4.deposits legal entities'!O102)/('3.deposits individuals'!N102+'4.deposits legal entities'!N102) -> 9.7535435 | P102: ='3.deposits individuals'!P102+'4.deposits legal entities'!P102 -> 293955.5 | Q102: =('3.deposits individuals'!P102*'3.deposits individuals'!Q102+'4.deposits legal entities'!P102*'4.deposits legal entities'!Q102)/('3.deposits individuals'!P102+'4.deposits legal entities'!P102) -> 9.8172932 | R102: ='3.deposits individuals'!R102+'4.deposits legal entities'!R102 -> 546344.5 | S102: =('3.deposits individuals'!R102*'3.deposits individuals'!S102+'4.deposits legal entities'!R102*'4.deposits legal entities'!S102)/('3.deposits individuals'!R102+'4.deposits legal entities'!R102) -> 3.1136402
A103: November | B103: ='3.deposits individuals'!B103+'4.deposits legal entities'!B103 -> 4792161.4 | C103: =('3.deposits individuals'!B103*'3.deposits individuals'!C103+'4.deposits legal entities'!B103*'4.deposits legal entities'!C103)/('3.deposits individuals'!B103+'4.deposits legal entities'!B103) -> 2.5158095 | F103: ='3.deposits individuals'!F103+'4.deposits legal entities'!F103 -> 3210907.9 | G103: =('3.deposits individuals'!F103*'3.deposits individuals'!G103+'4.deposits legal entities'!F103*'4.deposits legal entities'!G103)/('3.deposits individuals'!F103+'4.deposits legal entities'!F103) -> 0.45240042 | H103: =J103+L103+N103+P103+R103+T103 -> 1581253.5 | I103: =(J103*K103+L103*M103+N103*O103+P103*Q103+R103*S103+T103*U103)/(J103+L103+N103+P103+R103+T103) -> 6.7057871 | J103: ='3.deposits individuals'!J103+'4.deposits legal entities'!J103 -> 158742.1 | K103: =('3.deposits individuals'!J103*'3.deposits individuals'!K103+'4.deposits legal entities'!J103*'4.deposits legal entities'!K103)/('3.deposits individuals'!J103+'4.deposits legal entities'!J103) -> 7.5713606 | L103: ='3.deposits individuals'!L103+'4.deposits legal entities'!L103 -> 233892.2 | M103: =('3.deposits individuals'!L103*'3.deposits individuals'!M103+'4.deposits legal entities'!L103*'4.deposits legal entities'!M103)/('3.deposits individuals'!L103+'4.deposits legal entities'!L103) -> 8.7210754 | N103: ='3.deposits individuals'!N103+'4.deposits legal entities'!N103 -> 271501.2 | O103: =('3.deposits individuals'!N103*'3.deposits individuals'!O103+'4.deposits legal entities'!N103*'4.deposits legal entities'!O103)/('3.deposits individuals'!N103+'4.deposits legal entities'!N103) -> 9.0107406 | P103: ='3.deposits individuals'!P103+'4.deposits legal entities'!P103 -> 304261.2 | Q103: =('3.deposits individuals'!P103*'3.deposits individuals'!Q103+'4.deposits legal entities'!P103*'4.deposits legal entities'!Q103)/('3.deposits individuals'!P103+'4.deposits legal entities'!P103) -> 9.3857253 | R103: ='3.deposits individuals'!R103+'4.deposits legal entities'!R103 -> 612856.8 | S103: =('3.deposits individuals'!R103*'3.deposits individuals'!S103+'4.deposits legal entities'!R103*'4.deposits legal entities'!S103)/('3.deposits individuals'!R103+'4.deposits legal entities'!R103) -> 3.3608588
A104: December | B104: ='3.deposits individuals'!B104+'4.deposits legal entities'!B104 -> 5018663.5 | C104: =('3.deposits individuals'!B104*'3.deposits individuals'!C104+'4.deposits legal entities'!B104*'4.deposits legal entities'!C104)/('3.deposits individuals'!B104+'4.deposits legal entities'!B104) -> 2.6856665 | F104: ='3.deposits individuals'!F104+'4.deposits legal entities'!F104 -> 3408202.7 | G104: =('3.deposits individuals'!F104*'3.deposits individuals'!G104+'4.deposits legal entities'!F104*'4.deposits legal entities'!G104)/('3.deposits individuals'!F104+'4.deposits legal entities'!F104) -> 0.38492642 | H104: =J104+L104+N104+P104+R104+T104 -> 1610460.8 | I104: =(J104*K104+L104*M104+N104*O104+P104*Q104+R104*S104+T104*U104)/(J104+L104+N104+P104+R104+T104) -> 7.5547005 | J104: ='3.deposits individuals'!J104+'4.deposits legal entities'!J104 -> 140616.8 | K104: =('3.deposits individuals'!J104*'3.deposits individuals'!K104+'4.deposits legal entities'!J104*'4.deposits legal entities'!K104)/('3.deposits individuals'!J104+'4.deposits legal entities'!J104) -> 8.379923 | L104: ='3.deposits individuals'!L104+'4.deposits legal entities'!L104 -> 223091.5 | M104: =('3.deposits individuals'!L104*'3.deposits individuals'!M104+'4.deposits legal entities'!L104*'4.deposits legal entities'!M104)/('3.deposits individuals'!L104+'4.deposits legal entities'!L104) -> 8.0097675 | N104: ='3.deposits individuals'!N104+'4.deposits legal entities'!N104 -> 305001.4 | O104: =('3.deposits individuals'!N104*'3.deposits individuals'!O104+'4.deposits legal entities'!N104*'4.deposits legal entities'!O104)/('3.deposits individuals'!N104+'4.deposits legal entities'!N104) -> 8.6836217 | P104: ='3.deposits individuals'!P104+'4.deposits legal entities'!P104 -> 322537.9 | Q104: =('3.deposits individuals'!P104*'3.deposits individuals'!Q104+'4.deposits legal entities'!P104*'4.deposits legal entities'!Q104)/('3.deposits individuals'!P104+'4.deposits legal entities'!P104) -> 9.2319272 | R104: ='3.deposits individuals'!R104+'4.deposits legal entities'!R104 -> 618020.6 | S104: =('3.deposits individuals'!R104*'3.deposits individuals'!S104+'4.deposits legal entities'!R104*'4.deposits legal entities'!S104)/('3.deposits individuals'!R104+'4.deposits legal entities'!R104) -> 5.7727463 | T104: ='3.deposits individuals'!T104+'4.deposits legal entities'!T104 -> 1192.6 | U104: =('3.deposits individuals'!T104*'3.deposits individuals'!U104+'4.deposits legal entities'!T104*'4.deposits legal entities'!U104)/('3.deposits individuals'!T104+'4.deposits legal entities'!T104) -> 6.2390324
A105: January 2004 | B105: ='3.deposits individuals'!B105+'4.deposits legal entities'!B105 -> 5254798.8 | C105: =('3.deposits individuals'!B105*'3.deposits individuals'!C105+'4.deposits legal entities'!B105*'4.deposits legal entities'!C105)/('3.deposits individuals'!B105+'4.deposits legal entities'!B105) -> 2.7434423 | F105: ='3.deposits individuals'!F105+'4.deposits legal entities'!F105 -> 3651984 | G105: =('3.deposits individuals'!F105*'3.deposits individuals'!G105+'4.deposits legal entities'!F105*'4.deposits legal entities'!G105)/('3.deposits individuals'!F105+'4.deposits legal entities'!F105) -> 0.69538043 | H105: =J105+L105+N105+P105+R105+T105 -> 1602814.8 | I105: =(J105*K105+L105*M105+N105*O105+P105*Q105+R105*S105+T105*U105)/(J105+L105+N105+P105+R105+T105) -> 7.4099136 | J105: ='3.deposits individuals'!J105+'4.deposits legal entities'!J105 -> 145374.9 | K105: =('3.deposits individuals'!J105*'3.deposits individuals'!K105+'4.deposits legal entities'!J105*'4.deposits legal entities'!K105)/('3.deposits individuals'!J105+'4.deposits legal entities'!J105) -> 8.9685305 | L105: ='3.deposits individuals'!L105+'4.deposits legal entities'!L105 -> 287369.8 | M105: =('3.deposits individuals'!L105*'3.deposits individuals'!M105+'4.deposits legal entities'!L105*'4.deposits legal entities'!M105)/('3.deposits individuals'!L105+'4.deposits legal entities'!L105) -> 7.3148362 | N105: ='3.deposits individuals'!N105+'4.deposits legal entities'!N105 -> 272491.6 | O105: =('3.deposits individuals'!N105*'3.deposits individuals'!O105+'4.deposits legal entities'!N105*'4.deposits legal entities'!O105)/('3.deposits individuals'!N105+'4.deposits legal entities'!N105) -> 8.6359103 | P105: ='3.deposits individuals'!P105+'4.deposits legal entities'!P105 -> 338772 | Q105: =('3.deposits individuals'!P105*'3.deposits individuals'!Q105+'4.deposits legal entities'!P105*'4.deposits legal entities'!Q105)/('3.deposits individuals'!P105+'4.deposits legal entities'!P105) -> 9.4020871 | R105: ='3.deposits individuals'!R105+'4.deposits legal entities'!R105 -> 558806.5 | S105: =('3.deposits individuals'!R105*'3.deposits individuals'!S105+'4.deposits legal entities'!R105*'4.deposits legal entities'!S105)/('3.deposits individuals'!R105+'4.deposits legal entities'!R105) -> 5.2477559
A106: February | B106: ='3.deposits individuals'!B106+'4.deposits legal entities'!B106 -> 5573933.6 | C106: =('3.deposits individuals'!B106*'3.deposits individuals'!C106+'4.deposits legal entities'!B106*'4.deposits legal entities'!C106)/('3.deposits individuals'!B106+'4.deposits legal entities'!B106) -> 2.7211599 | F106: ='3.deposits individuals'!F106+'4.deposits legal entities'!F106 -> 3907057 | G106: =('3.deposits individuals'!F106*'3.deposits individuals'!G106+'4.deposits legal entities'!F106*'4.deposits legal entities'!G106)/('3.deposits individuals'!F106+'4.deposits legal entities'!F106) -> 0.78448111 | H106: =J106+L106+N106+P106+R106+T106 -> 1666876.6 | I106: =(J106*K106+L106*M106+N106*O106+P106*Q106+R106*S106+T106*U106)/(J106+L106+N106+P106+R106+T106) -> 7.2606168 | J106: ='3.deposits individuals'!J106+'4.deposits legal entities'!J106 -> 126355 | K106: =('3.deposits individuals'!J106*'3.deposits individuals'!K106+'4.deposits legal entities'!J106*'4.deposits legal entities'!K106)/('3.deposits individuals'!J106+'4.deposits legal entities'!J106) -> 7.3407475 | L106: ='3.deposits individuals'!L106+'4.deposits legal entities'!L106 -> 294414.7 | M106: =('3.deposits individuals'!L106*'3.deposits individuals'!M106+'4.deposits legal entities'!L106*'4.deposits legal entities'!M106)/('3.deposits individuals'!L106+'4.deposits legal entities'!L106) -> 7.6316708 | N106: ='3.deposits individuals'!N106+'4.deposits legal entities'!N106 -> 311834.9 | O106: =('3.deposits individuals'!N106*'3.deposits individuals'!O106+'4.deposits legal entities'!N106*'4.deposits legal entities'!O106)/('3.deposits individuals'!N106+'4.deposits legal entities'!N106) -> 8.3250937 | P106: ='3.deposits individuals'!P106+'4.deposits legal entities'!P106 -> 328287 | Q106: =('3.deposits individuals'!P106*'3.deposits individuals'!Q106+'4.deposits legal entities'!P106*'4.deposits legal entities'!Q106)/('3.deposits individuals'!P106+'4.deposits legal entities'!P106) -> 9.5888341 | R106: ='3.deposits individuals'!R106+'4.deposits legal entities'!R106 -> 605985 | S106: =('3.deposits individuals'!R106*'3.deposits individuals'!S106+'4.deposits legal entities'!R106*'4.deposits legal entities'!S106)/('3.deposits individuals'!R106+'4.deposits legal entities'!R106) -> 5.2545718
A107: March | B107: ='3.deposits individuals'!B107+'4.deposits legal entities'!B107 -> 5331882.4 | C107: =('3.deposits individuals'!B107*'3.deposits individuals'!C107+'4.deposits legal entities'!B107*'4.deposits legal entities'!C107)/('3.deposits individuals'!B107+'4.deposits legal entities'!B107) -> 2.7267924 | F107: ='3.deposits individuals'!F107+'4.deposits legal entities'!F107 -> 3561363.5 | G107: =('3.deposits individuals'!F107*'3.deposits individuals'!G107+'4.deposits legal entities'!F107*'4.deposits legal entities'!G107)/('3.deposits individuals'!F107+'4.deposits legal entities'!F107) -> 0.42857163 | H107: =J107+L107+N107+P107+R107+T107 -> 1770518.9 | I107: =(J107*K107+L107*M107+N107*O107+P107*Q107+R107*S107+T107*U107)/(J107+L107+N107+P107+R107+T107) -> 7.3496178 | J107: ='3.deposits individuals'!J107+'4.deposits legal entities'!J107 -> 198810.6 | K107: =('3.deposits individuals'!J107*'3.deposits individuals'!K107+'4.deposits legal entities'!J107*'4.deposits legal entities'!K107)/('3.deposits individuals'!J107+'4.deposits legal entities'!J107) -> 7.3116126 | L107: ='3.deposits individuals'!L107+'4.deposits legal entities'!L107 -> 279236.2 | M107: =('3.deposits individuals'!L107*'3.deposits individuals'!M107+'4.deposits legal entities'!L107*'4.deposits legal entities'!M107)/('3.deposits individuals'!L107+'4.deposits legal entities'!L107) -> 6.7684516 | N107: ='3.deposits individuals'!N107+'4.deposits legal entities'!N107 -> 281971.1 | O107: =('3.deposits individuals'!N107*'3.deposits individuals'!O107+'4.deposits legal entities'!N107*'4.deposits legal entities'!O107)/('3.deposits individuals'!N107+'4.deposits legal entities'!N107) -> 8.957961 | P107: ='3.deposits individuals'!P107+'4.deposits legal entities'!P107 -> 360764.9 | Q107: =('3.deposits individuals'!P107*'3.deposits individuals'!Q107+'4.deposits legal entities'!P107*'4.deposits legal entities'!Q107)/('3.deposits individuals'!P107+'4.deposits legal entities'!P107) -> 9.8555734 | R107: ='3.deposits individuals'!R107+'4.deposits legal entities'!R107 -> 649736.1 | S107: =('3.deposits individuals'!R107*'3.deposits individuals'!S107+'4.deposits legal entities'!R107*'4.deposits legal entities'!S107)/('3.deposits individuals'!R107+'4.deposits legal entities'!R107) -> 5.5216007
A108: April | B108: ='3.deposits individuals'!B108+'4.deposits legal entities'!B108 -> 5661295.6 | C108: =('3.deposits individuals'!B108*'3.deposits individuals'!C108+'4.deposits legal entities'!B108*'4.deposits legal entities'!C108)/('3.deposits individuals'!B108+'4.deposits legal entities'!B108) -> 2.5867336 | F108: ='3.deposits individuals'!F108+'4.deposits legal entities'!F108 -> 3888338.8 | G108: =('3.deposits individuals'!F108*'3.deposits individuals'!G108+'4.deposits legal entities'!F108*'4.deposits legal entities'!G108)/('3.deposits individuals'!F108+'4.deposits legal entities'!F108) -> 0.43945391 | H108: =J108+L108+N108+P108+R108+T108 -> 1772956.8 | I108: =(J108*K108+L108*M108+N108*O108+P108*Q108+R108*S108+T108*U108)/(J108+L108+N108+P108+R108+T108) -> 7.2960142 | J108: ='3.deposits individuals'!J108+'4.deposits legal entities'!J108 -> 131027.1 | K108: =('3.deposits individuals'!J108*'3.deposits individuals'!K108+'4.deposits legal entities'!J108*'4.deposits legal entities'!K108)/('3.deposits individuals'!J108+'4.deposits legal entities'!J108) -> 7.2166255 | L108: ='3.deposits individuals'!L108+'4.deposits legal entities'!L108 -> 322977.5 | M108: =('3.deposits individuals'!L108*'3.deposits individuals'!M108+'4.deposits legal entities'!L108*'4.deposits legal entities'!M108)/('3.deposits individuals'!L108+'4.deposits legal entities'!L108) -> 6.6702724 | N108: ='3.deposits individuals'!N108+'4.deposits legal entities'!N108 -> 302250.2 | O108: =('3.deposits individuals'!N108*'3.deposits individuals'!O108+'4.deposits legal entities'!N108*'4.deposits legal entities'!O108)/('3.deposits individuals'!N108+'4.deposits legal entities'!N108) -> 8.9688312 | P108: ='3.deposits individuals'!P108+'4.deposits legal entities'!P108 -> 375386.7 | Q108: =('3.deposits individuals'!P108*'3.deposits individuals'!Q108+'4.deposits legal entities'!P108*'4.deposits legal entities'!Q108)/('3.deposits individuals'!P108+'4.deposits legal entities'!P108) -> 9.59449 | R108: ='3.deposits individuals'!R108+'4.deposits legal entities'!R108 -> 641315.3 | S108: =('3.deposits individuals'!R108*'3.deposits individuals'!S108+'4.deposits legal entities'!R108*'4.deposits legal entities'!S108)/('3.deposits individuals'!R108+'4.deposits legal entities'!R108) -> 5.4935874
