Workbook

Sheet 1.total deposits
A1: "Statistics" section / "Banking statistics" / "Commercial banks' deposits, as of the end of period"
A3: Table 1. Total volume and average weighted interest rates of deposits in acting commercial banks (the end of period)
A5: (ths of soms / percent)
A6: Period | B6: Total volume | C6: Average weighted interest rate | D6: of which:
D7: in national currency | F7: in foreign currency
C8: ставка | D8: volume | E8: average weighted interest rate | F8: volume | G8: average weighted interest rate
A9: January 1996 | B9: =D9+F9 -> 356635.6 | C9: =(D9*E9+F9*G9)/(D9+F9) -> 22.951274 | D9: ='6.deposits by maturity NC'!B9 -> 235164.8 | E9: ='6.deposits by maturity NC'!C9 -> 28.422674 | F9: ='10.deposits by maturity FC'!B9 -> 121470.8 | G9: ='10.deposits by maturity FC'!C9 -> 12.358763
A10: February | B10: =D10+F10 -> 431197.7 | C10: =(D10*E10+F10*G10)/(D10+F10) -> 20.448335 | D10: ='6.deposits by maturity NC'!B10 -> 298119.3 | E10: ='6.deposits by maturity NC'!C10 -> 24.767898 | F10: ='10.deposits by maturity FC'!B10 -> 133078.4 | G10: ='10.deposits by maturity FC'!C10 -> 10.771746
A11: March | B11: =D11+F11 -> 547935.9 | C11: =(D11*E11+F11*G11)/(D11+F11) -> 16.923477 | D11: ='6.deposits by maturity NC'!B11 -> 389434.2 | E11: ='6.deposits by maturity NC'!C11 -> 17.787702 | F11: ='10.deposits by maturity FC'!B11 -> 158501.7 | G11: ='10.deposits by maturity FC'!C11 -> 14.800099
A12: April | B12: =D12+F12 -> 764634.7 | C12: =(D12*E12+F12*G12)/(D12+F12) -> 12.261244 | D12: ='6.deposits by maturity NC'!B12 -> 583944.3 | E12: ='6.deposits by maturity NC'!C12 -> 11.613944 | F12: ='10.deposits by maturity FC'!B12 -> 180690.4 | G12: ='10.deposits by maturity FC'!C12 -> 14.353148
A13: May | B13: =D13+F13 -> 514295.1 | C13: =(D13*E13+F13*G13)/(D13+F13) -> 16.102905 | D13: ='6.deposits by maturity NC'!B13 -> 348348.9 | E13: ='6.deposits by maturity NC'!C13 -> 15.778603 | F13: ='10.deposits by maturity FC'!B13 -> 165946.2 | G13: ='10.deposits by maturity FC'!C13 -> 16.783671
A14: June | B14: =D14+F14 -> 550400.8 | C14: =(D14*E14+F14*G14)/(D14+F14) -> 15.187572 | D14: ='6.deposits by maturity NC'!B14 -> 422538.5 | E14: ='6.deposits by maturity NC'!C14 -> 14.975184 | F14: ='10.deposits by maturity FC'!B14 -> 127862.3 | G14: ='10.deposits by maturity FC'!C14 -> 15.88944
A15: July | B15: =D15+F15 -> 740365.3 | C15: =(D15*E15+F15*G15)/(D15+F15) -> 11.186106 | D15: ='6.deposits by maturity NC'!B15 -> 503768.8 | E15: ='6.deposits by maturity NC'!C15 -> 12.343408 | F15: ='10.deposits by maturity FC'!B15 -> 236596.5 | G15: ='10.deposits by maturity FC'!C15 -> 8.7219435
A16: August | B16: =D16+F16 -> 665643.9 | C16: =(D16*E16+F16*G16)/(D16+F16) -> 12.473021 | D16: ='6.deposits by maturity NC'!B16 -> 448908.2 | E16: ='6.deposits by maturity NC'!C16 -> 14.081075 | F16: ='10.deposits by maturity FC'!B16 -> 216735.7 | G16: ='10.deposits by maturity FC'!C16 -> 9.1423802
A17: September | B17: =D17+F17 -> 682368.7 | C17: =(D17*E17+F17*G17)/(D17+F17) -> 13.293665 | D17: ='6.deposits by maturity NC'!B17 -> 426418.2 | E17: ='6.deposits by maturity NC'!C17 -> 16.451625 | F17: ='10.deposits by maturity FC'!B17 -> 255950.5 | G17: ='10.deposits by maturity FC'!C17 -> 8.0324454
A18: October | B18: =D18+F18 -> 854244.4 | C18: =(D18*E18+F18*G18)/(D18+F18) -> 10.796218 | D18: ='6.deposits by maturity NC'!B18 -> 456755.5 | E18: ='6.deposits by maturity NC'!C18 -> 15.023193 | F18: ='10.deposits by maturity FC'!B18 -> 397488.9 | G18: ='10.deposits by maturity FC'!C18 -> 5.9389892
A19: November | B19: =D19+F19 -> 850056.5 | C19: =(D19*E19+F19*G19)/(D19+F19) -> 11.957075 | D19: ='6.deposits by maturity NC'!B19 -> 463683.6 | E19: ='6.deposits by maturity NC'!C19 -> 16.201452 | F19: ='10.deposits by maturity FC'!B19 -> 386372.9 | G19: ='10.deposits by maturity FC'!C19 -> 6.8634269
A20: December | B20: =D20+F20 -> 874677.4 | C20: =(D20*E20+F20*G20)/(D20+F20) -> 11.703016 | D20: ='6.deposits by maturity NC'!B20 -> 483932.4 | E20: ='6.deposits by maturity NC'!C20 -> 15.573179 | F20: ='10.deposits by maturity FC'!B20 -> 390745 | G20: ='10.deposits by maturity FC'!C20 -> 6.9098715
... A380: December | B380: =D380+F380 -> 0 | C380: =(D380*E380+F380*G380)/(D380+F380) -> #DIV/0! | D380: ='6.deposits by maturity NC'!B380 -> 0 | E380: ='6.deposits by maturity NC'!C380 -> #DIV/0! | F380: ='10.deposits by maturity FC'!B380 -> 0 | G380: ='10.deposits by maturity FC'!C380 -> #DIV/0!
A382: * data is given without consideration of "AsiaUniversalBank" OJS due to withdrawal of license
A383: **- preliminary data

Sheet 2.deposits by maturity
A1: "Statistics" section / "Banking statistics" / "Commercial banks' deposits, as of the end of period"
A3: Table 2. Total volume and average weighted interest rates of deposits in commercial banks (the end of period)
A5: (ths of soms / percent)
A6: Period | B6: Total volume | C6: Average weighted interest rate | D6: Settlement accounts* | F6: Demand deposits | H6: Time deposits | J6: of which, by maturity:
J7: 0 - 1 month | L7: 1 - 3 months | N7: 3 - 6 months | P7: 6 - 12 months | R7: 1 - 3 years | T7: more than 3 years
C8: ставка | D8: volume | E8: average weighted interest rate | F8: volume | G8: average weighted interest rate | H8: volume | I8: average weighted interest rate | J8: volume | K8: average weighted interest rate | L8: volume | M8: average weighted interest rate | N8: volume | O8: average weighted interest rate | P8: volume | Q8: average weighted interest rate | R8: volume | S8: average weighted interest rate | T8: volume | U8: average weighted interest rate
A9: January 1996 | B9: ='3.deposits individuals'!B9+'4.deposits legal entities'!B9 -> 356635.6 | C9: =('3.deposits individuals'!B9*'3.deposits individuals'!C9+'4.deposits legal entities'!B9*'4.deposits legal entities'!C9)/('3.deposits individuals'!B9+'4.deposits legal entities'!B9) -> 22.951274 | F9: ='3.deposits individuals'!F9+'4.deposits legal entities'!F9 -> 139312.2 | G9: =('3.deposits individuals'!F9*'3.deposits individuals'!G9+'4.deposits legal entities'!F9*'4.deposits legal entities'!G9)/('3.deposits individuals'!F9+'4.deposits legal entities'!F9) -> 8.7794117 | H9: =J9+L9+N9+P9+R9+T9 -> 217323.4 | I9: =(J9*K9+L9*M9+N9*O9+P9*Q9+R9*S9+T9*U9)/(J9+L9+N9+P9+R9+T9) -> 32.035953 | J9: ='3.deposits individuals'!J9+'4.deposits legal entities'!J9 -> 18456.2 | K9: =('3.deposits individuals'!J9*'3.deposits individuals'!K9+'4.deposits legal entities'!J9*'4.deposits legal entities'!K9)/('3.deposits individuals'!J9+'4.deposits legal entities'!J9) -> 31.556716 | L9: ='3.deposits individuals'!L9+'4.deposits legal entities'!L9 -> 65410.3 | M9: =('3.deposits individuals'!L9*'3.deposits individuals'!M9+'4.deposits legal entities'!L9*'4.deposits legal entities'!M9)/('3.deposits individuals'!L9+'4.deposits legal entities'!L9) -> 29.444254 | N9: ='3.deposits individuals'!N9+'4.deposits legal entities'!N9 -> 77058.1 | O9: =('3.deposits individuals'!N9*'3.deposits individuals'!O9+'4.deposits legal entities'!N9*'4.deposits legal entities'!O9)/('3.deposits individuals'!N9+'4.deposits legal entities'!N9) -> 35.723914 | P9: ='3.deposits individuals'!P9+'4.deposits legal entities'!P9 -> 37489.7 | Q9: =('3.deposits individuals'!P9*'3.deposits individuals'!Q9+'4.deposits legal entities'!P9*'4.deposits legal entities'!Q9)/('3.deposits individuals'!P9+'4.deposits legal entities'!P9) -> 24.831538 | R9: ='3.deposits individuals'!R9+'4.deposits legal entities'!R9 -> 18909.1 | S9: =('3.deposits individuals'!R9*'3.deposits individuals'!S9+'4.deposits legal entities'!R9*'4.deposits legal entities'!S9)/('3.deposits individuals'!R9+'4.deposits legal entities'!R9) -> 40.723445
A10: February | B10: ='3.deposits individuals'!B10+'4.deposits legal entities'!B10 -> 431197.7 | C10: =('3.deposits individuals'!B10*'3.deposits individuals'!C10+'4.deposits legal entities'!B10*'4.deposits legal entities'!C10)/('3.deposits individuals'!B10+'4.deposits legal entities'!B10) -> 20.448335 | F10: ='3.deposits individuals'!F10+'4.deposits legal entities'!F10 -> 203903.9 | G10: =('3.deposits individuals'!F10*'3.deposits individuals'!G10+'4.deposits legal entities'!F10*'4.deposits legal entities'!G10)/('3.deposits individuals'!F10+'4.deposits legal entities'!F10) -> 7.3198689 | H10: =J10+L10+N10+P10+R10+T10 -> 227293.8 | I10: =(J10*K10+L10*M10+N10*O10+P10*Q10+R10*S10+T10*U10)/(J10+L10+N10+P10+R10+T10) -> 32.225803 | J10: ='3.deposits individuals'!J10+'4.deposits legal entities'!J10 -> 12802.3 | K10: =('3.deposits individuals'!J10*'3.deposits individuals'!K10+'4.deposits legal entities'!J10*'4.deposits legal entities'!K10)/('3.deposits individuals'!J10+'4.deposits legal entities'!J10) -> 24.421448 | L10: ='3.deposits individuals'!L10+'4.deposits legal entities'!L10 -> 71762 | M10: =('3.deposits individuals'!L10*'3.deposits individuals'!M10+'4.deposits legal entities'!L10*'4.deposits legal entities'!M10)/('3.deposits individuals'!L10+'4.deposits legal entities'!L10) -> 29.335911 | N10: ='3.deposits individuals'!N10+'4.deposits legal entities'!N10 -> 80912.3 | O10: =('3.deposits individuals'!N10*'3.deposits individuals'!O10+'4.deposits legal entities'!N10*'4.deposits legal entities'!O10)/('3.deposits individuals'!N10+'4.deposits legal entities'!N10) -> 35.66666 | P10: ='3.deposits individuals'!P10+'4.deposits legal entities'!P10 -> 50843.1 | Q10: =('3.deposits individuals'!P10*'3.deposits individuals'!Q10+'4.deposits legal entities'!P10*'4.deposits legal entities'!Q10)/('3.deposits individuals'!P10+'4.deposits legal entities'!P10) -> 31.289049 | R10: ='3.deposits individuals'!R10+'4.deposits legal entities'!R10 -> 10974.1 | S10: =('3.deposits individuals'!R10*'3.deposits individuals'!S10+'4.deposits legal entities'!R10*'4.deposits legal entities'!S10)/('3.deposits individuals'!R10+'4.deposits legal entities'!R10) -> 39.198403
A11: March | B11: ='3.deposits individuals'!B11+'4.deposits legal entities'!B11 -> 547935.9 | C11: =('3.deposits individuals'!B11*'3.deposits individuals'!C11+'4.deposits legal entities'!B11*'4.deposits legal entities'!C11)/('3.deposits individuals'!B11+'4.deposits legal entities'!B11) -> 16.923477 | F11: ='3.deposits individuals'!F11+'4.deposits legal entities'!F11 -> 319773.5 | G11: =('3.deposits individuals'!F11*'3.deposits individuals'!G11+'4.deposits legal entities'!F11*'4.deposits legal entities'!G11)/('3.deposits individuals'!F11+'4.deposits legal entities'!F11) -> 6.4940511 | H11: =J11+L11+N11+P11+R11+T11 -> 228162.4 | I11: =(J11*K11+L11*M11+N11*O11+P11*Q11+R11*S11+T11*U11)/(J11+L11+N11+P11+R11+T11) -> 31.540495 | J11: ='3.deposits individuals'!J11+'4.deposits legal entities'!J11 -> 15829.6 | K11: =('3.deposits individuals'!J11*'3.deposits individuals'!K11+'4.deposits legal entities'!J11*'4.deposits legal entities'!K11)/('3.deposits individuals'!J11+'4.deposits legal entities'!J11) -> 24.775919 | L11: ='3.deposits individuals'!L11+'4.deposits legal entities'!L11 -> 78416.6 | M11: =('3.deposits individuals'!L11*'3.deposits individuals'!M11+'4.deposits legal entities'!L11*'4.deposits legal entities'!M11)/('3.deposits individuals'!L11+'4.deposits legal entities'!L11) -> 28.878591 | N11: ='3.deposits individuals'!N11+'4.deposits legal entities'!N11 -> 89255.9 | O11: =('3.deposits individuals'!N11*'3.deposits individuals'!O11+'4.deposits legal entities'!N11*'4.deposits legal entities'!O11)/('3.deposits individuals'!N11+'4.deposits legal entities'!N11) -> 33.980482 | P11: ='3.deposits individuals'!P11+'4.deposits legal entities'!P11 -> 39579.4 | Q11: =('3.deposits individuals'!P11*'3.deposits individuals'!Q11+'4.deposits legal entities'!P11*'4.deposits legal entities'!Q11)/('3.deposits individuals'!P11+'4.deposits legal entities'!P11) -> 32.968811 | R11: ='3.deposits individuals'!R11+'4.deposits legal entities'!R11 -> 5080.9 | S11: =('3.deposits individuals'!R11*'3.deposits individuals'!S11+'4.deposits legal entities'!R11*'4.deposits legal entities'!S11)/('3.deposits individuals'!R11+'4.deposits legal entities'!R11) -> 39.708886
A12: April | B12: ='3.deposits individuals'!B12+'4.deposits legal entities'!B12 -> 764634.7 | C12: =('3.deposits individuals'!B12*'3.deposits individuals'!C12+'4.deposits legal entities'!B12*'4.deposits legal entities'!C12)/('3.deposits individuals'!B12+'4.deposits legal entities'!B12) -> 12.261244 | F12: ='3.deposits individuals'!F12+'4.deposits legal entities'!F12 -> 500733 | G12: =('3.deposits individuals'!F12*'3.deposits individuals'!G12+'4.deposits legal entities'!F12*'4.deposits legal entities'!G12)/('3.deposits individuals'!F12+'4.deposits legal entities'!F12) -> 2.6003252 | H12: =J12+L12+N12+P12+R12+T12 -> 263901.7 | I12: =(J12*K12+L12*M12+N12*O12+P12*Q12+R12*S12+T12*U12)/(J12+L12+N12+P12+R12+T12) -> 30.592088 | J12: ='3.deposits individuals'!J12+'4.deposits legal entities'!J12 -> 15300.4 | K12: =('3.deposits individuals'!J12*'3.deposits individuals'!K12+'4.deposits legal entities'!J12*'4.deposits legal entities'!K12)/('3.deposits individuals'!J12+'4.deposits legal entities'!J12) -> 21.999403 | L12: ='3.deposits individuals'!L12+'4.deposits legal entities'!L12 -> 86398.2 | M12: =('3.deposits individuals'!L12*'3.deposits individuals'!M12+'4.deposits legal entities'!L12*'4.deposits legal entities'!M12)/('3.deposits individuals'!L12+'4.deposits legal entities'!L12) -> 29.96065 | N12: ='3.deposits individuals'!N12+'4.deposits legal entities'!N12 -> 110268.2 | O12: =('3.deposits individuals'!N12*'3.deposits individuals'!O12+'4.deposits legal entities'!N12*'4.deposits legal entities'!O12)/('3.deposits individuals'!N12+'4.deposits legal entities'!N12) -> 31.224158 | P12: ='3.deposits individuals'!P12+'4.deposits legal entities'!P12 -> 47081.3 | Q12: =('3.deposits individuals'!P12*'3.deposits individuals'!Q12+'4.deposits legal entities'!P12*'4.deposits legal entities'!Q12)/('3.deposits individuals'!P12+'4.deposits legal entities'!P12) -> 32.606631 | R12: ='3.deposits individuals'!R12+'4.deposits legal entities'!R12 -> 4853.6 | S12: =('3.deposits individuals'!R12*'3.deposits individuals'!S12+'4.deposits legal entities'!R12*'4.deposits legal entities'!S12)/('3.deposits individuals'!R12+'4.deposits legal entities'!R12) -> 35.018106
A13: May | B13: ='3.deposits individuals'!B13+'4.deposits legal entities'!B13 -> 514295.1 | C13: =('3.deposits individuals'!B13*'3.deposits individuals'!C13+'4.deposits legal entities'!B13*'4.deposits legal entities'!C13)/('3.deposits individuals'!B13+'4.deposits legal entities'!B13) -> 16.102905 | F13: ='3.deposits individuals'!F13+'4.deposits legal entities'!F13 -> 276871.4 | G13: =('3.deposits individuals'!F13*'3.deposits individuals'!G13+'4.deposits legal entities'!F13*'4.deposits legal entities'!G13)/('3.deposits individuals'!F13+'4.deposits legal entities'!F13) -> 4.1755961 | H13: =J13+L13+N13+P13+R13+T13 -> 237423.7 | I13: =(J13*K13+L13*M13+N13*O13+P13*Q13+R13*S13+T13*U13)/(J13+L13+N13+P13+R13+T13) -> 30.011925 | J13: ='3.deposits individuals'!J13+'4.deposits legal entities'!J13 -> 15033.1 | K13: =('3.deposits individuals'!J13*'3.deposits individuals'!K13+'4.deposits legal entities'!J13*'4.deposits legal entities'!K13)/('3.deposits individuals'!J13+'4.deposits legal entities'!J13) -> 20.653959 | L13: ='3.deposits individuals'!L13+'4.deposits legal entities'!L13 -> 71788.3 | M13: =('3.deposits individuals'!L13*'3.deposits individuals'!M13+'4.deposits legal entities'!L13*'4.deposits legal entities'!M13)/('3.deposits individuals'!L13+'4.deposits legal entities'!L13) -> 28.4506 | N13: ='3.deposits individuals'!N13+'4.deposits legal entities'!N13 -> 104497.8 | O13: =('3.deposits individuals'!N13*'3.deposits individuals'!O13+'4.deposits legal entities'!N13*'4.deposits legal entities'!O13)/('3.deposits individuals'!N13+'4.deposits legal entities'!N13) -> 30.722948 | P13: ='3.deposits individuals'!P13+'4.deposits legal entities'!P13 -> 40611.6 | Q13: =('3.deposits individuals'!P13*'3.deposits individuals'!Q13+'4.deposits legal entities'!P13*'4.deposits legal entities'!Q13)/('3.deposits individuals'!P13+'4.deposits legal entities'!P13) -> 33.860934 | R13: ='3.deposits individuals'!R13+'4.deposits legal entities'!R13 -> 5492.9 | S13: =('3.deposits individuals'!R13*'3.deposits individuals'!S13+'4.deposits legal entities'!R13*'4.deposits legal entities'!S13)/('3.deposits individuals'!R13+'4.deposits legal entities'!R13) -> 34.044261
A14: June | B14: ='3.deposits individuals'!B14+'4.deposits legal entities'!B14 -> 550400.8 | C14: =('3.deposits individuals'!B14*'3.deposits individuals'!C14+'4.deposits legal entities'!B14*'4.deposits legal entities'!C14)/('3.deposits individuals'!B14+'4.deposits legal entities'!B14) -> 15.187572 | F14: ='3.deposits individuals'!F14+'4.deposits legal entities'!F14 -> 324135.3 | G14: =('3.deposits individuals'!F14*'3.deposits individuals'!G14+'4.deposits legal entities'!F14*'4.deposits legal entities'!G14)/('3.deposits individuals'!F14+'4.deposits legal entities'!F14) -> 4.3432216 | H14: =J14+L14+N14+P14+R14+T14 -> 226265.5 | I14: =(J14*K14+L14*M14+N14*O14+P14*Q14+R14*S14+T14*U14)/(J14+L14+N14+P14+R14+T14) -> 30.722583 | J14: ='3.deposits individuals'!J14+'4.deposits legal entities'!J14 -> 12140.1 | K14: =('3.deposits individuals'!J14*'3.deposits individuals'!K14+'4.deposits legal entities'!J14*'4.deposits legal entities'!K14)/('3.deposits individuals'!J14+'4.deposits legal entities'!J14) -> 13.615972 | L14: ='3.deposits individuals'!L14+'4.deposits legal entities'!L14 -> 70616.8 | M14: =('3.deposits individuals'!L14*'3.deposits individuals'!M14+'4.deposits legal entities'!L14*'4.deposits legal entities'!M14)/('3.deposits individuals'!L14+'4.deposits legal entities'!L14) -> 25.896432 | N14: ='3.deposits individuals'!N14+'4.deposits legal entities'!N14 -> 83037.9 | O14: =('3.deposits individuals'!N14*'3.deposits individuals'!O14+'4.deposits legal entities'!N14*'4.deposits legal entities'!O14)/('3.deposits individuals'!N14+'4.deposits legal entities'!N14) -> 35.228618 | P14: ='3.deposits individuals'!P14+'4.deposits legal entities'!P14 -> 54131.3 | Q14: =('3.deposits individuals'!P14*'3.deposits individuals'!Q14+'4.deposits legal entities'!P14*'4.deposits legal entities'!Q14)/('3.deposits individuals'!P14+'4.deposits legal entities'!P14) -> 32.275651 | R14: ='3.deposits individuals'!R14+'4.deposits legal entities'!R14 -> 6339.4 | S14: =('3.deposits individuals'!R14*'3.deposits individuals'!S14+'4.deposits legal entities'!R14*'4.deposits legal entities'!S14)/('3.deposits individuals'!R14+'4.deposits legal entities'!R14) -> 44.957671
A15: July | B15: ='3.deposits individuals'!B15+'4.deposits legal entities'!B15 -> 740365.3 | C15: =('3.deposits individuals'!B15*'3.deposits individuals'!C15+'4.deposits legal entities'!B15*'4.deposits legal entities'!C15)/('3.deposits individuals'!B15+'4.deposits legal entities'!B15) -> 11.186106 | F15: ='3.deposits individuals'!F15+'4.deposits legal entities'!F15 -> 503970.9 | G15: =('3.deposits individuals'!F15*'3.deposits individuals'!G15+'4.deposits legal entities'!F15*'4.deposits legal entities'!G15)/('3.deposits individuals'!F15+'4.deposits legal entities'!F15) -> 3.6053998 | H15: =J15+L15+N15+P15+R15+T15 -> 236394.4 | I15: =(J15*K15+L15*M15+N15*O15+P15*Q15+R15*S15+T15*U15)/(J15+L15+N15+P15+R15+T15) -> 27.347468 | J15: ='3.deposits individuals'!J15+'4.deposits legal entities'!J15 -> 33968.8 | K15: =('3.deposits individuals'!J15*'3.deposits individuals'!K15+'4.deposits legal entities'!J15*'4.deposits legal entities'!K15)/('3.deposits individuals'!J15+'4.deposits legal entities'!J15) -> 12.073082 | L15: ='3.deposits individuals'!L15+'4.deposits legal entities'!L15 -> 64892.4 | M15: =('3.deposits individuals'!L15*'3.deposits individuals'!M15+'4.deposits legal entities'!L15*'4.deposits legal entities'!M15)/('3.deposits individuals'!L15+'4.deposits legal entities'!L15) -> 24.875196 | N15: ='3.deposits individuals'!N15+'4.deposits legal entities'!N15 -> 75688.4 | O15: =('3.deposits individuals'!N15*'3.deposits individuals'!O15+'4.deposits legal entities'!N15*'4.deposits legal entities'!O15)/('3.deposits individuals'!N15+'4.deposits legal entities'!N15) -> 34.93142 | P15: ='3.deposits individuals'!P15+'4.deposits legal entities'!P15 -> 56799.7 | Q15: =('3.deposits individuals'!P15*'3.deposits individuals'!Q15+'4.deposits legal entities'!P15*'4.deposits legal entities'!Q15)/('3.deposits individuals'!P15+'4.deposits legal entities'!P15) -> 28.546539 | R15: ='3.deposits individuals'!R15+'4.deposits legal entities'!R15 -> 5045.1 | S15: =('3.deposits individuals'!R15*'3.deposits individuals'!S15+'4.deposits legal entities'!R15*'4.deposits legal entities'!S15)/('3.deposits individuals'!R15+'4.deposits legal entities'!R15) -> 34.713064
A16: August | B16: ='3.deposits individuals'!B16+'4.deposits legal entities'!B16 -> 665643.9 | C16: =('3.deposits individuals'!B16*'3.deposits individuals'!C16+'4.deposits legal entities'!B16*'4.deposits legal entities'!C16)/('3.deposits individuals'!B16+'4.deposits legal entities'!B16) -> 12.473021 | F16: ='3.deposits individuals'!F16+'4.deposits legal entities'!F16 -> 443638.7 | G16: =('3.deposits individuals'!F16*'3.deposits individuals'!G16+'4.deposits legal entities'!F16*'4.deposits legal entities'!G16)/('3.deposits individuals'!F16+'4.deposits legal entities'!F16) -> 3.3661002 | H16: =J16+L16+N16+P16+R16+T16 -> 222005.2 | I16: =(J16*K16+L16*M16+N16*O16+P16*Q16+R16*S16+T16*U16)/(J16+L16+N16+P16+R16+T16) -> 30.671615 | J16: ='3.deposits individuals'!J16+'4.deposits legal entities'!J16 -> 18468.6 | K16: =('3.deposits individuals'!J16*'3.deposits individuals'!K16+'4.deposits legal entities'!J16*'4.deposits legal entities'!K16)/('3.deposits individuals'!J16+'4.deposits legal entities'!J16) -> 11.310045 | L16: ='3.deposits individuals'!L16+'4.deposits legal entities'!L16 -> 63491.8 | M16: =('3.deposits individuals'!L16*'3.deposits individuals'!M16+'4.deposits legal entities'!L16*'4.deposits legal entities'!M16)/('3.deposits individuals'!L16+'4.deposits legal entities'!L16) -> 28.076107 | N16: ='3.deposits individuals'!N16+'4.deposits legal entities'!N16 -> 89604.7 | O16: =('3.deposits individuals'!N16*'3.deposits individuals'!O16+'4.deposits legal entities'!N16*'4.deposits legal entities'!O16)/('3.deposits individuals'!N16+'4.deposits legal entities'!N16) -> 37.824135 | P16: ='3.deposits individuals'!P16+'4.deposits legal entities'!P16 -> 39853.6 | Q16: =('3.deposits individuals'!P16*'3.deposits individuals'!Q16+'4.deposits legal entities'!P16*'4.deposits legal entities'!Q16)/('3.deposits individuals'!P16+'4.deposits legal entities'!P16) -> 30.277148 | R16: ='3.deposits individuals'!R16+'4.deposits legal entities'!R16 -> 10586.5 | S16: =('3.deposits individuals'!R16*'3.deposits individuals'!S16+'4.deposits legal entities'!R16*'4.deposits legal entities'!S16)/('3.deposits individuals'!R16+'4.deposits legal entities'!R16) -> 20.960765
A17: September | B17: ='3.deposits individuals'!B17+'4.deposits legal entities'!B17 -> 682368.7 | C17: =('3.deposits individuals'!B17*'3.deposits individuals'!C17+'4.deposits legal entities'!B17*'4.deposits legal entities'!C17)/('3.deposits individuals'!B17+'4.deposits legal entities'!B17) -> 13.293665 | F17: ='3.deposits individuals'!F17+'4.deposits legal entities'!F17 -> 440415.9 | G17: =('3.deposits individuals'!F17*'3.deposits individuals'!G17+'4.deposits legal entities'!F17*'4.deposits legal entities'!G17)/('3.deposits individuals'!F17+'4.deposits legal entities'!F17) -> 4.4325444 | H17: =J17+L17+N17+P17+R17+T17 -> 241952.8 | I17: =(J17*K17+L17*M17+N17*O17+P17*Q17+R17*S17+T17*U17)/(J17+L17+N17+P17+R17+T17) -> 29.423167 | J17: ='3.deposits individuals'!J17+'4.deposits legal entities'!J17 -> 19657.2 | K17: =('3.deposits individuals'!J17*'3.deposits individuals'!K17+'4.deposits legal entities'!J17*'4.deposits legal entities'!K17)/('3.deposits individuals'!J17+'4.deposits legal entities'!J17) -> 18.274846 | L17: ='3.deposits individuals'!L17+'4.deposits legal entities'!L17 -> 67982.9 | M17: =('3.deposits individuals'!L17*'3.deposits individuals'!M17+'4.deposits legal entities'!L17*'4.deposits legal entities'!M17)/('3.deposits individuals'!L17+'4.deposits legal entities'!L17) -> 27.550662 | N17: ='3.deposits individuals'!N17+'4.deposits legal entities'!N17 -> 93759.6 | O17: =('3.deposits individuals'!N17*'3.deposits individuals'!O17+'4.deposits legal entities'!N17*'4.deposits legal entities'!O17)/('3.deposits individuals'!N17+'4.deposits legal entities'!N17) -> 33.909659 | P17: ='3.deposits individuals'!P17+'4.deposits legal entities'!P17 -> 50680.1 | Q17: =('3.deposits individuals'!P17*'3.deposits individuals'!Q17+'4.deposits legal entities'!P17*'4.deposits legal entities'!Q17)/('3.deposits individuals'!P17+'4.deposits legal entities'!P17) -> 29.995037 | R17: ='3.deposits individuals'!R17+'4.deposits legal entities'!R17 -> 9873 | S17: =('3.deposits individuals'!R17*'3.deposits individuals'!S17+'4.deposits legal entities'!R17*'4.deposits legal entities'!S17)/('3.deposits individuals'!R17+'4.deposits legal entities'!R17) -> 18.971324
A18: October | B18: ='3.deposits individuals'!B18+'4.deposits legal entities'!B18 -> 854244.4 | C18: =('3.deposits individuals'!B18*'3.deposits individuals'!C18+'4.deposits legal entities'!B18*'4.deposits legal entities'!C18)/('3.deposits individuals'!B18+'4.deposits legal entities'!B18) -> 10.796218 | F18: ='3.deposits individuals'!F18+'4.deposits legal entities'!F18 -> 676641 | G18: =('3.deposits individuals'!F18*'3.deposits individuals'!G18+'4.deposits legal entities'!F18*'4.deposits legal entities'!G18)/('3.deposits individuals'!F18+'4.deposits legal entities'!F18) -> 6.4956744 | H18: =J18+L18+N18+P18+R18+T18 -> 177603.4 | I18: =(J18*K18+L18*M18+N18*O18+P18*Q18+R18*S18+T18*U18)/(J18+L18+N18+P18+R18+T18) -> 27.18061 | J18: ='3.deposits individuals'!J18+'4.deposits legal entities'!J18 -> 17645.4 | K18: =('3.deposits individuals'!J18*'3.deposits individuals'!K18+'4.deposits legal entities'!J18*'4.deposits legal entities'!K18)/('3.deposits individuals'!J18+'4.deposits legal entities'!J18) -> 15.061597 | L18: ='3.deposits individuals'!L18+'4.deposits legal entities'!L18 -> 46564.6 | M18: =('3.deposits individuals'!L18*'3.deposits individuals'!M18+'4.deposits legal entities'!L18*'4.deposits legal entities'!M18)/('3.deposits individuals'!L18+'4.deposits legal entities'!L18) -> 26.266652 | N18: ='3.deposits individuals'!N18+'4.deposits legal entities'!N18 -> 62531.7 | O18: =('3.deposits individuals'!N18*'3.deposits individuals'!O18+'4.deposits legal entities'!N18*'4.deposits legal entities'!O18)/('3.deposits individuals'!N18+'4.deposits legal entities'!N18) -> 31.026449 | P18: ='3.deposits individuals'!P18+'4.deposits legal entities'!P18 -> 41121 | Q18: =('3.deposits individuals'!P18*'3.deposits individuals'!Q18+'4.deposits legal entities'!P18*'4.deposits legal entities'!Q18)/('3.deposits individuals'!P18+'4.deposits legal entities'!P18) -> 30.077177 | R18: ='3.deposits individuals'!R18+'4.deposits legal entities'!R18 -> 9740.7 | S18: =('3.deposits individuals'!R18*'3.deposits individuals'!S18+'4.deposits legal entities'!R18*'4.deposits legal entities'!S18)/('3.deposits individuals'!R18+'4.deposits legal entities'!R18) -> 16.586553
A19: November | B19: ='3.deposits individuals'!B19+'4.deposits legal entities'!B19 -> 850056.5 | C19: =('3.deposits individuals'!B19*'3.deposits individuals'!C19+'4.deposits legal entities'!B19*'4.deposits legal entities'!C19)/('3.deposits individuals'!B19+'4.deposits legal entities'!B19) -> 11.957075 | F19: ='3.deposits individuals'!F19+'4.deposits legal entities'!F19 -> 558407.7 | G19: =('3.deposits individuals'!F19*'3.deposits individuals'!G19+'4.deposits legal entities'!F19*'4.deposits legal entities'!G19)/('3.deposits individuals'!F19+'4.deposits legal entities'!F19) -> 3.3720608 | H19: =J19+L19+N19+P19+R19+T19 -> 291648.8 | I19: =(J19*K19+L19*M19+N19*O19+P19*Q19+R19*S19+T19*U19)/(J19+L19+N19+P19+R19+T19) -> 28.394442 | J19: ='3.deposits individuals'!J19+'4.deposits legal entities'!J19 -> 24238.9 | K19: =('3.deposits individuals'!J19*'3.deposits individuals'!K19+'4.deposits legal entities'!J19*'4.deposits legal entities'!K19)/('3.deposits individuals'!J19+'4.deposits legal entities'!J19) -> 13.914129 | L19: ='3.deposits individuals'!L19+'4.deposits legal entities'!L19 -> 81856.4 | M19: =('3.deposits individuals'!L19*'3.deposits individuals'!M19+'4.deposits legal entities'!L19*'4.deposits legal entities'!M19)/('3.deposits individuals'!L19+'4.deposits legal entities'!L19) -> 25.973476 | N19: ='3.deposits individuals'!N19+'4.deposits legal entities'!N19 -> 90623.8 | O19: =('3.deposits individuals'!N19*'3.deposits individuals'!O19+'4.deposits legal entities'!N19*'4.deposits legal entities'!O19)/('3.deposits individuals'!N19+'4.deposits legal entities'!N19) -> 37.02013 | P19: ='3.deposits individuals'!P19+'4.deposits legal entities'!P19 -> 83215.5 | Q19: =('3.deposits individuals'!P19*'3.deposits individuals'!Q19+'4.deposits legal entities'!P19*'4.deposits legal entities'!Q19)/('3.deposits individuals'!P19+'4.deposits legal entities'!P19) -> 27.605691 | R19: ='3.deposits individuals'!R19+'4.deposits legal entities'!R19 -> 11714.2 | S19: =('3.deposits individuals'!R19*'3.deposits individuals'!S19+'4.deposits legal entities'!R19*'4.deposits legal entities'!S19)/('3.deposits individuals'!R19+'4.deposits legal entities'!R19) -> 14.146954
A20: December | B20: ='3.deposits individuals'!B20+'4.deposits legal entities'!B20 -> 874677.4 | C20: =('3.deposits individuals'!B20*'3.deposits individuals'!C20+'4.deposits legal entities'!B20*'4.deposits legal entities'!C20)/('3.deposits individuals'!B20+'4.deposits legal entities'!B20) -> 11.703016 | F20: ='3.deposits individuals'!F20+'4.deposits legal entities'!F20 -> 592031.3 | G20: =('3.deposits individuals'!F20*'3.deposits individuals'!G20+'4.deposits legal entities'!F20*'4.deposits legal entities'!G20)/('3.deposits individuals'!F20+'4.deposits legal entities'!F20) -> 3.3098121 | H20: =J20+L20+N20+P20+R20+T20 -> 282646.1 | I20: =(J20*K20+L20*M20+N20*O20+P20*Q20+R20*S20+T20*U20)/(J20+L20+N20+P20+R20+T20) -> 29.283444 | J20: ='3.deposits individuals'!J20+'4.deposits legal entities'!J20 -> 16073.6 | K20: =('3.deposits individuals'!J20*'3.deposits individuals'!K20+'4.deposits legal entities'!J20*'4.deposits legal entities'!K20)/('3.deposits individuals'!J20+'4.deposits legal entities'!J20) -> 12.894672 | L20: ='3.deposits individuals'!L20+'4.deposits legal entities'!L20 -> 78407.8 | M20: =('3.deposits individuals'!L20*'3.deposits individuals'!M20+'4.deposits legal entities'!L20*'4.deposits legal entities'!M20)/('3.deposits individuals'!L20+'4.deposits legal entities'!L20) -> 27.09675 | N20: ='3.deposits individuals'!N20+'4.deposits legal entities'!N20 -> 120301 | O20: =('3.deposits individuals'!N20*'3.deposits individuals'!O20+'4.deposits legal entities'!N20*'4.deposits legal entities'!O20)/('3.deposits individuals'!N20+'4.deposits legal entities'!N20) -> 33.542223 | P20: ='3.deposits individuals'!P20+'4.deposits legal entities'!P20 -> 58556.1 | Q20: =('3.deposits individuals'!P20*'3.deposits individuals'!Q20+'4.deposits legal entities'!P20*'4.deposits legal entities'!Q20)/('3.deposits individuals'!P20+'4.deposits legal entities'!P20) -> 29.509139 | R20: ='3.deposits individuals'!R20+'4.deposits legal entities'!R20 -> 9307.6 | S20: =('3.deposits individuals'!R20*'3.deposits individuals'!S20+'4.deposits legal entities'!R20*'4.deposits legal entities'!S20)/('3.deposits individuals'!R20+'4.deposits legal entities'!R20) -> 19.541867
... A97: May | B97: ='3.deposits individuals'!B97+'4.deposits legal entities'!B97 -> 4089167.4 | C97: =('3.deposits individuals'!B97*'3.deposits individuals'!C97+'4.deposits legal entities'!B97*'4.deposits legal entities'!C97)/('3.deposits individuals'!B97+'4.deposits legal entities'!B97) -> 2.7111207 | F97: ='3.deposits individuals'!F97+'4.deposits legal entities'!F97 -> 2558817.5 | G97: =('3.deposits individuals'!F97*'3.deposits individuals'!G97+'4.deposits legal entities'!F97*'4.deposits legal entities'!G97)/('3.deposits individuals'!F97+'4.deposits legal entities'!F97) -> 0.44075029 | H97: =J97+L97+N97+P97+R97+T97 -> 1530349.9 | I97: =(J97*K97+L97*M97+N97*O97+P97*Q97+R97*S97+T97*U97)/(J97+L97+N97+P97+R97+T97) -> 6.5072875 | J97: ='3.deposits individuals'!J97+'4.deposits legal entities'!J97 -> 147529.6 | K97: =('3.deposits individuals'!J97*'3.deposits individuals'!K97+'4.deposits legal entities'!J97*'4.deposits legal entities'!K97)/('3.deposits individuals'!J97+'4.deposits legal entities'!J97) -> 6.4474644 | L97: ='3.deposits individuals'!L97+'4.deposits legal entities'!L97 -> 225766.9 | M97: =('3.deposits individuals'!L97*'3.deposits individuals'!M97+'4.deposits legal entities'!L97*'4.deposits legal entities'!M97)/('3.deposits individuals'!L97+'4.deposits legal entities'!L97) -> 8.7924339 | N97: ='3.deposits individuals'!N97+'4.deposits legal entities'!N97 -> 270543.1 | O97: =('3.deposits individuals'!N97*'3.deposits individuals'!O97+'4.deposits legal entities'!N97*'4.deposits legal entities'!O97)/('3.deposits individuals'!N97+'4.deposits legal entities'!N97) -> 9.3933635 | P97: ='3.deposits individuals'!P97+'4.deposits legal entities'!P97 -> 499658.2 | Q97: =('3.deposits individuals'!P97*'3.deposits individuals'!Q97+'4.deposits legal entities'!P97*'4.deposits legal entities'!Q97)/('3.deposits individuals'!P97+'4.deposits legal entities'!P97) -> 6.9356032 | R97: ='3.deposits individuals'!R97+'4.deposits legal entities'!R97 -> 386852.1 | S97: =('3.deposits individuals'!R97*'3.deposits individuals'!S97+'4.deposits legal entities'!R97*'4.deposits legal entities'!S97)/('3.deposits individuals'!R97+'4.deposits legal entities'!R97) -> 2.6249146
A98: June | B98: ='3.deposits individuals'!B98+'4.deposits legal entities'!B98 -> 3617222.8 | C98: =('3.deposits individuals'!B98*'3.deposits individuals'!C98+'4.deposits legal entities'!B98*'4.deposits legal entities'!C98)/('3.deposits individuals'!B98+'4.deposits legal entities'!B98) -> 2.9298488 | F98: ='3.deposits individuals'!F98+'4.deposits legal entities'!F98 -> 2250253.8 | G98: =('3.deposits individuals'!F98*'3.deposits individuals'!G98+'4.deposits legal entities'!F98*'4.deposits legal entities'!G98)/('3.deposits individuals'!F98+'4.deposits legal entities'!F98) -> 0.36687281 | H98: =J98+L98+N98+P98+R98+T98 -> 1366969 | I98: =(J98*K98+L98*M98+N98*O98+P98*Q98+R98*S98+T98*U98)/(J98+L98+N98+P98+R98+T98) -> 7.1489251 | J98: ='3.deposits individuals'!J98+'4.deposits legal entities'!J98 -> 123053.3 | K98: =('3.deposits individuals'!J98*'3.deposits individuals'!K98+'4.deposits legal entities'!J98*'4.deposits legal entities'!K98)/('3.deposits individuals'!J98+'4.deposits legal entities'!J98) -> 9.4057056 | L98: ='3.deposits individuals'!L98+'4.deposits legal entities'!L98 -> 213604.1 | M98: =('3.deposits individuals'!L98*'3.deposits individuals'!M98+'4.deposits legal entities'!L98*'4.deposits legal entities'!M98)/('3.deposits individuals'!L98+'4.deposits legal entities'!L98) -> 8.3011273 | N98: ='3.deposits individuals'!N98+'4.deposits legal entities'!N98 -> 265580.6 | O98: =('3.deposits individuals'!N98*'3.deposits individuals'!O98+'4.deposits legal entities'!N98*'4.deposits legal entities'!O98)/('3.deposits individuals'!N98+'4.deposits legal entities'!N98) -> 9.1366159 | P98: ='3.deposits individuals'!P98+'4.deposits legal entities'!P98 -> 268814.2 | Q98: =('3.deposits individuals'!P98*'3.deposits individuals'!Q98+'4.deposits legal entities'!P98*'4.deposits legal entities'!Q98)/('3.deposits individuals'!P98+'4.deposits legal entities'!P98) -> 10.596205 | R98: ='3.deposits individuals'!R98+'4.deposits legal entities'!R98 -> 411906.8 | S98: =('3.deposits individuals'!R98*'3.deposits individuals'!S98+'4.deposits legal entities'!R98*'4.deposits legal entities'!S98)/('3.deposits individuals'!R98+'4.deposits legal entities'!R98) -> 3.565348 | T98: ='3.deposits individuals'!T98+'4.deposits legal entities'!T98 -> 84010 | U98: =('3.deposits individuals'!T98*'3.deposits individuals'!U98+'4.deposits legal entities'!T98*'4.deposits legal entities'!U98)/('3.deposits individuals'!T98+'4.deposits legal entities'!T98) -> 1.17
A99: July | B99: ='3.deposits individuals'!B99+'4.deposits legal entities'!B99 -> 4114661.2 | C99: =('3.deposits individuals'!B99*'3.deposits individuals'!C99+'4.deposits legal entities'!B99*'4.deposits legal entities'!C99)/('3.deposits individuals'!B99+'4.deposits legal entities'!B99) -> 2.7601055 | F99: ='3.deposits individuals'!F99+'4.deposits legal entities'!F99 -> 2673683 | G99: =('3.deposits individuals'!F99*'3.deposits individuals'!G99+'4.deposits legal entities'!F99*'4.deposits legal entities'!G99)/('3.deposits individuals'!F99+'4.deposits legal entities'!F99) -> 0.47637827 | H99: =J99+L99+N99+P99+R99+T99 -> 1440978.2 | I99: =(J99*K99+L99*M99+N99*O99+P99*Q99+R99*S99+T99*U99)/(J99+L99+N99+P99+R99+T99) -> 6.9974788 | J99: ='3.deposits individuals'!J99+'4.deposits legal entities'!J99 -> 138854.5 | K99: =('3.deposits individuals'!J99*'3.deposits individuals'!K99+'4.deposits legal entities'!J99*'4.deposits legal entities'!K99)/('3.deposits individuals'!J99+'4.deposits legal entities'!J99) -> 8.0408172 | L99: ='3.deposits individuals'!L99+'4.deposits legal entities'!L99 -> 262376.9 | M99: =('3.deposits individuals'!L99*'3.deposits individuals'!M99+'4.deposits legal entities'!L99*'4.deposits legal entities'!M99)/('3.deposits individuals'!L99+'4.deposits legal entities'!L99) -> 8.383016 | N99: ='3.deposits individuals'!N99+'4.deposits legal entities'!N99 -> 214181.7 | O99: =('3.deposits individuals'!N99*'3.deposits individuals'!O99+'4.deposits legal entities'!N99*'4.deposits legal entities'!O99)/('3.deposits individuals'!N99+'4.deposits legal entities'!N99) -> 9.1090445 | P99: ='3.deposits individuals'!P99+'4.deposits legal entities'!P99 -> 303710 | Q99: =('3.deposits individuals'!P99*'3.deposits individuals'!Q99+'4.deposits legal entities'!P99*'4.deposits legal entities'!Q99)/('3.deposits individuals'!P99+'4.deposits legal entities'!P99) -> 10.254916 | R99: ='3.deposits individuals'!R99+'4.deposits legal entities'!R99 -> 461061.1 | S99: =('3.deposits individuals'!R99*'3.deposits individuals'!S99+'4.deposits legal entities'!R99*'4.deposits legal entities'!S99)/('3.deposits individuals'!R99+'4.deposits legal entities'!R99) -> 3.5259912 | T99: ='3.deposits individuals'!T99+'4.deposits legal entities'!T99 -> 60794 | U99: =('3.deposits individuals'!T99*'3.deposits individuals'!U99+'4.deposits legal entities'!T99*'4.deposits legal entities'!U99)/('3.deposits individuals'!T99+'4.deposits legal entities'!T99) -> 1.25
A100: August | B100: ='3.deposits individuals'!B100+'4.deposits legal entities'!B100 -> 4234963.6 | C100: =('3.deposits individuals'!B100*'3.deposits individuals'!C100+'4.deposits legal entities'!B100*'4.deposits legal entities'!C100)/('3.deposits individuals'!B100+'4.deposits legal entities'!B100) -> 2.5555636 | F100: ='3.deposits individuals'!F100+'4.deposits legal entities'!F100 -> 2811547.5 | G100: =('3.deposits individuals'!F100*'3.deposits individuals'!G100+'4.deposits legal entities'!F100*'4.deposits legal entities'!G100)/('3.deposits individuals'!F100+'4.deposits legal entities'!F100) -> 0.42267938 | H100: =J100+L100+N100+P100+R100+T100 -> 1423416.1 | I100: =(J100*K100+L100*M100+N100*O100+P100*Q100+R100*S100+T100*U100)/(J100+L100+N100+P100+R100+T100) -> 6.7684606 | J100: ='3.deposits individuals'!J100+'4.deposits legal entities'!J100 -> 155091.3 | K100: =('3.deposits individuals'!J100*'3.deposits individuals'!K100+'4.deposits legal entities'!J100*'4.deposits legal entities'!K100)/('3.deposits individuals'!J100+'4.deposits legal entities'!J100) -> 7.0434217 | L100: ='3.deposits individuals'!L100+'4.deposits legal entities'!L100 -> 227942 | M100: =('3.deposits individuals'!L100*'3.deposits individuals'!M100+'4.deposits legal entities'!L100*'4.deposits legal entities'!M100)/('3.deposits individuals'!L100+'4.deposits legal entities'!L100) -> 8.0643346 | N100: ='3.deposits individuals'!N100+'4.deposits legal entities'!N100 -> 222140.8 | O100: =('3.deposits individuals'!N100*'3.deposits individuals'!O100+'4.deposits legal entities'!N100*'4.deposits legal entities'!O100)/('3.deposits individuals'!N100+'4.deposits legal entities'!N100) -> 9.2146497 | P100: ='3.deposits individuals'!P100+'4.deposits legal entities'!P100 -> 303551.9 | Q100: =('3.deposits individuals'!P100*'3.deposits individuals'!Q100+'4.deposits legal entities'!P100*'4.deposits legal entities'!Q100)/('3.deposits individuals'!P100+'4.deposits legal entities'!P100) -> 9.8030986 | R100: ='3.deposits individuals'!R100+'4.deposits legal entities'!R100 -> 455481.1 | S100: =('3.deposits individuals'!R100*'3.deposits individuals'!S100+'4.deposits legal entities'!R100*'4.deposits legal entities'!S100)/('3.deposits individuals'!R100+'4.deposits legal entities'!R100) -> 3.528251 | T100: ='3.deposits individuals'!T100+'4.deposits legal entities'!T100 -> 59209 | U100: =('3.deposits individuals'!T100*'3.deposits individuals'!U100+'4.deposits legal entities'!T100*'4.deposits legal entities'!U100)/('3.deposits individuals'!T100+'4.deposits legal entities'!T100) -> 1.25
A101: September | B101: ='3.deposits individuals'!B101+'4.deposits legal entities'!B101 -> 4285061.9 | C101: =('3.deposits individuals'!B101*'3.deposits individuals'!C101+'4.deposits legal entities'!B101*'4.deposits legal entities'!C101)/('3.deposits individuals'!B101+'4.deposits legal entities'!B101) -> 2.5529999 | F101: ='3.deposits individuals'!F101+'4.deposits legal entities'!F101 -> 2810934 | G101: =('3.deposits individuals'!F101*'3.deposits individuals'!G101+'4.deposits legal entities'!F101*'4.deposits legal entities'!G101)/('3.deposits individuals'!F101+'4.deposits legal entities'!F101) -> 0.40938373 | H101: =J101+L101+N101+P101+R101+T101 -> 1474127.9 | I101: =(J101*K101+L101*M101+N101*O101+P101*Q101+R101*S101+T101*U101)/(J101+L101+N101+P101+R101+T101) -> 6.6405447 | J101: ='3.deposits individuals'!J101+'4.deposits legal entities'!J101 -> 171562.2 | K101: =('3.deposits individuals'!J101*'3.deposits individuals'!K101+'4.deposits legal entities'!J101*'4.deposits legal entities'!K101)/('3.deposits individuals'!J101+'4.deposits legal entities'!J101) -> 8.4784374 | L101: ='3.deposits individuals'!L101+'4.deposits legal entities'!L101 -> 233416.1 | M101: =('3.deposits individuals'!L101*'3.deposits individuals'!M101+'4.deposits legal entities'!L101*'4.deposits legal entities'!M101)/('3.deposits individuals'!L101+'4.deposits legal entities'!L101) -> 6.9989161 | N101: ='3.deposits individuals'!N101+'4.deposits legal entities'!N101 -> 203938 | O101: =('3.deposits individuals'!N101*'3.deposits individuals'!O101+'4.deposits legal entities'!N101*'4.deposits legal entities'!O101)/('3.deposits individuals'!N101+'4.deposits legal entities'!N101) -> 9.7802381 | P101: ='3.deposits individuals'!P101+'4.deposits legal entities'!P101 -> 311552.9 | Q101: =('3.deposits individuals'!P101*'3.deposits individuals'!Q101+'4.deposits legal entities'!P101*'4.deposits legal entities'!Q101)/('3.deposits individuals'!P101+'4.deposits legal entities'!P101) -> 9.638158 | R101: ='3.deposits individuals'!R101+'4.deposits legal entities'!R101 -> 553658.7 | S101: =('3.deposits individuals'!R101*'3.deposits individuals'!S101+'4.deposits legal entities'!R101*'4.deposits legal entities'!S101)/('3.deposits individuals'!R101+'4.deposits legal entities'!R101) -> 3.0766514
A102: October | B102: ='3.deposits individuals'!B102+'4.deposits legal entities'!B102 -> 4599377.1 | C102: =('3.deposits individuals'!B102*'3.deposits individuals'!C102+'4.deposits legal entities'!B102*'4.deposits legal entities'!C102)/('3.deposits individuals'!B102+'4.deposits legal entities'!B102) -> 2.5957736 | F102: ='3.deposits individuals'!F102+'4.deposits legal entities'!F102 -> 3100798.4 | G102: =('3.deposits individuals'!F102*'3.deposits individuals'!G102+'4.deposits legal entities'!F102*'4.deposits legal entities'!G102)/('3.deposits individuals'!F102+'4.deposits legal entities'!F102) -> 0.57948034 | H102: =J102+L102+N102+P102+R102+T102 -> 1498578.7 | I102: =(J102*K102+L102*M102+N102*O102+P102*Q102+R102*S102+T102*U102)/(J102+L102+N102+P102+R102+T102) -> 6.7678061 | J102: ='3.deposits individuals'!J102+'4.deposits legal entities'!J102 -> 144098.6 | K102: =('3.deposits individuals'!J102*'3.deposits individuals'!K102+'4.deposits legal entities'!J102*'4.deposits legal entities'!K102)/('3.deposits individuals'!J102+'4.deposits legal entities'!J102) -> 8.2597546 | L102: ='3.deposits individuals'!L102+'4.deposits legal entities'!L102 -> 253679.2 | M102: =('3.deposits individuals'!L102*'3.deposits individuals'!M102+'4.deposits legal entities'!L102*'4.deposits legal entities'!M102)/('3.deposits individuals'!L102+'4.deposits legal entities'!L102) -> 7.1905643 | N102: ='3.deposits individuals'!N102+'4.deposits legal entities'!N102 -> 260500.9 | O102: =('3.deposits individuals'!N102*'3.deposits individuals'!O102+'4.deposits legal entities'!N102*'4.deposits legal entities'!O102)/('3.deposits individuals'!N102+'4.deposits legal entities'!N102) -> 9.7535435 | P102: ='3.deposits individuals'!P102+'4.deposits legal entities'!P102 -> 293955.5 | Q102: =('3.deposits individuals'!P102*'3.deposits individuals'!Q102+'4.deposits legal entities'!P102*'4.deposits legal entities'!Q102)/('3.deposits individuals'!P102+'4.deposits legal entities'!P102) -> 9.8172932 | R102: ='3.deposits individuals'!R102+'4.deposits legal entities'!R102 -> 546344.5 | S102: =('3.deposits individuals'!R102*'3.deposits individuals'!S102+'4.deposits legal entities'!R102*'4.deposits legal entities'!S102)/('3.deposits individuals'!R102+'4.deposits legal entities'!R102) -> 3.1136402
A103: November | B103: ='3.deposits individuals'!B103+'4.deposits legal entities'!B103 -> 4792161.4 | C103: =('3.deposits individuals'!B103*'3.deposits individuals'!C103+'4.deposits legal entities'!B103*'4.deposits legal entities'!C103)/('3.deposits individuals'!B103+'4.deposits legal entities'!B103) -> 2.5158095 | F103: ='3.deposits individuals'!F103+'4.deposits legal entities'!F103 -> 3210907.9 | G103: =('3.deposits individuals'!F103*'3.deposits individuals'!G103+'4.deposits legal entities'!F103*'4.deposits legal entities'!G103)/('3.deposits individuals'!F103+'4.deposits legal entities'!F103) -> 0.45240042 | H103: =J103+L103+N103+P103+R103+T103 -> 1581253.5 | I103: =(J103*K103+L103*M103+N103*O103+P103*Q103+R103*S103+T103*U103)/(J103+L103+N103+P103+R103+T103) -> 6.7057871 | J103: ='3.deposits individuals'!J103+'4.deposits legal entities'!J103 -> 158742.1 | K103: =('3.deposits individuals'!J103*'3.deposits individuals'!K103+'4.deposits legal entities'!J103*'4.deposits legal entities'!K103)/('3.deposits individuals'!J103+'4.deposits legal entities'!J103) -> 7.5713606 | L103: ='3.deposits individuals'!L103+'4.deposits legal entities'!L103 -> 233892.2 | M103: =('3.deposits individuals'!L103*'3.deposits individuals'!M103+'4.deposits legal entities'!L103*'4.deposits legal entities'!M103)/('3.deposits individuals'!L103+'4.deposits legal entities'!L103) -> 8.7210754 | N103: ='3.deposits individuals'!N103+'4.deposits legal entities'!N103 -> 271501.2 | O103: =('3.deposits individuals'!N103*'3.deposits individuals'!O103+'4.deposits legal entities'!N103*'4.deposits legal entities'!O103)/('3.deposits individuals'!N103+'4.deposits legal entities'!N103) -> 9.0107406 | P103: ='3.deposits individuals'!P103+'4.deposits legal entities'!P103 -> 304261.2 | Q103: =('3.deposits individuals'!P103*'3.deposits individuals'!Q103+'4.deposits legal entities'!P103*'4.deposits legal entities'!Q103)/('3.deposits individuals'!P103+'4.deposits legal entities'!P103) -> 9.3857253 | R103: ='3.deposits individuals'!R103+'4.deposits legal entities'!R103 -> 612856.8 | S103: =('3.deposits individuals'!R103*'3.deposits individuals'!S103+'4.deposits legal entities'!R103*'4.deposits legal entities'!S103)/('3.deposits individuals'!R103+'4.deposits legal entities'!R103) -> 3.3608588
A104: December | B104: ='3.deposits individuals'!B104+'4.deposits legal entities'!B104 -> 5018663.5 | C104: =('3.deposits individuals'!B104*'3.deposits individuals'!C104+'4.deposits legal entities'!B104*'4.deposits legal entities'!C104)/('3.deposits individuals'!B104+'4.deposits legal entities'!B104) -> 2.6856665 | F104: ='3.deposits individuals'!F104+'4.deposits legal entities'!F104 -> 3408202.7 | G104: =('3.deposits individuals'!F104*'3.deposits individuals'!G104+'4.deposits legal entities'!F104*'4.deposits legal entities'!G104)/('3.deposits individuals'!F104+'4.deposits legal entities'!F104) -> 0.38492642 | H104: =J104+L104+N104+P104+R104+T104 -> 1610460.8 | I104: =(J104*K104+L104*M104+N104*O104+P104*Q104+R104*S104+T104*U104)/(J104+L104+N104+P104+R104+T104) -> 7.5547005 | J104: ='3.deposits individuals'!J104+'4.deposits legal entities'!J104 -> 140616.8 | K104: =('3.deposits individuals'!J104*'3.deposits individuals'!K104+'4.deposits legal entities'!J104*'4.deposits legal entities'!K104)/('3.deposits individuals'!J104+'4.deposits legal entities'!J104) -> 8.379923 | L104: ='3.deposits individuals'!L104+'4.deposits legal entities'!L104 -> 223091.5 | M104: =('3.deposits individuals'!L104*'3.deposits individuals'!M104+'4.deposits legal entities'!L104*'4.deposits legal entities'!M104)/('3.deposits individuals'!L104+'4.deposits legal entities'!L104) -> 8.0097675 | N104: ='3.deposits individuals'!N104+'4.deposits legal entities'!N104 -> 305001.4 | O104: =('3.deposits individuals'!N104*'3.deposits individuals'!O104+'4.deposits legal entities'!N104*'4.deposits legal entities'!O104)/('3.deposits individuals'!N104+'4.deposits legal entities'!N104) -> 8.6836217 | P104: ='3.deposits individuals'!P104+'4.deposits legal entities'!P104 -> 322537.9 | Q104: =('3.deposits individuals'!P104*'3.deposits individuals'!Q104+'4.deposits legal entities'!P104*'4.deposits legal entities'!Q104)/('3.deposits individuals'!P104+'4.deposits legal entities'!P104) -> 9.2319272 | R104: ='3.deposits individuals'!R104+'4.deposits legal entities'!R104 -> 618020.6 | S104: =('3.deposits individuals'!R104*'3.deposits individuals'!S104+'4.deposits legal entities'!R104*'4.deposits legal entities'!S104)/('3.deposits individuals'!R104+'4.deposits legal entities'!R104) -> 5.7727463 | T104: ='3.deposits individuals'!T104+'4.deposits legal entities'!T104 -> 1192.6 | U104: =('3.deposits individuals'!T104*'3.deposits individuals'!U104+'4.deposits legal entities'!T104*'4.deposits legal entities'!U104)/('3.deposits individuals'!T104+'4.deposits legal entities'!T104) -> 6.2390324
A105: January 2004 | B105: ='3.deposits individuals'!B105+'4.deposits legal entities'!B105 -> 5254798.8 | C105: =('3.deposits individuals'!B105*'3.deposits individuals'!C105+'4.deposits legal entities'!B105*'4.deposits legal entities'!C105)/('3.deposits individuals'!B105+'4.deposits legal entities'!B105) -> 2.7434423 | F105: ='3.deposits individuals'!F105+'4.deposits legal entities'!F105 -> 3651984 | G105: =('3.deposits individuals'!F105*'3.deposits individuals'!G105+'4.deposits legal entities'!F105*'4.deposits legal entities'!G105)/('3.deposits individuals'!F105+'4.deposits legal entities'!F105) -> 0.69538043 | H105: =J105+L105+N105+P105+R105+T105 -> 1602814.8 | I105: =(J105*K105+L105*M105+N105*O105+P105*Q105+R105*S105+T105*U105)/(J105+L105+N105+P105+R105+T105) -> 7.4099136 | J105: ='3.deposits individuals'!J105+'4.deposits legal entities'!J105 -> 145374.9 | K105: =('3.deposits individuals'!J105*'3.deposits individuals'!K105+'4.deposits legal entities'!J105*'4.deposits legal entities'!K105)/('3.deposits individuals'!J105+'4.deposits legal entities'!J105) -> 8.9685305 | L105: ='3.deposits individuals'!L105+'4.deposits legal entities'!L105 -> 287369.8 | M105: =('3.deposits individuals'!L105*'3.deposits individuals'!M105+'4.deposits legal entities'!L105*'4.deposits legal entities'!M105)/('3.deposits individuals'!L105+'4.deposits legal entities'!L105) -> 7.3148362 | N105: ='3.deposits individuals'!N105+'4.deposits legal entities'!N105 -> 272491.6 | O105: =('3.deposits individuals'!N105*'3.deposits individuals'!O105+'4.deposits legal entities'!N105*'4.deposits legal entities'!O105)/('3.deposits individuals'!N105+'4.deposits legal entities'!N105) -> 8.6359103 | P105: ='3.deposits individuals'!P105+'4.deposits legal entities'!P105 -> 338772 | Q105: =('3.deposits individuals'!P105*'3.deposits individuals'!Q105+'4.deposits legal entities'!P105*'4.deposits legal entities'!Q105)/('3.deposits individuals'!P105+'4.deposits legal entities'!P105) -> 9.4020871 | R105: ='3.deposits individuals'!R105+'4.deposits legal entities'!R105 -> 558806.5 | S105: =('3.deposits individuals'!R105*'3.deposits individuals'!S105+'4.deposits legal entities'!R105*'4.deposits legal entities'!S105)/('3.deposits individuals'!R105+'4.deposits legal entities'!R105) -> 5.2477559
A106: February | B106: ='3.deposits individuals'!B106+'4.deposits legal entities'!B106 -> 5573933.6 | C106: =('3.deposits individuals'!B106*'3.deposits individuals'!C106+'4.deposits legal entities'!B106*'4.deposits legal entities'!C106)/('3.deposits individuals'!B106+'4.deposits legal entities'!B106) -> 2.7211599 | F106: ='3.deposits individuals'!F106+'4.deposits legal entities'!F106 -> 3907057 | G106: =('3.deposits individuals'!F106*'3.deposits individuals'!G106+'4.deposits legal entities'!F106*'4.deposits legal entities'!G106)/('3.deposits individuals'!F106+'4.deposits legal entities'!F106) -> 0.78448111 | H106: =J106+L106+N106+P106+R106+T106 -> 1666876.6 | I106: =(J106*K106+L106*M106+N106*O106+P106*Q106+R106*S106+T106*U106)/(J106+L106+N106+P106+R106+T106) -> 7.2606168 | J106: ='3.deposits individuals'!J106+'4.deposits legal entities'!J106 -> 126355 | K106: =('3.deposits individuals'!J106*'3.deposits individuals'!K106+'4.deposits legal entities'!J106*'4.deposits legal entities'!K106)/('3.deposits individuals'!J106+'4.deposits legal entities'!J106) -> 7.3407475 | L106: ='3.deposits individuals'!L106+'4.deposits legal entities'!L106 -> 294414.7 | M106: =('3.deposits individuals'!L106*'3.deposits individuals'!M106+'4.deposits legal entities'!L106*'4.deposits legal entities'!M106)/('3.deposits individuals'!L106+'4.deposits legal entities'!L106) -> 7.6316708 | N106: ='3.deposits individuals'!N106+'4.deposits legal entities'!N106 -> 311834.9 | O106: =('3.deposits individuals'!N106*'3.deposits individuals'!O106+'4.deposits legal entities'!N106*'4.deposits legal entities'!O106)/('3.deposits individuals'!N106+'4.deposits legal entities'!N106) -> 8.3250937 | P106: ='3.deposits individuals'!P106+'4.deposits legal entities'!P106 -> 328287 | Q106: =('3.deposits individuals'!P106*'3.deposits individuals'!Q106+'4.deposits legal entities'!P106*'4.deposits legal entities'!Q106)/('3.deposits individuals'!P106+'4.deposits legal entities'!P106) -> 9.5888341 | R106: ='3.deposits individuals'!R106+'4.deposits legal entities'!R106 -> 605985 | S106: =('3.deposits individuals'!R106*'3.deposits individuals'!S106+'4.deposits legal entities'!R106*'4.deposits legal entities'!S106)/('3.deposits individuals'!R106+'4.deposits legal entities'!R106) -> 5.2545718
A107: March | B107: ='3.deposits individuals'!B107+'4.deposits legal entities'!B107 -> 5331882.4 | C107: =('3.deposits individuals'!B107*'3.deposits individuals'!C107+'4.deposits legal entities'!B107*'4.deposits legal entities'!C107)/('3.deposits individuals'!B107+'4.deposits legal entities'!B107) -> 2.7267924 | F107: ='3.deposits individuals'!F107+'4.deposits legal entities'!F107 -> 3561363.5 | G107: =('3.deposits individuals'!F107*'3.deposits individuals'!G107+'4.deposits legal entities'!F107*'4.deposits legal entities'!G107)/('3.deposits individuals'!F107+'4.deposits legal entities'!F107) -> 0.42857163 | H107: =J107+L107+N107+P107+R107+T107 -> 1770518.9 | I107: =(J107*K107+L107*M107+N107*O107+P107*Q107+R107*S107+T107*U107)/(J107+L107+N107+P107+R107+T107) -> 7.3496178 | J107: ='3.deposits individuals'!J107+'4.deposits legal entities'!J107 -> 198810.6 | K107: =('3.deposits individuals'!J107*'3.deposits individuals'!K107+'4.deposits legal entities'!J107*'4.deposits legal entities'!K107)/('3.deposits individuals'!J107+'4.deposits legal entities'!J107) -> 7.3116126 | L107: ='3.deposits individuals'!L107+'4.deposits legal entities'!L107 -> 279236.2 | M107: =('3.deposits individuals'!L107*'3.deposits individuals'!M107+'4.deposits legal entities'!L107*'4.deposits legal entities'!M107)/('3.deposits individuals'!L107+'4.deposits legal entities'!L107) -> 6.7684516 | N107: ='3.deposits individuals'!N107+'4.deposits legal entities'!N107 -> 281971.1 | O107: =('3.deposits individuals'!N107*'3.deposits individuals'!O107+'4.deposits legal entities'!N107*'4.deposits legal entities'!O107)/('3.deposits individuals'!N107+'4.deposits legal entities'!N107) -> 8.957961 | P107: ='3.deposits individuals'!P107+'4.deposits legal entities'!P107 -> 360764.9 | Q107: =('3.deposits individuals'!P107*'3.deposits individuals'!Q107+'4.deposits legal entities'!P107*'4.deposits legal entities'!Q107)/('3.deposits individuals'!P107+'4.deposits legal entities'!P107) -> 9.8555734 | R107: ='3.deposits individuals'!R107+'4.deposits legal entities'!R107 -> 649736.1 | S107: =('3.deposits individuals'!R107*'3.deposits individuals'!S107+'4.deposits legal entities'!R107*'4.deposits legal entities'!S107)/('3.deposits individuals'!R107+'4.deposits legal entities'!R107) -> 5.5216007
A108: April | B108: ='3.deposits individuals'!B108+'4.deposits legal entities'!B108 -> 5661295.6 | C108: =('3.deposits individuals'!B108*'3.deposits individuals'!C108+'4.deposits legal entities'!B108*'4.deposits legal entities'!C108)/('3.deposits individuals'!B108+'4.deposits legal entities'!B108) -> 2.5867336 | F108: ='3.deposits individuals'!F108+'4.deposits legal entities'!F108 -> 3888338.8 | G108: =('3.deposits individuals'!F108*'3.deposits individuals'!G108+'4.deposits legal entities'!F108*'4.deposits legal entities'!G108)/('3.deposits individuals'!F108+'4.deposits legal entities'!F108) -> 0.43945391 | H108: =J108+L108+N108+P108+R108+T108 -> 1772956.8 | I108: =(J108*K108+L108*M108+N108*O108+P108*Q108+R108*S108+T108*U108)/(J108+L108+N108+P108+R108+T108) -> 7.2960142 | J108: ='3.deposits individuals'!J108+'4.deposits legal entities'!J108 -> 131027.1 | K108: =('3.deposits individuals'!J108*'3.deposits individuals'!K108+'4.deposits legal entities'!J108*'4.deposits legal entities'!K108)/('3.deposits individuals'!J108+'4.deposits legal entities'!J108) -> 7.2166255 | L108: ='3.deposits individuals'!L108+'4.deposits legal entities'!L108 -> 322977.5 | M108: =('3.deposits individuals'!L108*'3.deposits individuals'!M108+'4.deposits legal entities'!L108*'4.deposits legal entities'!M108)/('3.deposits individuals'!L108+'4.deposits legal entities'!L108) -> 6.6702724 | N108: ='3.deposits individuals'!N108+'4.deposits legal entities'!N108 -> 302250.2 | O108: =('3.deposits individuals'!N108*'3.deposits individuals'!O108+'4.deposits legal entities'!N108*'4.deposits legal entities'!O108)/('3.deposits individuals'!N108+'4.deposits legal entities'!N108) -> 8.9688312 | P108: ='3.deposits individuals'!P108+'4.deposits legal entities'!P108 -> 375386.7 | Q108: =('3.deposits individuals'!P108*'3.deposits individuals'!Q108+'4.deposits legal entities'!P108*'4.deposits legal entities'!Q108)/('3.deposits individuals'!P108+'4.deposits legal entities'!P108) -> 9.59449 | R108: ='3.deposits individuals'!R108+'4.deposits legal entities'!R108 -> 641315.3 | S108: =('3.deposits individuals'!R108*'3.deposits individuals'!S108+'4.deposits legal entities'!R108*'4.deposits legal entities'!S108)/('3.deposits individuals'!R108+'4.deposits legal entities'!R108) -> 5.4935874
A109: May | B109: ='3.deposits individuals'!B109+'4.deposits legal entities'!B109 -> 6202149.7 | C109: =('3.deposits individuals'!B109*'3.deposits individuals'!C109+'4.deposits legal entities'!B109*'4.deposits legal entities'!C109)/('3.deposits individuals'!B109+'4.deposits legal entities'!B109) -> 2.6035529 | F109: ='3.deposits individuals'!F109+'4.deposits legal entities'!F109 -> 4342653.7 | G109: =('3.deposits individuals'!F109*'3.deposits individuals'!G109+'4.deposits legal entities'!F109*'4.deposits legal entities'!G109)/('3.deposits individuals'!F109+'4.deposits legal entities'!F109) -> 0.70815484 | H109: =J109+L109+N109+P109+R109+T109 -> 1859496 | I109: =(J109*K109+L109*M109+N109*O109+P109*Q109+R109*S109+T109*U109)/(J109+L109+N109+P109+R109+T109) -> 7.030052 | J109: ='3.deposits individuals'!J109+'4.deposits legal entities'!J109 -> 243783.6 | K109: =('3.deposits individuals'!J109*'3.deposits individuals'!K109+'4.deposits legal entities'!J109*'4.deposits legal entities'!K109)/('3.deposits individuals'!J109+'4.deposits legal entities'!J109) -> 5.4800376 | L109: ='3.deposits individuals'!L109+'4.deposits legal entities'!L109 -> 269397.1 | M109: =('3.deposits individuals'!L109*'3.deposits individuals'!M109+'4.deposits legal entities'!L109*'4.deposits legal entities'!M109)/('3.deposits individuals'!L109+'4.deposits legal entities'!L109) -> 7.5141121 | N109: ='3.deposits individuals'!N109+'4.deposits legal entities'!N109 -> 310160.1 | O109: =('3.deposits individuals'!N109*'3.deposits individuals'!O109+'4.deposits legal entities'!N109*'4.deposits legal entities'!O109)/('3.deposits individuals'!N109+'4.deposits legal entities'!N109) -> 8.8651534 | P109: ='3.deposits individuals'!P109+'4.deposits legal entities'!P109 -> 363749.7 | Q109: =('3.deposits individuals'!P109*'3.deposits individuals'!Q109+'4.deposits legal entities'!P109*'4.deposits legal entities'!Q109)/('3.deposits individuals'!P109+'4.deposits legal entities'!P109) -> 9.9901632 | R109: ='3.deposits individuals'!R109+'4.deposits legal entities'!R109 -> 672405.5 | S109: =('3.deposits individuals'!R109*'3.deposits individuals'!S109+'4.deposits legal entities'!R109*'4.deposits legal entities'!S109)/('3.deposits individuals'!R109+'4.deposits legal entities'!R109) -> 4.9502787
A110: June | B110: ='3.deposits individuals'!B110+'4.deposits legal entities'!B110 -> 5800594.9 | C110: =('3.deposits individuals'!B110*'3.deposits individuals'!C110+'4.deposits legal entities'!B110*'4.deposits legal entities'!C110)/('3.deposits individuals'!B110+'4.deposits legal entities'!B110) -> 2.745627 | F110: ='3.deposits individuals'!F110+'4.deposits legal entities'!F110 -> 3952569.8 | G110: =('3.deposits individuals'!F110*'3.deposits individuals'!G110+'4.deposits legal entities'!F110*'4.deposits legal entities'!G110)/('3.deposits individuals'!F110+'4.deposits legal entities'!F110) -> 0.47856099 | H110: =J110+L110+N110+P110+R110+T110 -> 1848025.1 | I110: =(J110*K110+L110*M110+N110*O110+P110*Q110+R110*S110+T110*U110)/(J110+L110+N110+P110+R110+T110) -> 7.5944445 | J110: ='3.deposits individuals'!J110+'4.deposits legal entities'!J110 -> 184392.4 | K110: =('3.deposits individuals'!J110*'3.deposits individuals'!K110+'4.deposits legal entities'!J110*'4.deposits legal entities'!K110)/('3.deposits individuals'!J110+'4.deposits legal entities'!J110) -> 6.7534131 | L110: ='3.deposits individuals'!L110+'4.deposits legal entities'!L110 -> 264944.7 | M110: =('3.deposits individuals'!L110*'3.deposits individuals'!M110+'4.deposits legal entities'!L110*'4.deposits legal entities'!M110)/('3.deposits individuals'!L110+'4.deposits legal entities'!L110) -> 7.5440007 | N110: ='3.deposits individuals'!N110+'4.deposits legal entities'!N110 -> 338315.9 | O110: =('3.deposits individuals'!N110*'3.deposits individuals'!O110+'4.deposits legal entities'!N110*'4.deposits legal entities'!O110)/('3.deposits individuals'!N110+'4.deposits legal entities'!N110) -> 8.6558403 | P110: ='3.deposits individuals'!P110+'4.deposits legal entities'!P110 -> 369623.4 | Q110: =('3.deposits individuals'!P110*'3.deposits individuals'!Q110+'4.deposits legal entities'!P110*'4.deposits legal entities'!Q110)/('3.deposits individuals'!P110+'4.deposits legal entities'!P110) -> 9.8377285 | R110: ='3.deposits individuals'!R110+'4.deposits legal entities'!R110 -> 690748.7 | S110: =('3.deposits individuals'!R110*'3.deposits individuals'!S110+'4.deposits legal entities'!R110*'4.deposits legal entities'!S110)/('3.deposits individuals'!R110+'4.deposits legal entities'!R110) -> 6.118057
A111: July | B111: ='3.deposits individuals'!B111+'4.deposits legal entities'!B111 -> 6167067.7 | C111: =('3.deposits individuals'!B111*'3.deposits individuals'!C111+'4.deposits legal entities'!B111*'4.deposits legal entities'!C111)/('3.deposits individuals'!B111+'4.deposits legal entities'!B111) -> 3.0314719 | F111: ='3.deposits individuals'!F111+'4.deposits legal entities'!F111 -> 4227180.6 | G111: =('3.deposits individuals'!F111*'3.deposits individuals'!G111+'4.deposits legal entities'!F111*'4.deposits legal entities'!G111)/('3.deposits individuals'!F111+'4.deposits legal entities'!F111) -> 0.89508422 | H111: =J111+L111+N111+P111+R111+T111 -> 1939887.1 | I111: =(J111*K111+L111*M111+N111*O111+P111*Q111+R111*S111+T111*U111)/(J111+L111+N111+P111+R111+T111) -> 7.6868441 | J111: ='3.deposits individuals'!J111+'4.deposits legal entities'!J111 -> 171162.3 | K111: =('3.deposits individuals'!J111*'3.deposits individuals'!K111+'4.deposits legal entities'!J111*'4.deposits legal entities'!K111)/('3.deposits individuals'!J111+'4.deposits legal entities'!J111) -> 6.6443842 | L111: ='3.deposits individuals'!L111+'4.deposits legal entities'!L111 -> 281305.6 | M111: =('3.deposits individuals'!L111*'3.deposits individuals'!M111+'4.deposits legal entities'!L111*'4.deposits legal entities'!M111)/('3.deposits individuals'!L111+'4.deposits legal entities'!L111) -> 7.7094021 | N111: ='3.deposits individuals'!N111+'4.deposits legal entities'!N111 -> 345394.9 | O111: =('3.deposits individuals'!N111*'3.deposits individuals'!O111+'4.deposits legal entities'!N111*'4.deposits legal entities'!O111)/('3.deposits individuals'!N111+'4.deposits legal entities'!N111) -> 8.4386108 | P111: ='3.deposits individuals'!P111+'4.deposits legal entities'!P111 -> 453155.8 | Q111: =('3.deposits individuals'!P111*'3.deposits individuals'!Q111+'4.deposits legal entities'!P111*'4.deposits legal entities'!Q111)/('3.deposits individuals'!P111+'4.deposits legal entities'!P111) -> 9.9422943 | R111: ='3.deposits individuals'!R111+'4.deposits legal entities'!R111 -> 688867.7 | S111: =('3.deposits individuals'!R111*'3.deposits individuals'!S111+'4.deposits legal entities'!R111*'4.deposits legal entities'!S111)/('3.deposits individuals'!R111+'4.deposits legal entities'!R111) -> 6.0760181 | T111: ='3.deposits individuals'!T111+'4.deposits legal entities'!T111 -> 0.8 | U111: =('3.deposits individuals'!T111*'3.deposits individuals'!U111+'4.deposits legal entities'!T111*'4.deposits legal entities'!U111)/('3.deposits individuals'!T111+'4.deposits legal entities'!T111) -> 12
A112: August | B112: ='3.deposits individuals'!B112+'4.deposits legal entities'!B112 -> 6940996.4 | C112: =('3.deposits individuals'!B112*'3.deposits individuals'!C112+'4.deposits legal entities'!B112*'4.deposits legal entities'!C112)/('3.deposits individuals'!B112+'4.deposits legal entities'!B112) -> 2.8465433 | F112: ='3.deposits individuals'!F112+'4.deposits legal entities'!F112 -> 4926615.4 | G112: =('3.deposits individuals'!F112*'3.deposits individuals'!G112+'4.deposits legal entities'!F112*'4.deposits legal entities'!G112)/('3.deposits individuals'!F112+'4.deposits legal entities'!F112) -> 0.85692914 | H112: =J112+L112+N112+P112+R112+T112 -> 2014381 | I112: =(J112*K112+L112*M112+N112*O112+P112*Q112+R112*S112+T112*U112)/(J112+L112+N112+P112+R112+T112) -> 7.7125859 | J112: ='3.deposits individuals'!J112+'4.deposits legal entities'!J112 -> 178746 | K112: =('3.deposits individuals'!J112*'3.deposits individuals'!K112+'4.deposits legal entities'!J112*'4.deposits legal entities'!K112)/('3.deposits individuals'!J112+'4.deposits legal entities'!J112) -> 6.656298 | L112: ='3.deposits individuals'!L112+'4.deposits legal entities'!L112 -> 346584.3 | M112: =('3.deposits individuals'!L112*'3.deposits individuals'!M112+'4.deposits legal entities'!L112*'4.deposits legal entities'!M112)/('3.deposits individuals'!L112+'4.deposits legal entities'!L112) -> 7.5049875 | N112: ='3.deposits individuals'!N112+'4.deposits legal entities'!N112 -> 315931.3 | O112: =('3.deposits individuals'!N112*'3.deposits individuals'!O112+'4.deposits legal entities'!N112*'4.deposits legal entities'!O112)/('3.deposits individuals'!N112+'4.deposits legal entities'!N112) -> 8.4898338 | P112: ='3.deposits individuals'!P112+'4.deposits legal entities'!P112 -> 424902.4 | Q112: =('3.deposits individuals'!P112*'3.deposits individuals'!Q112+'4.deposits legal entities'!P112*'4.deposits legal entities'!Q112)/('3.deposits individuals'!P112+'4.deposits legal entities'!P112) -> 10.124213 | R112: ='3.deposits individuals'!R112+'4.deposits legal entities'!R112 -> 748216.2 | S112: =('3.deposits individuals'!R112*'3.deposits individuals'!S112+'4.deposits legal entities'!R112*'4.deposits legal entities'!S112)/('3.deposits individuals'!R112+'4.deposits legal entities'!R112) -> 6.363365 | T112: ='3.deposits individuals'!T112+'4.deposits legal entities'!T112 -> 0.8 | U112: =('3.deposits individuals'!T112*'3.deposits individuals'!U112+'4.deposits legal entities'!T112*'4.deposits legal entities'!U112)/('3.deposits individuals'!T112+'4.deposits legal entities'!T112) -> 12
A113: September | B113: ='3.deposits individuals'!B113+'4.deposits legal entities'!B113 -> 6603878.2 | C113: =('3.deposits individuals'!B113*'3.deposits individuals'!C113+'4.deposits legal entities'!B113*'4.deposits legal entities'!C113)/('3.deposits individuals'!B113+'4.deposits legal entities'!B113) -> 3.1097241 | F113: ='3.deposits individuals'!F113+'4.deposits legal entities'!F113 -> 4400626.6 | G113: =('3.deposits individuals'!F113*'3.deposits individuals'!G113+'4.deposits legal entities'!F113*'4.deposits legal entities'!G113)/('3.deposits individuals'!F113+'4.deposits legal entities'!F113) -> 0.83958111 | H113: =J113+L113+N113+P113+R113+T113 -> 2203251.6 | I113: =(J113*K113+L113*M113+N113*O113+P113*Q113+R113*S113+T113*U113)/(J113+L113+N113+P113+R113+T113) -> 7.643955 | J113: ='3.deposits individuals'!J113+'4.deposits legal entities'!J113 -> 247935.8 | K113: =('3.deposits individuals'!J113*'3.deposits individuals'!K113+'4.deposits legal entities'!J113*'4.deposits legal entities'!K113)/('3.deposits individuals'!J113+'4.deposits legal entities'!J113) -> 6.486003 | L113: ='3.deposits individuals'!L113+'4.deposits legal entities'!L113 -> 313890 | M113: =('3.deposits individuals'!L113*'3.deposits individuals'!M113+'4.deposits legal entities'!L113*'4.deposits legal entities'!M113)/('3.deposits individuals'!L113+'4.deposits legal entities'!L113) -> 7.3393361 | N113: ='3.deposits individuals'!N113+'4.deposits legal entities'!N113 -> 310258.5 | O113: =('3.deposits individuals'!N113*'3.deposits individuals'!O113+'4.deposits legal entities'!N113*'4.deposits legal entities'!O113)/('3.deposits individuals'!N113+'4.deposits legal entities'!N113) -> 9.0132603 | P113: ='3.deposits individuals'!P113+'4.deposits legal entities'!P113 -> 467416.1 | Q113: =('3.deposits individuals'!P113*'3.deposits individuals'!Q113+'4.deposits legal entities'!P113*'4.deposits legal entities'!Q113)/('3.deposits individuals'!P113+'4.deposits legal entities'!P113) -> 9.498608 | R113: ='3.deposits individuals'!R113+'4.deposits legal entities'!R113 -> 800627.1 | S113: =('3.deposits individuals'!R113*'3.deposits individuals'!S113+'4.deposits legal entities'!R113*'4.deposits legal entities'!S113)/('3.deposits individuals'!R113+'4.deposits legal entities'!R113) -> 7.1112298 | T113: ='3.deposits individuals'!T113+'4.deposits legal entities'!T113 -> 63124.1 | U113: =('3.deposits individuals'!T113*'3.deposits individuals'!U113+'4.deposits legal entities'!T113*'4.deposits legal entities'!U113)/('3.deposits individuals'!T113+'4.deposits legal entities'!T113) -> 0.00020911189
A114: October | B114: ='3.deposits individuals'!B114+'4.deposits legal entities'!B114 -> 6976675.2 | C114: =('3.deposits individuals'!B114*'3.deposits individuals'!C114+'4.deposits legal entities'!B114*'4.deposits legal entities'!C114)/('3.deposits individuals'!B114+'4.deposits legal entities'!B114) -> 2.8607217 | F114: ='3.deposits individuals'!F114+'4.deposits legal entities'!F114 -> 4873818.8 | G114: =('3.deposits individuals'!F114*'3.deposits individuals'!G114+'4.deposits legal entities'!F114*'4.deposits legal entities'!G114)/('3.deposits individuals'!F114+'4.deposits legal entities'!F114) -> 0.95006695 | H114: =J114+L114+N114+P114+R114+T114 -> 2102856.4 | I114: =(J114*K114+L114*M114+N114*O114+P114*Q114+R114*S114+T114*U114)/(J114+L114+N114+P114+R114+T114) -> 7.2890722 | J114: ='3.deposits individuals'!J114+'4.deposits legal entities'!J114 -> 247567.4 | K114: =('3.deposits individuals'!J114*'3.deposits individuals'!K114+'4.deposits legal entities'!J114*'4.deposits legal entities'!K114)/('3.deposits individuals'!J114+'4.deposits legal entities'!J114) -> 6.5491331 | L114: ='3.deposits individuals'!L114+'4.deposits legal entities'!L114 -> 345761.1 | M114: =('3.deposits individuals'!L114*'3.deposits individuals'!M114+'4.deposits legal entities'!L114*'4.deposits legal entities'!M114)/('3.deposits individuals'!L114+'4.deposits legal entities'!L114) -> 7.203929 | N114: ='3.deposits individuals'!N114+'4.deposits legal entities'!N114 -> 332971.6 | O114: =('3.deposits individuals'!N114*'3.deposits individuals'!O114+'4.deposits legal entities'!N114*'4.deposits legal entities'!O114)/('3.deposits individuals'!N114+'4.deposits legal entities'!N114) -> 8.772163 | P114: ='3.deposits individuals'!P114+'4.deposits legal entities'!P114 -> 457061.6 | Q114: =('3.deposits individuals'!P114*'3.deposits individuals'!Q114+'4.deposits legal entities'!P114*'4.deposits legal entities'!Q114)/('3.deposits individuals'!P114+'4.deposits legal entities'!P114) -> 9.8194685 | R114: ='3.deposits individuals'!R114+'4.deposits legal entities'!R114 -> 657052.1 | S114: =('3.deposits individuals'!R114*'3.deposits individuals'!S114+'4.deposits legal entities'!R114*'4.deposits legal entities'!S114)/('3.deposits individuals'!R114+'4.deposits legal entities'!R114) -> 5.7935735 | T114: ='3.deposits individuals'!T114+'4.deposits legal entities'!T114 -> 62442.6 | U114: =('3.deposits individuals'!T114*'3.deposits individuals'!U114+'4.deposits legal entities'!T114*'4.deposits legal entities'!U114)/('3.deposits individuals'!T114+'4.deposits legal entities'!T114) -> 0.00030748239
A115: November | B115: ='3.deposits individuals'!B115+'4.deposits legal entities'!B115 -> 7708613.3 | C115: =('3.deposits individuals'!B115*'3.deposits individuals'!C115+'4.deposits legal entities'!B115*'4.deposits legal entities'!C115)/('3.deposits individuals'!B115+'4.deposits legal entities'!B115) -> 2.6194189 | F115: ='3.deposits individuals'!F115+'4.deposits legal entities'!F115 -> 5579720.9 | G115: =('3.deposits individuals'!F115*'3.deposits individuals'!G115+'4.deposits legal entities'!F115*'4.deposits legal entities'!G115)/('3.deposits individuals'!F115+'4.deposits legal entities'!F115) -> 0.86522701 | H115: =J115+L115+N115+P115+R115+T115 -> 2128892.4 | I115: =(J115*K115+L115*M115+N115*O115+P115*Q115+R115*S115+T115*U115)/(J115+L115+N115+P115+R115+T115) -> 7.2170684 | J115: ='3.deposits individuals'!J115+'4.deposits legal entities'!J115 -> 208480.6 | K115: =('3.deposits individuals'!J115*'3.deposits individuals'!K115+'4.deposits legal entities'!J115*'4.deposits legal entities'!K115)/('3.deposits individuals'!J115+'4.deposits legal entities'!J115) -> 5.536871 | L115: ='3.deposits individuals'!L115+'4.deposits legal entities'!L115 -> 363920.2 | M115: =('3.deposits individuals'!L115*'3.deposits individuals'!M115+'4.deposits legal entities'!L115*'4.deposits legal entities'!M115)/('3.deposits individuals'!L115+'4.deposits legal entities'!L115) -> 6.9227411 | N115: ='3.deposits individuals'!N115+'4.deposits legal entities'!N115 -> 381638.6 | O115: =('3.deposits individuals'!N115*'3.deposits individuals'!O115+'4.deposits legal entities'!N115*'4.deposits legal entities'!O115)/('3.deposits individuals'!N115+'4.deposits legal entities'!N115) -> 8.5522716 | P115: ='3.deposits individuals'!P115+'4.deposits legal entities'!P115 -> 448863.4 | Q115: =('3.deposits individuals'!P115*'3.deposits individuals'!Q115+'4.deposits legal entities'!P115*'4.deposits legal entities'!Q115)/('3.deposits individuals'!P115+'4.deposits legal entities'!P115) -> 9.7970092 | R115: ='3.deposits individuals'!R115+'4.deposits legal entities'!R115 -> 664642.7 | S115: =('3.deposits individuals'!R115*'3.deposits individuals'!S115+'4.deposits legal entities'!R115*'4.deposits legal entities'!S115)/('3.deposits individuals'!R115+'4.deposits legal entities'!R115) -> 6.0623368 | T115: ='3.deposits individuals'!T115+'4.deposits legal entities'!T115 -> 61346.9 | U115: =('3.deposits individuals'!T115*'3.deposits individuals'!U115+'4.deposits legal entities'!T115*'4.deposits legal entities'!U115)/('3.deposits individuals'!T115+'4.deposits legal entities'!T115) -> 0.00037165692
A116: December | B116: ='3.deposits individuals'!B116+'4.deposits legal entities'!B116 -> 8205967.7 | C116: =('3.deposits individuals'!B116*'3.deposits individuals'!C116+'4.deposits legal entities'!B116*'4.deposits legal entities'!C116)/('3.deposits individuals'!B116+'4.deposits legal entities'!B116) -> 2.5400352 | F116: ='3.deposits individuals'!F116+'4.deposits legal entities'!F116 -> 5869653.8 | G116: =('3.deposits individuals'!F116*'3.deposits individuals'!G116+'4.deposits legal entities'!F116*'4.deposits legal entities'!G116)/('3.deposits individuals'!F116+'4.deposits legal entities'!F116) -> 0.69272982 | H116: =J116+L116+N116+P116+R116+T116 -> 2336313.9 | I116: =(J116*K116+L116*M116+N116*O116+P116*Q116+R116*S116+T116*U116)/(J116+L116+N116+P116+R116+T116) -> 7.1811253 | J116: ='3.deposits individuals'!J116+'4.deposits legal entities'!J116 -> 318032.2 | K116: =('3.deposits individuals'!J116*'3.deposits individuals'!K116+'4.deposits legal entities'!J116*'4.deposits legal entities'!K116)/('3.deposits individuals'!J116+'4.deposits legal entities'!J116) -> 5.4710832 | L116: ='3.deposits individuals'!L116+'4.deposits legal entities'!L116 -> 281248 | M116: =('3.deposits individuals'!L116*'3.deposits individuals'!M116+'4.deposits legal entities'!L116*'4.deposits legal entities'!M116)/('3.deposits individuals'!L116+'4.deposits legal entities'!L116) -> 7.6553738 | N116: ='3.deposits individuals'!N116+'4.deposits legal entities'!N116 -> 397533.5 | O116: =('3.deposits individuals'!N116*'3.deposits individuals'!O116+'4.deposits legal entities'!N116*'4.deposits legal entities'!O116)/('3.deposits individuals'!N116+'4.deposits legal entities'!N116) -> 8.4207534 | P116: ='3.deposits individuals'!P116+'4.deposits legal entities'!P116 -> 472872.7 | Q116: =('3.deposits individuals'!P116*'3.deposits individuals'!Q116+'4.deposits legal entities'!P116*'4.deposits legal entities'!Q116)/('3.deposits individuals'!P116+'4.deposits legal entities'!P116) -> 9.9189678 | R116: ='3.deposits individuals'!R116+'4.deposits legal entities'!R116 -> 805159.1 | S116: =('3.deposits individuals'!R116*'3.deposits individuals'!S116+'4.deposits legal entities'!R116*'4.deposits legal entities'!S116)/('3.deposits individuals'!R116+'4.deposits legal entities'!R116) -> 6.0190769 | T116: ='3.deposits individuals'!T116+'4.deposits legal entities'!T116 -> 61468.4 | U116: =('3.deposits individuals'!T116*'3.deposits individuals'!U116+'4.deposits legal entities'!T116*'4.deposits legal entities'!U116)/('3.deposits individuals'!T116+'4.deposits legal entities'!T116) -> 0.0011127669
A117: January 2005 | B117: ='3.deposits individuals'!B117+'4.deposits legal entities'!B117 -> 9196500.5 | C117: =('3.deposits individuals'!B117*'3.deposits individuals'!C117+'4.deposits legal entities'!B117*'4.deposits legal entities'!C117)/('3.deposits individuals'!B117+'4.deposits legal entities'!B117) -> 2.509064 | F117: ='3.deposits individuals'!F117+'4.deposits legal entities'!F117 -> 6404521.8 | G117: =('3.deposits individuals'!F117*'3.deposits individuals'!G117+'4.deposits legal entities'!F117*'4.deposits legal entities'!G117)/('3.deposits individuals'!F117+'4.deposits legal entities'!F117) -> 0.64917245 | H117: =J117+L117+N117+P117+R117+T117 -> 2791978.7 | I117: =(J117*K117+L117*M117+N117*O117+P117*Q117+R117*S117+T117*U117)/(J117+L117+N117+P117+R117+T117) -> 6.7754705 | J117: ='3.deposits individuals'!J117+'4.deposits legal entities'!J117 -> 146833.6 | K117: =('3.deposits individuals'!J117*'3.deposits individuals'!K117+'4.deposits legal entities'!J117*'4.deposits legal entities'!K117)/('3.deposits individuals'!J117+'4.deposits legal entities'!J117) -> 7.2213538 | L117: ='3.deposits individuals'!L117+'4.deposits legal entities'!L117 -> 375606 | M117: =('3.deposits individuals'!L117*'3.deposits individuals'!M117+'4.deposits legal entities'!L117*'4.deposits legal entities'!M117)/('3.deposits individuals'!L117+'4.deposits legal entities'!L117) -> 7.6270302 | N117: ='3.deposits individuals'!N117+'4.deposits legal entities'!N117 -> 453642.4 | O117: =('3.deposits individuals'!N117*'3.deposits individuals'!O117+'4.deposits legal entities'!N117*'4.deposits legal entities'!O117)/('3.deposits individuals'!N117+'4.deposits legal entities'!N117) -> 9.2245715 | P117: ='3.deposits individuals'!P117+'4.deposits legal entities'!P117 -> 453076.2 | Q117: =('3.deposits individuals'!P117*'3.deposits individuals'!Q117+'4.deposits legal entities'!P117*'4.deposits legal entities'!Q117)/('3.deposits individuals'!P117+'4.deposits legal entities'!P117) -> 10.151508 | R117: ='3.deposits individuals'!R117+'4.deposits legal entities'!R117 -> 1302486.9 | S117: =('3.deposits individuals'!R117*'3.deposits individuals'!S117+'4.deposits legal entities'!R117*'4.deposits legal entities'!S117)/('3.deposits individuals'!R117+'4.deposits legal entities'!R117) -> 4.7660663 | T117: ='3.deposits individuals'!T117+'4.deposits legal entities'!T117 -> 60333.6 | U117: =('3.deposits individuals'!T117*'3.deposits individuals'!U117+'4.deposits legal entities'!T117*'4.deposits legal entities'!U117)/('3.deposits individuals'!T117+'4.deposits legal entities'!T117) -> 0.0011767904
A118: February | B118: ='3.deposits individuals'!B118+'4.deposits legal entities'!B118 -> 8458919.4 | C118: =('3.deposits individuals'!B118*'3.deposits individuals'!C118+'4.deposits legal entities'!B118*'4.deposits legal entities'!C118)/('3.deposits individuals'!B118+'4.deposits legal entities'!B118) -> 2.8939011 | F118: ='3.deposits individuals'!F118+'4.deposits legal entities'!F118 -> 5498108.2 | G118: =('3.deposits individuals'!F118*'3.deposits individuals'!G118+'4.deposits legal entities'!F118*'4.deposits legal entities'!G118)/('3.deposits individuals'!F118+'4.deposits legal entities'!F118) -> 0.7913132 | H118: =J118+L118+N118+P118+R118+T118 -> 2960811.2 | I118: =(J118*K118+L118*M118+N118*O118+P118*Q118+R118*S118+T118*U118)/(J118+L118+N118+P118+R118+T118) -> 6.798323 | J118: ='3.deposits individuals'!J118+'4.deposits legal entities'!J118 -> 216395.3 | K118: =('3.deposits individuals'!J118*'3.deposits individuals'!K118+'4.deposits legal entities'!J118*'4.deposits legal entities'!K118)/('3.deposits individuals'!J118+'4.deposits legal entities'!J118) -> 6.8381315 | L118: ='3.deposits individuals'!L118+'4.deposits legal entities'!L118 -> 355770.6 | M118: =('3.deposits individuals'!L118*'3.deposits individuals'!M118+'4.deposits legal entities'!L118*'4.deposits legal entities'!M118)/('3.deposits individuals'!L118+'4.deposits legal entities'!L118) -> 7.4207003 | N118: ='3.deposits individuals'!N118+'4.deposits legal entities'!N118 -> 500823.5 | O118: =('3.deposits individuals'!N118*'3.deposits individuals'!O118+'4.deposits legal entities'!N118*'4.deposits legal entities'!O118)/('3.deposits individuals'!N118+'4.deposits legal entities'!N118) -> 9.1579983 | P118: ='3.deposits individuals'!P118+'4.deposits legal entities'!P118 -> 527540.7 | Q118: =('3.deposits individuals'!P118*'3.deposits individuals'!Q118+'4.deposits legal entities'!P118*'4.deposits legal entities'!Q118)/('3.deposits individuals'!P118+'4.deposits legal entities'!P118) -> 10.069777 | R118: ='3.deposits individuals'!R118+'4.deposits legal entities'!R118 -> 1299605.2 | S118: =('3.deposits individuals'!R118*'3.deposits individuals'!S118+'4.deposits legal entities'!R118*'4.deposits legal entities'!S118)/('3.deposits individuals'!R118+'4.deposits legal entities'!R118) -> 4.70136 | T118: ='3.deposits individuals'!T118+'4.deposits legal entities'!T118 -> 60675.9 | U118: =('3.deposits individuals'!T118*'3.deposits individuals'!U118+'4.deposits legal entities'!T118*'4.deposits legal entities'!U118)/('3.deposits individuals'!T118+'4.deposits legal entities'!T118) -> 0.0012294832
A119: March | B119: ='3.deposits individuals'!B119+'4.deposits legal entities'!B119 -> 8721994.5 | C119: =('3.deposits individuals'!B119*'3.deposits individuals'!C119+'4.deposits legal entities'!B119*'4.deposits legal entities'!C119)/('3.deposits individuals'!B119+'4.deposits legal entities'!B119) -> 2.6679549 | F119: ='3.deposits individuals'!F119+'4.deposits legal entities'!F119 -> 5788349.1 | G119: =('3.deposits individuals'!F119*'3.deposits individuals'!G119+'4.deposits legal entities'!F119*'4.deposits legal entities'!G119)/('3.deposits individuals'!F119+'4.deposits legal entities'!F119) -> 0.59906499 | H119: =J119+L119+N119+P119+R119+T119 -> 2933645.4 | I119: =(J119*K119+L119*M119+N119*O119+P119*Q119+R119*S119+T119*U119)/(J119+L119+N119+P119+R119+T119) -> 6.7500629 | J119: ='3.deposits individuals'!J119+'4.deposits legal entities'!J119 -> 228798.4 | K119: =('3.deposits individuals'!J119*'3.deposits individuals'!K119+'4.deposits legal entities'!J119*'4.deposits legal entities'!K119)/('3.deposits individuals'!J119+'4.deposits legal entities'!J119) -> 6.9189662 | L119: ='3.deposits individuals'!L119+'4.deposits legal entities'!L119 -> 306539.2 | M119: =('3.deposits individuals'!L119*'3.deposits individuals'!M119+'4.deposits legal entities'!L119*'4.deposits legal entities'!M119)/('3.deposits individuals'!L119+'4.deposits legal entities'!L119) -> 7.7253637 | N119: ='3.deposits individuals'!N119+'4.deposits legal entities'!N119 -> 451420.5 | O119: =('3.deposits individuals'!N119*'3.deposits individuals'!O119+'4.deposits legal entities'!N119*'4.deposits legal entities'!O119)/('3.deposits individuals'!N119+'4.deposits legal entities'!N119) -> 9.2832505 | P119: ='3.deposits individuals'!P119+'4.deposits legal entities'!P119 -> 532292.2 | Q119: =('3.deposits individuals'!P119*'3.deposits individuals'!Q119+'4.deposits legal entities'!P119*'4.deposits legal entities'!Q119)/('3.deposits individuals'!P119+'4.deposits legal entities'!P119) -> 9.9862159 | R119: ='3.deposits individuals'!R119+'4.deposits legal entities'!R119 -> 1353976.8 | S119: =('3.deposits individuals'!R119*'3.deposits individuals'!S119+'4.deposits legal entities'!R119*'4.deposits legal entities'!S119)/('3.deposits individuals'!R119+'4.deposits legal entities'!R119) -> 4.6860492 | T119: ='3.deposits individuals'!T119+'4.deposits legal entities'!T119 -> 60618.3 | U119: =('3.deposits individuals'!T119*'3.deposits individuals'!U119+'4.deposits legal entities'!T119*'4.deposits legal entities'!U119)/('3.deposits individuals'!T119+'4.deposits legal entities'!T119) -> 0.0013098355
A120: April | B120: ='3.deposits individuals'!B120+'4.deposits legal entities'!B120 -> 9196027.7 | C120: =('3.deposits individuals'!B120*'3.deposits individuals'!C120+'4.deposits legal entities'!B120*'4.deposits legal entities'!C120)/('3.deposits individuals'!B120+'4.deposits legal entities'!B120) -> 2.7871624 | F120: ='3.deposits individuals'!F120+'4.deposits legal entities'!F120 -> 6069508.3 | G120: =('3.deposits individuals'!F120*'3.deposits individuals'!G120+'4.deposits legal entities'!F120*'4.deposits legal entities'!G120)/('3.deposits individuals'!F120+'4.deposits legal entities'!F120) -> 0.73688085 | H120: =J120+L120+N120+P120+R120+T120 -> 3126519.4 | I120: =(J120*K120+L120*M120+N120*O120+P120*Q120+R120*S120+T120*U120)/(J120+L120+N120+P120+R120+T120) -> 6.7673713 | J120: ='3.deposits individuals'!J120+'4.deposits legal entities'!J120 -> 159817.6 | K120: =('3.deposits individuals'!J120*'3.deposits individuals'!K120+'4.deposits legal entities'!J120*'4.deposits legal entities'!K120)/('3.deposits individuals'!J120+'4.deposits legal entities'!J120) -> 7.3566952 | L120: ='3.deposits individuals'!L120+'4.deposits legal entities'!L120 -> 544881.4 | M120: =('3.deposits individuals'!L120*'3.deposits individuals'!M120+'4.deposits legal entities'!L120*'4.deposits legal entities'!M120)/('3.deposits individuals'!L120+'4.deposits legal entities'!L120) -> 7.4549742 | N120: ='3.deposits individuals'!N120+'4.deposits legal entities'!N120 -> 354973.4 | O120: =('3.deposits individuals'!N120*'3.deposits individuals'!O120+'4.deposits legal entities'!N120*'4.deposits legal entities'!O120)/('3.deposits individuals'!N120+'4.deposits legal entities'!N120) -> 8.7854862 | P120: ='3.deposits individuals'!P120+'4.deposits legal entities'!P120 -> 499069.5 | Q120: =('3.deposits individuals'!P120*'3.deposits individuals'!Q120+'4.deposits legal entities'!P120*'4.deposits legal entities'!Q120)/('3.deposits individuals'!P120+'4.deposits legal entities'!P120) -> 10.353493 | R120: ='3.deposits individuals'!R120+'4.deposits legal entities'!R120 -> 1507147.9 | S120: =('3.deposits individuals'!R120*'3.deposits individuals'!S120+'4.deposits legal entities'!R120*'4.deposits legal entities'!S120)/('3.deposits individuals'!R120+'4.deposits legal entities'!R120) -> 5.0656622 | T120: ='3.deposits individuals'!T120+'4.deposits legal entities'!T120 -> 60629.6 | U120: =('3.deposits individuals'!T120*'3.deposits individuals'!U120+'4.deposits legal entities'!T120*'4.deposits legal entities'!U120)/('3.deposits individuals'!T120+'4.deposits legal entities'!T120) -> 0.0013689683
A121: May | B121: ='3.deposits individuals'!B121+'4.deposits legal entities'!B121 -> 9917992.1 | C121: =('3.deposits individuals'!B121*'3.deposits individuals'!C121+'4.deposits legal entities'!B121*'4.deposits legal entities'!C121)/('3.deposits individuals'!B121+'4.deposits legal entities'!B121) -> 2.5654907 | F121: ='3.deposits individuals'!F121+'4.deposits legal entities'!F121 -> 6853692.8 | G121: =('3.deposits individuals'!F121*'3.deposits individuals'!G121+'4.deposits legal entities'!F121*'4.deposits legal entities'!G121)/('3.deposits individuals'!F121+'4.deposits legal entities'!F121) -> 0.68124653 | H121: =J121+L121+N121+P121+R121+T121 -> 3064299.3 | I121: =(J121*K121+L121*M121+N121*O121+P121*Q121+R121*S121+T121*U121)/(J121+L121+N121+P121+R121+T121) -> 6.779841 | J121: ='3.deposits individuals'!J121+'4.deposits legal entities'!J121 -> 167230.7 | K121: =('3.deposits individuals'!J121*'3.deposits individuals'!K121+'4.deposits legal entities'!J121*'4.deposits legal entities'!K121)/('3.deposits individuals'!J121+'4.deposits legal entities'!J121) -> 7.3120489 | L121: ='3.deposits individuals'!L121+'4.deposits legal entities'!L121 -> 551614.6 | M121: =('3.deposits individuals'!L121*'3.deposits individuals'!M121+'4.deposits legal entities'!L121*'4.deposits legal entities'!M121)/('3.deposits individuals'!L121+'4.deposits legal entities'!L121) -> 7.3552038 | N121: ='3.deposits individuals'!N121+'4.deposits legal entities'!N121 -> 339414.1 | O121: =('3.deposits individuals'!N121*'3.deposits individuals'!O121+'4.deposits legal entities'!N121*'4.deposits legal entities'!O121)/('3.deposits individuals'!N121+'4.deposits legal entities'!N121) -> 8.8946565 | P121: ='3.deposits individuals'!P121+'4.deposits legal entities'!P121 -> 503646.5 | Q121: =('3.deposits individuals'!P121*'3.deposits individuals'!Q121+'4.deposits legal entities'!P121*'4.deposits legal entities'!Q121)/('3.deposits individuals'!P121+'4.deposits legal entities'!P121) -> 10.012375 | R121: ='3.deposits individuals'!R121+'4.deposits legal entities'!R121 -> 1442198.1 | S121: =('3.deposits individuals'!R121*'3.deposits individuals'!S121+'4.deposits legal entities'!R121*'4.deposits legal entities'!S121)/('3.deposits individuals'!R121+'4.deposits legal entities'!R121) -> 5.1539495 | T121: ='3.deposits individuals'!T121+'4.deposits legal entities'!T121 -> 60195.3 | U121: =('3.deposits individuals'!T121*'3.deposits individuals'!U121+'4.deposits legal entities'!T121*'4.deposits legal entities'!U121)/('3.deposits individuals'!T121+'4.deposits legal entities'!T121) -> 0.012289464
A122: June | B122: ='3.deposits individuals'!B122+'4.deposits legal entities'!B122 -> 10264279 | C122: =('3.deposits individuals'!B122*'3.deposits individuals'!C122+'4.deposits legal entities'!B122*'4.deposits legal entities'!C122)/('3.deposits individuals'!B122+'4.deposits legal entities'!B122) -> 2.2867567 | F122: ='3.deposits individuals'!F122+'4.deposits legal entities'!F122 -> 7275241 | G122: =('3.deposits individuals'!F122*'3.deposits individuals'!G122+'4.deposits legal entities'!F122*'4.deposits legal entities'!G122)/('3.deposits individuals'!F122+'4.deposits legal entities'!F122) -> 0.53361842 | H122: =J122+L122+N122+P122+R122+T122 -> 2989038.1 | I122: =(J122*K122+L122*M122+N122*O122+P122*Q122+R122*S122+T122*U122)/(J122+L122+N122+P122+R122+T122) -> 6.5538496 | J122: ='3.deposits individuals'!J122+'4.deposits legal entities'!J122 -> 315868.3 | K122: =('3.deposits individuals'!J122*'3.deposits individuals'!K122+'4.deposits legal entities'!J122*'4.deposits legal entities'!K122)/('3.deposits individuals'!J122+'4.deposits legal entities'!J122) -> 7.7160195 | L122: ='3.deposits individuals'!L122+'4.deposits legal entities'!L122 -> 440685.1 | M122: =('3.deposits individuals'!L122*'3.deposits individuals'!M122+'4.deposits legal entities'!L122*'4.deposits legal entities'!M122)/('3.deposits individuals'!L122+'4.deposits legal entities'!L122) -> 6.3243482 | N122: ='3.deposits individuals'!N122+'4.deposits legal entities'!N122 -> 395044.7 | O122: =('3.deposits individuals'!N122*'3.deposits individuals'!O122+'4.deposits legal entities'!N122*'4.deposits legal entities'!O122)/('3.deposits individuals'!N122+'4.deposits legal entities'!N122) -> 8.8422384 | P122: ='3.deposits individuals'!P122+'4.deposits legal entities'!P122 -> 488417.7 | Q122: =('3.deposits individuals'!P122*'3.deposits individuals'!Q122+'4.deposits legal entities'!P122*'4.deposits legal entities'!Q122)/('3.deposits individuals'!P122+'4.deposits legal entities'!P122) -> 10.017161 | R122: ='3.deposits individuals'!R122+'4.deposits legal entities'!R122 -> 1289124.7 | S122: =('3.deposits individuals'!R122*'3.deposits individuals'!S122+'4.deposits legal entities'!R122*'4.deposits legal entities'!S122)/('3.deposits individuals'!R122+'4.deposits legal entities'!R122) -> 4.6375832 | T122: ='3.deposits individuals'!T122+'4.deposits legal entities'!T122 -> 59897.6 | U122: =('3.deposits individuals'!T122*'3.deposits individuals'!U122+'4.deposits legal entities'!T122*'4.deposits legal entities'!U122)/('3.deposits individuals'!T122+'4.deposits legal entities'!T122) -> 0.022586882
... A176: December | B176: ='3.deposits individuals'!B176+'4.deposits legal entities'!B176 -> 39604433 | C176: =('3.deposits individuals'!B176*'3.deposits individuals'!C176+'4.deposits legal entities'!B176*'4.deposits legal entities'!C176)/('3.deposits individuals'!B176+'4.deposits legal entities'!B176) -> 3.324991 | F176: ='3.deposits individuals'!F176+'4.deposits legal entities'!F176 -> 27748827 | G176: =('3.deposits individuals'!F176*'3.deposits individuals'!G176+'4.deposits legal entities'!F176*'4.deposits legal entities'!G176)/('3.deposits individuals'!F176+'4.deposits legal entities'!F176) -> 0.66783935 | H176: =J176+L176+N176+P176+R176+T176 -> 11855606 | I176: =(J176*K176+L176*M176+N176*O176+P176*Q176+R176*S176+T176*U176)/(J176+L176+N176+P176+R176+T176) -> 9.5442295 | J176: ='3.deposits individuals'!J176+'4.deposits legal entities'!J176 -> 1086530.5 | K176: =('3.deposits individuals'!J176*'3.deposits individuals'!K176+'4.deposits legal entities'!J176*'4.deposits legal entities'!K176)/('3.deposits individuals'!J176+'4.deposits legal entities'!J176) -> 6.653474 | L176: ='3.deposits individuals'!L176+'4.deposits legal entities'!L176 -> 2522367.4 | M176: =('3.deposits individuals'!L176*'3.deposits individuals'!M176+'4.deposits legal entities'!L176*'4.deposits legal entities'!M176)/('3.deposits individuals'!L176+'4.deposits legal entities'!L176) -> 7.3423053 | N176: ='3.deposits individuals'!N176+'4.deposits legal entities'!N176 -> 2135961.2 | O176: =('3.deposits individuals'!N176*'3.deposits individuals'!O176+'4.deposits legal entities'!N176*'4.deposits legal entities'!O176)/('3.deposits individuals'!N176+'4.deposits legal entities'!N176) -> 9.594524 | P176: ='3.deposits individuals'!P176+'4.deposits legal entities'!P176 -> 4170369.1 | Q176: =('3.deposits individuals'!P176*'3.deposits individuals'!Q176+'4.deposits legal entities'!P176*'4.deposits legal entities'!Q176)/('3.deposits individuals'!P176+'4.deposits legal entities'!P176) -> 10.281232 | R176: ='3.deposits individuals'!R176+'4.deposits legal entities'!R176 -> 1765559.2 | S176: =('3.deposits individuals'!R176*'3.deposits individuals'!S176+'4.deposits legal entities'!R176*'4.deposits legal entities'!S176)/('3.deposits individuals'!R176+'4.deposits legal entities'!R176) -> 13.548405 | T176: ='3.deposits individuals'!T176+'4.deposits legal entities'!T176 -> 174818.4 | U176: =('3.deposits individuals'!T176*'3.deposits individuals'!U176+'4.deposits legal entities'!T176*'4.deposits legal entities'!U176)/('3.deposits individuals'!T176+'4.deposits legal entities'!T176) -> 0.64555509
A177: January 2010 | B177: ='3.deposits individuals'!B177+'4.deposits legal entities'!B177+'5.deposits non-residents'!B9 -> 42733412 | C177: =('3.deposits individuals'!B177*'3.deposits individuals'!C177+'4.deposits legal entities'!B177*'4.deposits legal entities'!C177+'5.deposits non-residents'!B9*'5.deposits non-residents'!C9)/('3.deposits individuals'!B177+'4.deposits legal entities'!B177+'5.deposits non-residents'!B9) -> 3.2327122 | D177: ='3.deposits individuals'!D177+'4.deposits legal entities'!D177+'5.deposits non-residents'!D9 -> 25976333 | E177: =('3.deposits individuals'!D177*'3.deposits individuals'!E177+'4.deposits legal entities'!D177*'4.deposits legal entities'!E177+'5.deposits non-residents'!D9*'5.deposits non-residents'!E9)/('3.deposits individuals'!D177+'4.deposits legal entities'!D177+'5.deposits non-residents'!D9) -> 0.64289212 | F177: ='3.deposits individuals'!F177+'4.deposits legal entities'!F177+'5.deposits non-residents'!F9 -> 4564607.3 | G177: =('3.deposits individuals'!F177*'3.deposits individuals'!G177+'4.deposits legal entities'!F177*'4.deposits legal entities'!G177+'5.deposits non-residents'!F9*'5.deposits non-residents'!G9)/('3.deposits individuals'!F177+'4.deposits legal entities'!F177+'5.deposits non-residents'!F9) -> 0.77595747 | H177: =J177+L177+N177+P177+R177+T177 -> 12192472 | I177: =(J177*K177+L177*M177+N177*O177+P177*Q177+R177*S177+T177*U177)/(J177+L177+N177+P177+R177+T177) -> 9.6701392 | J177: ='3.deposits individuals'!J177+'4.deposits legal entities'!J177+'5.deposits non-residents'!J9 -> 1364542.5 | K177: =('3.deposits individuals'!J177*'3.deposits individuals'!K177+'4.deposits legal entities'!J177*'4.deposits legal entities'!K177+'5.deposits non-residents'!J9*'5.deposits non-residents'!K9)/('3.deposits individuals'!J177+'4.deposits legal entities'!J177+'5.deposits non-residents'!J9) -> 7.915445 | L177: ='3.deposits individuals'!L177+'4.deposits legal entities'!L177+'5.deposits non-residents'!L9 -> 2601444.1 | M177: =('3.deposits individuals'!L177*'3.deposits individuals'!M177+'4.deposits legal entities'!L177*'4.deposits legal entities'!M177+'5.deposits non-residents'!L9*'5.deposits non-residents'!M9)/('3.deposits individuals'!L177+'4.deposits legal entities'!L177+'5.deposits non-residents'!L9) -> 7.0276971 | N177: ='3.deposits individuals'!N177+'4.deposits legal entities'!N177+'5.deposits non-residents'!N9 -> 2096357.5 | O177: =('3.deposits individuals'!N177*'3.deposits individuals'!O177+'4.deposits legal entities'!N177*'4.deposits legal entities'!O177+'5.deposits non-residents'!N9*'5.deposits non-residents'!O9)/('3.deposits individuals'!N177+'4.deposits legal entities'!N177+'5.deposits non-residents'!N9) -> 9.8713966 | P177: ='3.deposits individuals'!P177+'4.deposits legal entities'!P177+'5.deposits non-residents'!P9 -> 4183801.4 | Q177: =('3.deposits individuals'!P177*'3.deposits individuals'!Q177+'4.deposits legal entities'!P177*'4.deposits legal entities'!Q177+'5.deposits non-residents'!P9*'5.deposits non-residents'!Q9)/('3.deposits individuals'!P177+'4.deposits legal entities'!P177+'5.deposits non-residents'!P9) -> 10.433063 | R177: ='3.deposits individuals'!R177+'4.deposits legal entities'!R177+'5.deposits non-residents'!R9 -> 1773932.1 | S177: =('3.deposits individuals'!R177*'3.deposits individuals'!S177+'4.deposits legal entities'!R177*'4.deposits legal entities'!S177+'5.deposits non-residents'!R9*'5.deposits non-residents'!S9)/('3.deposits individuals'!R177+'4.deposits legal entities'!R177+'5.deposits non-residents'!R9) -> 13.731008 | T177: ='3.deposits individuals'!T177+'4.deposits legal entities'!T177+'5.deposits non-residents'!T9 -> 172394.5 | U177: =('3.deposits individuals'!T177*'3.deposits individuals'!U177+'4.deposits legal entities'!T177*'4.deposits legal entities'!U177+'5.deposits non-residents'!T9*'5.deposits non-residents'!U9)/('3.deposits individuals'!T177+'4.deposits legal entities'!T177+'5.deposits non-residents'!T9) -> 0.68484616
A178: February | B178: ='3.deposits individuals'!B178+'4.deposits legal entities'!B178+'5.deposits non-residents'!B10 -> 42186195 | C178: =('3.deposits individuals'!B178*'3.deposits individuals'!C178+'4.deposits legal entities'!B178*'4.deposits legal entities'!C178+'5.deposits non-residents'!B10*'5.deposits non-residents'!C10)/('3.deposits individuals'!B178+'4.deposits legal entities'!B178+'5.deposits non-residents'!B10) -> 3.3234205 | D178: ='3.deposits individuals'!D178+'4.deposits legal entities'!D178+'5.deposits non-residents'!D10 -> 24908421 | E178: =('3.deposits individuals'!D178*'3.deposits individuals'!E178+'4.deposits legal entities'!D178*'4.deposits legal entities'!E178+'5.deposits non-residents'!D10*'5.deposits non-residents'!E10)/('3.deposits individuals'!D178+'4.deposits legal entities'!D178+'5.deposits non-residents'!D10) -> 0.62464037 | F178: ='3.deposits individuals'!F178+'4.deposits legal entities'!F178+'5.deposits non-residents'!F10 -> 4771118.8 | G178: =('3.deposits individuals'!F178*'3.deposits individuals'!G178+'4.deposits legal entities'!F178*'4.deposits legal entities'!G178+'5.deposits non-residents'!F10*'5.deposits non-residents'!G10)/('3.deposits individuals'!F178+'4.deposits legal entities'!F178+'5.deposits non-residents'!F10) -> 0.73471247 | H178: =J178+L178+N178+P178+R178+T178 -> 12506656 | I178: =(J178*K178+L178*M178+N178*O178+P178*Q178+R178*S178+T178*U178)/(J178+L178+N178+P178+R178+T178) -> 9.6859036 | J178: ='3.deposits individuals'!J178+'4.deposits legal entities'!J178+'5.deposits non-residents'!J10 -> 1877428.9 | K178: =('3.deposits individuals'!J178*'3.deposits individuals'!K178+'4.deposits legal entities'!J178*'4.deposits legal entities'!K178+'5.deposits non-residents'!J10*'5.deposits non-residents'!K10)/('3.deposits individuals'!J178+'4.deposits legal entities'!J178+'5.deposits non-residents'!J10) -> 6.2704885 | L178: ='3.deposits individuals'!L178+'4.deposits legal entities'!L178+'5.deposits non-residents'!L10 -> 1846570.1 | M178: =('3.deposits individuals'!L178*'3.deposits individuals'!M178+'4.deposits legal entities'!L178*'4.deposits legal entities'!M178+'5.deposits non-residents'!L10*'5.deposits non-residents'!M10)/('3.deposits individuals'!L178+'4.deposits legal entities'!L178+'5.deposits non-residents'!L10) -> 8.6489762 | N178: ='3.deposits individuals'!N178+'4.deposits legal entities'!N178+'5.deposits non-residents'!N10 -> 2297601 | O178: =('3.deposits individuals'!N178*'3.deposits individuals'!O178+'4.deposits legal entities'!N178*'4.deposits legal entities'!O178+'5.deposits non-residents'!N10*'5.deposits non-residents'!O10)/('3.deposits individuals'!N178+'4.deposits legal entities'!N178+'5.deposits non-residents'!N10) -> 9.5152708 | P178: ='3.deposits individuals'!P178+'4.deposits legal entities'!P178+'5.deposits non-residents'!P10 -> 4470652.1 | Q178: =('3.deposits individuals'!P178*'3.deposits individuals'!Q178+'4.deposits legal entities'!P178*'4.deposits legal entities'!Q178+'5.deposits non-residents'!P10*'5.deposits non-residents'!Q10)/('3.deposits individuals'!P178+'4.deposits legal entities'!P178+'5.deposits non-residents'!P10) -> 10.317502 | R178: ='3.deposits individuals'!R178+'4.deposits legal entities'!R178+'5.deposits non-residents'!R10 -> 1857015.3 | S178: =('3.deposits individuals'!R178*'3.deposits individuals'!S178+'4.deposits legal entities'!R178*'4.deposits legal entities'!S178+'5.deposits non-residents'!R10*'5.deposits non-residents'!S10)/('3.deposits individuals'!R178+'4.deposits legal entities'!R178+'5.deposits non-residents'!R10) -> 13.624888 | T178: ='3.deposits individuals'!T178+'4.deposits legal entities'!T178+'5.deposits non-residents'!T10 -> 157388.2 | U178: =('3.deposits individuals'!T178*'3.deposits individuals'!U178+'4.deposits legal entities'!T178*'4.deposits legal entities'!U178+'5.deposits non-residents'!T10*'5.deposits non-residents'!U10)/('3.deposits individuals'!T178+'4.deposits legal entities'!T178+'5.deposits non-residents'!T10) -> 0.66740035
A179: March | B179: ='3.deposits individuals'!B179+'4.deposits legal entities'!B179+'5.deposits non-residents'!B11 -> 43509139 | C179: =('3.deposits individuals'!B179*'3.deposits individuals'!C179+'4.deposits legal entities'!B179*'4.deposits legal entities'!C179+'5.deposits non-residents'!B11*'5.deposits non-residents'!C11)/('3.deposits individuals'!B179+'4.deposits legal entities'!B179+'5.deposits non-residents'!B11) -> 3.3602845 | D179: ='3.deposits individuals'!D179+'4.deposits legal entities'!D179+'5.deposits non-residents'!D11 -> 24823873 | E179: =('3.deposits individuals'!D179*'3.deposits individuals'!E179+'4.deposits legal entities'!D179*'4.deposits legal entities'!E179+'5.deposits non-residents'!D11*'5.deposits non-residents'!E11)/('3.deposits individuals'!D179+'4.deposits legal entities'!D179+'5.deposits non-residents'!D11) -> 0.65235875 | F179: ='3.deposits individuals'!F179+'4.deposits legal entities'!F179+'5.deposits non-residents'!F11 -> 5044181.3 | G179: =('3.deposits individuals'!F179*'3.deposits individuals'!G179+'4.deposits legal entities'!F179*'4.deposits legal entities'!G179+'5.deposits non-residents'!F11*'5.deposits non-residents'!G11)/('3.deposits individuals'!F179+'4.deposits legal entities'!F179+'5.deposits non-residents'!F11) -> 0.67001017 | H179: =J179+L179+N179+P179+R179+T179 -> 13641085 | I179: =(J179*K179+L179*M179+N179*O179+P179*Q179+R179*S179+T179*U179)/(J179+L179+N179+P179+R179+T179) -> 9.2829395 | J179: ='3.deposits individuals'!J179+'4.deposits legal entities'!J179+'5.deposits non-residents'!J11 -> 1719379.2 | K179: =('3.deposits individuals'!J179*'3.deposits individuals'!K179+'4.deposits legal entities'!J179*'4.deposits legal entities'!K179+'5.deposits non-residents'!J11*'5.deposits non-residents'!K11)/('3.deposits individuals'!J179+'4.deposits legal entities'!J179+'5.deposits non-residents'!J11) -> 6.4563552 | L179: ='3.deposits individuals'!L179+'4.deposits legal entities'!L179+'5.deposits non-residents'!L11 -> 1626061.1 | M179: =('3.deposits individuals'!L179*'3.deposits individuals'!M179+'4.deposits legal entities'!L179*'4.deposits legal entities'!M179+'5.deposits non-residents'!L11*'5.deposits non-residents'!M11)/('3.deposits individuals'!L179+'4.deposits legal entities'!L179+'5.deposits non-residents'!L11) -> 8.6998499 | N179: ='3.deposits individuals'!N179+'4.deposits legal entities'!N179+'5.deposits non-residents'!N11 -> 2973629.7 | O179: =('3.deposits individuals'!N179*'3.deposits individuals'!O179+'4.deposits legal entities'!N179*'4.deposits legal entities'!O179+'5.deposits non-residents'!N11*'5.deposits non-residents'!O11)/('3.deposits individuals'!N179+'4.deposits legal entities'!N179+'5.deposits non-residents'!N11) -> 9.6493839 | P179: ='3.deposits individuals'!P179+'4.deposits legal entities'!P179+'5.deposits non-residents'!P11 -> 4338454.2 | Q179: =('3.deposits individuals'!P179*'3.deposits individuals'!Q179+'4.deposits legal entities'!P179*'4.deposits legal entities'!Q179+'5.deposits non-residents'!P11*'5.deposits non-residents'!Q11)/('3.deposits individuals'!P179+'4.deposits legal entities'!P179+'5.deposits non-residents'!P11) -> 9.6243099 | R179: ='3.deposits individuals'!R179+'4.deposits legal entities'!R179+'5.deposits non-residents'!R11 -> 2159238.1 | S179: =('3.deposits individuals'!R179*'3.deposits individuals'!S179+'4.deposits legal entities'!R179*'4.deposits legal entities'!S179+'5.deposits non-residents'!R11*'5.deposits non-residents'!S11)/('3.deposits individuals'!R179+'4.deposits legal entities'!R179+'5.deposits non-residents'!R11) -> 12.396299 | T179: ='3.deposits individuals'!T179+'4.deposits legal entities'!T179+'5.deposits non-residents'!T11 -> 824322.4 | U179: =('3.deposits individuals'!T179*'3.deposits individuals'!U179+'4.deposits legal entities'!T179*'4.deposits legal entities'!U179+'5.deposits non-residents'!T11*'5.deposits non-residents'!U11)/('3.deposits individuals'!T179+'4.deposits legal entities'!T179+'5.deposits non-residents'!T11) -> 5.0551446
A180: April | B180: ='3.deposits individuals'!B180+'4.deposits legal entities'!B180+'5.deposits non-residents'!B12 -> 29808355 | C180: =('3.deposits individuals'!B180*'3.deposits individuals'!C180+'4.deposits legal entities'!B180*'4.deposits legal entities'!C180+'5.deposits non-residents'!B12*'5.deposits non-residents'!C12)/('3.deposits individuals'!B180+'4.deposits legal entities'!B180+'5.deposits non-residents'!B12) -> 4.4530071 | D180: ='3.deposits individuals'!D180+'4.deposits legal entities'!D180+'5.deposits non-residents'!D12 -> 12388198 | E180: =('3.deposits individuals'!D180*'3.deposits individuals'!E180+'4.deposits legal entities'!D180*'4.deposits legal entities'!E180+'5.deposits non-residents'!D12*'5.deposits non-residents'!E12)/('3.deposits individuals'!D180+'4.deposits legal entities'!D180+'5.deposits non-residents'!D12) -> 0.85545499 | F180: ='3.deposits individuals'!F180+'4.deposits legal entities'!F180+'5.deposits non-residents'!F12 -> 4781204.6 | G180: =('3.deposits individuals'!F180*'3.deposits individuals'!G180+'4.deposits legal entities'!F180*'4.deposits legal entities'!G180+'5.deposits non-residents'!F12*'5.deposits non-residents'!G12)/('3.deposits individuals'!F180+'4.deposits legal entities'!F180+'5.deposits non-residents'!F12) -> 0.61936824 | H180: =J180+L180+N180+P180+R180+T180 -> 12638952 | I180: =(J180*K180+L180*M180+N180*O180+P180*Q180+R180*S180+T180*U180)/(J180+L180+N180+P180+R180+T180) -> 9.4294165 | J180: ='3.deposits individuals'!J180+'4.deposits legal entities'!J180+'5.deposits non-residents'!J12 -> 878881.7 | K180: =('3.deposits individuals'!J180*'3.deposits individuals'!K180+'4.deposits legal entities'!J180*'4.deposits legal entities'!K180+'5.deposits non-residents'!J12*'5.deposits non-residents'!K12)/('3.deposits individuals'!J180+'4.deposits legal entities'!J180+'5.deposits non-residents'!J12) -> 8.3902255 | L180: ='3.deposits individuals'!L180+'4.deposits legal entities'!L180+'5.deposits non-residents'!L12 -> 1905700.1 | M180: =('3.deposits individuals'!L180*'3.deposits individuals'!M180+'4.deposits legal entities'!L180*'4.deposits legal entities'!M180+'5.deposits non-residents'!L12*'5.deposits non-residents'!M12)/('3.deposits individuals'!L180+'4.deposits legal entities'!L180+'5.deposits non-residents'!L12) -> 7.8947658 | N180: ='3.deposits individuals'!N180+'4.deposits legal entities'!N180+'5.deposits non-residents'!N12 -> 2599175.7 | O180: =('3.deposits individuals'!N180*'3.deposits individuals'!O180+'4.deposits legal entities'!N180*'4.deposits legal entities'!O180+'5.deposits non-residents'!N12*'5.deposits non-residents'!O12)/('3.deposits individuals'!N180+'4.deposits legal entities'!N180+'5.deposits non-residents'!N12) -> 9.6415393 | P180: ='3.deposits individuals'!P180+'4.deposits legal entities'!P180+'5.deposits non-residents'!P12 -> 4512580.4 | Q180: =('3.deposits individuals'!P180*'3.deposits individuals'!Q180+'4.deposits legal entities'!P180*'4.deposits legal entities'!Q180+'5.deposits non-residents'!P12*'5.deposits non-residents'!Q12)/('3.deposits individuals'!P180+'4.deposits legal entities'!P180+'5.deposits non-residents'!P12) -> 9.2724809 | R180: ='3.deposits individuals'!R180+'4.deposits legal entities'!R180+'5.deposits non-residents'!R12 -> 1925284.6 | S180: =('3.deposits individuals'!R180*'3.deposits individuals'!S180+'4.deposits legal entities'!R180*'4.deposits legal entities'!S180+'5.deposits non-residents'!R12*'5.deposits non-residents'!S12)/('3.deposits individuals'!R180+'4.deposits legal entities'!R180+'5.deposits non-residents'!R12) -> 13.343299 | T180: ='3.deposits individuals'!T180+'4.deposits legal entities'!T180+'5.deposits non-residents'!T12 -> 817329.9 | U180: =('3.deposits individuals'!T180*'3.deposits individuals'!U180+'4.deposits legal entities'!T180*'4.deposits legal entities'!U180+'5.deposits non-residents'!T12*'5.deposits non-residents'!U12)/('3.deposits individuals'!T180+'4.deposits legal entities'!T180+'5.deposits non-residents'!T12) -> 5.0975202
A181: May | B181: ='3.deposits individuals'!B181+'4.deposits legal entities'!B181+'5.deposits non-residents'!B13 -> 30230592 | C181: =('3.deposits individuals'!B181*'3.deposits individuals'!C181+'4.deposits legal entities'!B181*'4.deposits legal entities'!C181+'5.deposits non-residents'!B13*'5.deposits non-residents'!C13)/('3.deposits individuals'!B181+'4.deposits legal entities'!B181+'5.deposits non-residents'!B13) -> 4.2438379 | D181: ='3.deposits individuals'!D181+'4.deposits legal entities'!D181+'5.deposits non-residents'!D13 -> 13062719 | E181: =('3.deposits individuals'!D181*'3.deposits individuals'!E181+'4.deposits legal entities'!D181*'4.deposits legal entities'!E181+'5.deposits non-residents'!D13*'5.deposits non-residents'!E13)/('3.deposits individuals'!D181+'4.deposits legal entities'!D181+'5.deposits non-residents'!D13) -> 0.6151559 | F181: ='3.deposits individuals'!F181+'4.deposits legal entities'!F181+'5.deposits non-residents'!F13 -> 4772813 | G181: =('3.deposits individuals'!F181*'3.deposits individuals'!G181+'4.deposits legal entities'!F181*'4.deposits legal entities'!G181+'5.deposits non-residents'!F13*'5.deposits non-residents'!G13)/('3.deposits individuals'!F181+'4.deposits legal entities'!F181+'5.deposits non-residents'!F13) -> 0.903909 | H181: =J181+L181+N181+P181+R181+T181 -> 12395059 | I181: =(J181*K181+L181*M181+N181*O181+P181*Q181+R181*S181+T181*U181)/(J181+L181+N181+P181+R181+T181) -> 9.3540442 | J181: ='3.deposits individuals'!J181+'4.deposits legal entities'!J181+'5.deposits non-residents'!J13 -> 1290436.9 | K181: =('3.deposits individuals'!J181*'3.deposits individuals'!K181+'4.deposits legal entities'!J181*'4.deposits legal entities'!K181+'5.deposits non-residents'!J13*'5.deposits non-residents'!K13)/('3.deposits individuals'!J181+'4.deposits legal entities'!J181+'5.deposits non-residents'!J13) -> 6.7309441 | L181: ='3.deposits individuals'!L181+'4.deposits legal entities'!L181+'5.deposits non-residents'!L13 -> 1569613.4 | M181: =('3.deposits individuals'!L181*'3.deposits individuals'!M181+'4.deposits legal entities'!L181*'4.deposits legal entities'!M181+'5.deposits non-residents'!L13*'5.deposits non-residents'!M13)/('3.deposits individuals'!L181+'4.deposits legal entities'!L181+'5.deposits non-residents'!L13) -> 8.7311965 | N181: ='3.deposits individuals'!N181+'4.deposits legal entities'!N181+'5.deposits non-residents'!N13 -> 2360795.3 | O181: =('3.deposits individuals'!N181*'3.deposits individuals'!O181+'4.deposits legal entities'!N181*'4.deposits legal entities'!O181+'5.deposits non-residents'!N13*'5.deposits non-residents'!O13)/('3.deposits individuals'!N181+'4.deposits legal entities'!N181+'5.deposits non-residents'!N13) -> 9.914464 | P181: ='3.deposits individuals'!P181+'4.deposits legal entities'!P181+'5.deposits non-residents'!P13 -> 4583199 | Q181: =('3.deposits individuals'!P181*'3.deposits individuals'!Q181+'4.deposits legal entities'!P181*'4.deposits legal entities'!Q181+'5.deposits non-residents'!P13*'5.deposits non-residents'!Q13)/('3.deposits individuals'!P181+'4.deposits legal entities'!P181+'5.deposits non-residents'!P13) -> 9.1797537 | R181: ='3.deposits individuals'!R181+'4.deposits legal entities'!R181+'5.deposits non-residents'!R13 -> 1778980.7 | S181: =('3.deposits individuals'!R181*'3.deposits individuals'!S181+'4.deposits legal entities'!R181*'4.deposits legal entities'!S181+'5.deposits non-residents'!R13*'5.deposits non-residents'!S13)/('3.deposits individuals'!R181+'4.deposits legal entities'!R181+'5.deposits non-residents'!R13) -> 13.437448 | T181: ='3.deposits individuals'!T181+'4.deposits legal entities'!T181+'5.deposits non-residents'!T13 -> 812034.1 | U181: =('3.deposits individuals'!T181*'3.deposits individuals'!U181+'4.deposits legal entities'!T181*'4.deposits legal entities'!U181+'5.deposits non-residents'!T13*'5.deposits non-residents'!U13)/('3.deposits individuals'!T181+'4.deposits legal entities'!T181+'5.deposits non-residents'!T13) -> 5.1350715
A182: June | B182: ='3.deposits individuals'!B182+'4.deposits legal entities'!B182+'5.deposits non-residents'!B14 -> 30348441 | C182: =('3.deposits individuals'!B182*'3.deposits individuals'!C182+'4.deposits legal entities'!B182*'4.deposits legal entities'!C182+'5.deposits non-residents'!B14*'5.deposits non-residents'!C14)/('3.deposits individuals'!B182+'4.deposits legal entities'!B182+'5.deposits non-residents'!B14) -> 4.0078422 | D182: ='3.deposits individuals'!D182+'4.deposits legal entities'!D182+'5.deposits non-residents'!D14 -> 14514727 | E182: =('3.deposits individuals'!D182*'3.deposits individuals'!E182+'4.deposits legal entities'!D182*'4.deposits legal entities'!E182+'5.deposits non-residents'!D14*'5.deposits non-residents'!E14)/('3.deposits individuals'!D182+'4.deposits legal entities'!D182+'5.deposits non-residents'!D14) -> 0.86312486 | F182: ='3.deposits individuals'!F182+'4.deposits legal entities'!F182+'5.deposits non-residents'!F14 -> 4973859.5 | G182: =('3.deposits individuals'!F182*'3.deposits individuals'!G182+'4.deposits legal entities'!F182*'4.deposits legal entities'!G182+'5.deposits non-residents'!F14*'5.deposits non-residents'!G14)/('3.deposits individuals'!F182+'4.deposits legal entities'!F182+'5.deposits non-residents'!F14) -> 0.89519813 | H182: =J182+L182+N182+P182+R182+T182 -> 10859855 | I182: =(J182*K182+L182*M182+N182*O182+P182*Q182+R182*S182+T182*U182)/(J182+L182+N182+P182+R182+T182) -> 9.6365151 | J182: ='3.deposits individuals'!J182+'4.deposits legal entities'!J182+'5.deposits non-residents'!J14 -> 1251815.5 | K182: =('3.deposits individuals'!J182*'3.deposits individuals'!K182+'4.deposits legal entities'!J182*'4.deposits legal entities'!K182+'5.deposits non-residents'!J14*'5.deposits non-residents'!K14)/('3.deposits individuals'!J182+'4.deposits legal entities'!J182+'5.deposits non-residents'!J14) -> 7.1324414 | L182: ='3.deposits individuals'!L182+'4.deposits legal entities'!L182+'5.deposits non-residents'!L14 -> 2018850.8 | M182: =('3.deposits individuals'!L182*'3.deposits individuals'!M182+'4.deposits legal entities'!L182*'4.deposits legal entities'!M182+'5.deposits non-residents'!L14*'5.deposits non-residents'!M14)/('3.deposits individuals'!L182+'4.deposits legal entities'!L182+'5.deposits non-residents'!L14) -> 8.6628991 | N182: ='3.deposits individuals'!N182+'4.deposits legal entities'!N182+'5.deposits non-residents'!N14 -> 2016873.1 | O182: =('3.deposits individuals'!N182*'3.deposits individuals'!O182+'4.deposits legal entities'!N182*'4.deposits legal entities'!O182+'5.deposits non-residents'!N14*'5.deposits non-residents'!O14)/('3.deposits individuals'!N182+'4.deposits legal entities'!N182+'5.deposits non-residents'!N14) -> 9.782452 | P182: ='3.deposits individuals'!P182+'4.deposits legal entities'!P182+'5.deposits non-residents'!P14 -> 3113867 | Q182: =('3.deposits individuals'!P182*'3.deposits individuals'!Q182+'4.deposits legal entities'!P182*'4.deposits legal entities'!Q182+'5.deposits non-residents'!P14*'5.deposits non-residents'!Q14)/('3.deposits individuals'!P182+'4.deposits legal entities'!P182+'5.deposits non-residents'!P14) -> 10.320507 | R182: ='3.deposits individuals'!R182+'4.deposits legal entities'!R182+'5.deposits non-residents'!R14 -> 1652489.4 | S182: =('3.deposits individuals'!R182*'3.deposits individuals'!S182+'4.deposits legal entities'!R182*'4.deposits legal entities'!S182+'5.deposits non-residents'!R14*'5.deposits non-residents'!S14)/('3.deposits individuals'!R182+'4.deposits legal entities'!R182+'5.deposits non-residents'!R14) -> 13.42607 | T182: ='3.deposits individuals'!T182+'4.deposits legal entities'!T182+'5.deposits non-residents'!T14 -> 805958.8 | U182: =('3.deposits individuals'!T182*'3.deposits individuals'!U182+'4.deposits legal entities'!T182*'4.deposits legal entities'!U182+'5.deposits non-residents'!T14*'5.deposits non-residents'!U14)/('3.deposits individuals'!T182+'4.deposits legal entities'!T182+'5.deposits non-residents'!T14) -> 5.1869427
A183: July | B183: ='3.deposits individuals'!B183+'4.deposits legal entities'!B183+'5.deposits non-residents'!B15 -> 30354373 | C183: =('3.deposits individuals'!B183*'3.deposits individuals'!C183+'4.deposits legal entities'!B183*'4.deposits legal entities'!C183+'5.deposits non-residents'!B15*'5.deposits non-residents'!C15)/('3.deposits individuals'!B183+'4.deposits legal entities'!B183+'5.deposits non-residents'!B15) -> 3.9134343 | D183: ='3.deposits individuals'!D183+'4.deposits legal entities'!D183+'5.deposits non-residents'!D15 -> 13873968 | E183: =('3.deposits individuals'!D183*'3.deposits individuals'!E183+'4.deposits legal entities'!D183*'4.deposits legal entities'!E183+'5.deposits non-residents'!D15*'5.deposits non-residents'!E15)/('3.deposits individuals'!D183+'4.deposits legal entities'!D183+'5.deposits non-residents'!D15) -> 0.77146267 | F183: ='3.deposits individuals'!F183+'4.deposits legal entities'!F183+'5.deposits non-residents'!F15 -> 5724935 | G183: =('3.deposits individuals'!F183*'3.deposits individuals'!G183+'4.deposits legal entities'!F183*'4.deposits legal entities'!G183+'5.deposits non-residents'!F15*'5.deposits non-residents'!G15)/('3.deposits individuals'!F183+'4.deposits legal entities'!F183+'5.deposits non-residents'!F15) -> 0.72187654 | H183: =J183+L183+N183+P183+R183+T183 -> 10755470 | I183: =(J183*K183+L183*M183+N183*O183+P183*Q183+R183*S183+T183*U183)/(J183+L183+N183+P183+R183+T183) -> 9.6652121 | J183: ='3.deposits individuals'!J183+'4.deposits legal entities'!J183+'5.deposits non-residents'!J15 -> 1169648.2 | K183: =('3.deposits individuals'!J183*'3.deposits individuals'!K183+'4.deposits legal entities'!J183*'4.deposits legal entities'!K183+'5.deposits non-residents'!J15*'5.deposits non-residents'!K15)/('3.deposits individuals'!J183+'4.deposits legal entities'!J183+'5.deposits non-residents'!J15) -> 7.3394815 | L183: ='3.deposits individuals'!L183+'4.deposits legal entities'!L183+'5.deposits non-residents'!L15 -> 1973433.6 | M183: =('3.deposits individuals'!L183*'3.deposits individuals'!M183+'4.deposits legal entities'!L183*'4.deposits legal entities'!M183+'5.deposits non-residents'!L15*'5.deposits non-residents'!M15)/('3.deposits individuals'!L183+'4.deposits legal entities'!L183+'5.deposits non-residents'!L15) -> 8.4297091 | N183: ='3.deposits individuals'!N183+'4.deposits legal entities'!N183+'5.deposits non-residents'!N15 -> 2195336.7 | O183: =('3.deposits individuals'!N183*'3.deposits individuals'!O183+'4.deposits legal entities'!N183*'4.deposits legal entities'!O183+'5.deposits non-residents'!N15*'5.deposits non-residents'!O15)/('3.deposits individuals'!N183+'4.deposits legal entities'!N183+'5.deposits non-residents'!N15) -> 9.8380476 | P183: ='3.deposits individuals'!P183+'4.deposits legal entities'!P183+'5.deposits non-residents'!P15 -> 2944990.2 | Q183: =('3.deposits individuals'!P183*'3.deposits individuals'!Q183+'4.deposits legal entities'!P183*'4.deposits legal entities'!Q183+'5.deposits non-residents'!P15*'5.deposits non-residents'!Q15)/('3.deposits individuals'!P183+'4.deposits legal entities'!P183+'5.deposits non-residents'!P15) -> 10.463397 | R183: ='3.deposits individuals'!R183+'4.deposits legal entities'!R183+'5.deposits non-residents'!R15 -> 1677970.5 | S183: =('3.deposits individuals'!R183*'3.deposits individuals'!S183+'4.deposits legal entities'!R183*'4.deposits legal entities'!S183+'5.deposits non-residents'!R15*'5.deposits non-residents'!S15)/('3.deposits individuals'!R183+'4.deposits legal entities'!R183+'5.deposits non-residents'!R15) -> 13.189901 | T183: ='3.deposits individuals'!T183+'4.deposits legal entities'!T183+'5.deposits non-residents'!T15 -> 794091.1 | U183: =('3.deposits individuals'!T183*'3.deposits individuals'!U183+'4.deposits legal entities'!T183*'4.deposits legal entities'!U183+'5.deposits non-residents'!T15*'5.deposits non-residents'!U15)/('3.deposits individuals'!T183+'4.deposits legal entities'!T183+'5.deposits non-residents'!T15) -> 5.2753728
A184: August | B184: ='3.deposits individuals'!B184+'4.deposits legal entities'!B184+'5.deposits non-residents'!B16 -> 31720125 | C184: =('3.deposits individuals'!B184*'3.deposits individuals'!C184+'4.deposits legal entities'!B184*'4.deposits legal entities'!C184+'5.deposits non-residents'!B16*'5.deposits non-residents'!C16)/('3.deposits individuals'!B184+'4.deposits legal entities'!B184+'5.deposits non-residents'!B16) -> 3.8033345 | D184: ='3.deposits individuals'!D184+'4.deposits legal entities'!D184+'5.deposits non-residents'!D16 -> 14739061 | E184: =('3.deposits individuals'!D184*'3.deposits individuals'!E184+'4.deposits legal entities'!D184*'4.deposits legal entities'!E184+'5.deposits non-residents'!D16*'5.deposits non-residents'!E16)/('3.deposits individuals'!D184+'4.deposits legal entities'!D184+'5.deposits non-residents'!D16) -> 0.69021717 | F184: ='3.deposits individuals'!F184+'4.deposits legal entities'!F184+'5.deposits non-residents'!F16 -> 6221625.4 | G184: =('3.deposits individuals'!F184*'3.deposits individuals'!G184+'4.deposits legal entities'!F184*'4.deposits legal entities'!G184+'5.deposits non-residents'!F16*'5.deposits non-residents'!G16)/('3.deposits individuals'!F184+'4.deposits legal entities'!F184+'5.deposits non-residents'!F16) -> 0.99205144 | H184: =J184+L184+N184+P184+R184+T184 -> 10759439 | I184: =(J184*K184+L184*M184+N184*O184+P184*Q184+R184*S184+T184*U184)/(J184+L184+N184+P184+R184+T184) -> 9.6935279 | J184: ='3.deposits individuals'!J184+'4.deposits legal entities'!J184+'5.deposits non-residents'!J16 -> 1756634 | K184: =('3.deposits individuals'!J184*'3.deposits individuals'!K184+'4.deposits legal entities'!J184*'4.deposits legal entities'!K184+'5.deposits non-residents'!J16*'5.deposits non-residents'!K16)/('3.deposits individuals'!J184+'4.deposits legal entities'!J184+'5.deposits non-residents'!J16) -> 8.0835382 | L184: ='3.deposits individuals'!L184+'4.deposits legal entities'!L184+'5.deposits non-residents'!L16 -> 1670025.5 | M184: =('3.deposits individuals'!L184*'3.deposits individuals'!M184+'4.deposits legal entities'!L184*'4.deposits legal entities'!M184+'5.deposits non-residents'!L16*'5.deposits non-residents'!M16)/('3.deposits individuals'!L184+'4.deposits legal entities'!L184+'5.deposits non-residents'!L16) -> 8.0999652 | N184: ='3.deposits individuals'!N184+'4.deposits legal entities'!N184+'5.deposits non-residents'!N16 -> 1885026.8 | O184: =('3.deposits individuals'!N184*'3.deposits individuals'!O184+'4.deposits legal entities'!N184*'4.deposits legal entities'!O184+'5.deposits non-residents'!N16*'5.deposits non-residents'!O16)/('3.deposits individuals'!N184+'4.deposits legal entities'!N184+'5.deposits non-residents'!N16) -> 9.8080502 | P184: ='3.deposits individuals'!P184+'4.deposits legal entities'!P184+'5.deposits non-residents'!P16 -> 2925540.5 | Q184: =('3.deposits individuals'!P184*'3.deposits individuals'!Q184+'4.deposits legal entities'!P184*'4.deposits legal entities'!Q184+'5.deposits non-residents'!P16*'5.deposits non-residents'!Q16)/('3.deposits individuals'!P184+'4.deposits legal entities'!P184+'5.deposits non-residents'!P16) -> 10.667528 | R184: ='3.deposits individuals'!R184+'4.deposits legal entities'!R184+'5.deposits non-residents'!R16 -> 1733071.6 | S184: =('3.deposits individuals'!R184*'3.deposits individuals'!S184+'4.deposits legal entities'!R184*'4.deposits legal entities'!S184+'5.deposits non-residents'!R16*'5.deposits non-residents'!S16)/('3.deposits individuals'!R184+'4.deposits legal entities'!R184+'5.deposits non-residents'!R16) -> 13.092854 | T184: ='3.deposits individuals'!T184+'4.deposits legal entities'!T184+'5.deposits non-residents'!T16 -> 789140.3 | U184: =('3.deposits individuals'!T184*'3.deposits individuals'!U184+'4.deposits legal entities'!T184*'4.deposits legal entities'!U184+'5.deposits non-residents'!T16*'5.deposits non-residents'!U16)/('3.deposits individuals'!T184+'4.deposits legal entities'!T184+'5.deposits non-residents'!T16) -> 5.2999125
A185: September | B185: ='3.deposits individuals'!B185+'4.deposits legal entities'!B185+'5.deposits non-residents'!B17 -> 32824840 | C185: =('3.deposits individuals'!B185*'3.deposits individuals'!C185+'4.deposits legal entities'!B185*'4.deposits legal entities'!C185+'5.deposits non-residents'!B17*'5.deposits non-residents'!C17)/('3.deposits individuals'!B185+'4.deposits legal entities'!B185+'5.deposits non-residents'!B17) -> 3.6820457 | D185: ='3.deposits individuals'!D185+'4.deposits legal entities'!D185+'5.deposits non-residents'!D17 -> 15324733 | E185: =('3.deposits individuals'!D185*'3.deposits individuals'!E185+'4.deposits legal entities'!D185*'4.deposits legal entities'!E185+'5.deposits non-residents'!D17*'5.deposits non-residents'!E17)/('3.deposits individuals'!D185+'4.deposits legal entities'!D185+'5.deposits non-residents'!D17) -> 0.69637483 | F185: ='3.deposits individuals'!F185+'4.deposits legal entities'!F185+'5.deposits non-residents'!F17 -> 6670909 | G185: =('3.deposits individuals'!F185*'3.deposits individuals'!G185+'4.deposits legal entities'!F185*'4.deposits legal entities'!G185+'5.deposits non-residents'!F17*'5.deposits non-residents'!G17)/('3.deposits individuals'!F185+'4.deposits legal entities'!F185+'5.deposits non-residents'!F17) -> 1.0237497 | H185: =J185+L185+N185+P185+R185+T185 -> 10829198 | I185: =(J185*K185+L185*M185+N185*O185+P185*Q185+R185*S185+T185*U185)/(J185+L185+N185+P185+R185+T185) -> 9.5447014 | J185: ='3.deposits individuals'!J185+'4.deposits legal entities'!J185+'5.deposits non-residents'!J17 -> 1830355.3 | K185: =('3.deposits individuals'!J185*'3.deposits individuals'!K185+'4.deposits legal entities'!J185*'4.deposits legal entities'!K185+'5.deposits non-residents'!J17*'5.deposits non-residents'!K17)/('3.deposits individuals'!J185+'4.deposits legal entities'!J185+'5.deposits non-residents'!J17) -> 7.1175088 | L185: ='3.deposits individuals'!L185+'4.deposits legal entities'!L185+'5.deposits non-residents'!L17 -> 1794960.3 | M185: =('3.deposits individuals'!L185*'3.deposits individuals'!M185+'4.deposits legal entities'!L185*'4.deposits legal entities'!M185+'5.deposits non-residents'!L17*'5.deposits non-residents'!M17)/('3.deposits individuals'!L185+'4.deposits legal entities'!L185+'5.deposits non-residents'!L17) -> 8.9103939 | N185: ='3.deposits individuals'!N185+'4.deposits legal entities'!N185+'5.deposits non-residents'!N17 -> 1929673.9 | O185: =('3.deposits individuals'!N185*'3.deposits individuals'!O185+'4.deposits legal entities'!N185*'4.deposits legal entities'!O185+'5.deposits non-residents'!N17*'5.deposits non-residents'!O17)/('3.deposits individuals'!N185+'4.deposits legal entities'!N185+'5.deposits non-residents'!N17) -> 9.0431672 | P185: ='3.deposits individuals'!P185+'4.deposits legal entities'!P185+'5.deposits non-residents'!P17 -> 2802215.2 | Q185: =('3.deposits individuals'!P185*'3.deposits individuals'!Q185+'4.deposits legal entities'!P185*'4.deposits legal entities'!Q185+'5.deposits non-residents'!P17*'5.deposits non-residents'!Q17)/('3.deposits individuals'!P185+'4.deposits legal entities'!P185+'5.deposits non-residents'!P17) -> 10.891627 | R185: ='3.deposits individuals'!R185+'4.deposits legal entities'!R185+'5.deposits non-residents'!R17 -> 1686715.4 | S185: =('3.deposits individuals'!R185*'3.deposits individuals'!S185+'4.deposits legal entities'!R185*'4.deposits legal entities'!S185+'5.deposits non-residents'!R17*'5.deposits non-residents'!S17)/('3.deposits individuals'!R185+'4.deposits legal entities'!R185+'5.deposits non-residents'!R17) -> 13.162333 | T185: ='3.deposits individuals'!T185+'4.deposits legal entities'!T185+'5.deposits non-residents'!T17 -> 785277.8 | U185: =('3.deposits individuals'!T185*'3.deposits individuals'!U185+'4.deposits legal entities'!T185*'4.deposits legal entities'!U185+'5.deposits non-residents'!T17*'5.deposits non-residents'!U17)/('3.deposits individuals'!T185+'4.deposits legal entities'!T185+'5.deposits non-residents'!T17) -> 5.3075883
A186: October | B186: ='3.deposits individuals'!B186+'4.deposits legal entities'!B186+'5.deposits non-residents'!B18 -> 33955657 | C186: =('3.deposits individuals'!B186*'3.deposits individuals'!C186+'4.deposits legal entities'!B186*'4.deposits legal entities'!C186+'5.deposits non-residents'!B18*'5.deposits non-residents'!C18)/('3.deposits individuals'!B186+'4.deposits legal entities'!B186+'5.deposits non-residents'!B18) -> 3.589414 | D186: ='3.deposits individuals'!D186+'4.deposits legal entities'!D186+'5.deposits non-residents'!D18 -> 16426975 | E186: =('3.deposits individuals'!D186*'3.deposits individuals'!E186+'4.deposits legal entities'!D186*'4.deposits legal entities'!E186+'5.deposits non-residents'!D18*'5.deposits non-residents'!E18)/('3.deposits individuals'!D186+'4.deposits legal entities'!D186+'5.deposits non-residents'!D18) -> 0.6215956 | F186: ='3.deposits individuals'!F186+'4.deposits legal entities'!F186+'5.deposits non-residents'!F18 -> 6403393.7 | G186: =('3.deposits individuals'!F186*'3.deposits individuals'!G186+'4.deposits legal entities'!F186*'4.deposits legal entities'!G186+'5.deposits non-residents'!F18*'5.deposits non-residents'!G18)/('3.deposits individuals'!F186+'4.deposits legal entities'!F186+'5.deposits non-residents'!F18) -> 0.98409425 | H186: =J186+L186+N186+P186+R186+T186 -> 11125289 | I186: =(J186*K186+L186*M186+N186*O186+P186*Q186+R186*S186+T186*U186)/(J186+L186+N186+P186+R186+T186) -> 9.4710741 | J186: ='3.deposits individuals'!J186+'4.deposits legal entities'!J186+'5.deposits non-residents'!J18 -> 2212005.3 | K186: =('3.deposits individuals'!J186*'3.deposits individuals'!K186+'4.deposits legal entities'!J186*'4.deposits legal entities'!K186+'5.deposits non-residents'!J18*'5.deposits non-residents'!K18)/('3.deposits individuals'!J186+'4.deposits legal entities'!J186+'5.deposits non-residents'!J18) -> 7.5282232 | L186: ='3.deposits individuals'!L186+'4.deposits legal entities'!L186+'5.deposits non-residents'!L18 -> 1621172.4 | M186: =('3.deposits individuals'!L186*'3.deposits individuals'!M186+'4.deposits legal entities'!L186*'4.deposits legal entities'!M186+'5.deposits non-residents'!L18*'5.deposits non-residents'!M18)/('3.deposits individuals'!L186+'4.deposits legal entities'!L186+'5.deposits non-residents'!L18) -> 8.7272524 | N186: ='3.deposits individuals'!N186+'4.deposits legal entities'!N186+'5.deposits non-residents'!N18 -> 2258140.1 | O186: =('3.deposits individuals'!N186*'3.deposits individuals'!O186+'4.deposits legal entities'!N186*'4.deposits legal entities'!O186+'5.deposits non-residents'!N18*'5.deposits non-residents'!O18)/('3.deposits individuals'!N186+'4.deposits legal entities'!N186+'5.deposits non-residents'!N18) -> 8.6952907 | P186: ='3.deposits individuals'!P186+'4.deposits legal entities'!P186+'5.deposits non-residents'!P18 -> 2462425.4 | Q186: =('3.deposits individuals'!P186*'3.deposits individuals'!Q186+'4.deposits legal entities'!P186*'4.deposits legal entities'!Q186+'5.deposits non-residents'!P18*'5.deposits non-residents'!Q18)/('3.deposits individuals'!P186+'4.deposits legal entities'!P186+'5.deposits non-residents'!P18) -> 11.498824 | R186: ='3.deposits individuals'!R186+'4.deposits legal entities'!R186+'5.deposits non-residents'!R18 -> 1794625.5 | S186: =('3.deposits individuals'!R186*'3.deposits individuals'!S186+'4.deposits legal entities'!R186*'4.deposits legal entities'!S186+'5.deposits non-residents'!R18*'5.deposits non-residents'!S18)/('3.deposits individuals'!R186+'4.deposits legal entities'!R186+'5.deposits non-residents'!R18) -> 12.50859 | T186: ='3.deposits individuals'!T186+'4.deposits legal entities'!T186+'5.deposits non-residents'!T18 -> 776919.9 | U186: =('3.deposits individuals'!T186*'3.deposits individuals'!U186+'4.deposits legal entities'!T186*'4.deposits legal entities'!U186+'5.deposits non-residents'!T18*'5.deposits non-residents'!U18)/('3.deposits individuals'!T186+'4.deposits legal entities'!T186+'5.deposits non-residents'!T18) -> 5.3662784
A187: November** | B187: ='3.deposits individuals'!B187+'4.deposits legal entities'!B187+'5.deposits non-residents'!B19 -> 28711342 | C187: =('3.deposits individuals'!B187*'3.deposits individuals'!C187+'4.deposits legal entities'!B187*'4.deposits legal entities'!C187+'5.deposits non-residents'!B19*'5.deposits non-residents'!C19)/('3.deposits individuals'!B187+'4.deposits legal entities'!B187+'5.deposits non-residents'!B19) -> 3.4740547 | D187: ='3.deposits individuals'!D187+'4.deposits legal entities'!D187+'5.deposits non-residents'!D19 -> 14272327 | E187: =('3.deposits individuals'!D187*'3.deposits individuals'!E187+'4.deposits legal entities'!D187*'4.deposits legal entities'!E187+'5.deposits non-residents'!D19*'5.deposits non-residents'!E19)/('3.deposits individuals'!D187+'4.deposits legal entities'!D187+'5.deposits non-residents'!D19) -> 0.4968648 | F187: ='3.deposits individuals'!F187+'4.deposits legal entities'!F187+'5.deposits non-residents'!F19 -> 5710378.2 | G187: =('3.deposits individuals'!F187*'3.deposits individuals'!G187+'4.deposits legal entities'!F187*'4.deposits legal entities'!G187+'5.deposits non-residents'!F19*'5.deposits non-residents'!G19)/('3.deposits individuals'!F187+'4.deposits legal entities'!F187+'5.deposits non-residents'!F19) -> 1.079528 | H187: =J187+L187+N187+P187+R187+T187 -> 8728636.7 | I187: =(J187*K187+L187*M187+N187*O187+P187*Q187+R187*S187+T187*U187)/(J187+L187+N187+P187+R187+T187) -> 9.9086311 | J187: ='3.deposits individuals'!J187+'4.deposits legal entities'!J187+'5.deposits non-residents'!J19 -> 1060316.2 | K187: =('3.deposits individuals'!J187*'3.deposits individuals'!K187+'4.deposits legal entities'!J187*'4.deposits legal entities'!K187+'5.deposits non-residents'!J19*'5.deposits non-residents'!K19)/('3.deposits individuals'!J187+'4.deposits legal entities'!J187+'5.deposits non-residents'!J19) -> 7.7229082 | L187: ='3.deposits individuals'!L187+'4.deposits legal entities'!L187+'5.deposits non-residents'!L19 -> 1419446.8 | M187: =('3.deposits individuals'!L187*'3.deposits individuals'!M187+'4.deposits legal entities'!L187*'4.deposits legal entities'!M187+'5.deposits non-residents'!L19*'5.deposits non-residents'!M19)/('3.deposits individuals'!L187+'4.deposits legal entities'!L187+'5.deposits non-residents'!L19) -> 8.2297199 | N187: ='3.deposits individuals'!N187+'4.deposits legal entities'!N187+'5.deposits non-residents'!N19 -> 2111079.4 | O187: =('3.deposits individuals'!N187*'3.deposits individuals'!O187+'4.deposits legal entities'!N187*'4.deposits legal entities'!O187+'5.deposits non-residents'!N19*'5.deposits non-residents'!O19)/('3.deposits individuals'!N187+'4.deposits legal entities'!N187+'5.deposits non-residents'!N19) -> 8.8360253 | P187: ='3.deposits individuals'!P187+'4.deposits legal entities'!P187+'5.deposits non-residents'!P19 -> 2401419.7 | Q187: =('3.deposits individuals'!P187*'3.deposits individuals'!Q187+'4.deposits legal entities'!P187*'4.deposits legal entities'!Q187+'5.deposits non-residents'!P19*'5.deposits non-residents'!Q19)/('3.deposits individuals'!P187+'4.deposits legal entities'!P187+'5.deposits non-residents'!P19) -> 11.35009 | R187: ='3.deposits individuals'!R187+'4.deposits legal entities'!R187+'5.deposits non-residents'!R19 -> 1649632 | S187: =('3.deposits individuals'!R187*'3.deposits individuals'!S187+'4.deposits legal entities'!R187*'4.deposits legal entities'!S187+'5.deposits non-residents'!R19*'5.deposits non-residents'!S19)/('3.deposits individuals'!R187+'4.deposits legal entities'!R187+'5.deposits non-residents'!R19) -> 12.363042 | T187: ='3.deposits individuals'!T187+'4.deposits legal entities'!T187+'5.deposits non-residents'!T19 -> 86742.6 | U187: =('3.deposits individuals'!T187*'3.deposits individuals'!U187+'4.deposits legal entities'!T187*'4.deposits legal entities'!U187+'5.deposits non-residents'!T19*'5.deposits non-residents'!U19)/('3.deposits individuals'!T187+'4.deposits legal entities'!T187+'5.deposits non-residents'!T19) -> 3.6212547
A188: December | B188: ='3.deposits individuals'!B188+'4.deposits legal entities'!B188+'5.deposits non-residents'!B20 -> 34065040 | C188: =('3.deposits individuals'!B188*'3.deposits individuals'!C188+'4.deposits legal entities'!B188*'4.deposits legal entities'!C188+'5.deposits non-residents'!B20*'5.deposits non-residents'!C20)/('3.deposits individuals'!B188+'4.deposits legal entities'!B188+'5.deposits non-residents'!B20) -> 3.7166271 | D188: ='3.deposits individuals'!D188+'4.deposits legal entities'!D188+'5.deposits non-residents'!D20 -> 16167837 | E188: =('3.deposits individuals'!D188*'3.deposits individuals'!E188+'4.deposits legal entities'!D188*'4.deposits legal entities'!E188+'5.deposits non-residents'!D20*'5.deposits non-residents'!E20)/('3.deposits individuals'!D188+'4.deposits legal entities'!D188+'5.deposits non-residents'!D20) -> 0.65845195 | F188: ='3.deposits individuals'!F188+'4.deposits legal entities'!F188+'5.deposits non-residents'!F20 -> 6221483.1 | G188: =('3.deposits individuals'!F188*'3.deposits individuals'!G188+'4.deposits legal entities'!F188*'4.deposits legal entities'!G188+'5.deposits non-residents'!F20*'5.deposits non-residents'!G20)/('3.deposits individuals'!F188+'4.deposits legal entities'!F188+'5.deposits non-residents'!F20) -> 1.1187021 | H188: =J188+L188+N188+P188+R188+T188 -> 11675720 | I188: =(J188*K188+L188*M188+N188*O188+P188*Q188+R188*S188+T188*U188)/(J188+L188+N188+P188+R188+T188) -> 9.3357261 | J188: ='3.deposits individuals'!J188+'4.deposits legal entities'!J188+'5.deposits non-residents'!J20 -> 2333464.1 | K188: =('3.deposits individuals'!J188*'3.deposits individuals'!K188+'4.deposits legal entities'!J188*'4.deposits legal entities'!K188+'5.deposits non-residents'!J20*'5.deposits non-residents'!K20)/('3.deposits individuals'!J188+'4.deposits legal entities'!J188+'5.deposits non-residents'!J20) -> 7.6832831 | L188: ='3.deposits individuals'!L188+'4.deposits legal entities'!L188+'5.deposits non-residents'!L20 -> 1708171.5 | M188: =('3.deposits individuals'!L188*'3.deposits individuals'!M188+'4.deposits legal entities'!L188*'4.deposits legal entities'!M188+'5.deposits non-residents'!L20*'5.deposits non-residents'!M20)/('3.deposits individuals'!L188+'4.deposits legal entities'!L188+'5.deposits non-residents'!L20) -> 6.9068509 | N188: ='3.deposits individuals'!N188+'4.deposits legal entities'!N188+'5.deposits non-residents'!N20 -> 2210925.3 | O188: =('3.deposits individuals'!N188*'3.deposits individuals'!O188+'4.deposits legal entities'!N188*'4.deposits legal entities'!O188+'5.deposits non-residents'!N20*'5.deposits non-residents'!O20)/('3.deposits individuals'!N188+'4.deposits legal entities'!N188+'5.deposits non-residents'!N20) -> 9.4714333 | P188: ='3.deposits individuals'!P188+'4.deposits legal entities'!P188+'5.deposits non-residents'!P20 -> 2637968.9 | Q188: =('3.deposits individuals'!P188*'3.deposits individuals'!Q188+'4.deposits legal entities'!P188*'4.deposits legal entities'!Q188+'5.deposits non-residents'!P20*'5.deposits non-residents'!Q20)/('3.deposits individuals'!P188+'4.deposits legal entities'!P188+'5.deposits non-residents'!P20) -> 11.229721 | R188: ='3.deposits individuals'!R188+'4.deposits legal entities'!R188+'5.deposits non-residents'!R20 -> 2022553.2 | S188: =('3.deposits individuals'!R188*'3.deposits individuals'!S188+'4.deposits legal entities'!R188*'4.deposits legal entities'!S188+'5.deposits non-residents'!R20*'5.deposits non-residents'!S20)/('3.deposits individuals'!R188+'4.deposits legal entities'!R188+'5.deposits non-residents'!R20) -> 12.168276 | T188: ='3.deposits individuals'!T188+'4.deposits legal entities'!T188+'5.deposits non-residents'!T20 -> 762636.9 | U188: =('3.deposits individuals'!T188*'3.deposits individuals'!U188+'4.deposits legal entities'!T188*'4.deposits legal entities'!U188+'5.deposits non-residents'!T20*'5.deposits non-residents'!U20)/('3.deposits individuals'!T188+'4.deposits legal entities'!T188+'5.deposits non-residents'!T20) -> 5.3751675
... A380: December | B380: ='3.deposits individuals'!B380+'4.deposits legal entities'!B380+'5.deposits non-residents'!B212 -> 0 | C380: =('3.deposits individuals'!B380*'3.deposits individuals'!C380+'4.deposits legal entities'!B380*'4.deposits legal entities'!C380+'5.deposits non-residents'!B212*'5.deposits non-residents'!C212)/('3.deposits individuals'!B380+'4.deposits legal entities'!B380+'5.deposits non-residents'!B212) -> #DIV/0! | D380: ='3.deposits individuals'!D380+'4.deposits legal entities'!D380+'5.deposits non-residents'!D212 -> 0 | E380: =('3.deposits individuals'!D380*'3.deposits individuals'!E380+'4.deposits legal entities'!D380*'4.deposits legal entities'!E380+'5.deposits non-residents'!D212*'5.deposits non-residents'!E212)/('3.deposits individuals'!D380+'4.deposits legal entities'!D380+'5.deposits non-residents'!D212) -> #DIV/0! | F380: ='3.deposits individuals'!F380+'4.deposits legal entities'!F380+'5.deposits non-residents'!F212 -> 0 | G380: =('3.deposits individuals'!F380*'3.deposits individuals'!G380+'4.deposits legal entities'!F380*'4.deposits legal entities'!G380+'5.deposits non-residents'!F212*'5.deposits non-residents'!G212)/('3.deposits individuals'!F380+'4.deposits legal entities'!F380+'5.deposits non-residents'!F212) -> #DIV/0! | H380: =J380+L380+N380+P380+R380+T380 -> 0 | I380: =(J380*K380+L380*M380+N380*O380+P380*Q380+R380*S380+T380*U380)/(J380+L380+N380+P380+R380+T380) -> #DIV/0! | J380: ='3.deposits individuals'!J380+'4.deposits legal entities'!J380+'5.deposits non-residents'!J212 -> 0 | K380: =('3.deposits individuals'!J380*'3.deposits individuals'!K380+'4.deposits legal entities'!J380*'4.deposits legal entities'!K380+'5.deposits non-residents'!J212*'5.deposits non-residents'!K212)/('3.deposits individuals'!J380+'4.deposits legal entities'!J380+'5.deposits non-residents'!J212) -> #DIV/0! | L380: ='3.deposits individuals'!L380+'4.deposits legal entities'!L380+'5.deposits non-residents'!L212 -> 0 | M380: =('3.deposits individuals'!L380*'3.deposits individuals'!M380+'4.deposits legal entities'!L380*'4.deposits legal entities'!M380+'5.deposits non-residents'!L212*'5.deposits non-residents'!M212)/('3.deposits individuals'!L380+'4.deposits legal entities'!L380+'5.deposits non-residents'!L212) -> #DIV/0! | N380: ='3.deposits individuals'!N380+'4.deposits legal entities'!N380+'5.deposits non-residents'!N212 -> 0 | O380: =('3.deposits individuals'!N380*'3.deposits individuals'!O380+'4.deposits legal entities'!N380*'4.deposits legal entities'!O380+'5.deposits non-residents'!N212*'5.deposits non-residents'!O212)/('3.deposits individuals'!N380+'4.deposits legal entities'!N380+'5.deposits non-residents'!N212) -> #DIV/0! | P380: ='3.deposits individuals'!P380+'4.deposits legal entities'!P380+'5.deposits non-residents'!P212 -> 0 | Q380: =('3.deposits individuals'!P380*'3.deposits individuals'!Q380+'4.deposits legal entities'!P380*'4.deposits legal entities'!Q380+'5.deposits non-residents'!P212*'5.deposits non-residents'!Q212)/('3.deposits individuals'!P380+'4.deposits legal entities'!P380+'5.deposits non-residents'!P212) -> #DIV/0! | R380: ='3.deposits individuals'!R380+'4.deposits legal entities'!R380+'5.deposits non-residents'!R212 -> 0 | S380: =('3.deposits individuals'!R380*'3.deposits individuals'!S380+'4.deposits legal entities'!R380*'4.deposits legal entities'!S380+'5.deposits non-residents'!R212*'5.deposits non-residents'!S212)/('3.deposits individuals'!R380+'4.deposits legal entities'!R380+'5.deposits non-residents'!R212) -> #DIV/0! | T380: ='3.deposits individuals'!T380+'4.deposits legal entities'!T380+'5.deposits non-residents'!T212 -> 0 | U380: =('3.deposits individuals'!T380*'3.deposits individuals'!U380+'4.deposits legal entities'!T380*'4.deposits legal entities'!U380+'5.deposits non-residents'!T212*'5.deposits non-residents'!U212)/('3.deposits individuals'!T380+'4.deposits legal entities'!T380+'5.deposits non-residents'!T212) -> #DIV/0!
A382: * to the 01.01.2010 settlement accounts facilities were included in demand deposits
A383: ** data is given without consideration of "AsiaUniversalBank" OJS due to withdrawal of license
A384: ***- preliminary data

Sheet 3.deposits individuals
A1: "Statistics" section / "Banking statistics" / "Commercial banks' deposits, as of the end of period"
A3: Table 3. Total volume and average weighted interest rates of deposits of individuals in commercial banks (the end of period)*
A5: (ths of soms / percent)
A6: Period | B6: Total volume | C6: Average weighted interest rate | D6: Settlement accounts** | F6: Demand deposits | H6: Time deposits | J6: of which, by maturity:
J7: 0 - 1 month | L7: 1 - 3 months | N7: 3 - 6 months | P7: 6 - 12 months | R7: 1 - 3 years | T7: more than 3 years
C8: ставка | D8: volume | E8: average weighted interest rate | F8: volume | G8: average weighted interest rate | H8: volume | I8: average weighted interest rate | J8: volume | K8: average weighted interest rate | L8: volume | M8: average weighted interest rate | N8: volume | O8: average weighted interest rate | P8: volume | Q8: average weighted interest rate | R8: volume | S8: average weighted interest rate | T8: volume | U8: average weighted interest rate
A9: January 1996 | B9: ='7.individuals NC'!B9+'11.individulas FC'!B9 -> 149180.2 | C9: =('7.individuals NC'!B9*'7.individuals NC'!C9+'11.individulas FC'!B9*'11.individulas FC'!C9)/('7.individuals NC'!B9+'11.individulas FC'!B9) -> 33.196272 | F9: ='7.individuals NC'!F9+'11.individulas FC'!F9 -> 41740.2 | G9: =('7.individuals NC'!F9*'7.individuals NC'!G9+'11.individulas FC'!F9*'11.individulas FC'!G9)/('7.individuals NC'!F9+'11.individulas FC'!F9) -> 22.08461 | H9: =J9+L9+N9+P9+R9+T9 -> 107440 | I9: =(J9*K9+L9*M9+N9*O9+P9*Q9+R9*S9+T9*U9)/(J9+L9+N9+P9+R9+T9) -> 37.513129 | J9: ='7.individuals NC'!J9+'11.individulas FC'!J9 -> 2503 | K9: =('7.individuals NC'!J9*'7.individuals NC'!K9+'11.individulas FC'!J9*'11.individulas FC'!K9)/('7.individuals NC'!J9+'11.individulas FC'!J9) -> 30.011306 | L9: ='7.individuals NC'!L9+'11.individulas FC'!L9 -> 21052.3 | M9: =('7.individuals NC'!L9*'7.individuals NC'!M9+'11.individulas FC'!L9*'11.individulas FC'!M9)/('7.individuals NC'!L9+'11.individulas FC'!L9) -> 33.052099 | N9: ='7.individuals NC'!N9+'11.individulas FC'!N9 -> 61052.4 | O9: =('7.individuals NC'!N9*'7.individuals NC'!O9+'11.individulas FC'!N9*'11.individulas FC'!O9)/('7.individuals NC'!N9+'11.individulas FC'!N9) -> 38.928267 | P9: ='7.individuals NC'!P9+'11.individulas FC'!P9 -> 11810.9 | Q9: =('7.individuals NC'!P9*'7.individuals NC'!Q9+'11.individulas FC'!P9*'11.individulas FC'!Q9)/('7.individuals NC'!P9+'11.individulas FC'!P9) -> 28.150385 | R9: ='7.individuals NC'!R9+'11.individulas FC'!R9 -> 11021.4 | S9: =('7.individuals NC'!R9*'7.individuals NC'!S9+'11.individulas FC'!R9*'11.individulas FC'!S9)/('7.individuals NC'!R9+'11.individulas FC'!R9) -> 49.932317
A10: February | B10: ='7.individuals NC'!B10+'11.individulas FC'!B10 -> 172637.1 | C10: =('7.individuals NC'!B10*'7.individuals NC'!C10+'11.individulas FC'!B10*'11.individulas FC'!C10)/('7.individuals NC'!B10+'11.individulas FC'!B10) -> 34.862359 | F10: ='7.individuals NC'!F10+'11.individulas FC'!F10 -> 44471.5 | G10: =('7.individuals NC'!F10*'7.individuals NC'!G10+'11.individulas FC'!F10*'11.individulas FC'!G10)/('7.individuals NC'!F10+'11.individulas FC'!F10) -> 27.0901 | H10: =J10+L10+N10+P10+R10+T10 -> 128165.6 | I10: =(J10*K10+L10*M10+N10*O10+P10*Q10+R10*S10+T10*U10)/(J10+L10+N10+P10+R10+T10) -> 37.559213 | J10: ='7.individuals NC'!J10+'11.individulas FC'!J10 -> 1088 | K10: =('7.individuals NC'!J10*'7.individuals NC'!K10+'11.individulas FC'!J10*'11.individulas FC'!K10)/('7.individuals NC'!J10+'11.individulas FC'!J10) -> 20.375983 | L10: ='7.individuals NC'!L10+'11.individulas FC'!L10 -> 32479.2 | M10: =('7.individuals NC'!L10*'7.individuals NC'!M10+'11.individulas FC'!L10*'11.individulas FC'!M10)/('7.individuals NC'!L10+'11.individulas FC'!L10) -> 31.735694 | N10: ='7.individuals NC'!N10+'11.individulas FC'!N10 -> 67019.7 | O10: =('7.individuals NC'!N10*'7.individuals NC'!O10+'11.individulas FC'!N10*'11.individulas FC'!O10)/('7.individuals NC'!N10+'11.individulas FC'!N10) -> 37.962367 | P10: ='7.individuals NC'!P10+'11.individulas FC'!P10 -> 23945.6 | Q10: =('7.individuals NC'!P10*'7.individuals NC'!Q10+'11.individulas FC'!P10*'11.individulas FC'!Q10)/('7.individuals NC'!P10+'11.individulas FC'!P10) -> 40.599569 | R10: ='7.individuals NC'!R10+'11.individulas FC'!R10 -> 3633.1 | S10: =('7.individuals NC'!R10*'7.individuals NC'!S10+'11.individulas FC'!R10*'11.individulas FC'!S10)/('7.individuals NC'!R10+'11.individulas FC'!R10) -> 67.290375
A11: March | B11: ='7.individuals NC'!B11+'11.individulas FC'!B11 -> 227384.7 | C11: =('7.individuals NC'!B11*'7.individuals NC'!C11+'11.individulas FC'!B11*'11.individulas FC'!C11)/('7.individuals NC'!B11+'11.individulas FC'!B11) -> 27.534571 | F11: ='7.individuals NC'!F11+'11.individulas FC'!F11 -> 76737.6 | G11: =('7.individuals NC'!F11*'7.individuals NC'!G11+'11.individulas FC'!F11*'11.individulas FC'!G11)/('7.individuals NC'!F11+'11.individulas FC'!F11) -> 12.65034 | H11: =J11+L11+N11+P11+R11+T11 -> 150647.1 | I11: =(J11*K11+L11*M11+N11*O11+P11*Q11+R11*S11+T11*U11)/(J11+L11+N11+P11+R11+T11) -> 35.116397 | J11: ='7.individuals NC'!J11+'11.individulas FC'!J11 -> 4312.6 | K11: =('7.individuals NC'!J11*'7.individuals NC'!K11+'11.individulas FC'!J11*'11.individulas FC'!K11)/('7.individuals NC'!J11+'11.individulas FC'!J11) -> 24.629933 | L11: ='7.individuals NC'!L11+'11.individulas FC'!L11 -> 49306.9 | M11: =('7.individuals NC'!L11*'7.individuals NC'!M11+'11.individulas FC'!L11*'11.individulas FC'!M11)/('7.individuals NC'!L11+'11.individulas FC'!L11) -> 30.747912 | N11: ='7.individuals NC'!N11+'11.individulas FC'!N11 -> 70748.1 | O11: =('7.individuals NC'!N11*'7.individuals NC'!O11+'11.individulas FC'!N11*'11.individulas FC'!O11)/('7.individuals NC'!N11+'11.individulas FC'!N11) -> 37.074425 | P11: ='7.individuals NC'!P11+'11.individulas FC'!P11 -> 23948.9 | Q11: =('7.individuals NC'!P11*'7.individuals NC'!Q11+'11.individulas FC'!P11*'11.individulas FC'!Q11)/('7.individuals NC'!P11+'11.individulas FC'!P11) -> 39.005131 | R11: ='7.individuals NC'!R11+'11.individulas FC'!R11 -> 2330.6 | S11: =('7.individuals NC'!R11*'7.individuals NC'!S11+'11.individulas FC'!R11*'11.individulas FC'!S11)/('7.individuals NC'!R11+'11.individulas FC'!R11) -> 47.543551
A12: April | B12: ='7.individuals NC'!B12+'11.individulas FC'!B12 -> 192388.2 | C12: =('7.individuals NC'!B12*'7.individuals NC'!C12+'11.individulas FC'!B12*'11.individulas FC'!C12)/('7.individuals NC'!B12+'11.individulas FC'!B12) -> 31.867853 | F12: ='7.individuals NC'!F12+'11.individulas FC'!F12 -> 38088.1 | G12: =('7.individuals NC'!F12*'7.individuals NC'!G12+'11.individulas FC'!F12*'11.individulas FC'!G12)/('7.individuals NC'!F12+'11.individulas FC'!F12) -> 22.407382 | H12: =J12+L12+N12+P12+R12+T12 -> 154300.1 | I12: =(J12*K12+L12*M12+N12*O12+P12*Q12+R12*S12+T12*U12)/(J12+L12+N12+P12+R12+T12) -> 34.203116 | J12: ='7.individuals NC'!J12+'11.individulas FC'!J12 -> 4189.9 | K12: =('7.individuals NC'!J12*'7.individuals NC'!K12+'11.individulas FC'!J12*'11.individulas FC'!K12)/('7.individuals NC'!J12+'11.individulas FC'!J12) -> 21.220604 | L12: ='7.individuals NC'!L12+'11.individulas FC'!L12 -> 43192.9 | M12: =('7.individuals NC'!L12*'7.individuals NC'!M12+'11.individulas FC'!L12*'11.individulas FC'!M12)/('7.individuals NC'!L12+'11.individulas FC'!L12) -> 30.960731 | N12: ='7.individuals NC'!N12+'11.individulas FC'!N12 -> 73580.2 | O12: =('7.individuals NC'!N12*'7.individuals NC'!O12+'11.individulas FC'!N12*'11.individulas FC'!O12)/('7.individuals NC'!N12+'11.individulas FC'!N12) -> 35.39447 | P12: ='7.individuals NC'!P12+'11.individulas FC'!P12 -> 30994.6 | Q12: =('7.individuals NC'!P12*'7.individuals NC'!Q12+'11.individulas FC'!P12*'11.individulas FC'!Q12)/('7.individuals NC'!P12+'11.individulas FC'!P12) -> 36.722808 | R12: ='7.individuals NC'!R12+'11.individulas FC'!R12 -> 2342.5 | S12: =('7.individuals NC'!R12*'7.individuals NC'!S12+'11.individulas FC'!R12*'11.individulas FC'!S12)/('7.individuals NC'!R12+'11.individulas FC'!R12) -> 46.449255
A13: May | B13: ='7.individuals NC'!B13+'11.individulas FC'!B13 -> 177008.1 | C13: =('7.individuals NC'!B13*'7.individuals NC'!C13+'11.individulas FC'!B13*'11.individulas FC'!C13)/('7.individuals NC'!B13+'11.individulas FC'!B13) -> 30.48507 | F13: ='7.individuals NC'!F13+'11.individulas FC'!F13 -> 37109.1 | G13: =('7.individuals NC'!F13*'7.individuals NC'!G13+'11.individulas FC'!F13*'11.individulas FC'!G13)/('7.individuals NC'!F13+'11.individulas FC'!F13) -> 21.597243 | H13: =J13+L13+N13+P13+R13+T13 -> 139899 | I13: =(J13*K13+L13*M13+N13*O13+P13*Q13+R13*S13+T13*U13)/(J13+L13+N13+P13+R13+T13) -> 32.842623 | J13: ='7.individuals NC'!J13+'11.individulas FC'!J13 -> 5595.1 | K13: =('7.individuals NC'!J13*'7.individuals NC'!K13+'11.individulas FC'!J13*'11.individulas FC'!K13)/('7.individuals NC'!J13+'11.individulas FC'!J13) -> 15.579708 | L13: ='7.individuals NC'!L13+'11.individulas FC'!L13 -> 40981.9 | M13: =('7.individuals NC'!L13*'7.individuals NC'!M13+'11.individulas FC'!L13*'11.individulas FC'!M13)/('7.individuals NC'!L13+'11.individulas FC'!L13) -> 32.542115 | N13: ='7.individuals NC'!N13+'11.individulas FC'!N13 -> 56411.2 | O13: =('7.individuals NC'!N13*'7.individuals NC'!O13+'11.individulas FC'!N13*'11.individulas FC'!O13)/('7.individuals NC'!N13+'11.individulas FC'!N13) -> 33.210303 | P13: ='7.individuals NC'!P13+'11.individulas FC'!P13 -> 34535.1 | Q13: =('7.individuals NC'!P13*'7.individuals NC'!Q13+'11.individulas FC'!P13*'11.individulas FC'!Q13)/('7.individuals NC'!P13+'11.individulas FC'!P13) -> 34.859201 | R13: ='7.individuals NC'!R13+'11.individulas FC'!R13 -> 2375.7 | S13: =('7.individuals NC'!R13*'7.individuals NC'!S13+'11.individulas FC'!R13*'11.individulas FC'!S13)/('7.individuals NC'!R13+'11.individulas FC'!R13) -> 40.63782
A14: June | B14: ='7.individuals NC'!B14+'11.individulas FC'!B14 -> 198741.5 | C14: =('7.individuals NC'!B14*'7.individuals NC'!C14+'11.individulas FC'!B14*'11.individulas FC'!C14)/('7.individuals NC'!B14+'11.individulas FC'!B14) -> 32.064465 | F14: ='7.individuals NC'!F14+'11.individulas FC'!F14 -> 41578.6 | G14: =('7.individuals NC'!F14*'7.individuals NC'!G14+'11.individulas FC'!F14*'11.individulas FC'!G14)/('7.individuals NC'!F14+'11.individulas FC'!F14) -> 20.614361 | H14: =J14+L14+N14+P14+R14+T14 -> 157162.9 | I14: =(J14*K14+L14*M14+N14*O14+P14*Q14+R14*S14+T14*U14)/(J14+L14+N14+P14+R14+T14) -> 35.093675 | J14: ='7.individuals NC'!J14+'11.individulas FC'!J14 -> 253.1 | K14: =('7.individuals NC'!J14*'7.individuals NC'!K14+'11.individulas FC'!J14*'11.individulas FC'!K14)/('7.individuals NC'!J14+'11.individulas FC'!J14) -> 7.4447096 | L14: ='7.individuals NC'!L14+'11.individulas FC'!L14 -> 37491.2 | M14: =('7.individuals NC'!L14*'7.individuals NC'!M14+'11.individulas FC'!L14*'11.individulas FC'!M14)/('7.individuals NC'!L14+'11.individulas FC'!L14) -> 29.067809 | N14: ='7.individuals NC'!N14+'11.individulas FC'!N14 -> 76498.9 | O14: =('7.individuals NC'!N14*'7.individuals NC'!O14+'11.individulas FC'!N14*'11.individulas FC'!O14)/('7.individuals NC'!N14+'11.individulas FC'!N14) -> 36.227359 | P14: ='7.individuals NC'!P14+'11.individulas FC'!P14 -> 38795.3 | Q14: =('7.individuals NC'!P14*'7.individuals NC'!Q14+'11.individulas FC'!P14*'11.individulas FC'!Q14)/('7.individuals NC'!P14+'11.individulas FC'!P14) -> 36.666537 | R14: ='7.individuals NC'!R14+'11.individulas FC'!R14 -> 4124.4 | S14: =('7.individuals NC'!R14*'7.individuals NC'!S14+'11.individulas FC'!R14*'11.individulas FC'!S14)/('7.individuals NC'!R14+'11.individulas FC'!R14) -> 55.743856
A15: July | B15: ='7.individuals NC'!B15+'11.individulas FC'!B15 -> 201374.1 | C15: =('7.individuals NC'!B15*'7.individuals NC'!C15+'11.individulas FC'!B15*'11.individulas FC'!C15)/('7.individuals NC'!B15+'11.individulas FC'!B15) -> 30.062082 | F15: ='7.individuals NC'!F15+'11.individulas FC'!F15 -> 46385 | G15: =('7.individuals NC'!F15*'7.individuals NC'!G15+'11.individulas FC'!F15*'11.individulas FC'!G15)/('7.individuals NC'!F15+'11.individulas FC'!F15) -> 17.470601 | H15: =J15+L15+N15+P15+R15+T15 -> 154989.1 | I15: =(J15*K15+L15*M15+N15*O15+P15*Q15+R15*S15+T15*U15)/(J15+L15+N15+P15+R15+T15) -> 33.83045 | J15: ='7.individuals NC'!J15+'11.individulas FC'!J15 -> 4100.5 | K15: =('7.individuals NC'!J15*'7.individuals NC'!K15+'11.individulas FC'!J15*'11.individulas FC'!K15)/('7.individuals NC'!J15+'11.individulas FC'!J15) -> 33.66446 | L15: ='7.individuals NC'!L15+'11.individulas FC'!L15 -> 40172.6 | M15: =('7.individuals NC'!L15*'7.individuals NC'!M15+'11.individulas FC'!L15*'11.individulas FC'!M15)/('7.individuals NC'!L15+'11.individulas FC'!L15) -> 30.302139 | N15: ='7.individuals NC'!N15+'11.individulas FC'!N15 -> 70226.7 | O15: =('7.individuals NC'!N15*'7.individuals NC'!O15+'11.individulas FC'!N15*'11.individulas FC'!O15)/('7.individuals NC'!N15+'11.individulas FC'!N15) -> 35.153689 | P15: ='7.individuals NC'!P15+'11.individulas FC'!P15 -> 38062.8 | Q15: =('7.individuals NC'!P15*'7.individuals NC'!Q15+'11.individulas FC'!P15*'11.individulas FC'!Q15)/('7.individuals NC'!P15+'11.individulas FC'!P15) -> 34.733782 | R15: ='7.individuals NC'!R15+'11.individulas FC'!R15 -> 2426.5 | S15: =('7.individuals NC'!R15*'7.individuals NC'!S15+'11.individulas FC'!R15*'11.individulas FC'!S15)/('7.individuals NC'!R15+'11.individulas FC'!R15) -> 40.058323
A16: August | B16: ='7.individuals NC'!B16+'11.individulas FC'!B16 -> 205862.6 | C16: =('7.individuals NC'!B16*'7.individuals NC'!C16+'11.individulas FC'!B16*'11.individulas FC'!C16)/('7.individuals NC'!B16+'11.individulas FC'!B16) -> 31.224101 | F16: ='7.individuals NC'!F16+'11.individulas FC'!F16 -> 39978.3 | G16: =('7.individuals NC'!F16*'7.individuals NC'!G16+'11.individulas FC'!F16*'11.individulas FC'!G16)/('7.individuals NC'!F16+'11.individulas FC'!F16) -> 19.726264 | H16: =J16+L16+N16+P16+R16+T16 -> 165884.3 | I16: =(J16*K16+L16*M16+N16*O16+P16*Q16+R16*S16+T16*U16)/(J16+L16+N16+P16+R16+T16) -> 33.995092 | J16: ='7.individuals NC'!J16+'11.individulas FC'!J16 -> 126.3 | K16: =('7.individuals NC'!J16*'7.individuals NC'!K16+'11.individulas FC'!J16*'11.individulas FC'!K16)/('7.individuals NC'!J16+'11.individulas FC'!J16) -> 10.213143 | L16: ='7.individuals NC'!L16+'11.individulas FC'!L16 -> 44723 | M16: =('7.individuals NC'!L16*'7.individuals NC'!M16+'11.individulas FC'!L16*'11.individulas FC'!M16)/('7.individuals NC'!L16+'11.individulas FC'!L16) -> 28.806988 | N16: ='7.individuals NC'!N16+'11.individulas FC'!N16 -> 81997 | O16: =('7.individuals NC'!N16*'7.individuals NC'!O16+'11.individulas FC'!N16*'11.individulas FC'!O16)/('7.individuals NC'!N16+'11.individulas FC'!N16) -> 38.192908 | P16: ='7.individuals NC'!P16+'11.individulas FC'!P16 -> 35136.2 | Q16: =('7.individuals NC'!P16*'7.individuals NC'!Q16+'11.individulas FC'!P16*'11.individulas FC'!Q16)/('7.individuals NC'!P16+'11.individulas FC'!P16) -> 30.536495 | R16: ='7.individuals NC'!R16+'11.individulas FC'!R16 -> 3901.8 | S16: =('7.individuals NC'!R16*'7.individuals NC'!S16+'11.individulas FC'!R16*'11.individulas FC'!S16)/('7.individuals NC'!R16+'11.individulas FC'!R16) -> 37.158985
A17: September | B17: ='7.individuals NC'!B17+'11.individulas FC'!B17 -> 221590.4 | C17: =('7.individuals NC'!B17*'7.individuals NC'!C17+'11.individulas FC'!B17*'11.individulas FC'!C17)/('7.individuals NC'!B17+'11.individulas FC'!B17) -> 29.537906 | F17: ='7.individuals NC'!F17+'11.individulas FC'!F17 -> 41666.9 | G17: =('7.individuals NC'!F17*'7.individuals NC'!G17+'11.individulas FC'!F17*'11.individulas FC'!G17)/('7.individuals NC'!F17+'11.individulas FC'!F17) -> 18.668335 | H17: =J17+L17+N17+P17+R17+T17 -> 179923.5 | I17: =(J17*K17+L17*M17+N17*O17+P17*Q17+R17*S17+T17*U17)/(J17+L17+N17+P17+R17+T17) -> 32.055094 | J17: ='7.individuals NC'!J17+'11.individulas FC'!J17 -> 2502.1 | K17: =('7.individuals NC'!J17*'7.individuals NC'!K17+'11.individulas FC'!J17*'11.individulas FC'!K17)/('7.individuals NC'!J17+'11.individulas FC'!J17) -> 35.092722 | L17: ='7.individuals NC'!L17+'11.individulas FC'!L17 -> 43217.2 | M17: =('7.individuals NC'!L17*'7.individuals NC'!M17+'11.individulas FC'!L17*'11.individulas FC'!M17)/('7.individuals NC'!L17+'11.individulas FC'!L17) -> 28.441236 | N17: ='7.individuals NC'!N17+'11.individulas FC'!N17 -> 86496.2 | O17: =('7.individuals NC'!N17*'7.individuals NC'!O17+'11.individulas FC'!N17*'11.individulas FC'!O17)/('7.individuals NC'!N17+'11.individulas FC'!N17) -> 34.114836 | P17: ='7.individuals NC'!P17+'11.individulas FC'!P17 -> 44432.6 | Q17: =('7.individuals NC'!P17*'7.individuals NC'!Q17+'11.individulas FC'!P17*'11.individulas FC'!Q17)/('7.individuals NC'!P17+'11.individulas FC'!P17) -> 31.137995 | R17: ='7.individuals NC'!R17+'11.individulas FC'!R17 -> 3275.4 | S17: =('7.individuals NC'!R17*'7.individuals NC'!S17+'11.individulas FC'!R17*'11.individulas FC'!S17)/('7.individuals NC'!R17+'11.individulas FC'!R17) -> 35.465287
A18: October | B18: ='7.individuals NC'!B18+'11.individulas FC'!B18 -> 245935.5 | C18: =('7.individuals NC'!B18*'7.individuals NC'!C18+'11.individulas FC'!B18*'11.individulas FC'!C18)/('7.individuals NC'!B18+'11.individulas FC'!B18) -> 28.490441 | F18: ='7.individuals NC'!F18+'11.individulas FC'!F18 -> 124495.9 | G18: =('7.individuals NC'!F18*'7.individuals NC'!G18+'11.individulas FC'!F18*'11.individulas FC'!G18)/('7.individuals NC'!F18+'11.individulas FC'!F18) -> 26.636906 | H18: =J18+L18+N18+P18+R18+T18 -> 121439.6 | I18: =(J18*K18+L18*M18+N18*O18+P18*Q18+R18*S18+T18*U18)/(J18+L18+N18+P18+R18+T18) -> 30.390624 | J18: ='7.individuals NC'!J18+'11.individulas FC'!J18 -> 118.7 | K18: =('7.individuals NC'!J18*'7.individuals NC'!K18+'11.individulas FC'!J18*'11.individulas FC'!K18)/('7.individuals NC'!J18+'11.individulas FC'!J18) -> 12.47262 | L18: ='7.individuals NC'!L18+'11.individulas FC'!L18 -> 32980.4 | M18: =('7.individuals NC'!L18*'7.individuals NC'!M18+'11.individulas FC'!L18*'11.individulas FC'!M18)/('7.individuals NC'!L18+'11.individulas FC'!L18) -> 26.4559 | N18: ='7.individuals NC'!N18+'11.individulas FC'!N18 -> 47625 | O18: =('7.individuals NC'!N18*'7.individuals NC'!O18+'11.individulas FC'!N18*'11.individulas FC'!O18)/('7.individuals NC'!N18+'11.individulas FC'!N18) -> 32.67586 | P18: ='7.individuals NC'!P18+'11.individulas FC'!P18 -> 37273.8 | Q18: =('7.individuals NC'!P18*'7.individuals NC'!Q18+'11.individulas FC'!P18*'11.individulas FC'!Q18)/('7.individuals NC'!P18+'11.individulas FC'!P18) -> 31.134387 | R18: ='7.individuals NC'!R18+'11.individulas FC'!R18 -> 3441.7 | S18: =('7.individuals NC'!R18*'7.individuals NC'!S18+'11.individulas FC'!R18*'11.individulas FC'!S18)/('7.individuals NC'!R18+'11.individulas FC'!R18) -> 29.036186
A19: November | B19: ='7.individuals NC'!B19+'11.individulas FC'!B19 -> 269104.1 | C19: =('7.individuals NC'!B19*'7.individuals NC'!C19+'11.individulas FC'!B19*'11.individulas FC'!C19)/('7.individuals NC'!B19+'11.individulas FC'!B19) -> 28.037054 | F19: ='7.individuals NC'!F19+'11.individulas FC'!F19 -> 50793 | G19: =('7.individuals NC'!F19*'7.individuals NC'!G19+'11.individulas FC'!F19*'11.individulas FC'!G19)/('7.individuals NC'!F19+'11.individulas FC'!F19) -> 17.060326 | H19: =J19+L19+N19+P19+R19+T19 -> 218311.1 | I19: =(J19*K19+L19*M19+N19*O19+P19*Q19+R19*S19+T19*U19)/(J19+L19+N19+P19+R19+T19) -> 30.590936 | J19: ='7.individuals NC'!J19+'11.individulas FC'!J19 -> 6967.1 | K19: =('7.individuals NC'!J19*'7.individuals NC'!K19+'11.individulas FC'!J19*'11.individulas FC'!K19)/('7.individuals NC'!J19+'11.individulas FC'!J19) -> 6.0307995 | L19: ='7.individuals NC'!L19+'11.individulas FC'!L19 -> 42762.2 | M19: =('7.individuals NC'!L19*'7.individuals NC'!M19+'11.individulas FC'!L19*'11.individulas FC'!M19)/('7.individuals NC'!L19+'11.individulas FC'!L19) -> 26.837155 | N19: ='7.individuals NC'!N19+'11.individulas FC'!N19 -> 85220.5 | O19: =('7.individuals NC'!N19*'7.individuals NC'!O19+'11.individulas FC'!N19*'11.individulas FC'!O19)/('7.individuals NC'!N19+'11.individulas FC'!N19) -> 37.211956 | P19: ='7.individuals NC'!P19+'11.individulas FC'!P19 -> 79359.8 | Q19: =('7.individuals NC'!P19*'7.individuals NC'!Q19+'11.individulas FC'!P19*'11.individulas FC'!Q19)/('7.individuals NC'!P19+'11.individulas FC'!P19) -> 27.892669 | R19: ='7.individuals NC'!R19+'11.individulas FC'!R19 -> 4001.5 | S19: =('7.individuals NC'!R19*'7.individuals NC'!S19+'11.individulas FC'!R19*'11.individulas FC'!S19)/('7.individuals NC'!R19+'11.individulas FC'!R19) -> 25.97271
A20: December | B20: ='7.individuals NC'!B20+'11.individulas FC'!B20 -> 263456.6 | C20: =('7.individuals NC'!B20*'7.individuals NC'!C20+'11.individulas FC'!B20*'11.individulas FC'!C20)/('7.individuals NC'!B20+'11.individulas FC'!B20) -> 28.835834 | F20: ='7.individuals NC'!F20+'11.individulas FC'!F20 -> 40003.1 | G20: =('7.individuals NC'!F20*'7.individuals NC'!G20+'11.individulas FC'!F20*'11.individulas FC'!G20)/('7.individuals NC'!F20+'11.individulas FC'!F20) -> 16.046753 | H20: =J20+L20+N20+P20+R20+T20 -> 223453.5 | I20: =(J20*K20+L20*M20+N20*O20+P20*Q20+R20*S20+T20*U20)/(J20+L20+N20+P20+R20+T20) -> 31.125362 | J20: ='7.individuals NC'!J20+'11.individulas FC'!J20 -> 84.6 | K20: =('7.individuals NC'!J20*'7.individuals NC'!K20+'11.individulas FC'!J20*'11.individulas FC'!K20)/('7.individuals NC'!J20+'11.individulas FC'!J20) -> 14.468085 | L20: ='7.individuals NC'!L20+'11.individulas FC'!L20 -> 49029.1 | M20: =('7.individuals NC'!L20*'7.individuals NC'!M20+'11.individulas FC'!L20*'11.individulas FC'!M20)/('7.individuals NC'!L20+'11.individulas FC'!L20) -> 26.900388 | N20: ='7.individuals NC'!N20+'11.individulas FC'!N20 -> 115177 | O20: =('7.individuals NC'!N20*'7.individuals NC'!O20+'11.individulas FC'!N20*'11.individulas FC'!O20)/('7.individuals NC'!N20+'11.individulas FC'!N20) -> 33.506937 | P20: ='7.individuals NC'!P20+'11.individulas FC'!P20 -> 55466.9 | Q20: =('7.individuals NC'!P20*'7.individuals NC'!Q20+'11.individulas FC'!P20*'11.individulas FC'!Q20)/('7.individuals NC'!P20+'11.individulas FC'!P20) -> 29.956636 | R20: ='7.individuals NC'!R20+'11.individulas FC'!R20 -> 3695.9 | S20: =('7.individuals NC'!R20*'7.individuals NC'!S20+'11.individulas FC'!R20*'11.individulas FC'!S20)/('7.individuals NC'!R20+'11.individulas FC'!R20) -> 30.876087
... A103: November | B103: ='7.individuals NC'!B103+'11.individulas FC'!B103 -> 1377258.8 | C103: =('7.individuals NC'!B103*'7.individuals NC'!C103+'11.individulas FC'!B103*'11.individulas FC'!C103)/('7.individuals NC'!B103+'11.individulas FC'!B103) -> 5.6147088 | F103: ='7.individuals NC'!F103+'11.individulas FC'!F103 -> 588442.3 | G103: =('7.individuals NC'!F103*'7.individuals NC'!G103+'11.individulas FC'!F103*'11.individulas FC'!G103)/('7.individuals NC'!F103+'11.individulas FC'!F103) -> 0.25051342 | H103: =J103+L103+N103+P103+R103+T103 -> 788816.5 | I103: =(J103*K103+L103*M103+N103*O103+P103*Q103+R103*S103+T103*U103)/(J103+L103+N103+P103+R103+T103) -> 9.6162979 | J103: ='7.individuals NC'!J103+'11.individulas FC'!J103 -> 87067 | K103: =('7.individuals NC'!J103*'7.individuals NC'!K103+'11.individulas FC'!J103*'11.individulas FC'!K103)/('7.individuals NC'!J103+'11.individulas FC'!J103) -> 8.9289223 | L103: ='7.individuals NC'!L103+'11.individulas FC'!L103 -> 169877.5 | M103: =('7.individuals NC'!L103*'7.individuals NC'!M103+'11.individulas FC'!L103*'11.individulas FC'!M103)/('7.individuals NC'!L103+'11.individulas FC'!L103) -> 9.3377793 | N103: ='7.individuals NC'!N103+'11.individulas FC'!N103 -> 192004.6 | O103: =('7.individuals NC'!N103*'7.individuals NC'!O103+'11.individulas FC'!N103*'11.individulas FC'!O103)/('7.individuals NC'!N103+'11.individulas FC'!N103) -> 9.457473 | P103: ='7.individuals NC'!P103+'11.individulas FC'!P103 -> 254259.8 | Q103: =('7.individuals NC'!P103*'7.individuals NC'!Q103+'11.individulas FC'!P103*'11.individulas FC'!Q103)/('7.individuals NC'!P103+'11.individulas FC'!P103) -> 9.4600418 | R103: ='7.individuals NC'!R103+'11.individulas FC'!R103 -> 85607.6 | S103: =('7.individuals NC'!R103*'7.individuals NC'!S103+'11.individulas FC'!R103*'11.individulas FC'!S103)/('7.individuals NC'!R103+'11.individulas FC'!R103) -> 11.688387
A104: December | B104: ='7.individuals NC'!B104+'11.individulas FC'!B104 -> 1429139 | C104: =('7.individuals NC'!B104*'7.individuals NC'!C104+'11.individulas FC'!B104*'11.individulas FC'!C104)/('7.individuals NC'!B104+'11.individulas FC'!B104) -> 5.693449 | F104: ='7.individuals NC'!F104+'11.individulas FC'!F104 -> 585710.5 | G104: =('7.individuals NC'!F104*'7.individuals NC'!G104+'11.individulas FC'!F104*'11.individulas FC'!G104)/('7.individuals NC'!F104+'11.individulas FC'!F104) -> 0.27661044 | H104: =J104+L104+N104+P104+R104+T104 -> 843428.5 | I104: =(J104*K104+L104*M104+N104*O104+P104*Q104+R104*S104+T104*U104)/(J104+L104+N104+P104+R104+T104) -> 9.4551185 | J104: ='7.individuals NC'!J104+'11.individulas FC'!J104 -> 97457.8 | K104: =('7.individuals NC'!J104*'7.individuals NC'!K104+'11.individulas FC'!J104*'11.individulas FC'!K104)/('7.individuals NC'!J104+'11.individulas FC'!J104) -> 9.2522251 | L104: ='7.individuals NC'!L104+'11.individulas FC'!L104 -> 167303.4 | M104: =('7.individuals NC'!L104*'7.individuals NC'!M104+'11.individulas FC'!L104*'11.individulas FC'!M104)/('7.individuals NC'!L104+'11.individulas FC'!L104) -> 8.9228402 | N104: ='7.individuals NC'!N104+'11.individulas FC'!N104 -> 217577.5 | O104: =('7.individuals NC'!N104*'7.individuals NC'!O104+'11.individulas FC'!N104*'11.individulas FC'!O104)/('7.individuals NC'!N104+'11.individulas FC'!N104) -> 8.9203127 | P104: ='7.individuals NC'!P104+'11.individulas FC'!P104 -> 264788.1 | Q104: =('7.individuals NC'!P104*'7.individuals NC'!Q104+'11.individulas FC'!P104*'11.individulas FC'!Q104)/('7.individuals NC'!P104+'11.individulas FC'!P104) -> 9.4280064 | R104: ='7.individuals NC'!R104+'11.individulas FC'!R104 -> 95845.8 | S104: =('7.individuals NC'!R104*'7.individuals NC'!S104+'11.individulas FC'!R104*'11.individulas FC'!S104)/('7.individuals NC'!R104+'11.individulas FC'!R104) -> 11.924468 | T104: ='7.individuals NC'!T104+'11.individulas FC'!T104 -> 455.9 | U104: =('7.individuals NC'!T104*'7.individuals NC'!U104+'11.individulas FC'!T104*'11.individulas FC'!U104)/('7.individuals NC'!T104+'11.individulas FC'!T104) -> 0
A105: January 2004 | B105: ='7.individuals NC'!B105+'11.individulas FC'!B105 -> 1531985.3 | C105: =('7.individuals NC'!B105*'7.individuals NC'!C105+'11.individulas FC'!B105*'11.individulas FC'!C105)/('7.individuals NC'!B105+'11.individulas FC'!B105) -> 5.6356768 | F105: ='7.individuals NC'!F105+'11.individulas FC'!F105 -> 667697.2 | G105: =('7.individuals NC'!F105*'7.individuals NC'!G105+'11.individulas FC'!F105*'11.individulas FC'!G105)/('7.individuals NC'!F105+'11.individulas FC'!F105) -> 0.75671951 | H105: =J105+L105+N105+P105+R105+T105 -> 864288.1 | I105: =(J105*K105+L105*M105+N105*O105+P105*Q105+R105*S105+T105*U105)/(J105+L105+N105+P105+R105+T105) -> 9.4048668 | J105: ='7.individuals NC'!J105+'11.individulas FC'!J105 -> 111430.8 | K105: =('7.individuals NC'!J105*'7.individuals NC'!K105+'11.individulas FC'!J105*'11.individulas FC'!K105)/('7.individuals NC'!J105+'11.individulas FC'!J105) -> 9.7342436 | L105: ='7.individuals NC'!L105+'11.individulas FC'!L105 -> 169154.4 | M105: =('7.individuals NC'!L105*'7.individuals NC'!M105+'11.individulas FC'!L105*'11.individulas FC'!M105)/('7.individuals NC'!L105+'11.individulas FC'!L105) -> 8.2709941 | N105: ='7.individuals NC'!N105+'11.individulas FC'!N105 -> 203147.8 | O105: =('7.individuals NC'!N105*'7.individuals NC'!O105+'11.individulas FC'!N105*'11.individulas FC'!O105)/('7.individuals NC'!N105+'11.individulas FC'!N105) -> 9.0014039 | P105: ='7.individuals NC'!P105+'11.individulas FC'!P105 -> 267316.1 | Q105: =('7.individuals NC'!P105*'7.individuals NC'!Q105+'11.individulas FC'!P105*'11.individulas FC'!Q105)/('7.individuals NC'!P105+'11.individulas FC'!P105) -> 9.344761 | R105: ='7.individuals NC'!R105+'11.individulas FC'!R105 -> 113239 | S105: =('7.individuals NC'!R105*'7.individuals NC'!S105+'11.individulas FC'!R105*'11.individulas FC'!S105)/('7.individuals NC'!R105+'11.individulas FC'!R105) -> 11.640199
A106: February | B106: ='7.individuals NC'!B106+'11.individulas FC'!B106 -> 1558286.7 | C106: =('7.individuals NC'!B106*'7.individuals NC'!C106+'11.individulas FC'!B106*'11.individulas FC'!C106)/('7.individuals NC'!B106+'11.individulas FC'!B106) -> 6.148588 | F106: ='7.individuals NC'!F106+'11.individulas FC'!F106 -> 683046.1 | G106: =('7.individuals NC'!F106*'7.individuals NC'!G106+'11.individulas FC'!F106*'11.individulas FC'!G106)/('7.individuals NC'!F106+'11.individulas FC'!F106) -> 1.9769042 | H106: =J106+L106+N106+P106+R106+T106 -> 875240.6 | I106: =(J106*K106+L106*M106+N106*O106+P106*Q106+R106*S106+T106*U106)/(J106+L106+N106+P106+R106+T106) -> 9.4042097 | J106: ='7.individuals NC'!J106+'11.individulas FC'!J106 -> 87764.7 | K106: =('7.individuals NC'!J106*'7.individuals NC'!K106+'11.individulas FC'!J106*'11.individulas FC'!K106)/('7.individuals NC'!J106+'11.individulas FC'!J106) -> 8.7949381 | L106: ='7.individuals NC'!L106+'11.individulas FC'!L106 -> 189046 | M106: =('7.individuals NC'!L106*'7.individuals NC'!M106+'11.individulas FC'!L106*'11.individulas FC'!M106)/('7.individuals NC'!L106+'11.individulas FC'!L106) -> 8.1939896 | N106: ='7.individuals NC'!N106+'11.individulas FC'!N106 -> 223109.7 | O106: =('7.individuals NC'!N106*'7.individuals NC'!O106+'11.individulas FC'!N106*'11.individulas FC'!O106)/('7.individuals NC'!N106+'11.individulas FC'!N106) -> 8.9754988 | P106: ='7.individuals NC'!P106+'11.individulas FC'!P106 -> 247037.2 | Q106: =('7.individuals NC'!P106*'7.individuals NC'!Q106+'11.individulas FC'!P106*'11.individulas FC'!Q106)/('7.individuals NC'!P106+'11.individulas FC'!P106) -> 9.5186566 | R106: ='7.individuals NC'!R106+'11.individulas FC'!R106 -> 128283 | S106: =('7.individuals NC'!R106*'7.individuals NC'!S106+'11.individulas FC'!R106*'11.individulas FC'!S106)/('7.individuals NC'!R106+'11.individulas FC'!R106) -> 12.129721
A107: March | B107: ='7.individuals NC'!B107+'11.individulas FC'!B107 -> 1666098.6 | C107: =('7.individuals NC'!B107*'7.individuals NC'!C107+'11.individulas FC'!B107*'11.individulas FC'!C107)/('7.individuals NC'!B107+'11.individulas FC'!B107) -> 5.5861567 | F107: ='7.individuals NC'!F107+'11.individulas FC'!F107 -> 733519.5 | G107: =('7.individuals NC'!F107*'7.individuals NC'!G107+'11.individulas FC'!F107*'11.individulas FC'!G107)/('7.individuals NC'!F107+'11.individulas FC'!F107) -> 0.55675228 | H107: =J107+L107+N107+P107+R107+T107 -> 932579.1 | I107: =(J107*K107+L107*M107+N107*O107+P107*Q107+R107*S107+T107*U107)/(J107+L107+N107+P107+R107+T107) -> 9.5420315 | J107: ='7.individuals NC'!J107+'11.individulas FC'!J107 -> 107243.1 | K107: =('7.individuals NC'!J107*'7.individuals NC'!K107+'11.individulas FC'!J107*'11.individulas FC'!K107)/('7.individuals NC'!J107+'11.individulas FC'!J107) -> 8.4776467 | L107: ='7.individuals NC'!L107+'11.individulas FC'!L107 -> 190326.8 | M107: =('7.individuals NC'!L107*'7.individuals NC'!M107+'11.individulas FC'!L107*'11.individulas FC'!M107)/('7.individuals NC'!L107+'11.individulas FC'!L107) -> 7.9551109 | N107: ='7.individuals NC'!N107+'11.individulas FC'!N107 -> 227933.1 | O107: =('7.individuals NC'!N107*'7.individuals NC'!O107+'11.individulas FC'!N107*'11.individulas FC'!O107)/('7.individuals NC'!N107+'11.individulas FC'!N107) -> 9.0352426 | P107: ='7.individuals NC'!P107+'11.individulas FC'!P107 -> 270018.7 | Q107: =('7.individuals NC'!P107*'7.individuals NC'!Q107+'11.individulas FC'!P107*'11.individulas FC'!Q107)/('7.individuals NC'!P107+'11.individulas FC'!P107) -> 9.8415457 | R107: ='7.individuals NC'!R107+'11.individulas FC'!R107 -> 137057.4 | S107: =('7.individuals NC'!R107*'7.individuals NC'!S107+'11.individulas FC'!R107*'11.individulas FC'!S107)/('7.individuals NC'!R107+'11.individulas FC'!R107) -> 12.831317
A108: April | B108: ='7.individuals NC'!B108+'11.individulas FC'!B108 -> 1697819.8 | C108: =('7.individuals NC'!B108*'7.individuals NC'!C108+'11.individulas FC'!B108*'11.individulas FC'!C108)/('7.individuals NC'!B108+'11.individulas FC'!B108) -> 5.566722 | F108: ='7.individuals NC'!F108+'11.individulas FC'!F108 -> 746492.8 | G108: =('7.individuals NC'!F108*'7.individuals NC'!G108+'11.individulas FC'!F108*'11.individulas FC'!G108)/('7.individuals NC'!F108+'11.individulas FC'!F108) -> 0.58204519 | H108: =J108+L108+N108+P108+R108+T108 -> 951327 | I108: =(J108*K108+L108*M108+N108*O108+P108*Q108+R108*S108+T108*U108)/(J108+L108+N108+P108+R108+T108) -> 9.4781272 | J108: ='7.individuals NC'!J108+'11.individulas FC'!J108 -> 102053.9 | K108: =('7.individuals NC'!J108*'7.individuals NC'!K108+'11.individulas FC'!J108*'11.individulas FC'!K108)/('7.individuals NC'!J108+'11.individulas FC'!J108) -> 8.275442 | L108: ='7.individuals NC'!L108+'11.individulas FC'!L108 -> 179006.7 | M108: =('7.individuals NC'!L108*'7.individuals NC'!M108+'11.individulas FC'!L108*'11.individulas FC'!M108)/('7.individuals NC'!L108+'11.individulas FC'!L108) -> 8.0041673 | N108: ='7.individuals NC'!N108+'11.individulas FC'!N108 -> 245508.2 | O108: =('7.individuals NC'!N108*'7.individuals NC'!O108+'11.individulas FC'!N108*'11.individulas FC'!O108)/('7.individuals NC'!N108+'11.individulas FC'!N108) -> 9.1848716 | P108: ='7.individuals NC'!P108+'11.individulas FC'!P108 -> 277736 | Q108: =('7.individuals NC'!P108*'7.individuals NC'!Q108+'11.individulas FC'!P108*'11.individulas FC'!Q108)/('7.individuals NC'!P108+'11.individulas FC'!P108) -> 9.4347766 | R108: ='7.individuals NC'!R108+'11.individulas FC'!R108 -> 147022.2 | S108: =('7.individuals NC'!R108*'7.individuals NC'!S108+'11.individulas FC'!R108*'11.individulas FC'!S108)/('7.individuals NC'!R108+'11.individulas FC'!R108) -> 12.679168
A109: May | B109: ='7.individuals NC'!B109+'11.individulas FC'!B109 -> 1789377.8 | C109: =('7.individuals NC'!B109*'7.individuals NC'!C109+'11.individulas FC'!B109*'11.individulas FC'!C109)/('7.individuals NC'!B109+'11.individulas FC'!B109) -> 5.3553517 | F109: ='7.individuals NC'!F109+'11.individulas FC'!F109 -> 835366.8 | G109: =('7.individuals NC'!F109*'7.individuals NC'!G109+'11.individulas FC'!F109*'11.individulas FC'!G109)/('7.individuals NC'!F109+'11.individulas FC'!F109) -> 0.64795064 | H109: =J109+L109+N109+P109+R109+T109 -> 954011 | I109: =(J109*K109+L109*M109+N109*O109+P109*Q109+R109*S109+T109*U109)/(J109+L109+N109+P109+R109+T109) -> 9.4773237 | J109: ='7.individuals NC'!J109+'11.individulas FC'!J109 -> 117514.6 | K109: =('7.individuals NC'!J109*'7.individuals NC'!K109+'11.individulas FC'!J109*'11.individulas FC'!K109)/('7.individuals NC'!J109+'11.individulas FC'!J109) -> 7.7363234 | L109: ='7.individuals NC'!L109+'11.individulas FC'!L109 -> 188220.8 | M109: =('7.individuals NC'!L109*'7.individuals NC'!M109+'11.individulas FC'!L109*'11.individulas FC'!M109)/('7.individuals NC'!L109+'11.individulas FC'!L109) -> 8.1576969 | N109: ='7.individuals NC'!N109+'11.individulas FC'!N109 -> 231119.5 | O109: =('7.individuals NC'!N109*'7.individuals NC'!O109+'11.individulas FC'!N109*'11.individulas FC'!O109)/('7.individuals NC'!N109+'11.individulas FC'!N109) -> 9.0235598 | P109: ='7.individuals NC'!P109+'11.individulas FC'!P109 -> 277807 | Q109: =('7.individuals NC'!P109*'7.individuals NC'!Q109+'11.individulas FC'!P109*'11.individulas FC'!Q109)/('7.individuals NC'!P109+'11.individulas FC'!P109) -> 9.8417191 | R109: ='7.individuals NC'!R109+'11.individulas FC'!R109 -> 139349.1 | S109: =('7.individuals NC'!R109*'7.individuals NC'!S109+'11.individulas FC'!R109*'11.individulas FC'!S109)/('7.individuals NC'!R109+'11.individulas FC'!R109) -> 12.754103
A110: June | B110: ='7.individuals NC'!B110+'11.individulas FC'!B110 -> 1801283.5 | C110: =('7.individuals NC'!B110*'7.individuals NC'!C110+'11.individulas FC'!B110*'11.individulas FC'!C110)/('7.individuals NC'!B110+'11.individulas FC'!B110) -> 5.396731 | F110: ='7.individuals NC'!F110+'11.individulas FC'!F110 -> 821399.3 | G110: =('7.individuals NC'!F110*'7.individuals NC'!G110+'11.individulas FC'!F110*'11.individulas FC'!G110)/('7.individuals NC'!F110+'11.individulas FC'!F110) -> 0.66070697 | H110: =J110+L110+N110+P110+R110+T110 -> 979884.2 | I110: =(J110*K110+L110*M110+N110*O110+P110*Q110+R110*S110+T110*U110)/(J110+L110+N110+P110+R110+T110) -> 9.3667581 | J110: ='7.individuals NC'!J110+'11.individulas FC'!J110 -> 114652.1 | K110: =('7.individuals NC'!J110*'7.individuals NC'!K110+'11.individulas FC'!J110*'11.individulas FC'!K110)/('7.individuals NC'!J110+'11.individulas FC'!J110) -> 7.6598989 | L110: ='7.individuals NC'!L110+'11.individulas FC'!L110 -> 208560.3 | M110: =('7.individuals NC'!L110*'7.individuals NC'!M110+'11.individulas FC'!L110*'11.individulas FC'!M110)/('7.individuals NC'!L110+'11.individulas FC'!L110) -> 8.0032552 | N110: ='7.individuals NC'!N110+'11.individulas FC'!N110 -> 226834 | O110: =('7.individuals NC'!N110*'7.individuals NC'!O110+'11.individulas FC'!N110*'11.individulas FC'!O110)/('7.individuals NC'!N110+'11.individulas FC'!N110) -> 8.7411317 | P110: ='7.individuals NC'!P110+'11.individulas FC'!P110 -> 293741.1 | Q110: =('7.individuals NC'!P110*'7.individuals NC'!Q110+'11.individulas FC'!P110*'11.individulas FC'!Q110)/('7.individuals NC'!P110+'11.individulas FC'!P110) -> 9.9232462 | R110: ='7.individuals NC'!R110+'11.individulas FC'!R110 -> 136096.7 | S110: =('7.individuals NC'!R110*'7.individuals NC'!S110+'11.individulas FC'!R110*'11.individulas FC'!S110)/('7.individuals NC'!R110+'11.individulas FC'!R110) -> 12.735815
A111: July | B111: ='7.individuals NC'!B111+'11.individulas FC'!B111 -> 1862019.2 | C111: =('7.individuals NC'!B111*'7.individuals NC'!C111+'11.individulas FC'!B111*'11.individulas FC'!C111)/('7.individuals NC'!B111+'11.individulas FC'!B111) -> 5.6421983 | F111: ='7.individuals NC'!F111+'11.individulas FC'!F111 -> 848863 | G111: =('7.individuals NC'!F111*'7.individuals NC'!G111+'11.individulas FC'!F111*'11.individulas FC'!G111)/('7.individuals NC'!F111+'11.individulas FC'!F111) -> 1.3205183 | H111: =J111+L111+N111+P111+R111+T111 -> 1013156.2 | I111: =(J111*K111+L111*M111+N111*O111+P111*Q111+R111*S111+T111*U111)/(J111+L111+N111+P111+R111+T111) -> 9.2630756 | J111: ='7.individuals NC'!J111+'11.individulas FC'!J111 -> 126600.9 | K111: =('7.individuals NC'!J111*'7.individuals NC'!K111+'11.individulas FC'!J111*'11.individulas FC'!K111)/('7.individuals NC'!J111+'11.individulas FC'!J111) -> 7.5465353 | L111: ='7.individuals NC'!L111+'11.individulas FC'!L111 -> 227894.7 | M111: =('7.individuals NC'!L111*'7.individuals NC'!M111+'11.individulas FC'!L111*'11.individulas FC'!M111)/('7.individuals NC'!L111+'11.individulas FC'!L111) -> 7.9827156 | N111: ='7.individuals NC'!N111+'11.individulas FC'!N111 -> 221851.2 | O111: =('7.individuals NC'!N111*'7.individuals NC'!O111+'11.individulas FC'!N111*'11.individulas FC'!O111)/('7.individuals NC'!N111+'11.individulas FC'!N111) -> 8.5619676 | P111: ='7.individuals NC'!P111+'11.individulas FC'!P111 -> 301038.1 | Q111: =('7.individuals NC'!P111*'7.individuals NC'!Q111+'11.individulas FC'!P111*'11.individulas FC'!Q111)/('7.individuals NC'!P111+'11.individulas FC'!P111) -> 10.085163 | R111: ='7.individuals NC'!R111+'11.individulas FC'!R111 -> 135770.5 | S111: =('7.individuals NC'!R111*'7.individuals NC'!S111+'11.individulas FC'!R111*'11.individulas FC'!S111)/('7.individuals NC'!R111+'11.individulas FC'!R111) -> 12.335632 | T111: ='7.individuals NC'!T111+'11.individulas FC'!T111 -> 0.8 | U111: =('7.individuals NC'!T111*'7.individuals NC'!U111+'11.individulas FC'!T111*'11.individulas FC'!U111)/('7.individuals NC'!T111+'11.individulas FC'!T111) -> 12
A112: August | B112: ='7.individuals NC'!B112+'11.individulas FC'!B112 -> 1918361.7 | C112: =('7.individuals NC'!B112*'7.individuals NC'!C112+'11.individulas FC'!B112*'11.individulas FC'!C112)/('7.individuals NC'!B112+'11.individulas FC'!B112) -> 5.6049163 | F112: ='7.individuals NC'!F112+'11.individulas FC'!F112 -> 884526.3 | G112: =('7.individuals NC'!F112*'7.individuals NC'!G112+'11.individulas FC'!F112*'11.individulas FC'!G112)/('7.individuals NC'!F112+'11.individulas FC'!F112) -> 1.2810669 | H112: =J112+L112+N112+P112+R112+T112 -> 1033835.4 | I112: =(J112*K112+L112*M112+N112*O112+P112*Q112+R112*S112+T112*U112)/(J112+L112+N112+P112+R112+T112) -> 9.3043045 | J112: ='7.individuals NC'!J112+'11.individulas FC'!J112 -> 148662 | K112: =('7.individuals NC'!J112*'7.individuals NC'!K112+'11.individulas FC'!J112*'11.individulas FC'!K112)/('7.individuals NC'!J112+'11.individulas FC'!J112) -> 7.6257947 | L112: ='7.individuals NC'!L112+'11.individulas FC'!L112 -> 235550 | M112: =('7.individuals NC'!L112*'7.individuals NC'!M112+'11.individulas FC'!L112*'11.individulas FC'!M112)/('7.individuals NC'!L112+'11.individulas FC'!L112) -> 7.5788518 | N112: ='7.individuals NC'!N112+'11.individulas FC'!N112 -> 216761.4 | O112: =('7.individuals NC'!N112*'7.individuals NC'!O112+'11.individulas FC'!N112*'11.individulas FC'!O112)/('7.individuals NC'!N112+'11.individulas FC'!N112) -> 8.7981731 | P112: ='7.individuals NC'!P112+'11.individulas FC'!P112 -> 299434.1 | Q112: =('7.individuals NC'!P112*'7.individuals NC'!Q112+'11.individulas FC'!P112*'11.individulas FC'!Q112)/('7.individuals NC'!P112+'11.individulas FC'!P112) -> 10.459797 | R112: ='7.individuals NC'!R112+'11.individulas FC'!R112 -> 133427.1 | S112: =('7.individuals NC'!R112*'7.individuals NC'!S112+'11.individulas FC'!R112*'11.individulas FC'!S112)/('7.individuals NC'!R112+'11.individulas FC'!R112) -> 12.449653 | T112: ='7.individuals NC'!T112+'11.individulas FC'!T112 -> 0.8 | U112: =('7.individuals NC'!T112*'7.individuals NC'!U112+'11.individulas FC'!T112*'11.individulas FC'!U112)/('7.individuals NC'!T112+'11.individulas FC'!T112) -> 12
A113: September | B113: ='7.individuals NC'!B113+'11.individulas FC'!B113 -> 1909893.9 | C113: =('7.individuals NC'!B113*'7.individuals NC'!C113+'11.individulas FC'!B113*'11.individulas FC'!C113)/('7.individuals NC'!B113+'11.individulas FC'!B113) -> 5.6862996 | F113: ='7.individuals NC'!F113+'11.individulas FC'!F113 -> 844142.9 | G113: =('7.individuals NC'!F113*'7.individuals NC'!G113+'11.individulas FC'!F113*'11.individulas FC'!G113)/('7.individuals NC'!F113+'11.individulas FC'!F113) -> 1.2110206 | H113: =J113+L113+N113+P113+R113+T113 -> 1065751 | I113: =(J113*K113+L113*M113+N113*O113+P113*Q113+R113*S113+T113*U113)/(J113+L113+N113+P113+R113+T113) -> 9.2310065 | J113: ='7.individuals NC'!J113+'11.individulas FC'!J113 -> 164158.7 | K113: =('7.individuals NC'!J113*'7.individuals NC'!K113+'11.individulas FC'!J113*'11.individulas FC'!K113)/('7.individuals NC'!J113+'11.individulas FC'!J113) -> 7.70029 | L113: ='7.individuals NC'!L113+'11.individulas FC'!L113 -> 189920 | M113: =('7.individuals NC'!L113*'7.individuals NC'!M113+'11.individulas FC'!L113*'11.individulas FC'!M113)/('7.individuals NC'!L113+'11.individulas FC'!L113) -> 7.3474863 | N113: ='7.individuals NC'!N113+'11.individulas FC'!N113 -> 253748.8 | O113: =('7.individuals NC'!N113*'7.individuals NC'!O113+'11.individulas FC'!N113*'11.individulas FC'!O113)/('7.individuals NC'!N113+'11.individulas FC'!N113) -> 8.7673322 | P113: ='7.individuals NC'!P113+'11.individulas FC'!P113 -> 322690.3 | Q113: =('7.individuals NC'!P113*'7.individuals NC'!Q113+'11.individulas FC'!P113*'11.individulas FC'!Q113)/('7.individuals NC'!P113+'11.individulas FC'!P113) -> 10.138686 | R113: ='7.individuals NC'!R113+'11.individulas FC'!R113 -> 135232.1 | S113: =('7.individuals NC'!R113*'7.individuals NC'!S113+'11.individulas FC'!R113*'11.individulas FC'!S113)/('7.individuals NC'!R113+'11.individulas FC'!R113) -> 12.438476 | T113: ='7.individuals NC'!T113+'11.individulas FC'!T113 -> 1.1 | U113: =('7.individuals NC'!T113*'7.individuals NC'!U113+'11.individulas FC'!T113*'11.individulas FC'!U113)/('7.individuals NC'!T113+'11.individulas FC'!T113) -> 12
A114: October | B114: ='7.individuals NC'!B114+'11.individulas FC'!B114 -> 1994713.6 | C114: =('7.individuals NC'!B114*'7.individuals NC'!C114+'11.individulas FC'!B114*'11.individulas FC'!C114)/('7.individuals NC'!B114+'11.individulas FC'!B114) -> 5.5215689 | F114: ='7.individuals NC'!F114+'11.individulas FC'!F114 -> 899264.5 | G114: =('7.individuals NC'!F114*'7.individuals NC'!G114+'11.individulas FC'!F114*'11.individulas FC'!G114)/('7.individuals NC'!F114+'11.individulas FC'!F114) -> 1.2061881 | H114: =J114+L114+N114+P114+R114+T114 -> 1095449.1 | I114: =(J114*K114+L114*M114+N114*O114+P114*Q114+R114*S114+T114*U114)/(J114+L114+N114+P114+R114+T114) -> 9.0641058 | J114: ='7.individuals NC'!J114+'11.individulas FC'!J114 -> 143096 | K114: =('7.individuals NC'!J114*'7.individuals NC'!K114+'11.individulas FC'!J114*'11.individulas FC'!K114)/('7.individuals NC'!J114+'11.individulas FC'!J114) -> 6.9093406 | L114: ='7.individuals NC'!L114+'11.individulas FC'!L114 -> 223603 | M114: =('7.individuals NC'!L114*'7.individuals NC'!M114+'11.individulas FC'!L114*'11.individulas FC'!M114)/('7.individuals NC'!L114+'11.individulas FC'!L114) -> 7.1809074 | N114: ='7.individuals NC'!N114+'11.individulas FC'!N114 -> 272114.8 | O114: =('7.individuals NC'!N114*'7.individuals NC'!O114+'11.individulas FC'!N114*'11.individulas FC'!O114)/('7.individuals NC'!N114+'11.individulas FC'!N114) -> 8.667895 | P114: ='7.individuals NC'!P114+'11.individulas FC'!P114 -> 332781.3 | Q114: =('7.individuals NC'!P114*'7.individuals NC'!Q114+'11.individulas FC'!P114*'11.individulas FC'!Q114)/('7.individuals NC'!P114+'11.individulas FC'!P114) -> 10.315522 | R114: ='7.individuals NC'!R114+'11.individulas FC'!R114 -> 123852.4 | S114: =('7.individuals NC'!R114*'7.individuals NC'!S114+'11.individulas FC'!R114*'11.individulas FC'!S114)/('7.individuals NC'!R114+'11.individulas FC'!R114) -> 12.461611 | T114: ='7.individuals NC'!T114+'11.individulas FC'!T114 -> 1.6 | U114: =('7.individuals NC'!T114*'7.individuals NC'!U114+'11.individulas FC'!T114*'11.individulas FC'!U114)/('7.individuals NC'!T114+'11.individulas FC'!T114) -> 12
A115: November | B115: ='7.individuals NC'!B115+'11.individulas FC'!B115 -> 2046309.5 | C115: =('7.individuals NC'!B115*'7.individuals NC'!C115+'11.individulas FC'!B115*'11.individulas FC'!C115)/('7.individuals NC'!B115+'11.individulas FC'!B115) -> 5.4791071 | F115: ='7.individuals NC'!F115+'11.individulas FC'!F115 -> 917985.9 | G115: =('7.individuals NC'!F115*'7.individuals NC'!G115+'11.individulas FC'!F115*'11.individulas FC'!G115)/('7.individuals NC'!F115+'11.individulas FC'!F115) -> 1.2033332 | H115: =J115+L115+N115+P115+R115+T115 -> 1128323.6 | I115: =(J115*K115+L115*M115+N115*O115+P115*Q115+R115*S115+T115*U115)/(J115+L115+N115+P115+R115+T115) -> 8.9578079 | J115: ='7.individuals NC'!J115+'11.individulas FC'!J115 -> 133665.5 | K115: =('7.individuals NC'!J115*'7.individuals NC'!K115+'11.individulas FC'!J115*'11.individulas FC'!K115)/('7.individuals NC'!J115+'11.individulas FC'!J115) -> 6.2873445 | L115: ='7.individuals NC'!L115+'11.individulas FC'!L115 -> 225323.1 | M115: =('7.individuals NC'!L115*'7.individuals NC'!M115+'11.individulas FC'!L115*'11.individulas FC'!M115)/('7.individuals NC'!L115+'11.individulas FC'!L115) -> 7.1136903 | N115: ='7.individuals NC'!N115+'11.individulas FC'!N115 -> 299065.1 | O115: =('7.individuals NC'!N115*'7.individuals NC'!O115+'11.individulas FC'!N115*'11.individulas FC'!O115)/('7.individuals NC'!N115+'11.individulas FC'!N115) -> 8.3817281 | P115: ='7.individuals NC'!P115+'11.individulas FC'!P115 -> 327804.3 | Q115: =('7.individuals NC'!P115*'7.individuals NC'!Q115+'11.individulas FC'!P115*'11.individulas FC'!Q115)/('7.individuals NC'!P115+'11.individulas FC'!P115) -> 10.254873 | R115: ='7.individuals NC'!R115+'11.individulas FC'!R115 -> 142463.7 | S115: =('7.individuals NC'!R115*'7.individuals NC'!S115+'11.individulas FC'!R115*'11.individulas FC'!S115)/('7.individuals NC'!R115+'11.individulas FC'!R115) -> 12.604823 | T115: ='7.individuals NC'!T115+'11.individulas FC'!T115 -> 1.9 | U115: =('7.individuals NC'!T115*'7.individuals NC'!U115+'11.individulas FC'!T115*'11.individulas FC'!U115)/('7.individuals NC'!T115+'11.individulas FC'!T115) -> 12
A116: December | B116: ='7.individuals NC'!B116+'11.individulas FC'!B116 -> 2081019.4 | C116: =('7.individuals NC'!B116*'7.individuals NC'!C116+'11.individulas FC'!B116*'11.individulas FC'!C116)/('7.individuals NC'!B116+'11.individulas FC'!B116) -> 5.5278946 | F116: ='7.individuals NC'!F116+'11.individulas FC'!F116 -> 918550.8 | G116: =('7.individuals NC'!F116*'7.individuals NC'!G116+'11.individulas FC'!F116*'11.individulas FC'!G116)/('7.individuals NC'!F116+'11.individulas FC'!F116) -> 1.0199742 | H116: =J116+L116+N116+P116+R116+T116 -> 1162468.6 | I116: =(J116*K116+L116*M116+N116*O116+P116*Q116+R116*S116+T116*U116)/(J116+L116+N116+P116+R116+T116) -> 9.0899296 | J116: ='7.individuals NC'!J116+'11.individulas FC'!J116 -> 150507.3 | K116: =('7.individuals NC'!J116*'7.individuals NC'!K116+'11.individulas FC'!J116*'11.individulas FC'!K116)/('7.individuals NC'!J116+'11.individulas FC'!J116) -> 6.6829793 | L116: ='7.individuals NC'!L116+'11.individulas FC'!L116 -> 223036.4 | M116: =('7.individuals NC'!L116*'7.individuals NC'!M116+'11.individulas FC'!L116*'11.individulas FC'!M116)/('7.individuals NC'!L116+'11.individulas FC'!L116) -> 7.5323361 | N116: ='7.individuals NC'!N116+'11.individulas FC'!N116 -> 310287.6 | O116: =('7.individuals NC'!N116*'7.individuals NC'!O116+'11.individulas FC'!N116*'11.individulas FC'!O116)/('7.individuals NC'!N116+'11.individulas FC'!N116) -> 8.5307084 | P116: ='7.individuals NC'!P116+'11.individulas FC'!P116 -> 349782.5 | Q116: =('7.individuals NC'!P116*'7.individuals NC'!Q116+'11.individulas FC'!P116*'11.individulas FC'!Q116)/('7.individuals NC'!P116+'11.individulas FC'!P116) -> 10.300857 | R116: ='7.individuals NC'!R116+'11.individulas FC'!R116 -> 128848.4 | S116: =('7.individuals NC'!R116*'7.individuals NC'!S116+'11.individulas FC'!R116*'11.individulas FC'!S116)/('7.individuals NC'!R116+'11.individulas FC'!R116) -> 12.657002 | T116: ='7.individuals NC'!T116+'11.individulas FC'!T116 -> 6.4 | U116: =('7.individuals NC'!T116*'7.individuals NC'!U116+'11.individulas FC'!T116*'11.individulas FC'!U116)/('7.individuals NC'!T116+'11.individulas FC'!T116) -> 10.6875
