Workbook

Sheet 1. общая
A2: 1-таблица. Коммерциялык банктардын кредиттери жана кредиттеринин орточо салмактанып алынган пайыздык чендери (бир мезгилдин акырына карата) | B2: Таблица 1. Общий объем и средневзвешенные процентные ставки кредитов действующих коммерческих банков (на конец периода) | C2: Table 1. Total volume and average weighted interest rates of credits in acting commercial banks (the end of period)
A4: (миң сом / пайыздар) | B4: (тыс. сомов / проценты) | C4: (ths of soms / percent)
A5: Мезгил аралыгы | B5: Период | C5: Period | D5: Жалпы улуттук валютада жана чет өлкө валютасында | F5: Жалпы улуттук валютада | H5: Жалпы чет өлкө валютасында
D6: Итого в нац. и ин. валюте | F6: Итого в нац. валюте | H6: Итого в ин. валюте
D7: Total in National and Foreign currencies | F7: Total in National currency | H7: Total in Foreign currency
D8: көлөм | E8: орточо салмактанып алынган чендер | F8: көлөм | G8: орточо салмактанып алынган чендер | H8: көлөм | I8: орточо салмактанып алынган чендер
D9: объем | E9: средневзв. ставка | F9: объем | G9: средневзв. ставка | H9: объем | I9: средневзв. ставка
D10: volume | E10: average weighted interest rate | F10: volume | G10: average weighted interest rate | H10: volume | I10: average weighted interest rate
A11: Үчтүн айы 1996 ж. | B11: Январь 1996 г. | C11: January 1996 | D11: ='2. отрасли_общ'!D11 -> 1047254.1 | E11: ='2. отрасли_общ'!E11 -> 25.649741 | F11: ='3. отрасли_нац вал'!D11 -> 999070.9 | G11: ='3. отрасли_нац вал'!E11 -> 24.826394 | H11: ='4. отрасли_ин вал'!D11 -> 48183.2 | I11: ='4. отрасли_ин вал'!E11 -> 42.721718
A12: Бирдин айы | B12: Февраль | C12: February | D12: ='2. отрасли_общ'!D12 -> 1047687.4 | E12: ='2. отрасли_общ'!E12 -> 26.379245 | F12: ='3. отрасли_нац вал'!D12 -> 1002789.2 | G12: ='3. отрасли_нац вал'!E12 -> 25.873153 | H12: ='4. отрасли_ин вал'!D12 -> 44898.2 | I12: ='4. отрасли_ин вал'!E12 -> 37.682677
A13: Жалган куран | B13: Март | C13: March | D13: ='2. отрасли_общ'!D13 -> 1081388.7 | E13: ='2. отрасли_общ'!E13 -> 25.007032 | F13: ='3. отрасли_нац вал'!D13 -> 1016175.2 | G13: ='3. отрасли_нац вал'!E13 -> 23.993652 | H13: ='4. отрасли_ин вал'!D13 -> 65213.5 | I13: ='4. отрасли_ин вал'!E13 -> 40.797804
A14: Чын куран | B14: Апрель | C14: April | D14: ='2. отрасли_общ'!D14 -> 1071987.6 | E14: ='2. отрасли_общ'!E14 -> 24.319222 | F14: ='3. отрасли_нац вал'!D14 -> 999145 | G14: ='3. отрасли_нац вал'!E14 -> 22.940864 | H14: ='4. отрасли_ин вал'!D14 -> 72842.6 | I14: ='4. отрасли_ин вал'!E14 -> 43.225455
A15: Бугу | B15: Май | C15: May | D15: ='2. отрасли_общ'!D15 -> 356693.1 | E15: ='2. отрасли_общ'!E15 -> 48.365826 | F15: ='3. отрасли_нац вал'!D15 -> 279508.8 | G15: ='3. отрасли_нац вал'!E15 -> 48.463354 | H15: ='4. отрасли_ин вал'!D15 -> 77184.3 | I15: ='4. отрасли_ин вал'!E15 -> 48.012647
A16: Кулжа | B16: Июнь | C16: June | D16: ='2. отрасли_общ'!D16 -> 377086.7 | E16: ='2. отрасли_общ'!E16 -> 46.530249 | F16: ='3. отрасли_нац вал'!D16 -> 293075.5 | G16: ='3. отрасли_нац вал'!E16 -> 45.65946 | H16: ='4. отрасли_ин вал'!D16 -> 84011.2 | I16: ='4. отрасли_ин вал'!E16 -> 49.568022
A17: Теке | B17: Июль | C17: July | D17: ='2. отрасли_общ'!D17 -> 371196.1 | E17: ='2. отрасли_общ'!E17 -> 44.74083 | F17: ='3. отрасли_нац вал'!D17 -> 284640.9 | G17: ='3. отрасли_нац вал'!E17 -> 43.644115 | H17: ='4. отрасли_ин вал'!D17 -> 86555.2 | I17: ='4. отрасли_ин вал'!E17 -> 48.34743
A18: Баш оона | B18: Август | C18: August | D18: ='2. отрасли_общ'!D18 -> 376601.8 | E18: ='2. отрасли_общ'!E18 -> 41.755058 | F18: ='3. отрасли_нац вал'!D18 -> 291447.9 | G18: ='3. отрасли_нац вал'!E18 -> 40.715674 | H18: ='4. отрасли_ин вал'!D18 -> 85153.9 | I18: ='4. отрасли_ин вал'!E18 -> 45.312454
A19: Аяк оона | B19: Сентябрь | C19: September | D19: ='2. отрасли_общ'!D19 -> 382869.9 | E19: ='2. отрасли_общ'!E19 -> 42.786926 | F19: ='3. отрасли_нац вал'!D19 -> 272579.9 | G19: ='3. отрасли_нац вал'!E19 -> 39.777876 | H19: ='4. отрасли_ин вал'!D19 -> 110290 | I19: ='4. отрасли_ин вал'!E19 -> 50.223743
A20: Тогуздун айы | B20: Октябрь | C20: October | D20: ='2. отрасли_общ'!D20 -> 393717.5 | E20: ='2. отрасли_общ'!E20 -> 45.42866 | F20: ='3. отрасли_нац вал'!D20 -> 254283 | G20: ='3. отрасли_нац вал'!E20 -> 40.097206 | H20: ='4. отрасли_ин вал'!D20 -> 139434.5 | I20: ='4. отрасли_ин вал'!E20 -> 55.15149
A21: Жетинин айы | B21: Ноябрь | C21: November | D21: ='2. отрасли_общ'!D21 -> 379745.2 | E21: ='2. отрасли_общ'!E21 -> 45.160148 | F21: ='3. отрасли_нац вал'!D21 -> 235043.5 | G21: ='3. отрасли_нац вал'!E21 -> 38.054927 | H21: ='4. отрасли_ин вал'!D21 -> 144701.7 | I21: ='4. отрасли_ин вал'!E21 -> 56.70138
A22: Бештин айы | B22: Декабрь | C22: December | D22: ='2. отрасли_общ'!D22 -> 407186.7 | E22: ='2. отрасли_общ'!E22 -> 50.624176 | F22: ='3. отрасли_нац вал'!D22 -> 250134.4 | G22: ='3. отрасли_нац вал'!E22 -> 46.854354 | H22: ='4. отрасли_ин вал'!D22 -> 157052.3 | I22: ='4. отрасли_ин вал'!E22 -> 56.628306
... A382: Бештин айы | B382: Декабрь | C382: December | D382: ='2. отрасли_общ'!D382 -> 0 | E382: ='2. отрасли_общ'!E382 -> 0 | F382: ='3. отрасли_нац вал'!D382 -> 0 | G382: ='3. отрасли_нац вал'!E382 -> 0 | H382: ='4. отрасли_ин вал'!D382 -> 0 | I382: ='4. отрасли_ин вал'!E382 -> 0
A383: * алдын ала маалыматтар | B383: * предварительные данные | C383: *preliminary data

Sheet 2. отрасли_общ
A2: 2-таблица. Тармактар боюнча кредиттер жана кредиттердин орточо салмактанып алынган пайыздык чендери (бир мезгилдин акырына карата) | B2: Таблица 2. Общий объем и средневзвешенные процентные ставки кредитов в разрезе отраслей (на конец периода) | C2: Table 2. Total volume and average weighted interest rates of credits by sectors (the end of period)
A4: (миң сом / пайыздар) | B4: (тыс. сомов / проценты) | C4: (ths of soms / percent)
A5: Мезгил аралыгы | B5: Период | C5: Period | D5: Жалпы улуттук валютада жана чет өлкө валютасында | F5: Өнөр жайы | H5: Айыл чарбасы | J5: Транспорт | L5: Байланыш | N5: Cоода | P5: Даярдоо жана кайра иштетүү ишканалары | R5: Курулуш | T5: Ипотека | V5: Керектөө кредиттери | X5: Социалдык кызмат көрсөтүүлөр | Z5: Жана башкалаp
D6: Итого в нац. и ин. валюте | F6: Промышленность | H6: Сельское хоз-во | J6: Транспорт | L6: Связь | N6: Торговля и коммерческие операции | P6: Заготовка и переработка | R6: Строительство | T6: Ипотека | V6: Потребительские кредиты | X6: Социальные услуги | Z6: Прочие
D7: Total in National and Foreign currencies | F7: Industry | H7: Agriculture | J7: Transport | L7: Communication | N7: Trade | P7: Procurement and processing | R7: Construction | T7: Mortgage | V7: Consumer loans | X7: Social services | Z7: Others
D8: көлөм | E8: орточо салмактанып алынган чендер | F8: көлөм | G8: орточо салмактанып алынган чендер | H8: көлөм | I8: орточо салмактанып алынган чендер | J8: көлөм | K8: орточо салмактанып алынган чендер | L8: көлөм | M8: орточо салмактанып алынган чендер | N8: көлөм | O8: орточо салмактанып алынган чендер | P8: көлөм | Q8: орточо салмактанып алынган чендер | R8: көлөм | S8: орточо салмактанып алынган чендер | T8: көлөм | U8: орточо салмактанып алынган чендер | V8: көлөм | W8: орточо салмактанып алынган чендер | X8: көлөм | Y8: орточо салмактанып алынган чендер | Z8: көлөм | AA8: орточо салмактанып алынган чендер
D9: объем | E9: средневзв. ставка | F9: объем | G9: средневзв. ставка | H9: объем | I9: средневзв. ставка | J9: объем | K9: средневзв. ставка | L9: объем | M9: средневзв. ставка | N9: объем | O9: средневзв. ставка | P9: объем | Q9: средневзв. ставка | R9: объем | S9: средневзв. ставка | T9: объем | U9: средневзв. ставка | V9: объем | W9: средневзв. ставка | X9: объем | Y9: средневзв. ставка | Z9: объем | AA9: средневзв. ставка
D10: volume | E10: average weighted interest rate | F10: volume | G10: average weighted interest rate | H10: volume | I10: average weighted interest rate | J10: volume | K10: average weighted interest rate | L10: volume | M10: average weighted interest rate | N10: volume | O10: average weighted interest rate | P10: volume | Q10: average weighted interest rate | R10: volume | S10: average weighted interest rate | T10: volume | U10: average weighted interest rate | V10: volume | W10: average weighted interest rate | X10: volume | Y10: average weighted interest rate | Z10: volume | AA10: average weighted interest rate
A11: Үчтүн айы 1996 ж. | B11: Январь 1996 г. | C11: January 1996 | D11: 1047254.1 | E11: 25.649741 | F11: 138787.6 | G11: 16.254945 | H11: 188595.9 | I11: 17.225242 | J11: 8092 | K11: 60.773109 | L11: 13 | M11: 31 | N11: 183788.3 | O11: 28.722859 | P11: 185428 | Q11: 19.587265 | R11: 21426.3 | S11: 66.403266 | V11: 25359.3 | W11: 58.403355 | Z11: 295763.7 | AA11: 30.599515
A12: Бирдин айы | B12: Февраль | C12: February | D12: 1047687.4 | E12: 26.379245 | F12: 143696.6 | G12: 17.219793 | H12: 200534.8 | I12: 19.778383 | J12: 6375 | K12: 62.36 | L12: 703 | M12: 12.3 | N12: 185951.4 | O12: 32.121892 | P12: 181673.2 | Q12: 20.718446 | R12: 21542.7 | S12: 65.441217 | V12: 27836.2 | W12: 54.210406 | Z12: 279374.5 | AA12: 29.116623
A13: Жалган куран | B13: Март | C13: March | D13: 1081388.7 | E13: 25.007032 | F13: 153639 | G13: 19.465121 | H13: 226918.4 | I13: 15.863876 | J13: 4843 | K13: 58.077431 | L13: 708 | M13: 12.725989 | N13: 188519.4 | O13: 31.231804 | P13: 171785.6 | Q13: 17.261607 | R13: 22660.1 | S13: 61.772556 | V13: 33320.2 | W13: 57.308235 | Z13: 278995 | AA13: 28.671643
A14: Чын куран | B14: Апрель | C14: April | D14: 1071987.6 | E14: 24.319222 | F14: 146396 | G14: 17.462211 | H14: 225478.4 | I14: 13.523039 | J14: 2560 | K14: 60.2625 | L14: 718 | M14: 12.5 | N14: 195786.9 | O14: 31.635201 | P14: 167932.7 | Q14: 16.608578 | R14: 25863.4 | S14: 56.486962 | V14: 33352.9 | W14: 59.442672 | Z14: 273899.3 | AA14: 28.750327
A15: Бугу | B15: Май | C15: May | D15: 356693.1 | E15: 48.365826 | F15: 45857.5 | G15: 42.30465 | H15: 15434.7 | I15: 56.494114 | J15: 4045 | K15: 56.720643 | L15: 1378 | M15: 12.5 | N15: 96693.7 | O15: 51.03505 | P15: 2258.3 | Q15: 69.663021 | R15: 14705 | S15: 36.028435 | V15: 38531.1 | W15: 61.44057 | Z15: 137789.8 | AA15: 45.024252
A16: Кулжа | B16: Июнь | C16: June | D16: 377086.7 | E16: 46.530249 | F16: 44527.1 | G16: 41.761613 | H16: 16455.7 | I16: 23.479153 | J16: 3587 | K16: 64.759409 | L16: 1345 | M16: 12.5 | N16: 106862.3 | O16: 49.619737 | P16: 1678.3 | Q16: 68.265507 | R16: 12455 | S16: 33.491642 | V16: 47228.2 | W16: 59.904352 | Z16: 142948.1 | AA16: 44.684622
A17: Теке | B17: Июль | C17: July | D17: 371196.1 | E17: 44.74083 | F17: 40972 | G17: 40.172036 | H17: 14503.7 | I17: 21.424692 | J17: 3247 | K17: 63.721281 | L17: 16365 | M17: 26.313138 | N17: 83109.5 | O17: 47.457993 | P17: 2258.3 | Q17: 50.22362 | R17: 14377.8 | S17: 34.781104 | V17: 52320.8 | W17: 61.192758 | Z17: 144042 | AA17: 43.418435
A18: Баш оона | B18: Август | C18: August | D18: 376601.8 | E18: 41.755058 | F18: 37429 | G18: 34.205513 | H18: 13402.7 | I18: 25.491473 | J18: 5166 | K18: 33.528455 | L18: 590 | M18: 12.5 | N18: 102554 | O18: 34.648328 | P18: 1558.3 | Q18: 72.014375 | R18: 12924 | S18: 29.955559 | V18: 67906 | W18: 56.265627 | Z18: 135071.8 | AA18: 44.783961
A19: Аяк оона | B19: Сентябрь | C19: September | D19: 382869.9 | E19: 42.786926 | F19: 38113.7 | G19: 33.131727 | H19: 10932.7 | I19: 13.350462 | J19: 4792 | K19: 26.54591 | L19: 644 | M19: 12 | N19: 100624 | O19: 36.125078 | P19: 1004.3 | Q19: 12.30708 | R19: 12345 | S19: 40.690231 | V19: 61746 | W19: 52.417112 | Z19: 152668.2 | AA19: 48.810971
A20: Тогуздун айы | B20: Октябрь | C20: October | D20: 393717.5 | E20: 45.42866 | F20: 36700.8 | G20: 29.823892 | H20: 9013.7 | I20: 14.677291 | J20: 4850 | K20: 19.927835 | L20: 748 | M20: 12.5 | N20: 102127.8 | O20: 37.93549 | P20: 992 | Q20: 11.471774 | R20: 13066 | S20: 44.324231 | V20: 45466.6 | W20: 54.834468 | Z20: 180752.6 | AA20: 53.085132
A21: Жетинин айы | B21: Ноябрь | C21: November | D21: 379745.2 | E21: 45.160148 | F21: 25278.3 | G21: 25.712754 | H21: 8025.7 | I21: 15.39847 | J21: 5262 | K21: 21.238693 | N21: 96993.4 | O21: 36.131627 | P21: 992 | Q21: 11.169355 | R21: 18480 | S21: 40.76974 | V21: 43534.8 | W21: 49.506681 | Z21: 181179 | AA21: 54.30947
A22: Бештин айы | B22: Декабрь | C22: December | D22: 407186.7 | E22: 50.624176 | F22: 21737 | G22: 33.194432 | H22: 6697.2 | I22: 17.511467 | J22: 6134 | K22: 21.467395 | L22: 450 | M22: 45 | N22: 90522.8 | O22: 39.757573 | P22: 934 | Q22: 12.633833 | R22: 16009 | S22: 38.951297 | V22: 76655.3 | W22: 63.777499 | Z22: 188047.4 | AA22: 55.8344
A23: Үчтүн айы 1997 ж. | B23: Январь 1997 г. | C23: January 1997 | D23: 403729.6 | E23: 52.91834 | F23: 26336.6 | G23: 30.827897 | H23: 8223.7 | I23: 28.152559 | J23: 6240 | K23: 25.712019 | L23: 60 | M23: 65 | N23: 99795.6 | O23: 42.055846 | P23: 1704 | Q23: 29.694836 | R23: 19728 | S23: 34.464756 | V23: 79536.7 | W23: 61.214731 | Z23: 162105 | AA23: 63.912961
A24: Бирдин айы | B24: Февраль | C24: February | D24: 420926.9 | E24: 52.446386 | F24: 27479.6 | G24: 29.238753 | H24: 7737.7 | I24: 30.518113 | J24: 7856 | K24: 16.933045 | L24: 60 | M24: 65 | N24: 100833.7 | O24: 42.3394 | P24: 3328 | Q24: 45.252404 | R24: 21067 | S24: 31.063558 | V24: 168992 | W24: 70.703917 | Z24: 83572.9 | AA24: 46.389547
A25: Жалган куран | B25: Март | C25: March | D25: 465718.1 | E25: 53.69589 | F25: 31278 | G25: 28.488757 | H25: 7488.7 | I25: 30.618492 | J25: 7881 | K25: 22.58216 | L25: 4522 | M25: 11.913843 | N25: 103349 | O25: 49.396758 | P25: 1284 | Q25: 22.040498 | R25: 22015 | S25: 30.317412 | V25: 171803 | W25: 68.577355 | Z25: 116097.4 | AA25: 52.303506
A26: Чын куран | B26: Апрель | C26: April | D26: 489356 | E26: 54.828584 | F26: 32777 | G26: 27.726826 | H26: 6933.7 | I26: 32.667032 | J26: 7973 | K26: 22.889502 | L26: 60 | M26: 65 | N26: 107179 | O26: 46.499964 | P26: 1254 | Q26: 22.567783 | R26: 20853 | S26: 26.517185 | V26: 164309.6 | W26: 65.673587 | Z26: 148016.7 | AA26: 61.838356
A27: Бугу | B27: Май | C27: May | D27: 549041.3 | E27: 56.420732 | F27: 35759 | G27: 31.937889 | H27: 7489.7 | I27: 34.786226 | J27: 9550 | K27: 31.985487 | L27: 60 | M27: 65 | N27: 123374 | O27: 46.808826 | P27: 754 | Q27: 1.061008 | R27: 20692 | S27: 30.107453 | V27: 182099.6 | W27: 70.852555 | Z27: 169263 | AA27: 58.869027
A28: Кулжа | B28: Июнь | C28: June | D28: 590085.7 | E28: 54.542461 | F28: 41663.1 | G28: 34.731549 | H28: 7760.7 | I28: 36.26361 | J28: 24431 | K28: 27.204875 | L28: 60 | M28: 65 | N28: 124721.3 | O28: 47.421072 | P28: 749 | Q28: 1.0680908 | R28: 17071.6 | S28: 28.896137 | V28: 174588.7 | W28: 59.769405 | Z28: 199040.3 | AA28: 65.032786
A29: Теке | B29: Июль | C29: July | D29: 662549.5 | E29: 49.244655 | F29: 40765.9 | G29: 30.935773 | H29: 8552.7 | I29: 37.418125 | J29: 22107 | K29: 24.338404 | L29: 60 | M29: 65 | N29: 128850.4 | O29: 47.957882 | P29: 743 | Q29: 0.80753701 | R29: 19151.6 | S29: 28.398943 | V29: 187054.4 | W29: 54.742068 | Z29: 255264.5 | AA29: 53.044195
A30: Баш оона | B30: Август | C30: August | D30: 700302.5 | E30: 49.707098 | F30: 41339.8 | G30: 30.810211 | H30: 9710.7 | I30: 36.856663 | J30: 21450 | K30: 24.329371 | L30: 60 | M30: 65 | N30: 133020.1 | O30: 47.384754 | P30: 740.5 | Q30: 0.81026334 | R30: 18860 | S30: 27.976768 | V30: 161968.8 | W30: 61.133853 | Z30: 313152.6 | AA30: 50.836253
A31: Аяк оона | B31: Сентябрь | C31: September | D31: 737318.7 | E31: 51.497448 | F31: 42639.5 | G31: 30.64321 | H31: 10663.7 | I31: 40.224312 | J31: 17708.8 | K31: 21.548162 | N31: 144695.9 | O31: 46.700456 | P31: 737.5 | Q31: 0.6779661 | R31: 20878.9 | S31: 28.066084 | V31: 126043.3 | W31: 56.796302 | Z31: 373951.1 | AA31: 57.093671
A32: Тогуздун айы | B32: Октябрь | C32: October | D32: 781993.3 | E32: 50.594021 | F32: 41816.3 | G32: 33.699644 | H32: 11023.7 | I32: 41.849923 | J32: 18316 | K32: 23.223073 | N32: 138878.4 | O32: 45.790876 | P32: 733 | Q32: 0 | R32: 13941.6 | S32: 35.2304 | V32: 147177.5 | W32: 54.59577 | Z32: 410106.8 | AA32: 54.577236
A33: Жетинин айы | B33: Ноябрь | C33: November | D33: 845868 | E33: 53.01456 | F33: 46160.1 | G33: 33.737798 | H33: 11647 | I33: 42.2714 | J33: 18801.4 | K33: 25.582504 | N33: 166156 | O33: 45.3524 | P33: 732.5 | Q33: 0 | R33: 14852.6 | S33: 34.206587 | V33: 141232.4 | W33: 54.788583 | Z33: 446286 | AA33: 59.448659
A34: Бештин айы | B34: Декабрь | C34: December | D34: 1000948.6 | E34: 51.906095 | F34: 58787.1 | G34: 35.963219 | H34: 8879 | I34: 50.710102 | J34: 34338.3 | K34: 32.159289 | N34: 160927.9 | O34: 44.68457 | P34: 661.9 | Q34: 0 | R34: 24925.5 | S34: 31.167656 | V34: 201310.1 | W34: 53.60169 | Z34: 511118.8 | AA34: 57.771665
A35: Үчтүн айы 1998 ж. | B35: Январь 1998 г. | C35: January 1998 | D35: 1067591.5 | E35: 49.266486 | F35: 59972 | G35: 36.835733 | H35: 7759 | I35: 52.360485 | J35: 36974.8 | K35: 33.700044 | N35: 170756.8 | O35: 42.733145 | P35: 661.9 | Q35: 0 | R35: 25916.6 | S35: 31.228583 | V35: 187923.1 | W35: 50.154205 | Z35: 577627.3 | AA35: 54.020308
A36: Бирдин айы | B36: Февраль | C36: February | D36: 1166745.1 | E36: 48.041038 | F36: 58221.4 | G36: 36.646413 | H36: 12524 | I36: 44.959677 | J36: 31431.9 | K36: 31.69579 | N36: 202440.9 | O36: 43.358181 | P36: 4635.2 | Q36: 34.288057 | R36: 29010.8 | S36: 34.637218 | V36: 196411.9 | W36: 52.766909 | Z36: 632069 | AA36: 50.711873
A37: Жалган куран | B37: Март | C37: March | D37: 1299595.1 | E37: 46.967972 | F37: 64125.6 | G37: 35.304921 | H37: 12717 | I37: 44.338602 | J37: 21746 | K37: 30.660471 | L37: 1248.1 | M37: 55 | N37: 214002.7 | O37: 40.725502 | P37: 4723.2 | Q37: 34.394478 | R37: 36766.1 | S37: 32.377435 | V37: 218118 | W37: 51.346845 | Z37: 726148.4 | AA37: 49.863461
A38: Чын куран | B38: Апрель | C38: April | D38: 1445039.4 | E38: 45.040741 | F38: 110083.3 | G38: 40.056505 | H38: 13842.6 | I38: 43.591926 | J38: 24449 | K38: 32.405301 | N38: 614085.2 | O38: 52.131709 | P38: 5469.2 | Q38: 35.561325 | R38: 66165 | S38: 25.941096 | V38: 233328.7 | W38: 45.305909 | Z38: 377616.4 | AA38: 39.153557
A39: Бугу | B39: Май | C39: May | D39: 1577111.7 | E39: 43.330451 | F39: 115835.6 | G39: 40.458091 | H39: 15772 | I39: 43.911299 | J39: 24202 | K39: 29.930642 | L39: 996 | M39: 40 | N39: 674653.4 | O39: 50.571271 | P39: 2748.9 | Q39: 31.168831 | R39: 85872.2 | S39: 25.852936 | V39: 261114 | W39: 45.040589 | Z39: 395917.6 | AA39: 35.383996
A40: Кулжа | B40: Июнь | C40: June | D40: 1525319.1 | E40: 43.042639 | F40: 136288.8 | G40: 41.713116 | H40: 15435.7 | I40: 44.685048 | J40: 21809 | K40: 32.116094 | L40: 957.5 | M40: 40 | N40: 658545 | O40: 50.414514 | P40: 3905.6 | Q40: 37.738632 | R40: 80528.3 | S40: 23.76323 | V40: 260267.7 | W40: 44.871931 | Z40: 347581.5 | AA40: 33.374386
A41: Теке | B41: Июль | C41: July | D41: 1549347 | E41: 43.3617 | F41: 141897.9 | G41: 42.773775 | H41: 16516.8 | I41: 42.191817 | J41: 27140 | K41: 29.388511 | L41: 1948.1 | M41: 40 | N41: 646975 | O41: 50.936238 | P41: 3625 | Q41: 37.572414 | R41: 88294.4 | S41: 25.710451 | V41: 273430.8 | W41: 45.237714 | Z41: 349519 | AA41: 33.790047
A42: Баш оона | B42: Август | C42: August | D42: 1578585.9 | E42: 42.687029 | F42: 135976.6 | G42: 41.432372 | H42: 14943.8 | I42: 51.354508 | J42: 27706.8 | K42: 29.361267 | L42: 3571.4 | M42: 44.443636 | N42: 636746 | O42: 48.90245 | P42: 3725 | Q42: 38.174497 | R42: 89865.3 | S42: 25.607865 | V42: 256551.9 | W42: 46.940555 | Z42: 409499.1 | AA42: 35.13331
A43: Аяк оона | B43: Сентябрь | C43: September | D43: 1675617.6 | E43: 41.700714 | F43: 116179.6 | G43: 38.951033 | H43: 16668 | I43: 50.149574 | J43: 27268.2 | K43: 29.063026 | L43: 2212.1 | M43: 40 | N43: 709702.8 | O43: 46.150731 | P43: 3575 | Q43: 37.258741 | R43: 96603.9 | S43: 25.111639 | V43: 271276 | W43: 47.874634 | Z43: 432132 | AA43: 35.481372
A44: Тогуздун айы | B44: Октябрь | C44: October | D44: 1700853 | E44: 39.747152 | F44: 98298.8 | G44: 34.927187 | H44: 13848 | I44: 54.179499 | J44: 25953.6 | K44: 27.078761 | L44: 684.8 | M44: 40 | N44: 709598.1 | O44: 42.801992 | P44: 3475 | Q44: 36.604317 | R44: 94111.8 | S44: 25.379641 | V44: 269234.8 | W44: 48.311306 | Z44: 485648.1 | AA44: 34.583231
A45: Жетинин айы | B45: Ноябрь | C45: November | D45: 1941824.1 | E45: 39.620691 | F45: 111110.3 | G45: 32.012494 | H45: 14467 | I45: 52.483922 | J45: 30135.4 | K45: 27.850216 | L45: 2037.7 | M45: 40 | N45: 836886.9 | O45: 43.414295 | P45: 3475 | Q45: 59.568345 | R45: 116034.2 | S45: 25.272069 | V45: 287690.2 | W45: 47.424946 | Z45: 539987.4 | AA45: 34.414604
A46: Бештин айы | B46: Декабрь | C46: December | D46: 1715327.2 | E46: 37.152576 | F46: 121806.2 | G46: 30.955505 | H46: 13662.4 | I46: 56.354879 | J46: 31405.4 | K46: 33.979625 | L46: 2056.3 | M46: 40 | N46: 545260.5 | O46: 39.409413 | P46: 3475 | Q46: 59.568345 | R46: 226288.6 | S46: 21.594337 | V46: 263094.6 | W46: 49.753204 | Z46: 508278.2 | AA46: 36.136048
A47: Үчтүн айы 1999 ж. | B47: Январь 1999 г. | C47: January 1999 | D47: 1855101.8 | E47: 40.558997 | F47: 118719.9 | G47: 29.699141 | H47: 12435.4 | I47: 56.240362 | J47: 23786.6 | K47: 21.291727 | L47: 5118.2 | M47: 57.584307 | N47: 853435 | O47: 43.827331 | P47: 3475 | Q47: 59.568345 | R47: 109488.6 | S47: 28.575249 | V47: 255634.5 | W47: 48.444547 | Z47: 473008.6 | AA47: 36.13273
A48: Бирдин айы | B48: Февраль | C48: February | D48: 1843698.2 | E48: 40.062127 | F48: 122193.4 | G48: 30.276312 | H48: 13192 | I48: 56.923689 | J48: 27706.3 | K48: 27.704746 | L48: 3015 | M48: 69.900498 | N48: 841266.1 | O48: 43.060927 | P48: 6215.4 | Q48: 13.51662 | R48: 117404 | S48: 25.590627 | V48: 260899.6 | W48: 47.118376 | Z48: 451806.4 | AA48: 37.242293
A49: Жалган куран | B49: Март | C49: March | D49: 2041698.4 | E49: 37.60962 | F49: 140162.2 | G49: 28.570315 | H49: 17469.3 | I49: 52.43798 | J49: 30467.2 | K49: 22.189532 | L49: 3000 | M49: 70 | N49: 917144 | O49: 41.122382 | P49: 3816 | Q49: 5.947327 | R49: 124307.2 | S49: 27.281317 | V49: 295164.3 | W49: 44.558235 | Z49: 510168.2 | AA49: 32.733928
A50: Чын куран | B50: Апрель | C50: April | D50: 1454911.7 | E50: 34.398673 | F50: 126752.6 | G50: 30.300168 | H50: 17300.8 | I50: 52.519918 | J50: 30879.7 | K50: 31.990589 | L50: 4749 | M50: 62.109918 | N50: 358945 | O50: 26.868594 | P50: 5383 | Q50: 21.584618 | R50: 90105.2 | S50: 32.758454 | V50: 292840.6 | W50: 44.209752 | Z50: 527955.8 | AA50: 34.768621
... A97: Жалган куран | B97: Март | C97: March | D97: 2034409.6 | E97: 24.379382 | F97: 396416.8 | G97: 20.872382 | H97: 65933 | I97: 24.550854 | J97: 33740 | K97: 18.046289 | L97: 28722.5 | M97: 20.735479 | N97: 431428.5 | O97: 24.883453 | P97: 41759.1 | Q97: 29.734549 | R97: 86382.5 | S97: 20.66582 | V97: 298427.8 | W97: 30.509334 | Z97: 651599.4 | AA97: 23.992042
A98: Чын куран | B98: Апрель | C98: April | D98: 2097504.5 | E98: 23.676201 | F98: 475897 | G98: 21.059807 | H98: 56518.6 | I98: 26.558334 | J98: 32976.8 | K98: 18.306534 | L98: 35760.2 | M98: 16.609966 | N98: 752298.3 | O98: 27.075621 | P98: 63860.9 | Q98: 26.798799 | R98: 67074.5 | S98: 24.998457 | T98: 32337.7 | U98: 18.304108 | V98: 96920.8 | W98: 24.693745 | X98: 1314.4 | Y98: 14.271683 | Z98: 482545.3 | AA98: 21.094034
A99: Бугу | B99: Май | C99: May | D99: 2178355.3 | E99: 23.786944 | F99: 444569.8 | G99: 21.360548 | H99: 54870.3 | I99: 26.294624 | J99: 37356.3 | K99: 18.175484 | L99: 37668.5 | M99: 16.708382 | N99: 830695.5 | O99: 26.784317 | P99: 56325.3 | Q99: 25.724888 | R99: 54612.3 | S99: 25.45819 | T99: 36608.3 | U99: 17.508988 | V99: 106500.6 | W99: 25.801834 | X99: 417.3 | Y99: 27.611071 | Z99: 518731.1 | AA99: 21.359251
A100: Кулжа | B100: Июнь | C100: June | D100: 2236829.6 | E100: 23.825506 | F100: 471510 | G100: 21.07718 | H100: 63498 | I100: 25.900078 | J100: 37214.2 | K100: 18.30717 | L100: 40989.8 | M100: 15.923674 | N100: 851698.76 | O100: 27.216464 | P100: 56294.94 | Q100: 26.075503 | R100: 57198.3 | S100: 24.782475 | T100: 45622.77 | U100: 17.740642 | V100: 102250.81 | W100: 25.646672 | X100: 389 | Y100: 27.543625 | Z100: 510163 | AA100: 21.304467
A101: Теке | B101: Июль | C101: July | D101: 2354516.8 | E101: 24.001213 | F101: 501709.7 | G101: 21.047084 | H101: 67830.29 | I101: 25.29907 | J101: 40559.22 | K101: 16.551786 | L101: 59225 | M101: 16.237037 | N101: 865195.17 | O101: 27.573017 | P101: 58606.11 | Q101: 25.9936 | R101: 74214.68 | S101: 22.552505 | T101: 56683.96 | U101: 17.700043 | V101: 129982.5 | W101: 27.909146 | X101: 362 | Y101: 27.470442 | Z101: 500148.2 | AA101: 21.810773
A102: Баш оона | B102: Август | C102: August | D102: 2362603 | E102: 23.833961 | F102: 507815.8 | G102: 20.682116 | H102: 71316.7 | I102: 25.076839 | J102: 39486.9 | K102: 16.710961 | L102: 57575.5 | M102: 17.112694 | N102: 869271.7 | O102: 26.934312 | P102: 59107.6 | Q102: 26.009328 | R102: 76974.4 | S102: 21.291123 | T102: 56417.2 | U102: 17.69792 | V102: 144554.1 | W102: 27.618573 | X102: 379.3 | Y102: 27.043765 | Z102: 479703.8 | AA102: 22.47927
A103: Аяк оона | B103: Сентябрь | C103: September | D103: 2486626.6 | E103: 23.310628 | F103: 516515.5 | G103: 19.801022 | H103: 70884.4 | I103: 26.116306 | J103: 36132.6 | K103: 16.719299 | L103: 51789.3 | M103: 17.169815 | N103: 938146.6 | O103: 26.503619 | P103: 57223 | Q103: 24.191946 | R103: 81226.9 | S103: 22.429518 | T103: 65427.3 | U103: 17.793524 | V103: 172582 | W103: 27.394268 | X103: 21614.8 | Y103: 5.361618 | Z103: 475084.2 | AA103: 21.710684
A104: Тогуздун айы | B104: Октябрь | C104: October | D104: 2624697.8 | E104: 23.157835 | F104: 615027.1 | G104: 19.974393 | H104: 71843.4 | I104: 26.423407 | J104: 34299.7 | K104: 16.676723 | L104: 42810.6 | M104: 17.381457 | N104: 958045.7 | O104: 26.017107 | P104: 75721.8 | Q104: 23.721319 | R104: 83434.6 | S104: 22.652422 | T104: 75275.5 | U104: 18.243281 | V104: 185520.1 | W104: 26.667908 | X104: 264.3 | Y104: 27.060159 | Z104: 482455 | AA104: 21.439118
A105: Жетинин айы | B105: Ноябрь | C105: November | D105: 2842728 | E105: 22.684081 | F105: 691581.3 | G105: 19.671077 | H105: 73874.9 | I105: 26.197937 | J105: 38514.8 | K105: 18.073257 | L105: 46979.5 | M105: 17.20762 | N105: 1046909.2 | O105: 25.562028 | P105: 67968.3 | Q105: 23.788215 | R105: 84974 | S105: 22.014786 | T105: 85103 | U105: 18.623461 | V105: 202150.3 | W105: 26.462676 | X105: 219.5 | Y105: 27 | Z105: 504453.2 | AA105: 20.322464
A106: Бештин айы | B106: Декабрь | C106: December | D106: 2894550.7 | E106: 22.282342 | F106: 628644.9 | G106: 19.41574 | H106: 82408 | I106: 25.641927 | J106: 42871.5 | K106: 17.807565 | L106: 53151.2 | M106: 17.01383 | N106: 1135383.9 | O106: 24.392675 | P106: 68310.2 | Q106: 22.589608 | R106: 81516.5 | S106: 21.31204 | T106: 90778.3 | U106: 18.507866 | V106: 211821.3 | W106: 25.620959 | X106: 275.5 | Y106: 27.593466 | Z106: 499389.4 | AA106: 20.866896
A107: Үчтүн айы 2004 ж. | B107: Январь 2004 г. | C107: January 2004 | D107: 2846298.5 | E107: 22.440435 | F107: 609543.2 | G107: 19.187712 | H107: 74742.9 | I107: 26.384205 | J107: 49921.2 | K107: 17.493128 | L107: 50223 | M107: 17.158675 | N107: 1087129.4 | O107: 25.181235 | P107: 69572.4 | Q107: 23.448722 | R107: 98880.1 | S107: 20.830917 | T107: 90972.6 | U107: 18.247459 | V107: 219060.6 | W107: 25.429124 | X107: 310.1 | Y107: 27.244489 | Z107: 495943 | AA107: 20.488758
A108: Бирдин айы | B108: Февраль | C108: February | D108: 2993206.9 | E108: 22.264057 | F108: 641235.7 | G108: 18.559044 | H108: 77373.8 | I108: 26.615918 | J108: 51499.7 | K108: 17.530549 | L108: 67786.4 | M108: 16.935403 | N108: 1136427.4 | O108: 25.039044 | P108: 72537.2 | Q108: 23.846853 | R108: 113608 | S108: 20.72602 | T108: 103270 | U108: 18.326877 | V108: 240535.1 | W108: 24.969211 | X108: 267.3 | Y108: 27.599327 | Z108: 488666.3 | AA108: 20.845044
A109: Жалган куран | B109: Март | C109: March | D109: 3337112.9 | E109: 21.886843 | F109: 696009.7 | G109: 18.115632 | H109: 91133.4 | I109: 25.466497 | J109: 66939.2 | K109: 17.000748 | L109: 66435.4 | M109: 17.062778 | N109: 1331539.3 | O109: 24.360824 | P109: 72203.3 | Q109: 23.988616 | R109: 134542.3 | S109: 20.194919 | T109: 120143 | U109: 18.547646 | V109: 264578.8 | W109: 25.105252 | X109: 269.3 | Y109: 27.592648 | Z109: 493319.2 | AA109: 20.423909
... A376: Кулжа* | B376: Июнь* | C376: June* | D376: 6.0263034e+08 | E376: 15.900083 | F376: 18952022 | G376: 8.4982363 | H376: 60041033 | I376: 15.116773 | J376: 20173449 | K376: 16.183089 | L376: 97315.604 | M376: 16.39587 | N376: 1.3358962e+08 | O376: 13.119303 | P376: 5892056 | Q376: 7.2992582 | R376: 31272121 | S376: 11.609072 | T376: 67140057 | U376: 14.16679 | V376: 2.0655611e+08 | W376: 20.524495 | X376: 8006886.9 | Y376: 9.5677079 | Z376: 50909668 | AA376: 14.913582
A377: Теке | B377: Июль | C377: July
A378: Баш оона | B378: Август | C378: August
A379: Аяк оона | B379: Сентябрь | C379: September
A380: Тогуздун айы | B380: Октябрь | C380: October
A381: Жетинин айы | B381: Ноябрь | C381: November
A382: Бештин айы | B382: Декабрь | C382: December
A383: * алдын ала маалыматтар | B383: * предварительные данные | C383: *preliminary data

Sheet 3. отрасли_нац вал
A2: 3-таблица. Тармактар боюнча улуттук валютадагы кредиттер жана кредиттердин орточо салмактанып алынган пайыздык чендери (бир мезгилдин акырына карата) | B2: Таблица 3. Общий объем и средневзвешенные процентные ставки кредитов в разрезе отраслей в национальной валюте (на конец периода) | C2: Table 3. Total volume and average weighted interest rates of credits by sectors in National currency (the end of period)
A4: (миң сом / пайыздар) | B4: (тыс. сомов / проценты) | C4: (ths of soms / percent)
A5: Мезгил аралыгы | B5: Период | C5: Period | D5: Жалпы улуттук валютада | F5: Өнөр жайы | H5: Айыл чарбасы | J5: Транспорт | L5: Байланыш | N5: Cоода | P5: Даярдоо жана кайра иштетүү ишканалары | R5: Курулуш | T5: Ипотека | V5: Керектөө кредиттери | X5: Социалдык кызмат көрсөтүүлөр | Z5: Жана башкалаp | AC5: Керектөө кредиттерин эске албагандагы орточо салмактанып алынган чендер
D6: Итого в нац. валюте | F6: Промышленность | H6: Сельское хоз-во | J6: Транспорт | L6: Связь | N6: Торговля и коммерческие операции | P6: Заготовка и переработка | R6: Строительство | T6: Ипотека | V6: Потребительские кредиты | X6: Социальные услуги | Z6: Прочие
D7: Total in National currency | F7: Industry | H7: Agriculture | J7: Transport | L7: Communication | N7: Trade | P7: Procurement and processing | R7: Construction | T7: Mortgage | V7: Consumer loans | X7: Social services | Z7: Others | AC7: Средневзв. ставка без учета потребительских кредитов
D8: көлөм | E8: орточо салмактанып алынган чендер | F8: көлөм | G8: орточо салмактанып алынган чендер | H8: көлөм | I8: орточо салмактанып алынган чендер | J8: көлөм | K8: орточо салмактанып алынган чендер | L8: көлөм | M8: орточо салмактанып алынган чендер | N8: көлөм | O8: орточо салмактанып алынган чендер | P8: көлөм | Q8: орточо салмактанып алынган чендер | R8: көлөм | S8: орточо салмактанып алынган чендер | T8: көлөм | U8: орточо салмактанып алынган чендер | V8: көлөм | W8: орточо салмактанып алынган чендер | X8: көлөм | Y8: орточо салмактанып алынган чендер | Z8: көлөм | AA8: орточо салмактанып алынган чендер
D9: объем | E9: средневзв. ставка | F9: объем | G9: средневзв. ставка | H9: объем | I9: средневзв. ставка | J9: объем | K9: средневзв. ставка | L9: объем | M9: средневзв. ставка | N9: объем | O9: средневзв. ставка | P9: объем | Q9: средневзв. ставка | R9: объем | S9: средневзв. ставка | T9: объем | U9: средневзв. ставка | V9: объем | W9: средневзв. ставка | X9: объем | Y9: средневзв. ставка | Z9: объем | AA9: средневзв. ставка | AC9: Average weighted interest rate excluding consumer loans
D10: volume | E10: average weighted interest rate | F10: volume | G10: average weighted interest rate | H10: volume | I10: average weighted interest rate | J10: volume | K10: average weighted interest rate | L10: volume | M10: average weighted interest rate | N10: volume | O10: average weighted interest rate | P10: volume | Q10: average weighted interest rate | R10: volume | S10: average weighted interest rate | T10: volume | U10: average weighted interest rate | V10: volume | W10: average weighted interest rate | X10: volume | Y10: average weighted interest rate | Z10: volume | AA10: average weighted interest rate
A11: Үчтүн айы 1996 ж. | B11: Январь 1996 г. | C11: January 1996 | D11: 999070.9 | E11: 24.826394 | F11: 135277.6 | G11: 16.072855 | H11: 188595.9 | I11: 17.225242 | J11: 8092 | K11: 60.773109 | L11: 13 | M11: 31 | N11: 174591.1 | O11: 28.365125 | P11: 185428 | Q11: 19.587265 | R11: 21426.3 | S11: 66.403266 | V11: 18986.3 | W11: 59.828413 | Z11: 266660.7 | AA11: 29.045221 | AC11: =(F11*G11+H11*I11+J11*K11+L11*M11+N11*O11+P11*Q11+R11*S11+T11*U11+X11*Y11+Z11*AA11)/(F11+H11+J11+L11+N11+P11+R11+T11+X11+Z11) -> 24.148331
A12: Бирдин айы | B12: Февраль | C12: February | D12: 1002789.2 | E12: 25.873153 | F12: 140120.6 | G12: 17.068123 | H12: 200534.8 | I12: 19.778383 | J12: 6375 | K12: 62.36 | N12: 177318.4 | O12: 31.766544 | P12: 181673.2 | Q12: 20.718446 | R12: 21542.7 | S12: 65.441217 | V12: 23254 | W12: 57.737001 | Z12: 251970.5 | AA12: 27.942747 | AC12: =(F12*G12+H12*I12+J12*K12+L12*M12+N12*O12+P12*Q12+R12*S12+T12*U12+X12*Y12+Z12*AA12)/(F12+H12+J12+L12+N12+P12+R12+T12+X12+Z12) -> 25.116711
A13: Жалган куран | B13: Март | C13: March | D13: 1016175.2 | E13: 23.993652 | F13: 150045 | G13: 19.371757 | H13: 226918.4 | I13: 15.863876 | J13: 4843 | K13: 58.077431 | L13: 8 | M13: 50 | N13: 176820.4 | O13: 30.553793 | P13: 171785.6 | Q13: 17.261607 | R13: 22660.1 | S13: 61.772556 | V13: 25021.5 | W13: 59.064505 | Z13: 238073.2 | AA13: 26.66474 | AC13: =(F13*G13+H13*I13+J13*K13+L13*M13+N13*O13+P13*Q13+R13*S13+T13*U13+X13*Y13+Z13*AA13)/(F13+H13+J13+L13+N13+P13+R13+T13+X13+Z13) -> 23.108294
A14: Чын куран | B14: Апрель | C14: April | D14: 999145 | E14: 22.940864 | F14: 142708 | G14: 17.315762 | H14: 225478.4 | I14: 13.523039 | J14: 2560 | K14: 60.2625 | N14: 176463.4 | O14: 30.83787 | P14: 167932.7 | Q14: 16.608578 | R14: 25863.4 | S14: 56.486962 | V14: 26347 | W14: 59.746669 | Z14: 231792.1 | AA14: 25.802249 | AC14: =(F14*G14+H14*I14+J14*K14+L14*M14+N14*O14+P14*Q14+R14*S14+T14*U14+X14*Y14+Z14*AA14)/(F14+H14+J14+L14+N14+P14+R14+T14+X14+Z14) -> 21.944026
A15: Бугу | B15: Май | C15: May | D15: 279508.8 | E15: 48.463354 | F15: 41900.5 | G15: 44.116012 | H15: 15434.7 | I15: 56.494114 | J15: 4045 | K15: 56.720643 | N15: 80282.9 | O15: 52.626609 | P15: 2258.3 | Q15: 69.663021 | R15: 14705 | S15: 36.028435 | V15: 25347.1 | W15: 62.032296 | Z15: 95535.3 | AA15: 43.037207 | AC15: =(F15*G15+H15*I15+J15*K15+L15*M15+N15*O15+P15*Q15+R15*S15+T15*U15+X15*Y15+Z15*AA15)/(F15+H15+J15+L15+N15+P15+R15+T15+X15+Z15) -> 47.110147
A16: Кулжа | B16: Июнь | C16: June | D16: 293075.5 | E16: 45.65946 | F16: 40664.1 | G16: 43.531604 | H16: 16455.7 | I16: 23.479153 | J16: 3587 | K16: 64.759409 | N16: 91533.3 | O16: 50.498957 | P16: 1678.3 | Q16: 68.265507 | R16: 12455 | S16: 33.491642 | V16: 29851.4 | W16: 56.107936 | Z16: 96850.7 | AA16: 42.992902 | AC16: =(F16*G16+H16*I16+J16*K16+L16*M16+N16*O16+P16*Q16+R16*S16+T16*U16+X16*Y16+Z16*AA16)/(F16+H16+J16+L16+N16+P16+R16+T16+X16+Z16) -> 44.474532
A17: Теке | B17: Июль | C17: July | D17: 284640.9 | E17: 43.644115 | F17: 37110 | G17: 41.946205 | H17: 14503.7 | I17: 21.424692 | J17: 3247 | K17: 63.721281 | L17: 12114 | M17: 32 | N17: 67780.5 | O17: 48.46332 | P17: 2258.3 | Q17: 50.22362 | R17: 14377.8 | S17: 34.781104 | V17: 34709.7 | W17: 58.528728 | Z17: 98539.9 | AA17: 40.9084 | AC17: =(F17*G17+H17*I17+J17*K17+L17*M17+N17*O17+P17*Q17+R17*S17+T17*U17+X17*Y17+Z17*AA17)/(F17+H17+J17+L17+N17+P17+R17+T17+X17+Z17) -> 41.576984
A18: Баш оона | B18: Август | C18: August | D18: 291447.9 | E18: 40.715674 | F18: 30847 | G18: 39.145805 | H18: 13359.7 | I18: 25.428682 | J18: 2128 | K18: 68.546053 | N18: 84437 | O18: 32.871059 | P18: 1558.3 | Q18: 72.014375 | R18: 12924 | S18: 29.955559 | V18: 41930 | W18: 61.440889 | Z18: 104263.9 | AA18: 41.455056 | AC18: =(F18*G18+H18*I18+J18*K18+L18*M18+N18*O18+P18*Q18+R18*S18+T18*U18+X18*Y18+Z18*AA18)/(F18+H18+J18+L18+N18+P18+R18+T18+X18+Z18) -> 37.232925
A19: Аяк оона | B19: Сентябрь | C19: September | D19: 272579.9 | E19: 39.777876 | F19: 28845.7 | G19: 40.124376 | H19: 10932.7 | I19: 13.350462 | J19: 1480 | K19: 65.810811 | N19: 80656 | O19: 34.862364 | P19: 1004.3 | Q19: 12.30708 | R19: 12345 | S19: 40.690231 | V19: 41666 | W19: 55.177608 | Z19: 95650.2 | AA19: 39.898581 | AC19: =(F19*G19+H19*I19+J19*K19+L19*M19+N19*O19+P19*Q19+R19*S19+T19*U19+X19*Y19+Z19*AA19)/(F19+H19+J19+L19+N19+P19+R19+T19+X19+Z19) -> 36.999155
A20: Тогуздун айы | B20: Октябрь | C20: October | D20: 254283 | E20: 40.097206 | F20: 25552.4 | G20: 37.549612 | H20: 9013.7 | I20: 14.677291 | J20: 1000 | K20: 62 | N20: 83017.2 | O20: 37.36456 | P20: 992 | Q20: 11.471774 | R20: 13066 | S20: 44.324231 | V20: 38058.1 | W20: 58.578392 | Z20: 83583.6 | AA20: 37.333336 | AC20: =(F20*G20+H20*I20+J20*K20+L20*M20+N20*O20+P20*Q20+R20*S20+T20*U20+X20*Y20+Z20*AA20)/(F20+H20+J20+L20+N20+P20+R20+T20+X20+Z20) -> 36.844302
A21: Жетинин айы | B21: Ноябрь | C21: November | D21: 235043.5 | E21: 38.054927 | F21: 14943.6 | G21: 32.652393 | H21: 8025.7 | I21: 15.39847 | J21: 1175 | K21: 63.808511 | N21: 74389 | O21: 33.950575 | P21: 992 | Q21: 11.169355 | R21: 18480 | S21: 40.76974 | V21: 33822.2 | W21: 55.234454 | Z21: 83216 | AA21: 37.250715 | AC21: =(F21*G21+H21*I21+J21*K21+L21*M21+N21*O21+P21*Q21+R21*S21+T21*U21+X21*Y21+Z21*AA21)/(F21+H21+J21+L21+N21+P21+R21+T21+X21+Z21) -> 35.167313
A22: Бештин айы | B22: Декабрь | C22: December | D22: 250134.4 | E22: 46.854354 | F22: 10209 | G22: 48.268819 | H22: 6697.2 | I22: 17.511467 | J22: 1959 | K22: 48.037774 | N22: 63088.8 | O22: 38.820977 | P22: 934 | Q22: 12.633833 | R22: 16009 | S22: 38.951297 | V22: 66726 | W22: 67.315084 | Z22: 84511.4 | AA22: 40.698876 | AC22: =(F22*G22+H22*I22+J22*K22+L22*M22+N22*O22+P22*Q22+R22*S22+T22*U22+X22*Y22+Z22*AA22)/(F22+H22+J22+L22+N22+P22+R22+T22+X22+Z22) -> 39.410514
A23: Үчтүн айы 1997 ж. | B23: Январь 1997 г. | C23: January 1997 | D23: 227595.1 | E23: 51.037117 | F23: 10634.6 | G23: 43.61 | H23: 6003.7 | I23: 16.38 | J23: 1953 | K23: 62.4 | L23: 60 | M23: 65 | N23: 64011 | O23: 42.65 | P23: 1704 | Q23: 29.69 | R23: 16202 | S23: 39.22 | V23: 69245.8 | W23: 63.93 | Z23: 57781 | AA23: 53.39 | AC23: =(F23*G23+H23*I23+J23*K23+L23*M23+N23*O23+P23*Q23+R23*S23+T23*U23+X23*Y23+Z23*AA23)/(F23+H23+J23+L23+N23+P23+R23+T23+X23+Z23) -> 45.399087
A24: Бирдин айы | B24: Февраль | C24: February | D24: 238342.6 | E24: 53.372458 | F24: 9485.6 | G24: 45.74 | H24: 7737.7 | I24: 30.52 | J24: 3552 | K24: 26.55 | L24: 60 | M24: 65 | N24: 63621.9 | O24: 42.68 | P24: 3328 | Q24: 45.25 | R24: 14181 | S24: 40.03 | V24: 85679.5 | W24: 68.43 | Z24: 50696.9 | AA24: 52.39 | AC24: =(F24*G24+H24*I24+J24*K24+L24*M24+N24*O24+P24*Q24+R24*S24+T24*U24+X24*Y24+Z24*AA24)/(F24+H24+J24+L24+N24+P24+R24+T24+X24+Z24) -> 44.921676
A25: Жалган куран | B25: Март | C25: March | D25: 257226.1 | E25: 55.746446 | F25: 9864 | G25: 49.01 | H25: 7488.7 | I25: 30.62 | J25: 3471 | K25: 39.84 | L25: 4522 | M25: 11.91 | N25: 61819 | O25: 53.33 | P25: 1284 | Q25: 22.04 | R25: 14246 | S25: 38.56 | V25: 103804 | W25: 66.31 | Z25: 50727.4 | AA25: 52.77 | AC25: =(F25*G25+H25*I25+J25*K25+L25*M25+N25*O25+P25*Q25+R25*S25+T25*U25+X25*Y25+Z25*AA25)/(F25+H25+J25+L25+N25+P25+R25+T25+X25+Z25) -> 48.599241
A26: Чын куран | B26: Апрель | C26: April | D26: 264852.1 | E26: 57.792919 | F26: 10279 | G26: 50.04 | H26: 6933.7 | I26: 32.67 | J26: 3558 | K26: 40.12 | L26: 60 | M26: 65 | N26: 66460 | O26: 47.82 | P26: 1254 | Q26: 22.57 | R26: 13077 | S26: 32.86 | V26: 104475.4 | W26: 68.05 | Z26: 58755 | AA26: 62.52 | AC26: =(F26*G26+H26*I26+J26*K26+L26*M26+N26*O26+P26*Q26+R26*S26+T26*U26+X26*Y26+Z26*AA26)/(F26+H26+J26+L26+N26+P26+R26+T26+X26+Z26) -> 51.111071
A27: Бугу | B27: Май | C27: May | D27: 295872 | E27: 62.132553 | F27: 11618 | G27: 54.17 | H27: 7489.7 | I27: 34.79 | J27: 3684 | K27: 50.5 | L27: 60 | M27: 65 | N27: 82555 | O27: 49.14 | P27: 754 | Q27: 1.06 | R27: 11254 | S27: 37.51 | V27: 122448.3 | W27: 76.19 | Z27: 56009 | AA27: 62.39 | AC27: =(F27*G27+H27*I27+J27*K27+L27*M27+N27*O27+P27*Q27+R27*S27+T27*U27+X27*Y27+Z27*AA27)/(F27+H27+J27+L27+N27+P27+R27+T27+X27+Z27) -> 52.20709
A28: Кулжа | B28: Июнь | C28: June | D28: 314010.4 | E28: 59.179754 | F28: 16964.3 | G28: 54.53 | H28: 7760.7 | I28: 36.26 | J28: 3221 | K28: 53.96 | L28: 60 | M28: 65 | N28: 88878.8 | O28: 49.49 | P28: 749 | Q28: 1.07 | R28: 7821.6 | S28: 37.76 | V28: 115336.7 | W28: 61.45 | Z28: 73218.3 | AA28: 73.98 | AC28: =(F28*G28+H28*I28+J28*K28+L28*M28+N28*O28+P28*Q28+R28*S28+T28*U28+X28*Y28+Z28*AA28)/(F28+H28+J28+L28+N28+P28+R28+T28+X28+Z28) -> 57.861801
A29: Теке | B29: Июль | C29: July | D29: 352920 | E29: 58.557473 | F29: 15647.9 | G29: 53.99 | H29: 7688.7 | I29: 34.88 | J29: 2839 | K29: 52.36 | L29: 60 | M29: 65 | N29: 85419 | O29: 51.3 | P29: 743 | Q29: 0.81 | R29: 6141.6 | S29: 34.19 | V29: 123659.3 | W29: 55.29 | Z29: 110721.5 | AA29: 71.99 | AC29: =(F29*G29+H29*I29+J29*K29+L29*M29+N29*O29+P29*Q29+R29*S29+T29*U29+X29*Y29+Z29*AA29)/(F29+H29+J29+L29+N29+P29+R29+T29+X29+Z29) -> 60.319892
A30: Баш оона | B30: Август | C30: August | D30: 350106.9 | E30: 58.551146 | F30: 17077.6 | G30: 52.95 | H30: 8405.7 | I30: 35.97 | J30: 3150 | K30: 56.25 | L30: 60 | M30: 65 | N30: 86269.5 | O30: 50.5 | P30: 740.5 | Q30: 0.81 | R30: 5975 | S30: 33.1 | V30: 102433 | W30: 66.03 | Z30: 125995.6 | AA30: 61.85 | AC30: =(F30*G30+H30*I30+J30*K30+L30*M30+N30*O30+P30*Q30+R30*S30+T30*U30+X30*Y30+Z30*AA30)/(F30+H30+J30+L30+N30+P30+R30+T30+X30+Z30) -> 55.458041
A31: Аяк оона | B31: Сентябрь | C31: September | D31: 343932.5 | E31: 58.897177 | F31: 16108.6 | G31: 53.34 | H31: 10386.7 | I31: 41.06 | J31: 2708 | K31: 53.86 | N31: 86360.2 | O31: 50.49 | P31: 737.5 | Q31: 0.68 | R31: 6265 | S31: 35.22 | V31: 83006.1 | W31: 58.65 | Z31: 138360.4 | AA31: 67.76 | AC31: =(F31*G31+H31*I31+J31*K31+L31*M31+N31*O31+P31*Q31+R31*S31+T31*U31+X31*Y31+Z31*AA31)/(F31+H31+J31+L31+N31+P31+R31+T31+X31+Z31) -> 58.975809
A32: Тогуздун айы | B32: Октябрь | C32: October | D32: 365774.8 | E32: 57.584705 | F32: 15899.6 | G32: 53.63 | H32: 10745.7 | I32: 42.54 | J32: 2800 | K32: 53.03 | N32: 83601.4 | O32: 49.42 | P32: 733 | Q32: 0 | R32: 6101 | S32: 33.68 | V32: 97370.3 | W32: 56.31 | Z32: 148523.8 | AA32: 65.88 | AC32: =(F32*G32+H32*I32+J32*K32+L32*M32+N32*O32+P32*Q32+R32*S32+T32*U32+X32*Y32+Z32*AA32)/(F32+H32+J32+L32+N32+P32+R32+T32+X32+Z32) -> 58.047136
A33: Жетинин айы | B33: Ноябрь | C33: November | D33: 386120.8 | E33: 59.512619 | F33: 18724.8 | G33: 52.56 | H33: 11347 | I33: 42.99 | J33: 3407 | K33: 54.57 | N33: 85030.9 | O33: 51.17 | P33: 732.5 | Q33: 0 | R33: 6110 | S33: 30.57 | V33: 85274.6 | W33: 57.86 | Z33: 175494 | AA33: 67.52 | AC33: =(F33*G33+H33*I33+J33*K33+L33*M33+N33*O33+P33*Q33+R33*S33+T33*U33+X33*Y33+Z33*AA33)/(F33+H33+J33+L33+N33+P33+R33+T33+X33+Z33) -> 59.981053
A34: Бештин айы | B34: Декабрь | C34: December | D34: 476350.6 | E34: 58.030651 | F34: 26923.7 | G34: 50.27 | H34: 8445 | I34: 52.55 | J34: 5246.2 | K34: 58 | N34: 81488.2 | O34: 49.25 | P34: 661.9 | Q34: 0 | R34: 7120.5 | S34: 35.13 | V34: 96879.3 | W34: 58.18 | Z34: 249585.8 | AA34: 62.67 | AC34: =(F34*G34+H34*I34+J34*K34+L34*M34+N34*O34+P34*Q34+R34*S34+T34*U34+X34*Y34+Z34*AA34)/(F34+H34+J34+L34+N34+P34+R34+T34+X34+Z34) -> 57.992522
A35: Үчтүн айы 1998 ж. | B35: Январь 1998 г. | C35: January 1998 | D35: 503498.5 | E35: 55.879025 | F35: 29444.4 | G35: 51.2 | H35: 7313 | I35: 54.64 | J35: 10976.9 | K35: 55.67 | N35: 92504.5 | O35: 46.81 | P35: 661.9 | Q35: 0 | R35: 6223 | S35: 36.88 | V35: 83851.5 | W35: 55.21 | Z35: 272523.3 | AA35: 60.28 | AC35: =(F35*G35+H35*I35+J35*K35+L35*M35+N35*O35+P35*Q35+R35*S35+T35*U35+X35*Y35+Z35*AA35)/(F35+H35+J35+L35+N35+P35+R35+T35+X35+Z35) -> 56.012706
A36: Бирдин айы | B36: Февраль | C36: February | D36: 539953 | E36: 53.539028 | F36: 27147.7 | G36: 51.65 | H36: 7137 | I36: 57.18 | J36: 10933.9 | K36: 51.27 | N36: 115059.4 | O36: 46.44 | P36: 3310.8 | Q36: 32 | R36: 6411 | S36: 47.7 | V36: 90690.5 | W36: 52.87 | Z36: 279262.7 | AA36: 57.25 | AC36: =(F36*G36+H36*I36+J36*K36+L36*M36+N36*O36+P36*Q36+R36*S36+T36*U36+X36*Y36+Z36*AA36)/(F36+H36+J36+L36+N36+P36+R36+T36+X36+Z36) -> 53.674081
A37: Жалган куран | B37: Март | C37: March | D37: 578964.2 | E37: 52.803813 | F37: 27620.7 | G37: 50.45 | H37: 7030 | I37: 56.83 | J37: 7618 | K37: 57.16 | L37: 1248.1 | M37: 55 | N37: 126922.1 | O37: 43.18 | P37: 661.9 | Q37: 0 | R37: 7311 | S37: 47.42 | V37: 97774 | W37: 51.46 | Z37: 302778.4 | AA37: 57.52 | AC37: =(F37*G37+H37*I37+J37*K37+L37*M37+N37*O37+P37*Q37+R37*S37+T37*U37+X37*Y37+Z37*AA37)/(F37+H37+J37+L37+N37+P37+R37+T37+X37+Z37) -> 53.076865
A38: Чын куран | B38: Апрель | C38: April | D38: 665764.6 | E38: 52.280209 | F38: 61459.7 | G38: 53.3 | H38: 12841 | I38: 45.1 | J38: 7068 | K38: 56.62 | N38: 280591.2 | O38: 53.83 | P38: 756.9 | Q38: 7.93 | R38: 6774 | S38: 46.34 | V38: 108335 | W38: 50.62 | Z38: 187938.8 | AA38: 51.31 | AC38: =(F38*G38+H38*I38+J38*K38+L38*M38+N38*O38+P38*Q38+R38*S38+T38*U38+X38*Y38+Z38*AA38)/(F38+H38+J38+L38+N38+P38+R38+T38+X38+Z38) -> 52.602866
A39: Бугу | B39: Май | C39: May | D39: 726441.7 | E39: 50.502178 | F39: 63768.4 | G39: 54.86 | H39: 8749 | I39: 55.44 | J39: 6026 | K39: 53.94 | N39: 348388.8 | O39: 53.29 | P39: 756.9 | Q39: 7.93 | R39: 7309 | S39: 51.34 | V39: 117177.9 | W39: 49.68 | Z39: 174265.7 | AA39: 43.67 | AC39: =(F39*G39+H39*I39+J39*K39+L39*M39+N39*O39+P39*Q39+R39*S39+T39*U39+X39*Y39+Z39*AA39)/(F39+H39+J39+L39+N39+P39+R39+T39+X39+Z39) -> 50.660305
A40: Кулжа | B40: Июнь | C40: June | D40: 700036.6 | E40: 50.503066 | F40: 81475.9 | G40: 53.02 | H40: 9109.7 | I40: 55.69 | J40: 7388 | K40: 59.3 | N40: 341790.6 | O40: 53.36 | P40: 2301.3 | Q40: 36.16 | R40: 6670 | S40: 43.12 | V40: 112325.6 | W40: 50.25 | Z40: 138975.5 | AA40: 41.99 | AC40: =(F40*G40+H40*I40+J40*K40+L40*M40+N40*O40+P40*Q40+R40*S40+T40*U40+X40*Y40+Z40*AA40)/(F40+H40+J40+L40+N40+P40+R40+T40+X40+Z40) -> 50.551432
A41: Теке | B41: Июль | C41: July | D41: 716279.9 | E41: 51.040459 | F41: 80138 | G41: 55.8 | H41: 15542.8 | I41: 43.43 | J41: 5651 | K41: 57.86 | N41: 345806.3 | O41: 53.89 | P41: 3625 | Q41: 37.57 | R41: 10194.9 | S41: 47.01 | V41: 118914.4 | W41: 49.6 | Z41: 136407.5 | AA41: 43.52 | AC41: =(F41*G41+H41*I41+J41*K41+L41*M41+N41*O41+P41*Q41+R41*S41+T41*U41+X41*Y41+Z41*AA41)/(F41+H41+J41+L41+N41+P41+R41+T41+X41+Z41) -> 51.327203
A42: Баш оона | B42: Август | C42: August | D42: 686504.2 | E42: 49.295267 | F42: 73991 | G42: 54.65 | H42: 13005.8 | I42: 54.27 | J42: 5680 | K42: 58.68 | N42: 314118.2 | O42: 49.62 | P42: 3725 | Q42: 38.17 | R42: 9298.3 | S42: 46.94 | V42: 124903.5 | W42: 48.95 | Z42: 141782.4 | AA42: 45.7 | AC42: =(F42*G42+H42*I42+J42*K42+L42*M42+N42*O42+P42*Q42+R42*S42+T42*U42+X42*Y42+Z42*AA42)/(F42+H42+J42+L42+N42+P42+R42+T42+X42+Z42) -> 49.372057
A43: Аяк оона | B43: Сентябрь | C43: September | D43: 724262.1 | E43: 47.987604 | F43: 55116 | G43: 52.94 | H43: 12660 | I43: 55.24 | J43: 4230 | K43: 66.38 | N43: 367959.6 | O43: 46.63 | P43: 3575 | Q43: 37.26 | R43: 9187 | S43: 46.84 | V43: 131980.7 | W43: 51.05 | Z43: 139553.8 | AA43: 45.85 | AC43: =(F43*G43+H43*I43+J43*K43+L43*M43+N43*O43+P43*Q43+R43*S43+T43*U43+X43*Y43+Z43*AA43)/(F43+H43+J43+L43+N43+P43+R43+T43+X43+Z43) -> 47.305197
A44: Тогуздун айы | B44: Октябрь | C44: October | D44: 584415.9 | E44: 45.255128 | F44: 34161 | G44: 51.43 | H44: 3729 | I44: 56.37 | J44: 4478 | K44: 58.16 | N44: 276853.9 | O44: 39.22 | P44: 3475 | Q44: 36.6 | R44: 7517 | S44: 44.18 | V44: 116602.4 | W44: 54.52 | Z44: 137599.6 | AA44: 47.57 | AC44: =(F44*G44+H44*I44+J44*K44+L44*M44+N44*O44+P44*Q44+R44*S44+T44*U44+X44*Y44+Z44*AA44)/(F44+H44+J44+L44+N44+P44+R44+T44+X44+Z44) -> 42.945861
A45: Жетинин айы | B45: Ноябрь | C45: November | D45: 466477.6 | E45: 45.639539 | F45: 29549 | G45: 50.64 | H45: 11562 | I45: 56.97 | J45: 3746.8 | K45: 77.15 | N45: 162484.1 | O45: 31.65 | P45: 3475 | Q45: 59.57 | R45: 7555 | S45: 44.63 | V45: 108957.5 | W45: 55.78 | Z45: 139148.2 | AA45: 50.89 | AC45: =(F45*G45+H45*I45+J45*K45+L45*M45+N45*O45+P45*Q45+R45*S45+T45*U45+X45*Y45+Z45*AA45)/(F45+H45+J45+L45+N45+P45+R45+T45+X45+Z45) -> 42.549141
A46: Бештин айы | B46: Декабрь | C46: December | D46: 479464.3 | E46: 44.484866 | F46: 25520.3 | G46: 53.13 | H46: 11067.4 | I46: 61.44 | J46: 3870.7 | K46: 121.21 | N46: 120932.4 | O46: 29 | P46: 3475 | Q46: 59.57 | R46: 63232 | S46: 21 | V46: 106727 | W46: 59.23 | Z46: 144639.5 | AA46: 51.58 | AC46: =(F46*G46+H46*I46+J46*K46+L46*M46+N46*O46+P46*Q46+R46*S46+T46*U46+X46*Y46+Z46*AA46)/(F46+H46+J46+L46+N46+P46+R46+T46+X46+Z46) -> 40.262847
A47: Үчтүн айы 1999 ж. | B47: Январь 1999 г. | C47: January 1999 | D47: 448112 | E47: 47.823504 | F47: 18626.3 | G47: 53.83 | H47: 9960.4 | I47: 61.62 | J47: 1120 | K47: 66.47 | L47: 3000 | M47: 70 | N47: 160307.5 | O47: 35.08 | P47: 3475 | Q47: 59.57 | R47: 4748 | S47: 44.31 | V47: 99909.5 | W47: 57.78 | Z47: 146965.3 | AA47: 52.5 | AC47: =(F47*G47+H47*I47+J47*K47+L47*M47+N47*O47+P47*Q47+R47*S47+T47*U47+X47*Y47+Z47*AA47)/(F47+H47+J47+L47+N47+P47+R47+T47+X47+Z47) -> 44.966693
A48: Бирдин айы | B48: Февраль | C48: February | D48: 451296.6 | E48: 48.09827 | F48: 28713.6 | G48: 50.45 | H48: 10831 | I48: 62.09 | J48: 5752.2 | K48: 60.26 | L48: 3000 | M48: 70 | N48: 159022.9 | O48: 33.88 | P48: 3465 | Q48: 2.02 | R48: 10535 | S48: 52.84 | V48: 105011.8 | W48: 55.87 | Z48: 124965.1 | AA48: 57.7 | AC48: =(F48*G48+H48*I48+J48*K48+L48*M48+N48*O48+P48*Q48+R48*S48+T48*U48+X48*Y48+Z48*AA48)/(F48+H48+J48+L48+N48+P48+R48+T48+X48+Z48) -> 45.741471
A49: Жалган куран | B49: Март | C49: March | D49: 485675.1 | E49: 42.612294 | F49: 18788.3 | G49: 58.64 | H49: 11729.7 | I49: 60.85 | J49: 4357.2 | K49: 57.51 | L49: 3000 | M49: 70 | N49: 165654.4 | O49: 27.6 | P49: 3445 | Q49: 1.74 | R49: 14901 | S49: 58.88 | V49: 120848.1 | W49: 52.97 | Z49: 142951.4 | AA49: 45.91 | AC49: =(F49*G49+H49*I49+J49*K49+L49*M49+N49*O49+P49*Q49+R49*S49+T49*U49+X49*Y49+Z49*AA49)/(F49+H49+J49+L49+N49+P49+R49+T49+X49+Z49) -> 39.181327
A50: Чын куран | B50: Апрель | C50: April | D50: 485359.4 | E50: 44.800152 | F50: 33740.7 | G50: 53.66 | H50: 13079.8 | I50: 57.88 | J50: 7237.2 | K50: 80.44 | L50: 4000 | M50: 66.25 | N50: 118738.4 | O50: 25.73 | P50: 4971 | Q50: 19.64 | R50: 23057 | S50: 61.85 | V50: 115344.4 | W50: 52.79 | Z50: 165190.9 | AA50: 46.38 | AC50: =(F50*G50+H50*I50+J50*K50+L50*M50+N50*O50+P50*Q50+R50*S50+T50*U50+X50*Y50+Z50*AA50)/(F50+H50+J50+L50+N50+P50+R50+T50+X50+Z50) -> 42.309485
A51: Бугу | B51: Май | C51: May | D51: 498501.5 | E51: 43.942121 | F51: 42946.2 | G51: 45.86 | H51: 14089.8 | I51: 55.36 | J51: 9594 | K51: 63.64 | L51: 4000 | M51: 66.25 | N51: 124196.2 | O51: 25.89 | P51: 3341 | Q51: 0.24 | R51: 23573 | S51: 60.86 | V51: 117619.7 | W51: 51.58 | Z51: 159141.6 | AA51: 47.52 | AC51: =(F51*G51+H51*I51+J51*K51+L51*M51+N51*O51+P51*Q51+R51*S51+T51*U51+X51*Y51+Z51*AA51)/(F51+H51+J51+L51+N51+P51+R51+T51+X51+Z51) -> 41.583476
A52: Кулжа | B52: Июнь | C52: June | D52: 479155.8 | E52: 44.809731 | F52: 43447.6 | G52: 42.03 | H52: 14294.8 | I52: 52.3 | J52: 9916.1 | K52: 60.44 | L52: 4000 | M52: 66.25 | N52: 124126 | O52: 29.33 | P52: 3325 | Q52: 0 | R52: 23397 | S52: 58.17 | V52: 115721.1 | W52: 50 | Z52: 140928.2 | AA52: 51.41 | AC52: =(F52*G52+H52*I52+J52*K52+L52*M52+N52*O52+P52*Q52+R52*S52+T52*U52+X52*Y52+Z52*AA52)/(F52+H52+J52+L52+N52+P52+R52+T52+X52+Z52) -> 43.1571
A53: Теке | B53: Июль | C53: July | D53: 477441.3 | E53: 40.575698 | F53: 61593.6 | G53: 38.17 | H53: 14989.8 | I53: 56.68 | J53: 9263 | K53: 56.55 | L53: 4744 | M53: 60.51 | N53: 120362 | O53: 15.78 | P53: 3340 | Q53: 0.43 | R53: 23762.1 | S53: 54.76 | V53: 126525.3 | W53: 51.74 | Z53: 112861.5 | AA53: 49.73 | AC53: =(F53*G53+H53*I53+J53*K53+L53*M53+N53*O53+P53*Q53+R53*S53+T53*U53+X53*Y53+Z53*AA53)/(F53+H53+J53+L53+N53+P53+R53+T53+X53+Z53) -> 36.550329
A54: Баш оона | B54: Август | C54: August | D54: 477885.5 | E54: 39.797395 | F54: 59627.6 | G54: 34.65 | H54: 14772.8 | I54: 53.71 | J54: 4076 | K54: 50.39 | L54: 3000 | M54: 55 | N54: 117222 | O54: 15.83 | P54: 3325 | Q54: 0 | R54: 23094.3 | S54: 50.41 | V54: 129624.4 | W54: 50.94 | Z54: 123143.4 | AA54: 50.07 | AC54: =(F54*G54+H54*I54+J54*K54+L54*M54+N54*O54+P54*Q54+R54*S54+T54*U54+X54*Y54+Z54*AA54)/(F54+H54+J54+L54+N54+P54+R54+T54+X54+Z54) -> 35.650066
A55: Аяк оона | B55: Сентябрь | C55: September | D55: 469929.3 | E55: 39.74392 | F55: 65387.6 | G55: 34.97 | H55: 14831.8 | I55: 52.5 | J55: 3198 | K55: 49.64 | L55: 3000 | M55: 55 | N55: 115292.1 | O55: 15.84 | P55: 3325 | Q55: 0 | R55: 20351.4 | S55: 47.16 | V55: 128184 | W55: 50.79 | Z55: 116359.4 | AA55: 51.49 | AC55: =(F55*G55+H55*I55+J55*K55+L55*M55+N55*O55+P55*Q55+R55*S55+T55*U55+X55*Y55+Z55*AA55)/(F55+H55+J55+L55+N55+P55+R55+T55+X55+Z55) -> 35.600686
A56: Тогуздун айы | B56: Октябрь | C56: October | D56: 459168.4 | E56: 38.389186 | F56: 63395.6 | G56: 34.04 | H56: 16762.8 | I56: 43.4 | J56: 2980 | K56: 48.43 | L56: 190 | M56: 55 | N56: 116559.4 | O56: 15.68 | P56: 3325 | Q56: 0 | R56: 22630.8 | S56: 50.07 | V56: 121513.5 | W56: 48.74 | Z56: 111811.3 | AA56: 51.01 | AC56: =(F56*G56+H56*I56+J56*K56+L56*M56+N56*O56+P56*Q56+R56*S56+T56*U56+X56*Y56+Z56*AA56)/(F56+H56+J56+L56+N56+P56+R56+T56+X56+Z56) -> 34.664189
A57: Жетинин айы | B57: Ноябрь | C57: November | D57: 458780.4 | E57: 36.47172 | F57: 50189.6 | G57: 34.14 | H57: 16550.8 | I57: 43.48 | J57: 2119.2 | K57: 34.89 | L57: 1300 | M57: 57 | N57: 118183.3 | O57: 16.42 | P57: 3325 | Q57: 0 | R57: 22511 | S57: 50.63 | V57: 125473.8 | W57: 46.45 | Z57: 119127.7 | AA57: 44.01 | AC57: =(F57*G57+H57*I57+J57*K57+L57*M57+N57*O57+P57*Q57+R57*S57+T57*U57+X57*Y57+Z57*AA57)/(F57+H57+J57+L57+N57+P57+R57+T57+X57+Z57) -> 32.715381
A58: Бештин айы | B58: Декабрь | C58: December | D58: 447880 | E58: 36.600095 | F58: 48373.6 | G58: 35.25 | H58: 15958.5 | I58: 43.35 | J58: 4098 | K58: 50.95 | L58: 1300 | M58: 57 | N58: 114850.5 | O58: 16.15 | R58: 28902.5 | S58: 46.87 | V58: 122377.8 | W58: 45.22 | Z58: 112019.1 | AA58: 44.36 | AC58: =(F58*G58+H58*I58+J58*K58+L58*M58+N58*O58+P58*Q58+R58*S58+T58*U58+X58*Y58+Z58*AA58)/(F58+H58+J58+L58+N58+P58+R58+T58+X58+Z58) -> 33.359303
A59: Үчтүн айы 2000 ж. | B59: Январь 2000 г. | C59: January 2000 | D59: 446471.2 | E59: 35.698802 | F59: 53697.1 | G59: 35.94 | H59: 15541.5 | I59: 43.25 | J59: 4460 | K59: 56.95 | L59: 1300 | M59: 57 | N59: 114677.9 | O59: 13.98 | R59: 28518.1 | S59: 44.92 | V59: 126469.7 | W59: 43.32 | Z59: 101806.9 | AA59: 45.63 | AC59: =(F59*G59+H59*I59+J59*K59+L59*M59+N59*O59+P59*Q59+R59*S59+T59*U59+X59*Y59+Z59*AA59)/(F59+H59+J59+L59+N59+P59+R59+T59+X59+Z59) -> 32.686783
A60: Бирдин айы | B60: Февраль | C60: February | D60: 446077.7 | E60: 32.797528 | F60: 46711.1 | G60: 30.11 | H60: 15508.1 | I60: 42.84 | J60: 5433 | K60: 54.82 | L60: 1300 | M60: 57 | N60: 116262.3 | O60: 13.73 | P60: 30 | Q60: 60 | R60: 28784.2 | S60: 44.28 | V60: 122551.4 | W60: 40.84 | Z60: 109497.6 | AA60: 39.36 | AC60: =(F60*G60+H60*I60+J60*K60+L60*M60+N60*O60+P60*Q60+R60*S60+T60*U60+X60*Y60+Z60*AA60)/(F60+H60+J60+L60+N60+P60+R60+T60+X60+Z60) -> 29.751048
A61: Жалган куран | B61: Март | C61: March | D61: 452885.9 | E61: 32.462409 | F61: 43200.9 | G61: 27.57 | H61: 15762.2 | I61: 40.81 | J61: 7731.5 | K61: 48.71 | L61: 1000 | M61: 57 | N61: 118285 | O61: 14.37 | P61: 30 | Q61: 60 | R61: 28651.4 | S61: 42.84 | V61: 119459.2 | W61: 41.19 | Z61: 118765.7 | AA61: 38.6 | AC61: =(F61*G61+H61*I61+J61*K61+L61*M61+N61*O61+P61*Q61+R61*S61+T61*U61+X61*Y61+Z61*AA61)/(F61+H61+J61+L61+N61+P61+R61+T61+X61+Z61) -> 29.335512
A62: Чын куран | B62: Апрель | C62: April | D62: 441839.2 | E62: 32.687132 | F62: 42112.1 | G62: 26.12 | H62: 15585.6 | I62: 40.7 | J62: 7341 | K62: 47.66 | L62: 970 | M62: 56.07 | N62: 117270.1 | O62: 13.52 | R62: 28511.1 | S62: 42.62 | V62: 117676.4 | W62: 44.05 | Z62: 112372.9 | AA62: 38.44 | AC62: =(F62*G62+H62*I62+J62*K62+L62*M62+N62*O62+P62*Q62+R62*S62+T62*U62+X62*Y62+Z62*AA62)/(F62+H62+J62+L62+N62+P62+R62+T62+X62+Z62) -> 28.562226
A63: Бугу | B63: Май | C63: May | D63: 449585.5 | E63: 33.08078 | F63: 52202.1 | G63: 30.42 | H63: 15772.6 | I63: 40.93 | J63: 5283 | K63: 46.03 | L63: 789 | M63: 54.37 | N63: 116500.6 | O63: 12.92 | R63: 30079.8 | S63: 44.25 | V63: 120037.9 | W63: 43.83 | Z63: 108920.5 | AA63: 39.07 | AC63: =(F63*G63+H63*I63+J63*K63+L63*M63+N63*O63+P63*Q63+R63*S63+T63*U63+X63*Y63+Z63*AA63)/(F63+H63+J63+L63+N63+P63+R63+T63+X63+Z63) -> 29.16537
A64: Кулжа | B64: Июнь | C64: June | D64: 467646.3 | E64: 32.068849 | F64: 53031.1 | G64: 26.31 | H64: 15519.5 | I64: 41.12 | J64: 5033 | K64: 39.82 | L64: 3539 | M64: 49.46 | N64: 114618.1 | O64: 12.59 | R64: 29786.6 | S64: 39.88 | V64: 125705.2 | W64: 43.25 | Z64: 120413.8 | AA64: 37.54 | AC64: =(F64*G64+H64*I64+J64*K64+L64*M64+N64*O64+P64*Q64+R64*S64+T64*U64+X64*Y64+Z64*AA64)/(F64+H64+J64+L64+N64+P64+R64+T64+X64+Z64) -> 27.958408
A65: Теке | B65: Июль | C65: July | D65: 499072.5 | E65: 32.522117 | F65: 67235.1 | G65: 27.58 | H65: 16093.8 | I65: 40.68 | J65: 4836 | K65: 35.52 | L65: 3884 | M65: 39.52 | N65: 116528.7 | O65: 13.59 | R65: 29892.8 | S65: 38.86 | V65: 131002.5 | W65: 44.01 | Z65: 129599.6 | AA65: 37.7 | AC65: =(F65*G65+H65*I65+J65*K65+L65*M65+N65*O65+P65*Q65+R65*S65+T65*U65+X65*Y65+Z65*AA65)/(F65+H65+J65+L65+N65+P65+R65+T65+X65+Z65) -> 28.433381
A66: Баш оона | B66: Август | C66: August | D66: 526170.8 | E66: 32.469828 | F66: 70661.6 | G66: 29.71 | H66: 19998.2 | I66: 38.8 | J66: 4834.1 | K66: 35.54 | L66: 3877.5 | M66: 39.59 | N66: 120355.8 | O66: 14.52 | P66: 700 | Q66: 48 | R66: 29893.9 | S66: 38.06 | V66: 130321.2 | W66: 42.9 | Z66: 145528.5 | AA66: 36.93 | AC66: =(F66*G66+H66*I66+J66*K66+L66*M66+N66*O66+P66*Q66+R66*S66+T66*U66+X66*Y66+Z66*AA66)/(F66+H66+J66+L66+N66+P66+R66+T66+X66+Z66) -> 29.036018
A67: Аяк оона | B67: Сентябрь | C67: September | D67: 479635.1 | E67: 36.59802 | F67: 69987.6 | G67: 29.64 | H67: 22922.7 | I67: 37.4 | J67: 9855 | K67: 30.47 | L67: 8837.3 | M67: 17.2 | N67: 37392.7 | O67: 44.36 | P67: 606.8 | Q67: 48 | R67: 28410.8 | S67: 36.79 | V67: 128616.4 | W67: 42.93 | Z67: 173005.8 | AA67: 34.19 | AC67: =(F67*G67+H67*I67+J67*K67+L67*M67+N67*O67+P67*Q67+R67*S67+T67*U67+X67*Y67+Z67*AA67)/(F67+H67+J67+L67+N67+P67+R67+T67+X67+Z67) -> 34.277926
A68: Тогуздун айы | B68: Октябрь | C68: October | D68: 472888 | E68: 38.360706 | F68: 71944.4 | G68: 31.46 | H68: 22178.3 | I68: 37.37 | J68: 7049 | K68: 22.73 | L68: 9953.3 | M68: 20.41 | N68: 38961.7 | O68: 46.63 | P68: 412.8 | Q68: 48 | R68: 28641.2 | S68: 37.28 | V68: 135936.9 | W68: 46.54 | Z68: 157810.4 | AA68: 34.56 | AC68: =(F68*G68+H68*I68+J68*K68+L68*M68+N68*O68+P68*Q68+R68*S68+T68*U68+X68*Y68+Z68*AA68)/(F68+H68+J68+L68+N68+P68+R68+T68+X68+Z68) -> 35.060916
A69: Жетинин айы | B69: Ноябрь | C69: November | D69: 477773.9 | E69: 38.625258 | F69: 73412.1 | G69: 33.15 | H69: 21471.2 | I69: 37.07 | J69: 5599.1 | K69: 15.58 | L69: 10227.8 | M69: 21.11 | N69: 57391.8 | O69: 45.68 | P69: 118.8 | Q69: 48 | R69: 28033.2 | S69: 35.81 | V69: 130828.8 | W69: 43.45 | Z69: 150691.1 | AA69: 37.2 | AC69: =(F69*G69+H69*I69+J69*K69+L69*M69+N69*O69+P69*Q69+R69*S69+T69*U69+X69*Y69+Z69*AA69)/(F69+H69+J69+L69+N69+P69+R69+T69+X69+Z69) -> 36.805907
A70: Бештин айы | B70: Декабрь | C70: December | D70: 457233.7 | E70: 38.664607 | F70: 65929.7 | G70: 33.48 | H70: 20907.2 | I70: 36.39 | J70: 5519 | K70: 15.35 | L70: 7416.3 | M70: 12.14 | N70: 51744.3 | O70: 47.37 | P70: 118.8 | Q70: 48 | R70: 30467.2 | S70: 36.29 | V70: 125486.8 | W70: 42.31 | Z70: 149644.4 | AA70: 37.85 | AC70: =(F70*G70+H70*I70+J70*K70+L70*M70+N70*O70+P70*Q70+R70*S70+T70*U70+X70*Y70+Z70*AA70)/(F70+H70+J70+L70+N70+P70+R70+T70+X70+Z70) -> 37.285699
A71: Үчтүн айы 2001 ж. | B71: Январь 2001 г. | C71: January 2001 | D71: 443839.7 | E71: 39.794873 | F71: 69742.8 | G71: 35.68 | H71: 20974.3 | I71: 36.14 | J71: 3989.6 | K71: 9.45 | L71: 2916.2 | M71: 0 | N71: 47560.1 | O71: 47.09 | P71: 118.8 | Q71: 45 | R71: 30356.8 | S71: 36.16 | V71: 121782.3 | W71: 41.8 | Z71: 146398.8 | AA71: 40.61 | AC71: =(F71*G71+H71*I71+J71*K71+L71*M71+N71*O71+P71*Q71+R71*S71+T71*U71+X71*Y71+Z71*AA71)/(F71+H71+J71+L71+N71+P71+R71+T71+X71+Z71) -> 39.036657
A72: Бирдин айы | B72: Февраль | C72: February | D72: 468294.3 | E72: 39.40168 | F72: 76974.7 | G72: 34.87 | H72: 21219.4 | I72: 36.13 | J72: 6628.7 | K72: 23.72 | L72: 1616.2 | M72: 0 | N72: 65589.1 | O72: 44.16 | P72: 168.8 | Q72: 49.48 | R72: 29398 | S72: 36.08 | V72: 122259.5 | W72: 41.4 | Z72: 144439.9 | AA72: 40.27 | AC72: =(F72*G72+H72*I72+J72*K72+L72*M72+N72*O72+P72*Q72+R72*S72+T72*U72+X72*Y72+Z72*AA72)/(F72+H72+J72+L72+N72+P72+R72+T72+X72+Z72) -> 38.695643
A73: Жалган куран | B73: Март | C73: March | D73: 492191.1 | E73: 38.311416 | F73: 71775.6 | G73: 34.82 | H73: 24724.1 | I73: 31.19 | J73: 6539.1 | K73: 23.43 | L73: 1616.2 | M73: 0 | N73: 67212.3 | O73: 41.52 | P73: 168.8 | Q73: 49.48 | R73: 30848.1 | S73: 35.83 | V73: 135062.3 | W73: 41.55 | Z73: 154244.6 | AA73: 38.36 | AC73: =(F73*G73+H73*I73+J73*K73+L73*M73+N73*O73+P73*Q73+R73*S73+T73*U73+X73*Y73+Z73*AA73)/(F73+H73+J73+L73+N73+P73+R73+T73+X73+Z73) -> 37.086618
A74: Чын куран | B74: Апрель | C74: April | D74: 543445.7 | E74: 37.661592 | F74: 73782.6 | G74: 36.86 | H74: 31838.8 | I74: 31.8 | J74: 4384 | K74: 13.36 | L74: 4537.1 | M74: 15.83 | N74: 75248 | O74: 39.32 | P74: 668.8 | Q74: 49.87 | R74: 34371.8 | S74: 34.74 | V74: 138154.9 | W74: 41.91 | Z74: 180459.7 | AA74: 36.73 | AC74: =(F74*G74+H74*I74+J74*K74+L74*M74+N74*O74+P74*Q74+R74*S74+T74*U74+X74*Y74+Z74*AA74)/(F74+H74+J74+L74+N74+P74+R74+T74+X74+Z74) -> 36.213402
A75: Бугу | B75: Май | C75: May | D75: 514271.6 | E75: 39.315659 | F75: 71217.1 | G75: 36.36 | H75: 39993.6 | I75: 31.98 | J75: 6929.4 | K75: 24.34 | L75: 5337.1 | M75: 24.73 | N75: 77832.2 | O75: 41.21 | P75: 1669.8 | Q75: 60.41 | R75: 33340.9 | S75: 33.64 | V75: 103619.9 | W75: 46.29 | Z75: 174331.6 | AA75: 39.14 | AC75: =(F75*G75+H75*I75+J75*K75+L75*M75+N75*O75+P75*Q75+R75*S75+T75*U75+X75*Y75+Z75*AA75)/(F75+H75+J75+L75+N75+P75+R75+T75+X75+Z75) -> 37.55582
A76: Кулжа | B76: Июнь | C76: June | D76: 523606.4 | E76: 37.143246 | F76: 82383.8 | G76: 36.53 | H76: 39442.6 | I76: 31.36 | J76: 5668.4 | K76: 42.54 | L76: 11129.3 | M76: 24.33 | N76: 85545 | O76: 37.93 | P76: 1565 | Q76: 60.55 | R76: 22865.4 | S76: 22.34 | V76: 114866.7 | W76: 41.28 | Z76: 160140.2 | AA76: 38.08 | AC76: =(F76*G76+H76*I76+J76*K76+L76*M76+N76*O76+P76*Q76+R76*S76+T76*U76+X76*Y76+Z76*AA76)/(F76+H76+J76+L76+N76+P76+R76+T76+X76+Z76) -> 35.980709
A77: Теке | B77: Июль | C77: July | D77: 542646.5 | E77: 35.730664 | F77: 79936.8 | G77: 37.66 | H77: 39459 | I77: 30.66 | J77: 3450.6 | K77: 39.04 | L77: 10836.3 | M77: 23.81 | N77: 107758.8 | O77: 33.27 | P77: 3226 | Q77: 44.61 | R77: 23546 | S77: 23.09 | V77: 120713.3 | W77: 39.78 | Z77: 153719.7 | AA77: 37.09 | AC77: =(F77*G77+H77*I77+J77*K77+L77*M77+N77*O77+P77*Q77+R77*S77+T77*U77+X77*Y77+Z77*AA77)/(F77+H77+J77+L77+N77+P77+R77+T77+X77+Z77) -> 34.572166
... A97: Жалган куран | B97: Март | C97: March | D97: 809844.9 | E97: 28.022705 | F97: 79950.8 | G97: 30.29 | H97: 31049 | I97: 30.31 | J97: 10913.1 | K97: 27.67 | L97: 20500 | M97: 17.98 | N97: 139725.2 | O97: 28.48 | P97: 13371.9 | Q97: 35.69 | R97: 22101.6 | S97: 19.11 | V97: 130556.8 | W97: 34.67 | Z97: 361676.5 | AA97: 25.59 | AC97: =(F97*G97+H97*I97+J97*K97+L97*M97+N97*O97+P97*Q97+R97*S97+T97*U97+X97*Y97+Z97*AA97)/(F97+H97+J97+L97+N97+P97+R97+T97+X97+Z97) -> 26.745118
A98: Чын куран | B98: Апрель | C98: April | D98: 838082.3 | E98: 27.054495 | F98: 141418.4 | G98: 26.29 | H98: 33892.3 | I98: 30.96 | J98: 10799.3 | K98: 27.78 | L98: 25800 | M98: 17.78 | N98: 346090.2 | O98: 29.97 | P98: 14686.6 | Q98: 36.08 | R98: 17774.2 | S98: 28.17 | T98: 8124 | U98: 9.77 | V98: 39676.1 | W98: 25 | X98: 853.6 | Y98: 7.03 | Z98: 198967.6 | AA98: 23.46 | AC98: =(F98*G98+H98*I98+J98*K98+L98*M98+N98*O98+P98*Q98+R98*S98+T98*U98+X98*Y98+Z98*AA98)/(F98+H98+J98+L98+N98+P98+R98+T98+X98+Z98) -> 27.156592
A99: Бугу | B99: Май | C99: May | D99: 937736.4 | E99: 26.887566 | F99: 136072.7 | G99: 26.65 | H99: 32508.7 | I99: 31.51 | J99: 16226.4 | K99: 25.51 | L99: 27198 | M99: 17.65 | N99: 415800.1 | O99: 29.16 | P99: 11822.2 | Q99: 34.7 | R99: 17286.9 | S99: 27.88 | T99: 9729.4 | U99: 9.22 | V99: 44848.6 | W99: 26.66 | Z99: 226243.4 | AA99: 23.72 | AC99: =(F99*G99+H99*I99+J99*K99+L99*M99+N99*O99+P99*Q99+R99*S99+T99*U99+X99*Y99+Z99*AA99)/(F99+H99+J99+L99+N99+P99+R99+T99+X99+Z99) -> 26.898996
A100: Кулжа | B100: Июнь | C100: June | D100: 972503.22 | E100: 26.760259 | F100: 133372 | G100: 27 | H100: 33831.8 | I100: 31.48 | J100: 16249.3 | K100: 25.52 | L100: 32198 | M100: 16.61 | N100: 444162.35 | O100: 28.91 | P100: 11772.2 | Q100: 35.61 | R100: 19448.5 | S100: 28.18 | T100: 14044.77 | U100: 11.06 | V100: 42731.2 | W100: 26.06 | Z100: 224693.1 | AA100: 23.73 | AC100: =(F100*G100+H100*I100+J100*K100+L100*M100+N100*O100+P100*Q100+R100*S100+T100*U100+X100*Y100+Z100*AA100)/(F100+H100+J100+L100+N100+P100+R100+T100+X100+Z100) -> 26.792442
A101: Теке | B101: Июль | C101: July | D101: 1007158.1 | E101: 26.862343 | F101: 140759 | G101: 26.74 | H101: 35155.89 | I101: 31.04 | J101: 15329.7 | K101: 21.89 | L101: 50198 | M101: 16.75 | N101: 445517.79 | O101: 29.7 | P101: 12679.68 | Q101: 33.9 | R101: 19086.69 | S101: 30.5 | T101: 15513.73 | U101: 10.76 | V101: 50753.46 | W101: 27.81 | Z101: 222164.17 | AA101: 23.41 | AC101: =(F101*G101+H101*I101+J101*K101+L101*M101+N101*O101+P101*Q101+R101*S101+T101*U101+X101*Y101+Z101*AA101)/(F101+H101+J101+L101+N101+P101+R101+T101+X101+Z101) -> 26.812053
A102: Баш оона | B102: Август | C102: August | D102: 1038799.3 | E102: 26.348754 | F102: 152566.4 | G102: 25.57 | H102: 37534.9 | I102: 30.58 | J102: 14380 | K102: 22.11 | L102: 50502.2 | M102: 16.8 | N102: 455863.1 | O102: 28.79 | P102: 13924.5 | Q102: 33.73 | R102: 18667.3 | S102: 27.35 | T102: 16422.6 | U102: 11.52 | V102: 61659.6 | W102: 28.09 | X102: 50 | Y102: 25 | Z102: 217228.7 | AA102: 23.61 | AC102: =(F102*G102+H102*I102+J102*K102+L102*M102+N102*O102+P102*Q102+R102*S102+T102*U102+X102*Y102+Z102*AA102)/(F102+H102+J102+L102+N102+P102+R102+T102+X102+Z102) -> 26.238878
A103: Аяк оона | B103: Сентябрь | C103: September | D103: 1051179.3 | E103: 25.851075 | F103: 139147.5 | G103: 24.03 | H103: 42655.4 | I103: 29.76 | J103: 12465 | K103: 22.43 | L103: 45198 | M103: 16.84 | N103: 468021.9 | O103: 28.37 | P103: 9702.1 | Q103: 33.31 | R103: 29160.9 | S103: 27.18 | T103: 20157.4 | U103: 12.85 | V103: 76308.7 | W103: 28.26 | X103: 50 | Y103: 25 | Z103: 208312.4 | AA103: 22.61 | AC103: =(F103*G103+H103*I103+J103*K103+L103*M103+N103*O103+P103*Q103+R103*S103+T103*U103+X103*Y103+Z103*AA103)/(F103+H103+J103+L103+N103+P103+R103+T103+X103+Z103) -> 25.662514
A104: Тогуздун айы | B104: Октябрь | C104: October | D104: 1096702.1 | E104: 25.872724 | F104: 146414.6 | G104: 25.17 | H104: 44024.7 | I104: 29.81 | J104: 10845 | K104: 22.68 | L104: 36864.7 | M104: 17.02 | N104: 495269.8 | O104: 27.86 | P104: 13646.5 | Q104: 30.39 | R104: 33912.2 | S104: 26.93 | T104: 24350.8 | U104: 14.64 | V104: 79540.1 | W104: 28.32 | Z104: 211833.7 | AA104: 22.51 | AC104: =(F104*G104+H104*I104+J104*K104+L104*M104+N104*O104+P104*Q104+R104*S104+T104*U104+X104*Y104+Z104*AA104)/(F104+H104+J104+L104+N104+P104+R104+T104+X104+Z104) -> 25.681352
A105: Жетинин айы | B105: Ноябрь | C105: November | D105: 1165077.1 | E105: 25.069387 | F105: 145172.3 | G105: 25.02 | H105: 45104.7 | I105: 29.68 | J105: 17785 | K105: 21.13 | L105: 38364.6 | M105: 16.98 | N105: 539221.4 | O105: 27.36 | P105: 13477.1 | Q105: 30.13 | R105: 33979.5 | S105: 25.5 | T105: 25791.5 | U105: 15.64 | V105: 84385.8 | W105: 28.39 | Z105: 221795.2 | AA105: 19.77 | AC105: =(F105*G105+H105*I105+J105*K105+L105*M105+N105*O105+P105*Q105+R105*S105+T105*U105+X105*Y105+Z105*AA105)/(F105+H105+J105+L105+N105+P105+R105+T105+X105+Z105) -> 24.810097
A106: Бештин айы | B106: Декабрь | C106: December | D106: 1127403.4 | E106: 25.169794 | F106: 92251.1 | G106: 26.29 | H106: 48315.3 | I106: 29 | J106: 18120 | K106: 20.92 | L106: 36533.3 | M106: 16.94 | N106: 571957.4 | O106: 26.68 | P106: 14262.3 | Q106: 29.68 | R106: 31406.8 | S106: 23.93 | T106: 26731.7 | U106: 15.87 | V106: 93201.7 | W106: 28.27 | X106: 54.5 | Y106: 30 | Z106: 194569.3 | AA106: 20.85 | AC106: =(F106*G106+H106*I106+J106*K106+L106*M106+N106*O106+P106*Q106+R106*S106+T106*U106+X106*Y106+Z106*AA106)/(F106+H106+J106+L106+N106+P106+R106+T106+X106+Z106) -> 24.890406
A107: Үчтүн айы 2004 ж. | B107: Январь 2004 г. | C107: January 2004 | D107: 1152520.7 | E107: 25.218234 | F107: 92564.1 | G107: 25.78 | H107: 48241.4 | I107: 28.96 | J107: 18247.4 | K107: 21.05 | L107: 28638.7 | M107: 17.14 | N107: 594761.6 | O107: 26.65 | P107: 14091.4 | Q107: 29.33 | R107: 37415.6 | S107: 24.43 | T107: 28540.2 | U107: 16.31 | V107: 95487.6 | W107: 28.26 | X107: 97.2 | Y107: 27.78 | Z107: 194435.5 | AA107: 20.89 | AC107: =(F107*G107+H107*I107+J107*K107+L107*M107+N107*O107+P107*Q107+R107*S107+T107*U107+X107*Y107+Z107*AA107)/(F107+H107+J107+L107+N107+P107+R107+T107+X107+Z107) -> 24.943455
A108: Бирдин айы | B108: Февраль | C108: February | D108: 1202617.4 | E108: 25.228043 | F108: 87178.3 | G108: 25.63 | H108: 50739.2 | I108: 29.15 | J108: 18309.7 | K108: 21.06 | L108: 44472 | M108: 16.74 | N108: 590193.4 | O108: 26.81 | P108: 17460 | Q108: 28.43 | R108: 52590.9 | S108: 23.4 | T108: 31709.9 | U108: 16.71 | V108: 104162.9 | W108: 28.32 | X108: 53.4 | Y108: 30 | Z108: 205747.7 | AA108: 21.7 | AC108: =(F108*G108+H108*I108+J108*K108+L108*M108+N108*O108+P108*Q108+R108*S108+T108*U108+X108*Y108+Z108*AA108)/(F108+H108+J108+L108+N108+P108+R108+T108+X108+Z108) -> 24.934843
A109: Жалган куран | B109: Март | C109: March | D109: 1336943.9 | E109: 24.915705 | F109: 87643.7 | G109: 25.99 | H109: 64914 | I109: 27.03 | J109: 19117.6 | K109: 21.18 | L109: 42172 | M109: 16.89 | N109: 671408.7 | O109: 26.17 | P109: 18566.7 | Q109: 27.95 | R109: 56424 | S109: 23.13 | T109: 47499.6 | U109: 17.75 | V109: 115532.6 | W109: 28.63 | X109: 53.2 | Y109: 30 | Z109: 213611.8 | AA109: 21.6 | AC109: =(F109*G109+H109*I109+J109*K109+L109*M109+N109*O109+P109*Q109+R109*S109+T109*U109+X109*Y109+Z109*AA109)/(F109+H109+J109+L109+N109+P109+R109+T109+X109+Z109) -> 24.564372
A110: Чын куран | B110: Апрель | C110: April | D110: 1398778.9 | E110: 24.503975 | F110: 95491.1 | G110: 22.33 | H110: 70359.5 | I110: 26.58 | J110: 19650.4 | K110: 21.26 | L110: 34379.9 | M110: 17.47 | N110: 690234.5 | O110: 25.94 | P110: 15725.8 | Q110: 27.3 | R110: 60567.3 | S110: 23.84 | T110: 62022.2 | U110: 18.39 | V110: 127072.1 | W110: 28.63 | X110: 52.8 | Y110: 30 | Z110: 223223.3 | AA110: 21.04 | AC110: =(F110*G110+H110*I110+J110*K110+L110*M110+N110*O110+P110*Q110+R110*S110+T110*U110+X110*Y110+Z110*AA110)/(F110+H110+J110+L110+N110+P110+R110+T110+X110+Z110) -> 24.091692
A111: Бугу | B111: Май | C111: May | D111: 1450288.5 | E111: 24.312411 | F111: 102658.7 | G111: 21.83 | H111: 72096.6 | I111: 26.9 | J111: 17498.6 | K111: 20.27 | L111: 35835.3 | M111: 17.41 | N111: 709131.7 | O111: 25.59 | P111: 13678.1 | Q111: 27.29 | R111: 62880.7 | S111: 23.61 | T111: 70975.5 | U111: 18.85 | V111: 131349.4 | W111: 28.88 | X111: 57.5 | Y111: 29.13 | Z111: 234126.4 | AA111: 21.2 | AC111: =(F111*G111+H111*I111+J111*K111+L111*M111+N111*O111+P111*Q111+R111*S111+T111*U111+X111*Y111+Z111*AA111)/(F111+H111+J111+L111+N111+P111+R111+T111+X111+Z111) -> 23.857537
A112: Кулжа | B112: Июнь | C112: June | D112: 1515152.8 | E112: 24.156063 | F112: 98751.6 | G112: 23.13 | H112: 70616.8 | I112: 26.51 | J112: 19239.7 | K112: 20.49 | L112: 36918.7 | M112: 16.83 | N112: 744734.9 | O112: 25.45 | P112: 12532.2 | Q112: 27.14 | R112: 75036 | S112: 22.65 | T112: 84258.6 | U112: 18.93 | V112: 138805.3 | W112: 27.99 | X112: 320 | Y112: 29.84 | Z112: 233939 | AA112: 21.14 | AC112: =(F112*G112+H112*I112+J112*K112+L112*M112+N112*O112+P112*Q112+R112*S112+T112*U112+X112*Y112+Z112*AA112)/(F112+H112+J112+L112+N112+P112+R112+T112+X112+Z112) -> 23.769409
A113: Теке | B113: Июль | C113: July | D113: 1551390.6 | E113: 24.205417 | F113: 101343.7 | G113: 21.52 | H113: 71027.1 | I113: 26.48 | J113: 19841.1 | K113: 20.74 | L113: 29613.3 | M113: 17 | N113: 772997.7 | O113: 25.39 | P113: 12027.6 | Q113: 27.18 | R113: 72402 | S113: 22.87 | T113: 89564.8 | U113: 19.14 | V113: 139140 | W113: 29.21 | X113: 680 | Y113: 28.66 | Z113: 242753.3 | AA113: 21.29 | AC113: =(F113*G113+H113*I113+J113*K113+L113*M113+N113*O113+P113*Q113+R113*S113+T113*U113+X113*Y113+Z113*AA113)/(F113+H113+J113+L113+N113+P113+R113+T113+X113+Z113) -> 23.712347
A114: Баш оона | B114: Август | C114: August | D114: 1600237 | E114: 24.302536 | F114: 100537.6 | G114: 20.36 | H114: 71060.8 | I114: 26.52 | J114: 20023.5 | K114: 20.73 | L114: 23380 | M114: 17.26 | N114: 795752.4 | O114: 25.63 | P114: 11721.3 | Q114: 27.03 | R114: 64003.9 | S114: 24.65 | T114: 96667.9 | U114: 19.54 | V114: 144292.6 | W114: 29.12 | X114: 3957.5 | Y114: 28.06 | Z114: 268839.5 | AA114: 21.01 | AC114: =(F114*G114+H114*I114+J114*K114+L114*M114+N114*O114+P114*Q114+R114*S114+T114*U114+X114*Y114+Z114*AA114)/(F114+H114+J114+L114+N114+P114+R114+T114+X114+Z114) -> 23.825097
A115: Аяк оона | B115: Сентябрь | C115: September | D115: 1597647.4 | E115: 24.364105 | F115: 99245.6 | G115: 20.78 | H115: 69431.8 | I115: 26.52 | J115: 25132.4 | K115: 20.43 | L115: 17146.6 | M115: 17.72 | N115: 810340.4 | O115: 25.65 | P115: 11654.5 | Q115: 26.84 | R115: 67781.7 | S115: 23.9 | T115: 93765.1 | U115: 19.54 | V115: 140815.5 | W115: 29.14 | X115: 5250 | Y115: 28.95 | Z115: 257083.8 | AA115: 21 | AC115: =(F115*G115+H115*I115+J115*K115+L115*M115+N115*O115+P115*Q115+R115*S115+T115*U115+X115*Y115+Z115*AA115)/(F115+H115+J115+L115+N115+P115+R115+T115+X115+Z115) -> 23.902473
A116: Тогуздун айы | B116: Октябрь | C116: October | D116: 1627797.4 | E116: 24.097248 | F116: 98779.7 | G116: 20.58 | H116: 70219.5 | I116: 26.13 | J116: 27815.4 | K116: 20.6 | L116: 13747.2 | M116: 18.15 | N116: 844003.8 | O116: 25.11 | P116: 16992.8 | Q116: 25 | R116: 74161.5 | S116: 23.45 | T116: 90681.4 | U116: 19.3 | V116: 148918.2 | W116: 28.35 | X116: 5452.5 | Y116: 28.93 | Z116: 237025.4 | AA116: 21.3 | AC116: =(F116*G116+H116*I116+J116*K116+L116*M116+N116*O116+P116*Q116+R116*S116+T116*U116+X116*Y116+Z116*AA116)/(F116+H116+J116+L116+N116+P116+R116+T116+X116+Z116) -> 23.66901
A117: Жетинин айы | B117: Ноябрь | C117: November | D117: 1692800.3 | E117: 23.934205 | F117: 97961.9 | G117: 19.99 | H117: 70285.7 | I117: 26.33 | J117: 30299.3 | K117: 20.39 | L117: 7934.2 | M117: 17.64 | N117: 906197.7 | O117: 24.77 | P117: 16591.4 | Q117: 24.89 | R117: 73739.6 | S117: 23.56 | T117: 87330.1 | U117: 19.3 | V117: 155015.3 | W117: 28.49 | X117: 5349 | Y117: 28.87 | Z117: 242096.1 | AA117: 21.05 | AC117: =(F117*G117+H117*I117+J117*K117+L117*M117+N117*O117+P117*Q117+R117*S117+T117*U117+X117*Y117+Z117*AA117)/(F117+H117+J117+L117+N117+P117+R117+T117+X117+Z117) -> 23.474962
... A134: Чын куран | B134: Апрель | C134: April | D134: 2742726.5 | E134: 24.618186 | F134: 137288.4 | G134: 18.606029 | H134: 170927.9 | I134: 27.743926 | J134: 12714.9 | K134: 26.395642 | L134: 1474 | M134: 19 | N134: 1486043.5 | O134: 26.246908 | P134: 17612.1 | Q134: 24.422346 | R134: 110518.9 | S134: 20.383099 | T134: 157518 | U134: 19.202449 | V134: 243424.7 | W134: 27.721233 | X134: 5431.5 | Y134: 31.393119 | Z134: 399772.6 | AA134: 20.588092 | AC134: =(F134*G134+H134*I134+J134*K134+L134*M134+N134*O134+P134*Q134+R134*S134+T134*U134+X134*Y134+Z134*AA134)/(F134+H134+J134+L134+N134+P134+R134+T134+X134+Z134) -> 24.315959
A135: Бугу | B135: Май | C135: May | D135: 2874721.3 | E135: 24.519126 | F135: 126200 | G135: 18.464479 | H135: 200846.2 | I135: 27.940313 | J135: 18823.5 | K135: 22.263648 | N135: 1546971.4 | O135: 26.331998 | P135: 16416.5 | Q135: 22.820104 | R135: 110512.7 | S135: 20.137987 | T135: 175541.8 | U135: 18.691679 | V135: 249825.3 | W135: 27.738717 | X135: 5738.2 | Y135: 30.694316 | Z135: 423845.7 | AA135: 19.824526 | AC135: =(F135*G135+H135*I135+J135*K135+L135*M135+N135*O135+P135*Q135+R135*S135+T135*U135+X135*Y135+Z135*AA135)/(F135+H135+J135+L135+N135+P135+R135+T135+X135+Z135) -> 24.212701
A136: Кулжа | B136: Июнь | C136: June | D136: 2945330 | E136: 24.52851 | F136: 120999.1 | G136: 18.086421 | H136: 217525.6 | I136: 28.006402 | J136: 26981.9 | K136: 21.516904 | L136: 40 | M136: 34 | N136: 1557254.5 | O136: 26.490834 | P136: 17766.7 | Q136: 22.837339 | R136: 114614.9 | S136: 20.410553 | T136: 177763.8 | U136: 18.601267 | V136: 268471.5 | W136: 27.377351 | X136: 5708.5 | Y136: 31.073418 | Z136: 438203.5 | AA136: 19.511385 | AC136: =(F136*G136+H136*I136+J136*K136+L136*M136+N136*O136+P136*Q136+R136*S136+T136*U136+X136*Y136+Z136*AA136)/(F136+H136+J136+L136+N136+P136+R136+T136+X136+Z136) -> 24.242789
A137: Теке | B137: Июль | C137: July | D137: 2955377.2 | E137: 24.633741 | F137: 118317.4 | G137: 18.109752 | H137: 229162.8 | I137: 28.270092 | J137: 30113.6 | K137: 21.415775 | L137: 37.1 | M137: 34 | N137: 1540192.4 | O137: 26.725881 | P137: 19417 | Q137: 22.759481 | R137: 112777.8 | S137: 20.271413 | T137: 173066.3 | U137: 18.526544 | V137: 284363.1 | W137: 26.880242 | X137: 5047.9 | Y137: 31.240912 | Z137: 442881.8 | AA137: 19.499157 | AC137: =(F137*G137+H137*I137+J137*K137+L137*M137+N137*O137+P137*Q137+R137*S137+T137*U137+X137*Y137+Z137*AA137)/(F137+H137+J137+L137+N137+P137+R137+T137+X137+Z137) -> 24.394573
...

Sheet 4. отрасли_ин вал
A2: 4-таблица. Тармактар боюнча чет өлкө валютасындагы кредиттер жана кредиттердин орточо салмактанып алынган пайыздык чендери (бир мезгилдин акырына карата) | B2: Таблица 4. Общий объем и средневзвешенные процентные ставки кредитов в разрезе отраслей в иностранной валюте (на конец периода) | C2: Table 4. Total volume and average weighted interest rates of credits by sectors in Foreign currency (the end of period)
A4: (миң сом / пайыздар) | B4: (тыс. сомов / проценты) | C4: (ths of soms / percent)
A5: Мезгил аралыгы | B5: Период | C5: Period | D5: Жалпы чет өлкө валютасында | F5: Өнөр жайы | H5: Айыл чарбасы | J5: Транспорт | L5: Байланыш | N5: Cоода | P5: Даярдоо жана кайра иштетүү ишканалары | R5: Курулуш | T5: Ипотека | V5: Керектөө кредиттери | X5: Социалдык кызмат көрсөтүүлөр | Z5: Жана башкалаp | AC5: Керектөө кредиттерин эске албагандагы орточо салмактанып алынган чендер
D6: Итого в ин. валюте | F6: Промышленность | H6: Сельское хоз-во | J6: Транспорт | L6: Связь | N6: Торговля и коммерческие операции | P6: Заготовка и переработка | R6: Строительство | T6: Ипотека | V6: Потребительские кредиты | X6: Социальные услуги | Z6: Прочие
D7: Total in Foreign currency | F7: Industry | H7: Agriculture | J7: Transport | L7: Communication | N7: Trade | P7: Procurement and processing | R7: Construction | T7: Mortgage | V7: Consumer loans | X7: Social services | Z7: Others | AC7: Средневзв. ставка без учета потребительских кредитов
D8: көлөм | E8: орточо салмактанып алынган чендер | F8: көлөм | G8: орточо салмактанып алынган чендер | H8: көлөм | I8: орточо салмактанып алынган чендер | J8: көлөм | K8: орточо салмактанып алынган чендер | L8: көлөм | M8: орточо салмактанып алынган чендер | N8: көлөм | O8: орточо салмактанып алынган чендер | P8: көлөм | Q8: орточо салмактанып алынган чендер | R8: көлөм | S8: орточо салмактанып алынган чендер | T8: көлөм | U8: орточо салмактанып алынган чендер | V8: көлөм | W8: орточо салмактанып алынган чендер | X8: көлөм | Y8: орточо салмактанып алынган чендер | Z8: көлөм | AA8: орточо салмактанып алынган чендер
D9: объем | E9: средневзв. ставка | F9: объем | G9: средневзв. ставка | H9: объем | I9: средневзв. ставка | J9: объем | K9: средневзв. ставка | L9: объем | M9: средневзв. ставка | N9: объем | O9: средневзв. ставка | P9: объем | Q9: средневзв. ставка | R9: объем | S9: средневзв. ставка | T9: объем | U9: средневзв. ставка | V9: объем | W9: средневзв. ставка | X9: объем | Y9: средневзв. ставка | Z9: объем | AA9: средневзв. ставка | AC9: Average weighted interest rate excluding consumer loans
D10: volume | E10: average weighted interest rate | F10: volume | G10: average weighted interest rate | H10: volume | I10: average weighted interest rate | J10: volume | K10: average weighted interest rate | L10: volume | M10: average weighted interest rate | N10: volume | O10: average weighted interest rate | P10: volume | Q10: average weighted interest rate | R10: volume | S10: average weighted interest rate | T10: volume | U10: average weighted interest rate | V10: volume | W10: average weighted interest rate | X10: volume | Y10: average weighted interest rate | Z10: volume | AA10: average weighted interest rate
A11: Үчтүн айы 1996 ж. | B11: Январь 1996 г. | C11: January 1996 | D11: 48183.2 | E11: 42.721718 | F11: 3510 | G11: 23.272792 | N11: 9197.2 | O11: 35.513743 | V11: 6373 | W11: 54.157853 | Z11: 29103 | AA11: 44.840965 | AC11: =(F11*G11+H11*I11+J11*K11+L11*M11+N11*O11+P11*Q11+R11*S11+T11*U11+X11*Y11+Z11*AA11)/(F11+H11+J11+L11+N11+P11+R11+T11+X11+Z11) -> 40.978544
A12: Бирдин айы | B12: Февраль | C12: February | D12: 44898.2 | E12: 37.682677 | F12: 3576 | G12: 23.162752 | L12: 703 | M12: 12.3 | N12: 8633 | O12: 39.420595 | V12: 4582.2 | W12: 36.313452 | Z12: 27404 | AA12: 39.910012 | AC12: =(F12*G12+H12*I12+J12*K12+L12*M12+N12*O12+P12*Q12+R12*S12+T12*U12+X12*Y12+Z12*AA12)/(F12+H12+J12+L12+N12+P12+R12+T12+X12+Z12) -> 37.838299
A13: Жалган куран | B13: Март | C13: March | D13: 65213.5 | E13: 40.797804 | F13: 3594 | G13: 23.362938 | L13: 700 | M13: 12.3 | N13: 11699 | O13: 41.479357 | V13: 8298.7 | W13: 52.012888 | Z13: 40921.8 | AA13: 40.347317 | AC13: =(F13*G13+H13*I13+J13*K13+L13*M13+N13*O13+P13*Q13+R13*S13+T13*U13+X13*Y13+Z13*AA13)/(F13+H13+J13+L13+N13+P13+R13+T13+X13+Z13) -> 39.162542
A14: Чын куран | B14: Апрель | C14: April | D14: 72842.6 | E14: 43.225455 | F14: 3688 | G14: 23.129067 | L14: 718 | M14: 12.5 | N14: 19323.5 | O14: 38.916475 | V14: 7005.9 | W14: 58.29943 | Z14: 42107.2 | AA14: 44.978935 | AC14: =(F14*G14+H14*I14+J14*K14+L14*M14+N14*O14+P14*Q14+R14*S14+T14*U14+X14*Y14+Z14*AA14)/(F14+H14+J14+L14+N14+P14+R14+T14+X14+Z14) -> 41.621383
A15: Бугу | B15: Май | C15: May | D15: 77184.3 | E15: 48.012647 | F15: 3957 | G15: 23.12421 | L15: 1378 | M15: 12.5 | N15: 16410.8 | O15: 43.249019 | V15: 13184 | W15: 60.302937 | Z15: 42254.5 | AA15: 49.516859 | AC15: =(F15*G15+H15*I15+J15*K15+L15*M15+N15*O15+P15*Q15+R15*S15+T15*U15+X15*Y15+Z15*AA15)/(F15+H15+J15+L15+N15+P15+R15+T15+X15+Z15) -> 45.480859
A16: Кулжа | B16: Июнь | C16: June | D16: 84011.2 | E16: 49.568022 | F16: 3863 | G16: 23.129692 | L16: 1345 | M16: 12.5 | N16: 15329 | O16: 44.369691 | V16: 17376.8 | W16: 66.426172 | Z16: 46097.4 | AA16: 48.23893 | AC16: =(F16*G16+H16*I16+J16*K16+L16*M16+N16*O16+P16*Q16+R16*S16+T16*U16+X16*Y16+Z16*AA16)/(F16+H16+J16+L16+N16+P16+R16+T16+X16+Z16) -> 45.171784
A17: Теке | B17: Июль | C17: July | D17: 86555.2 | E17: 48.34743 | F17: 3862 | G17: 23.124029 | L17: 4251 | M17: 10.107386 | N17: 15329 | O17: 43.012721 | V17: 17611.1 | W17: 66.443292 | Z17: 45502.1 | AA17: 48.854196 | AC17: =(F17*G17+H17*I17+J17*K17+L17*M17+N17*O17+P17*Q17+R17*S17+T17*U17+X17*Y17+Z17*AA17)/(F17+H17+J17+L17+N17+P17+R17+T17+X17+Z17) -> 43.725018
A18: Баш оона | B18: Август | C18: August | D18: 85153.9 | E18: 45.312454 | F18: 6582 | G18: 11.052492 | H18: 43 | I18: 45 | J18: 3038 | K18: 9 | L18: 590 | M18: 12.5 | N18: 18117 | O18: 42.931556 | V18: 25976 | W18: 47.911811 | Z18: 30807.9 | AA18: 56.050056 | AC18: =(F18*G18+H18*I18+J18*K18+L18*M18+N18*O18+P18*Q18+R18*S18+T18*U18+X18*Y18+Z18*AA18)/(F18+H18+J18+L18+N18+P18+R18+T18+X18+Z18) -> 44.171473
A19: Аяк оона | B19: Сентябрь | C19: September | D19: 110290 | E19: 50.223743 | F19: 9268 | G19: 11.367825 | J19: 3312 | K19: 9 | L19: 644 | M19: 12 | N19: 19968 | O19: 41.225511 | V19: 20080 | W19: 46.689084 | Z19: 57018 | AA19: 63.761897 | AC19: =(F19*G19+H19*I19+J19*K19+L19*M19+N19*O19+P19*Q19+R19*S19+T19*U19+X19*Y19+Z19*AA19)/(F19+H19+J19+L19+N19+P19+R19+T19+X19+Z19) -> 51.010529
A20: Тогуздун айы | B20: Октябрь | C20: October | D20: 139434.5 | E20: 55.15149 | F20: 11148.4 | G20: 12.116358 | J20: 3850 | K20: 9 | L20: 748 | M20: 12.5 | N20: 19110.6 | O20: 40.415633 | V20: 7408.5 | W20: 35.601606 | Z20: 97169 | AA20: 66.634637 | AC20: =(F20*G20+H20*I20+J20*K20+L20*M20+N20*O20+P20*Q20+R20*S20+T20*U20+X20*Y20+Z20*AA20)/(F20+H20+J20+L20+N20+P20+R20+T20+X20+Z20) -> 56.248512
A21: Жетинин айы | B21: Ноябрь | C21: November | D21: 144701.7 | E21: 56.70138 | F21: 10334.7 | G21: 15.678288 | J21: 4087 | K21: 9 | N21: 22604.4 | O21: 43.309267 | V21: 9712.6 | W21: 29.560849 | Z21: 97963 | AA21: 68.800261 | AC21: =(F21*G21+H21*I21+J21*K21+L21*M21+N21*O21+P21*Q21+R21*S21+T21*U21+X21*Y21+Z21*AA21)/(F21+H21+J21+L21+N21+P21+R21+T21+X21+Z21) -> 58.654168
A22: Бештин айы | B22: Декабрь | C22: December | D22: 157052.3 | E22: 56.628306 | F22: 11528 | G22: 19.844813 | J22: 4175 | K22: 9 | L22: 450 | M22: 45 | N22: 27434 | O22: 41.911424 | V22: 9929.3 | W22: 40.004532 | Z22: 103536 | AA22: 68.188791 | AC22: =(F22*G22+H22*I22+J22*K22+L22*M22+N22*O22+P22*Q22+R22*S22+T22*U22+X22*Y22+Z22*AA22)/(F22+H22+J22+L22+N22+P22+R22+T22+X22+Z22) -> 57.750241
A23: Үчтүн айы 1997 ж. | B23: Январь 1997 г. | C23: January 1997 | D23: 176134.5 | E23: 55.348819 | F23: 15702 | G23: 22.17 | H23: 2220 | I23: 60 | J23: 4287 | K23: 9 | N23: 35784.6 | O23: 41 | R23: 3526 | S23: 12.6 | V23: 10290.9 | W23: 42.93 | Z23: 104324 | AA23: 69.74 | AC23: =(F23*G23+H23*I23+J23*K23+L23*M23+N23*O23+P23*Q23+R23*S23+T23*U23+X23*Y23+Z23*AA23)/(F23+H23+J23+L23+N23+P23+R23+T23+X23+Z23) -> 56.11943
A24: Бирдин айы | B24: Февраль | C24: February | D24: 182584.3 | E24: 51.240578 | F24: 17994 | G24: 20.54 | J24: 4304 | K24: 9 | N24: 37211.8 | O24: 41.76 | R24: 6886 | S24: 12.6 | V24: 83312.5 | W24: 73.05 | Z24: 32876 | AA24: 37.13 | AC24: =(F24*G24+H24*I24+J24*K24+L24*M24+N24*O24+P24*Q24+R24*S24+T24*U24+X24*Y24+Z24*AA24)/(F24+H24+J24+L24+N24+P24+R24+T24+X24+Z24) -> 32.93732
A25: Жалган куран | B25: Март | C25: March | D25: 208492 | E25: 51.166285 | F25: 21414 | G25: 19.04 | J25: 4410 | K25: 9 | N25: 41530 | O25: 43.54 | R25: 7769 | S25: 15.21 | V25: 67999 | W25: 72.04 | Z25: 65370 | AA25: 51.94 | AC25: =(F25*G25+H25*I25+J25*K25+L25*M25+N25*O25+P25*Q25+R25*S25+T25*U25+X25*Y25+Z25*AA25)/(F25+H25+J25+L25+N25+P25+R25+T25+X25+Z25) -> 41.063349
A26: Чын куран | B26: Апрель | C26: April | D26: 224503.9 | E26: 51.331126 | F26: 22498 | G26: 17.53 | J26: 4415 | K26: 9 | N26: 40719 | O26: 44.35 | R26: 7776 | S26: 15.85 | V26: 59834.2 | W26: 61.52 | Z26: 89261.7 | AA26: 61.39 | AC26: =(F26*G26+H26*I26+J26*K26+L26*M26+N26*O26+P26*Q26+R26*S26+T26*U26+X26*Y26+Z26*AA26)/(F26+H26+J26+L26+N26+P26+R26+T26+X26+Z26) -> 47.628908
A27: Бугу | B27: Май | C27: May | D27: 253169.3 | E27: 49.746999 | F27: 24141 | G27: 21.24 | J27: 5866 | K27: 20.36 | N27: 40819 | O27: 42.09 | R27: 9438 | S27: 21.28 | V27: 59651.3 | W27: 59.9 | Z27: 113254 | AA27: 57.13 | AC27: =(F27*G27+H27*I27+J27*K27+L27*M27+N27*O27+P27*Q27+R27*S27+T27*U27+X27*Y27+Z27*AA27)/(F27+H27+J27+L27+N27+P27+R27+T27+X27+Z27) -> 46.617369
A28: Кулжа | B28: Июнь | C28: June | D28: 276075.3 | E28: 49.270764 | F28: 24698.8 | G28: 21.13 | J28: 21210 | K28: 23.14 | N28: 35842.5 | O28: 42.3 | R28: 9250 | S28: 21.4 | V28: 59252 | W28: 56.5 | Z28: 125822 | AA28: 59.83 | AC28: =(F28*G28+H28*I28+J28*K28+L28*M28+N28*O28+P28*Q28+R28*S28+T28*U28+X28*Y28+Z28*AA28)/(F28+H28+J28+L28+N28+P28+R28+T28+X28+Z28) -> 47.295208
A29: Теке | B29: Июль | C29: July | D29: 309629.5 | E29: 38.627671 | F29: 25118 | G29: 16.57 | H29: 864 | I29: 60 | J29: 19268 | K29: 20.21 | N29: 43431.4 | O29: 41.38 | R29: 13010 | S29: 25.67 | V29: 63395.1 | W29: 53.67 | Z29: 144543 | AA29: 38.53 | AC29: =(F29*G29+H29*I29+J29*K29+L29*M29+N29*O29+P29*Q29+R29*S29+T29*U29+X29*Y29+Z29*AA29)/(F29+H29+J29+L29+N29+P29+R29+T29+X29+Z29) -> 34.754898
A30: Баш оона | B30: Август | C30: August | D30: 350195.6 | E30: 40.864053 | F30: 24262.2 | G30: 15.23 | H30: 1305 | I30: 42.57 | J30: 18300 | K30: 18.84 | N30: 46750.6 | O30: 41.63 | R30: 12885 | S30: 25.6 | V30: 59535.8 | W30: 52.71 | Z30: 187157 | AA30: 43.42 | AC30: =(F30*G30+H30*I30+J30*K30+L30*M30+N30*O30+P30*Q30+R30*S30+T30*U30+X30*Y30+Z30*AA30)/(F30+H30+J30+L30+N30+P30+R30+T30+X30+Z30) -> 38.43765
A31: Аяк оона | B31: Сентябрь | C31: September | D31: 393386.2 | E31: 45.029346 | F31: 26530.9 | G31: 16.86 | H31: 277 | I31: 9 | J31: 15000.8 | K31: 15.72 | N31: 58335.7 | O31: 41.09 | R31: 14613.9 | S31: 25 | V31: 43037.2 | W31: 53.23 | Z31: 235590.7 | AA31: 50.83 | AC31: =(F31*G31+H31*I31+J31*K31+L31*M31+N31*O31+P31*Q31+R31*S31+T31*U31+X31*Y31+Z31*AA31)/(F31+H31+J31+L31+N31+P31+R31+T31+X31+Z31) -> 44.02197
A32: Тогуздун айы | B32: Октябрь | C32: October | D32: 416218.5 | E32: 44.450782 | F32: 25916.7 | G32: 21.47 | H32: 278 | I32: 15 | J32: 15516 | K32: 17.84 | N32: 55277 | O32: 40.3 | R32: 7840.6 | S32: 36.44 | V32: 49807.2 | W32: 51.25 | Z32: 261583 | AA32: 48.16 | AC32: =(F32*G32+H32*I32+J32*K32+L32*M32+N32*O32+P32*Q32+R32*S32+T32*U32+X32*Y32+Z32*AA32)/(F32+H32+J32+L32+N32+P32+R32+T32+X32+Z32) -> 43.526547
A33: Жетинин айы | B33: Ноябрь | C33: November | D33: 459747.2 | E33: 47.557815 | F33: 27435.3 | G33: 20.89 | H33: 300 | I33: 15 | J33: 15394.4 | K33: 19.17 | N33: 81125.1 | O33: 39.25 | R33: 8742.6 | S33: 36.75 | V33: 55957.8 | W33: 50.11 | Z33: 270792 | AA33: 54.22 | AC33: =(F33*G33+H33*I33+J33*K33+L33*M33+N33*O33+P33*Q33+R33*S33+T33*U33+X33*Y33+Z33*AA33)/(F33+H33+J33+L33+N33+P33+R33+T33+X33+Z33) -> 47.204129
A34: Бештин айы | B34: Декабрь | C34: December | D34: 524598 | E34: 46.346895 | F34: 31863.4 | G34: 23.87 | H34: 434 | I34: 15 | J34: 29092.1 | K34: 27.5 | N34: 79439.7 | O34: 40 | R34: 17805 | S34: 29.58 | V34: 104430.8 | W34: 49.36 | Z34: 261533 | AA34: 53.1 | AC34: =(F34*G34+H34*I34+J34*K34+L34*M34+N34*O34+P34*Q34+R34*S34+T34*U34+X34*Y34+Z34*AA34)/(F34+H34+J34+L34+N34+P34+R34+T34+X34+Z34) -> 45.598001
A35: Үчтүн айы 1998 ж. | B35: Январь 1998 г. | C35: January 1998 | D35: 564093 | E35: 43.365182 | F35: 30527.6 | G35: 22.98 | H35: 446 | I35: 15 | J35: 25997.9 | K35: 24.42 | N35: 78252.3 | O35: 37.92 | R35: 19693.6 | S35: 29.44 | V35: 104071.6 | W35: 46.08 | Z35: 305104 | AA35: 48.43 | AC35: =(F35*G35+H35*I35+J35*K35+L35*M35+N35*O35+P35*Q35+R35*S35+T35*U35+X35*Y35+Z35*AA35)/(F35+H35+J35+L35+N35+P35+R35+T35+X35+Z35) -> 42.751004
A36: Бирдин айы | B36: Февраль | C36: February | D36: 626792.1 | E36: 43.301114 | F36: 31073.7 | G36: 23.54 | H36: 5387 | I36: 28.77 | J36: 20498 | K36: 21.25 | N36: 87381.5 | O36: 39.3 | P36: 1324.4 | Q36: 40 | R36: 22599.8 | S36: 30.93 | V36: 105721.4 | W36: 52.68 | Z36: 352806.3 | AA36: 45.53 | AC36: =(F36*G36+H36*I36+J36*K36+L36*M36+N36*O36+P36*Q36+R36*S36+T36*U36+X36*Y36+Z36*AA36)/(F36+H36+J36+L36+N36+P36+R36+T36+X36+Z36) -> 41.398208
A37: Жалган куран | B37: Март | C37: March | D37: 720630.9 | E37: 42.279648 | F37: 36504.9 | G37: 23.84 | H37: 5687 | I37: 28.9 | J37: 14128 | K37: 16.37 | N37: 87080.6 | O37: 37.15 | P37: 4061.3 | Q37: 40 | R37: 29455.1 | S37: 28.64 | V37: 120344 | W37: 51.25 | Z37: 423370 | AA37: 44.39 | AC37: =(F37*G37+H37*I37+J37*K37+L37*M37+N37*O37+P37*Q37+R37*S37+T37*U37+X37*Y37+Z37*AA37)/(F37+H37+J37+L37+N37+P37+R37+T37+X37+Z37) -> 40.481295
A38: Чын куран | B38: Апрель | C38: April | D38: 779274.8 | E38: 38.851681 | F38: 48623.6 | G38: 23.31 | H38: 1001.6 | I38: 24.2 | J38: 17381 | K38: 22.56 | N38: 333494 | O38: 50.7 | P38: 4712.3 | Q38: 40 | R38: 59391 | S38: 23.61 | V38: 124993.7 | W38: 40.7 | Z38: 189677.6 | AA38: 27.1 | AC38: =(F38*G38+H38*I38+J38*K38+L38*M38+N38*O38+P38*Q38+R38*S38+T38*U38+X38*Y38+Z38*AA38)/(F38+H38+J38+L38+N38+P38+R38+T38+X38+Z38) -> 38.498579
A39: Бугу | B39: Май | C39: May | D39: 850670 | E39: 37.20399 | F39: 52067.2 | G39: 22.82 | H39: 7023 | I39: 29.55 | J39: 18176 | K39: 21.97 | L39: 996 | M39: 40 | N39: 326264.6 | O39: 47.66 | P39: 1992 | Q39: 40 | R39: 78563.2 | S39: 23.48 | V39: 143936.1 | W39: 41.27 | Z39: 221651.9 | AA39: 28.87 | AC39: =(F39*G39+H39*I39+J39*K39+L39*M39+N39*O39+P39*Q39+R39*S39+T39*U39+X39*Y39+Z39*AA39)/(F39+H39+J39+L39+N39+P39+R39+T39+X39+Z39) -> 36.375891
A40: Кулжа | B40: Июнь | C40: June | D40: 825282.5 | E40: 36.711833 | F40: 54812.9 | G40: 24.91 | H40: 6326 | I40: 28.84 | J40: 14421 | K40: 18.19 | L40: 957.5 | M40: 40 | N40: 316754.4 | O40: 47.23 | P40: 1604.3 | Q40: 40 | R40: 73858.3 | S40: 22.02 | V40: 147942.1 | W40: 40.79 | Z40: 208606 | AA40: 27.63 | AC40: =(F40*G40+H40*I40+J40*K40+L40*M40+N40*O40+P40*Q40+R40*S40+T40*U40+X40*Y40+Z40*AA40)/(F40+H40+J40+L40+N40+P40+R40+T40+X40+Z40) -> 35.821095
A41: Теке | B41: Июль | C41: July | D41: 833067.1 | E41: 36.760628 | F41: 61759.9 | G41: 25.87 | H41: 974 | I41: 22.5 | J41: 21489 | K41: 21.9 | L41: 1948.1 | M41: 40 | N41: 301168.7 | O41: 47.55 | R41: 78099.5 | S41: 22.93 | V41: 154516.4 | W41: 41.88 | Z41: 213111.5 | AA41: 27.56 | AC41: =(F41*G41+H41*I41+J41*K41+L41*M41+N41*O41+P41*Q41+R41*S41+T41*U41+X41*Y41+Z41*AA41)/(F41+H41+J41+L41+N41+P41+R41+T41+X41+Z41) -> 35.594868
A42: Баш оона | B42: Август | C42: August | D42: 892081.7 | E42: 37.602609 | F42: 61985.6 | G42: 25.66 | H42: 1938 | I42: 31.77 | J42: 22026.8 | K42: 21.8 | L42: 3571.4 | M42: 44.44 | N42: 322627.8 | O42: 48.2 | R42: 80567 | S42: 23.15 | V42: 131648.4 | W42: 45.04 | Z42: 267716.7 | AA42: 29.54 | AC42: =(F42*G42+H42*I42+J42*K42+L42*M42+N42*O42+P42*Q42+R42*S42+T42*U42+X42*Y42+Z42*AA42)/(F42+H42+J42+L42+N42+P42+R42+T42+X42+Z42) -> 36.315026
A43: Аяк оона | B43: Сентябрь | C43: September | D43: 951355.5 | E43: 36.910007 | F43: 61063.6 | G43: 26.32 | H43: 4008 | I43: 34.06 | J43: 23038.2 | K43: 22.21 | L43: 2212.1 | M43: 40 | N43: 341743.2 | O43: 45.63 | R43: 87416.9 | S43: 22.83 | V43: 139295.3 | W43: 44.86 | Z43: 292578.2 | AA43: 30.53 | AC43: =(F43*G43+H43*I43+J43*K43+L43*M43+N43*O43+P43*Q43+R43*S43+T43*U43+X43*Y43+Z43*AA43)/(F43+H43+J43+L43+N43+P43+R43+T43+X43+Z43) -> 35.54632
A44: Тогуздун айы | B44: Октябрь | C44: October | D44: 1116437.1 | E44: 36.863418 | F44: 64137.8 | G44: 26.14 | H44: 10119 | I44: 53.37 | J44: 21475.6 | K44: 20.6 | L44: 684.8 | M44: 40 | N44: 432744.2 | O44: 45.09 | R44: 86594.8 | S44: 23.75 | V44: 152632.4 | W44: 43.57 | Z44: 348048.5 | AA44: 29.45 | AC44: =(F44*G44+H44*I44+J44*K44+L44*M44+N44*O44+P44*Q44+R44*S44+T44*U44+X44*Y44+Z44*AA44)/(F44+H44+J44+L44+N44+P44+R44+T44+X44+Z44) -> 35.801333
A45: Жетинин айы | B45: Ноябрь | C45: November | D45: 1475346.5 | E45: 37.719361 | F45: 81561.3 | G45: 25.27 | H45: 2905 | I45: 34.62 | J45: 26388.6 | K45: 20.85 | L45: 2037.7 | M45: 40 | N45: 674402.8 | O45: 46.25 | R45: 108479.2 | S45: 23.92 | V45: 178732.7 | W45: 42.33 | Z45: 400839.2 | AA45: 28.7 | AC45: =(F45*G45+H45*I45+J45*K45+L45*M45+N45*O45+P45*Q45+R45*S45+T45*U45+X45*Y45+Z45*AA45)/(F45+H45+J45+L45+N45+P45+R45+T45+X45+Z45) -> 37.083804
A46: Бештин айы | B46: Декабрь | C46: December | D46: 1235862.9 | E46: 34.30729 | F46: 96285.9 | G46: 25.08 | H46: 2595 | I46: 34.65 | J46: 27534.7 | K46: 21.72 | L46: 2056.3 | M46: 40 | N46: 424328.1 | O46: 42.38 | R46: 163056.6 | S46: 21.82 | V46: 156367.6 | W46: 43.28 | Z46: 363638.7 | AA46: 29.99 | AC46: =(F46*G46+H46*I46+J46*K46+L46*M46+N46*O46+P46*Q46+R46*S46+T46*U46+X46*Y46+Z46*AA46)/(F46+H46+J46+L46+N46+P46+R46+T46+X46+Z46) -> 33.007571
A47: Үчтүн айы 1999 ж. | B47: Январь 1999 г. | C47: January 1999 | D47: 1406989.8 | E47: 38.246781 | F47: 100093.6 | G47: 25.21 | H47: 2475 | I47: 34.61 | J47: 22666.6 | K47: 19.06 | L47: 2118.2 | M47: 40 | N47: 693127.5 | O47: 45.85 | R47: 104740.6 | S47: 27.86 | V47: 155725 | W47: 42.46 | Z47: 326043.3 | AA47: 28.76 | AC47: =(F47*G47+H47*I47+J47*K47+L47*M47+N47*O47+P47*Q47+R47*S47+T47*U47+X47*Y47+Z47*AA47)/(F47+H47+J47+L47+N47+P47+R47+T47+X47+Z47) -> 37.722429
A48: Бирдин айы | B48: Февраль | C48: February | D48: 1392401.6 | E48: 37.456399 | F48: 93479.8 | G48: 24.08 | H48: 2361 | I48: 33.23 | J48: 21954.1 | K48: 19.18 | L48: 15 | M48: 50 | N48: 682243.2 | O48: 45.2 | P48: 2750.4 | Q48: 28 | R48: 106869 | S48: 22.9 | V48: 155887.8 | W48: 41.22 | Z48: 326841.3 | AA48: 29.42 | AC48: =(F48*G48+H48*I48+J48*K48+L48*M48+N48*O48+P48*Q48+R48*S48+T48*U48+X48*Y48+Z48*AA48)/(F48+H48+J48+L48+N48+P48+R48+T48+X48+Z48) -> 36.98192
A49: Жалган куран | B49: Март | C49: March | D49: 1556023.3 | E49: 36.045159 | F49: 121373.9 | G49: 23.92 | H49: 5739.6 | I49: 35.24 | J49: 26110 | K49: 16.29 | L49: 0 | M49: 0 | N49: 751489.6 | O49: 44.1 | P49: 371 | Q49: 45 | R49: 109406.2 | S49: 22.98 | V49: 174316.2 | W49: 38.72 | Z49: 367216.8 | AA49: 27.6 | AC49: =(F49*G49+H49*I49+J49*K49+L49*M49+N49*O49+P49*Q49+R49*S49+T49*U49+X49*Y49+Z49*AA49)/(F49+H49+J49+L49+N49+P49+R49+T49+X49+Z49) -> 35.707701
A50: Чын куран | B50: Апрель | C50: April | D50: 969552.3 | E50: 29.190942 | F50: 93011.9 | G50: 21.83 | H50: 4221 | I50: 35.92 | J50: 23642.5 | K50: 17.16 | L50: 749 | M50: 40 | N50: 240206.6 | O50: 27.43 | P50: 412 | Q50: 45 | R50: 67048.2 | S50: 22.76 | V50: 177496.2 | W50: 38.63 | Z50: 362764.9 | AA50: 29.48 | AC50: =(F50*G50+H50*I50+J50*K50+L50*M50+N50*O50+P50*Q50+R50*S50+T50*U50+X50*Y50+Z50*AA50)/(F50+H50+J50+L50+N50+P50+R50+T50+X50+Z50) -> 27.075692
A51: Бугу | B51: Май | C51: May | D51: 1071971.8 | E51: 29.270918 | F51: 102580.7 | G51: 25.55 | H51: 4259.7 | I51: 24.44 | J51: 27415.6 | K51: 29.55 | L51: 3016 | M51: 38.57 | N51: 266596.7 | O51: 27.12 | P51: 1336 | Q51: 45 | R51: 81535.9 | S51: 21.4 | V51: 196651.5 | W51: 37.98 | Z51: 388579.7 | AA51: 28.88 | AC51: =(F51*G51+H51*I51+J51*K51+L51*M51+N51*O51+P51*Q51+R51*S51+T51*U51+X51*Y51+Z51*AA51)/(F51+H51+J51+L51+N51+P51+R51+T51+X51+Z51) -> 27.314315
A52: Кулжа | B52: Июнь | C52: June | D52: 1031021.6 | E52: 28.260627 | F52: 97007.4 | G52: 25.02 | H52: 4058 | I52: 24.03 | J52: 28290.8 | K52: 19.3 | L52: 5057.2 | M52: 35 | N52: 251580.4 | O52: 27.7 | R52: 76686.6 | S52: 21.68 | V52: 191430.9 | W52: 37.23 | Z52: 376910.3 | AA52: 26.88 | AC52: =(F52*G52+H52*I52+J52*K52+L52*M52+N52*O52+P52*Q52+R52*S52+T52*U52+X52*Y52+Z52*AA52)/(F52+H52+J52+L52+N52+P52+R52+T52+X52+Z52) -> 26.215565
A53: Теке | B53: Июль | C53: July | D53: 981341.4 | E53: 26.834809 | F53: 156984.6 | G53: 14.81 | H53: 5760.8 | I53: 21.7 | J53: 33960.7 | K53: 16.87 | L53: 2008.6 | M53: 30 | N53: 256678.8 | O53: 27.67 | P53: 2812.1 | Q53: 16 | R53: 66327.7 | S53: 20 | V53: 182455.2 | W53: 35.76 | Z53: 274352.9 | AA53: 30.08 | AC53: =(F53*G53+H53*I53+J53*K53+L53*M53+N53*O53+P53*Q53+R53*S53+T53*U53+X53*Y53+Z53*AA53)/(F53+H53+J53+L53+N53+P53+R53+T53+X53+Z53) -> 24.796412
A54: Баш оона | B54: Август | C54: August | D54: 1058641.4 | E54: 26.852961 | F54: 167717.3 | G54: 14.67 | H54: 5974.5 | I54: 21.49 | J54: 37426.9 | K54: 16.85 | L54: 8494.5 | M54: 33.5 | N54: 279054.9 | O54: 26.81 | P54: 849.4 | Q54: 50 | R54: 70760.9 | S54: 19.95 | V54: 189613.6 | W54: 37.95 | Z54: 298749.4 | AA54: 29.43 | AC54: =(F54*G54+H54*I54+J54*K54+L54*M54+N54*O54+P54*Q54+R54*S54+T54*U54+X54*Y54+Z54*AA54)/(F54+H54+J54+L54+N54+P54+R54+T54+X54+Z54) -> 24.431693
A55: Аяк оона | B55: Сентябрь | C55: September | D55: 1086456 | E55: 26.766964 | F55: 172081.7 | G55: 15.17 | H55: 2854.1 | I55: 18.62 | J55: 37858 | K55: 16.86 | L55: 12382.7 | M55: 34.34 | N55: 273470.8 | O55: 27.79 | P55: 1504.8 | Q55: 33.57 | R55: 71012.3 | S55: 19.56 | V55: 200060.2 | W55: 36.91 | Z55: 315231.4 | AA55: 28.33 | AC55: =(F55*G55+H55*I55+J55*K55+L55*M55+N55*O55+P55*Q55+R55*S55+T55*U55+X55*Y55+Z55*AA55)/(F55+H55+J55+L55+N55+P55+R55+T55+X55+Z55) -> 24.477673
A56: Тогуздун айы | B56: Октябрь | C56: October | D56: 1082063.2 | E56: 26.341035 | F56: 170582.5 | G56: 15.49 | H56: 4711.5 | I56: 28.61 | J56: 37814.5 | K56: 16.87 | L56: 9456.1 | M56: 37.51 | N56: 273330.9 | O56: 27.68 | P56: 2063.1 | Q56: 47.92 | R56: 66891.6 | S56: 20.4 | V56: 192512.7 | W56: 35.24 | Z56: 324700.3 | AA56: 27.47 | AC56: =(F56*G56+H56*I56+J56*K56+L56*M56+N56*O56+P56*Q56+R56*S56+T56*U56+X56*Y56+Z56*AA56)/(F56+H56+J56+L56+N56+P56+R56+T56+X56+Z56) -> 24.415159
A57: Жетинин айы | B57: Ноябрь | C57: November | D57: 1149101.3 | E57: 26.298487 | F57: 182211.9 | G57: 14.92 | H57: 5288 | I57: 20.46 | J57: 45734.4 | K57: 18.43 | L57: 11325.8 | M57: 36.98 | N57: 287551.9 | O57: 28.22 | P57: 4394.3 | Q57: 49.09 | R57: 74971.7 | S57: 20.92 | V57: 199642.2 | W57: 35.75 | Z57: 337981.1 | AA57: 26.91 | AC57: =(F57*G57+H57*I57+J57*K57+L57*M57+N57*O57+P57*Q57+R57*S57+T57*U57+X57*Y57+Z57*AA57)/(F57+H57+J57+L57+N57+P57+R57+T57+X57+Z57) -> 24.311123
A58: Бештин айы | B58: Декабрь | C58: December | D58: 1084354.9 | E58: 26.193942 | F58: 162669.8 | G58: 11.99 | H58: 12763 | I58: 24.93 | J58: 47383 | K58: 17.56 | L58: 14695.5 | M58: 36.68 | N58: 252912.2 | O58: 30.64 | P58: 5820.7 | Q58: 50 | R58: 87363.5 | S58: 18.98 | V58: 190014 | W58: 34.56 | Z58: 310733.2 | AA58: 27.35 | AC58: =(F58*G58+H58*I58+J58*K58+L58*M58+N58*O58+P58*Q58+R58*S58+T58*U58+X58*Y58+Z58*AA58)/(F58+H58+J58+L58+N58+P58+R58+T58+X58+Z58) -> 24.416468
A59: Үчтүн айы 2000 ж. | B59: Январь 2000 г. | C59: January 2000 | D59: 1082067.8 | E59: 24.22502 | F59: 189063.4 | G59: 13.09 | H59: 13181.1 | I59: 24.88 | J59: 46767.7 | K59: 17.53 | L59: 14208.1 | M59: 35.06 | N59: 193116.3 | O59: 22.08 | P59: 6010.9 | Q59: 49.38 | R59: 87427.3 | S59: 18.17 | V59: 202263.1 | W59: 33.87 | Z59: 330029.9 | AA59: 27.55 | AC59: =(F59*G59+H59*I59+J59*K59+L59*M59+N59*O59+P59*Q59+R59*S59+T59*U59+X59*Y59+Z59*AA59)/(F59+H59+J59+L59+N59+P59+R59+T59+X59+Z59) -> 22.007683
A60: Бирдин айы | B60: Февраль | C60: February | D60: 1039739.1 | E60: 22.616408 | F60: 218768.5 | G60: 12.22 | H60: 13339.2 | I60: 25.61 | J60: 49178.4 | K60: 18.08 | L60: 21973.4 | M60: 35.37 | N60: 186158.5 | O60: 16.46 | P60: 5818.7 | Q60: 49.35 | R60: 58956.6 | S60: 24.25 | V60: 182364.1 | W60: 32.77 | Z60: 303181.7 | AA60: 26.64 | AC60: =(F60*G60+H60*I60+J60*K60+L60*M60+N60*O60+P60*Q60+R60*S60+T60*U60+X60*Y60+Z60*AA60)/(F60+H60+J60+L60+N60+P60+R60+T60+X60+Z60) -> 20.456734
A61: Жалган куран | B61: Март | C61: March | D61: 1064621.1 | E61: 22.694629 | F61: 227964.4 | G61: 12.15 | H61: 10848.6 | I61: 22.25 | J61: 41182.3 | K61: 19.69 | L61: 14404.2 | M61: 34.29 | N61: 203850.1 | O61: 17.34 | P61: 5884.1 | Q61: 49.51 | R61: 57583.8 | S61: 23.74 | V61: 191229 | W61: 32.68 | Z61: 311674.6 | AA61: 26.96 | AC61: =(F61*G61+H61*I61+J61*K61+L61*M61+N61*O61+P61*Q61+R61*S61+T61*U61+X61*Y61+Z61*AA61)/(F61+H61+J61+L61+N61+P61+R61+T61+X61+Z61) -> 20.508335
A62: Чын куран | B62: Апрель | C62: April | D62: 1053468.9 | E62: 22.886433 | F62: 225286.5 | G62: 13.02 | H62: 10917.9 | I62: 22.15 | J62: 44981.2 | K62: 18.32 | L62: 18491.4 | M62: 32.85 | N62: 196404.3 | O62: 15.95 | P62: 5914.1 | Q62: 39.68 | R62: 54711 | S62: 23.42 | V62: 190523.8 | W62: 34.04 | Z62: 306238.7 | AA62: 27.33 | AC62: =(F62*G62+H62*I62+J62*K62+L62*M62+N62*O62+P62*Q62+R62*S62+T62*U62+X62*Y62+Z62*AA62)/(F62+H62+J62+L62+N62+P62+R62+T62+X62+Z62) -> 20.423912
A63: Бугу | B63: Май | C63: May | D63: 1030787.8 | E63: 23.137689 | F63: 223818.5 | G63: 12.24 | H63: 10798.5 | I63: 22.17 | J63: 41049.9 | K63: 17.15 | L63: 20700 | M63: 33.71 | N63: 148225.6 | O63: 19.61 | P63: 10770.7 | Q63: 24.11 | R63: 55251.5 | S63: 19.53 | V63: 193231 | W63: 33.83 | Z63: 326942.1 | AA63: 26.57 | AC63: =(F63*G63+H63*I63+J63*K63+L63*M63+N63*O63+P63*Q63+R63*S63+T63*U63+X63*Y63+Z63*AA63)/(F63+H63+J63+L63+N63+P63+R63+T63+X63+Z63) -> 20.670888
A64: Кулжа | B64: Июнь | C64: June | D64: 961972.5 | E64: 24.112768 | F64: 198191.1 | G64: 12.66 | H64: 10695.7 | I64: 22.3 | J64: 36348.1 | K64: 18.52 | L64: 18673.9 | M64: 33.48 | N64: 127536.9 | O64: 24.81 | P64: 10486.1 | Q64: 24.11 | R64: 50197.9 | S64: 23.18 | V64: 189568.2 | W64: 33.57 | Z64: 320274.6 | AA64: 25.62 | AC64: =(F64*G64+H64*I64+J64*K64+L64*M64+N64*O64+P64*Q64+R64*S64+T64*U64+X64*Y64+Z64*AA64)/(F64+H64+J64+L64+N64+P64+R64+T64+X64+Z64) -> 21.791716
... A97: Жалган куран | B97: Март | C97: March | D97: 1224564.7 | E97: 21.96911 | F97: 316466 | G97: 18.49 | H97: 34884 | I97: 19.43 | J97: 22826.9 | K97: 13.45 | L97: 8222.5 | M97: 27.62 | N97: 291703.3 | O97: 23.16 | P97: 28387.2 | Q97: 26.93 | R97: 64280.9 | S97: 21.2 | V97: 167871 | W97: 27.27 | Z97: 289922.9 | AA97: 22 | AC97: =(F97*G97+H97*I97+J97*K97+L97*M97+N97*O97+P97*Q97+R97*S97+T97*U97+X97*Y97+Z97*AA97)/(F97+H97+J97+L97+N97+P97+R97+T97+X97+Z97) -> 21.126987
A98: Чын куран | B98: Апрель | C98: April | D98: 1259422.2 | E98: 21.428169 | F98: 334478.6 | G98: 18.85 | H98: 22626.3 | I98: 19.97 | J98: 22177.5 | K98: 13.69 | L98: 9960.2 | M98: 13.59 | N98: 406208.1 | O98: 24.61 | P98: 49174.3 | Q98: 24.03 | R98: 49300.3 | S98: 23.86 | T98: 24213.7 | U98: 21.17 | V98: 57244.7 | W98: 24.48 | X98: 460.8 | Y98: 27.69 | Z98: 283577.7 | AA98: 19.43 | AC98: =(F98*G98+H98*I98+J98*K98+L98*M98+N98*O98+P98*Q98+R98*S98+T98*U98+X98*Y98+Z98*AA98)/(F98+H98+J98+L98+N98+P98+R98+T98+X98+Z98) -> 21.282848
A99: Бугу | B99: Май | C99: May | D99: 1240618.9 | E99: 21.444069 | F99: 308497.1 | G99: 19.03 | H99: 22361.6 | I99: 18.71 | J99: 21129.9 | K99: 12.54 | L99: 10470.5 | M99: 14.27 | N99: 414895.4 | O99: 24.4 | P99: 44503.1 | Q99: 23.34 | R99: 37325.4 | S99: 24.34 | T99: 26878.9 | U99: 20.51 | V99: 61652 | W99: 25.17 | X99: 417.3 | Y99: 27.61 | Z99: 292487.7 | AA99: 19.54 | AC99: =(F99*G99+H99*I99+J99*K99+L99*M99+N99*O99+P99*Q99+R99*S99+T99*U99+X99*Y99+Z99*AA99)/(F99+H99+J99+L99+N99+P99+R99+T99+X99+Z99) -> 21.249228
A100: Кулжа | B100: Июнь | C100: June | D100: 1264326.4 | E100: 21.566495 | F100: 338138 | G100: 18.74 | H100: 29666.2 | I100: 19.54 | J100: 20964.9 | K100: 12.72 | L100: 8791.8 | M100: 13.39 | N100: 407536.41 | O100: 25.37 | P100: 44522.74 | Q100: 23.56 | R100: 37749.8 | S100: 23.03 | T100: 31578 | U100: 20.71 | V100: 59519.61 | W100: 25.35 | X100: 389 | Y100: 27.54 | Z100: 285469.9 | AA100: 19.39 | AC100: =(F100*G100+H100*I100+J100*K100+L100*M100+N100*O100+P100*Q100+R100*S100+T100*U100+X100*Y100+Z100*AA100)/(F100+H100+J100+L100+N100+P100+R100+T100+X100+Z100) -> 21.379584
A101: Теке | B101: Июль | C101: July | D101: 1347358.7 | E101: 21.866157 | F101: 360950.7 | G101: 18.83 | H101: 32674.4 | I101: 19.12 | J101: 25229.52 | K101: 13.31 | L101: 9027 | M101: 13.37 | N101: 419677.38 | O101: 25.32 | P101: 45926.43 | Q101: 23.81 | R101: 55127.99 | S101: 19.8 | T101: 41170.23 | U101: 20.32 | V101: 79229.04 | W101: 27.97 | X101: 362 | Y101: 27.47 | Z101: 277984.03 | AA101: 20.54 | AC101: =(F101*G101+H101*I101+J101*K101+L101*M101+N101*O101+P101*Q101+R101*S101+T101*U101+X101*Y101+Z101*AA101)/(F101+H101+J101+L101+N101+P101+R101+T101+X101+Z101) -> 21.484807
A102: Баш оона | B102: Август | C102: August | D102: 1323803.7 | E102: 21.859829 | F102: 355249.4 | G102: 18.58 | H102: 33781.8 | I102: 18.96 | J102: 25106.9 | K102: 13.62 | L102: 7073.3 | M102: 19.33 | N102: 413408.6 | O102: 24.89 | P102: 45183.1 | Q102: 23.63 | R102: 58307.1 | S102: 19.35 | T102: 39994.6 | U102: 20.24 | V102: 82894.5 | W102: 27.27 | X102: 329.3 | Y102: 27.35 | Z102: 262475.1 | AA102: 21.54 | AC102: =(F102*G102+H102*I102+J102*K102+L102*M102+N102*O102+P102*Q102+R102*S102+T102*U102+X102*Y102+Z102*AA102)/(F102+H102+J102+L102+N102+P102+R102+T102+X102+Z102) -> 21.498422
A103: Аяк оона | B103: Сентябрь | C103: September | D103: 1435447.3 | E103: 21.448756 | F103: 377368 | G103: 18.24 | H103: 28229 | I103: 20.61 | J103: 23667.6 | K103: 13.71 | L103: 6591.3 | M103: 19.46 | N103: 470124.7 | O103: 24.64 | P103: 47520.9 | Q103: 22.33 | R103: 52066 | S103: 19.77 | T103: 45269.9 | U103: 20 | V103: 96273.3 | W103: 26.71 | X103: 21564.8 | Y103: 5.32 | Z103: 266771.8 | AA103: 21.01 | AC103: =(F103*G103+H103*I103+J103*K103+L103*M103+N103*O103+P103*Q103+R103*S103+T103*U103+X103*Y103+Z103*AA103)/(F103+H103+J103+L103+N103+P103+R103+T103+X103+Z103) -> 21.070525
A104: Тогуздун айы | B104: Октябрь | C104: October | D104: 1527995.7 | E104: 21.210484 | F104: 468612.5 | G104: 18.35 | H104: 27818.7 | I104: 21.06 | J104: 23454.7 | K104: 13.9 | L104: 5945.9 | M104: 19.59 | N104: 462775.9 | O104: 24.05 | P104: 62075.3 | Q104: 22.26 | R104: 49522.4 | S104: 19.72 | T104: 50924.7 | U104: 19.97 | V104: 105980 | W104: 25.43 | X104: 264.3 | Y104: 27.06 | Z104: 270621.3 | AA104: 20.6 | AC104: =(F104*G104+H104*I104+J104*K104+L104*M104+N104*O104+P104*Q104+R104*S104+T104*U104+X104*Y104+Z104*AA104)/(F104+H104+J104+L104+N104+P104+R104+T104+X104+Z104) -> 20.896012
A105: Жетинин айы | B105: Ноябрь | C105: November | D105: 1677650.9 | E105: 21.028395 | F105: 546409 | G105: 18.25 | H105: 28770.2 | I105: 20.73 | J105: 20729.8 | K105: 15.45 | L105: 8614.9 | M105: 18.2 | N105: 507687.8 | O105: 23.66 | P105: 54491.2 | Q105: 22.22 | R105: 50994.5 | S105: 19.69 | T105: 59311.5 | U105: 19.92 | V105: 117764.5 | W105: 25.08 | X105: 219.5 | Y105: 27 | Z105: 282658 | AA105: 20.75 | AC105: =(F105*G105+H105*I105+J105*K105+L105*M105+N105*O105+P105*Q105+R105*S105+T105*U105+X105*Y105+Z105*AA105)/(F105+H105+J105+L105+N105+P105+R105+T105+X105+Z105) -> 20.722517
A106: Бештин айы | B106: Декабрь | C106: December | D106: 1767147.3 | E106: 20.439302 | F106: 536393.8 | G106: 18.23 | H106: 34092.7 | I106: 20.88 | J106: 24751.5 | K106: 15.53 | L106: 16617.9 | M106: 17.17 | N106: 563426.5 | O106: 22.07 | P106: 54047.9 | Q106: 20.72 | R106: 50109.7 | S106: 19.67 | T106: 64046.6 | U106: 19.61 | V106: 118619.6 | W106: 23.54 | X106: 221 | Y106: 27 | Z106: 304820.1 | AA106: 20.88 | AC106: =(F106*G106+H106*I106+J106*K106+L106*M106+N106*O106+P106*Q106+R106*S106+T106*U106+X106*Y106+Z106*AA106)/(F106+H106+J106+L106+N106+P106+R106+T106+X106+Z106) -> 20.216192
A107: Үчтүн айы 2004 ж. | B107: Январь 2004 г. | C107: January 2004 | D107: 1693777.8 | E107: 20.548695 | F107: 516979.1 | G107: 18.007375 | H107: 26501.5 | I107: 21.695415 | J107: 31673.8 | K107: 15.444001 | L107: 21584.3 | M107: 17.183453 | N107: 492367.8 | O107: 23.407023 | P107: 55481 | Q107: 21.95496 | R107: 61464.5 | S107: 18.640029 | T107: 62432.4 | U107: 19.133144 | V107: 123573 | W107: 23.241644 | X107: 212.9 | Y107: 27 | Z107: 301507.5 | AA107: 20.230006 | AC107: =(F107*G107+H107*I107+J107*K107+L107*M107+N107*O107+P107*Q107+R107*S107+T107*U107+X107*Y107+Z107*AA107)/(F107+H107+J107+L107+N107+P107+R107+T107+X107+Z107) -> 20.336763
A108: Бирдин айы | B108: Февраль | C108: February | D108: 1790589.5 | E108: 20.274294 | F108: 554057.4 | G108: 17.446463 | H108: 26634.6 | I108: 21.788465 | J108: 33190 | K108: 15.583481 | L108: 23314.4 | M108: 17.308131 | N108: 546234 | O108: 23.125565 | P108: 55077.2 | Q108: 22.393952 | R108: 61017.1 | S108: 18.421306 | T108: 71560.1 | U108: 19.043352 | V108: 136372.2 | W108: 22.409834 | X108: 213.9 | Y108: 27 | Z108: 282918.6 | AA108: 20.223293 | AC108: =(F108*G108+H108*I108+J108*K108+L108*M108+N108*O108+P108*Q108+R108*S108+T108*U108+X108*Y108+Z108*AA108)/(F108+H108+J108+L108+N108+P108+R108+T108+X108+Z108) -> 20.098242
A109: Жалган куран | B109: Март | C109: March | D109: 2000169 | E109: 19.863491 | F109: 608366 | G109: 16.981218 | H109: 26219.4 | I109: 21.595576 | J109: 47821.6 | K109: 15.330012 | L109: 24263.4 | M109: 17.363082 | N109: 660130.6 | O109: 22.520739 | P109: 53636.6 | Q109: 22.617354 | R109: 78118.3 | S109: 18.074942 | T109: 72643.4 | U109: 19.069205 | V109: 149046.2 | W109: 22.373057 | X109: 216.1 | Y109: 27 | Z109: 279707.4 | AA109: 19.525732 | AC109: =(F109*G109+H109*I109+J109*K109+L109*M109+N109*O109+P109*Q109+R109*S109+T109*U109+X109*Y109+Z109*AA109)/(F109+H109+J109+L109+N109+P109+R109+T109+X109+Z109) -> 19.66143
A110: Чын куран | B110: Апрель | C110: April | D110: 2171583.4 | E110: 19.475949 | F110: 673108.5 | G110: 17.12711 | H110: 28555.3 | I110: 24.127764 | J110: 44357.6 | K110: 15.388363 | L110: 26164.3 | M110: 17.400255 | N110: 711439.1 | O110: 21.381748 | P110: 47996.2 | Q110: 21.489245 | R110: 94026.1 | S110: 18.209557 | T110: 73572 | U110: 19.109468 | V110: 167575.3 | W110: 22.282809 | Z110: 304789 | AA110: 19.17082 | AC110: =(F110*G110+H110*I110+J110*K110+L110*M110+N110*O110+P110*Q110+R110*S110+T110*U110+X110*Y110+Z110*AA110)/(F110+H110+J110+L110+N110+P110+R110+T110+X110+Z110) -> 19.241239
A111: Бугу | B111: Май | C111: May | D111: 2465487.2 | E111: 19.469428 | F111: 787670.6 | G111: 17.241368 | H111: 28384.1 | I111: 24.114633 | J111: 42289.3 | K111: 15.511959 | L111: 25969.6 | M111: 17.392578 | N111: 809851.1 | O111: 20.958401 | P111: 58354.6 | Q111: 26.792637 | R111: 118267.9 | S111: 18.250905 | T111: 74856 | U111: 19.133822 | V111: 192634 | W111: 22.161877 | Z111: 327210 | AA111: 19.047093 | AC111: =(F111*G111+H111*I111+J111*K111+L111*M111+N111*O111+P111*Q111+R111*S111+T111*U111+X111*Y111+Z111*AA111)/(F111+H111+J111+L111+N111+P111+R111+T111+X111+Z111) -> 19.241231
A112: Кулжа | B112: Июнь | C112: June | D112: 2651474.1 | E112: 19.324367 | F112: 797665 | G112: 16.98 | H112: 30165.9 | I112: 24.1 | J112: 41516.3 | K112: 15.95 | L112: 30441 | M112: 17.51 | N112: 897311.6 | O112: 21.23 | P112: 47876.3 | Q112: 20.49 | R112: 169577.2 | S112: 18.38 | T112: 78233.5 | U112: 19.1 | V112: 206998.2 | W112: 21.91 | Z112: 351689.1 | AA112: 18.75 | AC112: =(F112*G112+H112*I112+J112*K112+L112*M112+N112*O112+P112*Q112+R112*S112+T112*U112+X112*Y112+Z112*AA112)/(F112+H112+J112+L112+N112+P112+R112+T112+X112+Z112) -> 19.105415
A113: Теке | B113: Июль | C113: July | D113: 2854370.6 | E113: 19.189215 | F113: 831193.4 | G113: 16.697175 | H113: 28134.1 | I113: 24.238308 | J113: 37803.5 | K113: 16.174572 | L113: 36172.1 | M113: 17.601663 | N113: 1007626.6 | O113: 21.048046 | P113: 45199.6 | Q113: 20.346306 | R113: 189271.2 | S113: 18.367642 | T113: 93719.9 | U113: 18.980672 | V113: 226799.6 | W113: 21.404963 | X113: 170 | Y113: 30 | Z113: 358280.6 | AA113: 18.759585 | AC113: =(F113*G113+H113*I113+J113*K113+L113*M113+N113*O113+P113*Q113+R113*S113+T113*U113+X113*Y113+Z113*AA113)/(F113+H113+J113+L113+N113+P113+R113+T113+X113+Z113) -> 18.997962
A114: Баш оона | B114: Август | C114: August | D114: 2981027.5 | E114: 19.091846 | F114: 796793 | G114: 16.468595 | H114: 26268.7 | I114: 22.180141 | J114: 31164.7 | K114: 16.331125 | L114: 35225.3 | M114: 17.629028 | N114: 1161890.8 | O114: 20.650858 | P114: 29411.5 | Q114: 21.266746 | R114: 214737.4 | S114: 18.164449 | T114: 102256.9 | U114: 18.85326 | V114: 228945.8 | W114: 21.722061 | X114: 241 | Y114: 30 | Z114: 354092.4 | AA114: 18.781186 | AC114: =(F114*G114+H114*I114+J114*K114+L114*M114+N114*O114+P114*Q114+R114*S114+T114*U114+X114*Y114+Z114*AA114)/(F114+H114+J114+L114+N114+P114+R114+T114+X114+Z114) -> 18.873038
A115: Аяк оона | B115: Сентябрь | C115: September | D115: 3301306.6 | E115: 19.021314 | F115: 886049.5 | G115: 16.538527 | H115: 35896 | I115: 21.381514 | J115: 34456.7 | K115: 16.414102 | L115: 35098.2 | M115: 17.645842 | N115: 1312106.6 | O115: 20.347407 | P115: 49214.8 | Q115: 20.559309 | R115: 220704.2 | S115: 18.289475 | T115: 119943.2 | U115: 19.305044 | V115: 238376.2 | W115: 21.541672 | X115: 795 | Y115: 29.76 | Z115: 368666.2 | AA115: 18.901299 | AC115: =(F115*G115+H115*I115+J115*K115+L115*M115+N115*O115+P115*Q115+R115*S115+T115*U115+X115*Y115+Z115*AA115)/(F115+H115+J115+L115+N115+P115+R115+T115+X115+Z115) -> 18.825164
A116: Тогуздун айы | B116: Октябрь | C116: October | D116: 3450753.4 | E116: 18.962817 | F116: 932766 | G116: 16.41 | H116: 42262.1 | I116: 21.7 | J116: 32592.8 | K116: 17 | L116: 32369.3 | M116: 17.58 | N116: 1334270 | O116: 20.33 | P116: 50473.3 | Q116: 20.13 | R116: 238581.3 | S116: 18.16 | T116: 143273.6 | U116: 19.32 | V116: 272820 | W116: 21.59 | X116: 781 | Y116: 29.76 | Z116: 370564 | AA116: 18.71 | AC116: =(F116*G116+H116*I116+J116*K116+L116*M116+N116*O116+P116*Q116+R116*S116+T116*U116+X116*Y116+Z116*AA116)/(F116+H116+J116+L116+N116+P116+R116+T116+X116+Z116) -> 18.737278
A117: Жетинин айы | B117: Ноябрь | C117: November | D117: 3592921.4 | E117: 18.865924 | F117: 953533.3 | G117: 16.400386 | H117: 40573.3 | I117: 21.072111 | J117: 30298.9 | K117: 17.29882 | L117: 33200.3 | M117: 17.665093 | N117: 1453725.6 | O117: 20.156091 | P117: 51142.1 | Q117: 20.150024 | R117: 218237 | S117: 18.408618 | T117: 171348.5 | U117: 19.372896 | V117: 296841.8 | W117: 20.111416 | X117: 1466.5 | Y117: 24.803723 | Z117: 342554.1 | AA117: 18.98882 | AC117: =(F117*G117+H117*I117+J117*K117+L117*M117+N117*O117+P117*Q117+R117*S117+T117*U117+X117*Y117+Z117*AA117)/(F117+H117+J117+L117+N117+P117+R117+T117+X117+Z117) -> 18.753756
A118: Бештин айы | B118: Декабрь | C118: December | D118: 4081472.8 | E118: 18.037103 | F118: 1089852 | G118: 16.38 | H118: 40411.2 | I118: 20.74 | J118: 37684.3 | K118: 18.67 | L118: 32905.1 | M118: 17.41 | N118: 1764485.7 | O118: 18.34 | P118: 57339.2 | Q118: 20.31 | R118: 216858.7 | S118: 18.29 | T118: 192533.4 | U118: 19.07 | V118: 307302 | W118: 19.82 | X118: 10351.1 | Y118: 20.02 | Z118: 331750.1 | AA118: 18.66 | AC118: =(F118*G118+H118*I118+J118*K118+L118*M118+N118*O118+P118*Q118+R118*S118+T118*U118+X118*Y118+Z118*AA118)/(F118+H118+J118+L118+N118+P118+R118+T118+X118+Z118) -> 17.891935
A119: Үчтүн айы 2005 ж. | B119: Январь 2005 г. | C119: January 2005 | D119: 3925681.3 | E119: 18.399836 | F119: 1016306.2 | G119: 16.953027 | H119: 38106 | I119: 20.597766 | J119: 34471.2 | K119: 19.136551 | L119: 31197 | M119: 17.415226 | N119: 1702021.5 | O119: 18.565134 | P119: 56819.3 | Q119: 20.48417 | R119: 235628.4 | S119: 17.714944 | T119: 195970.7 | U119: 19.121089 | V119: 276271.6 | W119: 21.819726 | X119: 9894.7 | Y119: 21.230695 | Z119: 328994.7 | AA119: 18.519611 | AC119: =(F119*G119+H119*I119+J119*K119+L119*M119+N119*O119+P119*Q119+R119*S119+T119*U119+X119*Y119+Z119*AA119)/(F119+H119+J119+L119+N119+P119+R119+T119+X119+Z119) -> 18.14094
A120: Бирдин айы | B120: Февраль | C120: February | D120: 4016508.3 | E120: 18.610828 | F120: 1063946.8 | G120: 16.91 | H120: 33935.7 | I120: 21.06 | J120: 36889.8 | K120: 19.18 | L120: 30983.8 | M120: 17.41 | N120: 1724133.3 | O120: 19.04 | P120: 52805.9 | Q120: 20.65 | R120: 235084.6 | S120: 17.88 | T120: 199074.6 | U120: 19.18 | V120: 287707.9 | W120: 21.78 | X120: 6912.9 | Y120: 20.7 | Z120: 345033 | AA120: 18.69 | AC120: =(F120*G120+H120*I120+J120*K120+L120*M120+N120*O120+P120*Q120+R120*S120+T120*U120+X120*Y120+Z120*AA120)/(F120+H120+J120+L120+N120+P120+R120+T120+X120+Z120) -> 18.3663
A121: Жалган куран | B121: Март | C121: March | D121: 4146522.8 | E121: 19.037063 | F121: 1110473.8 | G121: 16.890409 | H121: 31103.8 | I121: 21.177846 | J121: 50974.1 | K121: 18.821623 | L121: 29787.7 | M121: 17.43755 | N121: 1655621.9 | O121: 20.660761 | P121: 46186.9 | Q121: 20.790789 | R121: 259294.4 | S121: 18.142335 | T121: 213159.6 | U121: 19.025751 | V121: 290949.3 | W121: 21.893702 | X121: 6866.9 | Y121: 20.599863 | Z121: 452104.4 | AA121: 16.823315 | AC121: =(F121*G121+H121*I121+J121*K121+L121*M121+N121*O121+P121*Q121+R121*S121+T121*U121+X121*Y121+Z121*AA121)/(F121+H121+J121+L121+N121+P121+R121+T121+X121+Z121) -> 18.821495
A122: Чын куран | B122: Апрель | C122: April | D122: 4167543.4 | E122: 19.285945 | F122: 1086773.6 | G122: 17.401295 | H122: 32284.2 | I122: 31.749281 | J122: 50914.6 | K122: 18.890674 | L122: 28694.1 | M122: 17.513349 | N122: 1643584.4 | O122: 21.23007 | P122: 46516.8 | Q122: 20.845199 | R122: 300466.4 | S122: 16.958511 | T122: 213081.2 | U122: 18.909714 | V122: 288905 | W122: 21.401334 | X122: 6752.1 | Y122: 20.46798 | Z122: 469571 | AA122: 16.324303 | AC122: =(F122*G122+H122*I122+J122*K122+L122*M122+N122*O122+P122*Q122+R122*S122+T122*U122+X122*Y122+Z122*AA122)/(F122+H122+J122+L122+N122+P122+R122+T122+X122+Z122) -> 19.128378
A123: Бугу | B123: Май | C123: May | D123: 4221185 | E123: 19.667352 | F123: 1081985 | G123: 18.832431 | H123: 30562.4 | I123: 22.513757 | J123: 48996.4 | K123: 18.933932 | L123: 26793.9 | M123: 17.656612 | N123: 1634622.4 | O123: 21.881549 | P123: 47880.1 | Q123: 20.88489 | R123: 335811.3 | S123: 15.874754 | T123: 214250.9 | U123: 18.765015 | V123: 303170.2 | W123: 21.614166 | X123: 6585.8 | Y123: 23.712002 | Z123: 490526.6 | AA123: 15.750311 | AC123: =(F123*G123+H123*I123+J123*K123+L123*M123+N123*O123+P123*Q123+R123*S123+T123*U123+X123*Y123+Z123*AA123)/(F123+H123+J123+L123+N123+P123+R123+T123+X123+Z123) -> 19.51671
A124: Кулжа | B124: Июнь | C124: June | D124: 4332542.7 | E124: 19.546926 | F124: 1070964.6 | G124: 17.325876 | H124: 26993.2 | I124: 22.673686 | J124: 55214.6 | K124: 20.19223 | L124: 25314.2 | M124: 17.765981 | N124: 1708848.6 | O124: 22.17791 | P124: 44148.8 | Q124: 20.909317 | R124: 313043.9 | S124: 15.706848 | T124: 244167.9 | U124: 18.773257 | V124: 323907.5 | W124: 21.56339 | X124: 7296.8 | Y124: 26.896305 | Z124: 512642.6 | AA124: 16.487994 | AC124: =(F124*G124+H124*I124+J124*K124+L124*M124+N124*O124+P124*Q124+R124*S124+T124*U124+X124*Y124+Z124*AA124)/(F124+H124+J124+L124+N124+P124+R124+T124+X124+Z124) -> 19.383991
... A175: Аяк оона | B175: Сентябрь | C175: September | D175: 15955858 | E175: 20.513907 | F175: 1316186.7 | G175: 17.04 | H175: 176191.7 | I175: 23.04 | J175: 144017.7 | K175: 19.55 | L175: 91621.5 | M175: 25 | N175: 6647614.6 | O175: 23.01 | P175: 52224.7 | Q175: 13.92 | R175: 1819411.7 | S175: 18.56 | T175: 2582690.8 | U175: 17.29 | V175: 1015205.4 | W175: 24.58 | X175: 21413.7 | Y175: 22.75 | Z175: 2089279.9 | AA175: 18.27 | AC175: =(F175*G175+H175*I175+J175*K175+L175*M175+N175*O175+P175*Q175+R175*S175+T175*U175+X175*Y175+Z175*AA175)/(F175+H175+J175+L175+N175+P175+R175+T175+X175+Z175) -> 20.23762
A176: Тогуздун айы | B176: Октябрь | C176: October | D176: 16086408 | E176: 20.625247 | F176: 1296693 | G176: 17.06 | H176: 171227.7 | I176: 23.05 | J176: 138858.5 | K176: 19.52 | N176: 7032064.3 | O176: 23.06 | P176: 52226.7 | Q176: 13.9 | R176: 1750315.2 | S176: 18.77 | T176: 2539610.2 | U176: 17.26 | V176: 1027890.1 | W176: 24.42 | X176: 20392.8 | Y176: 22.93 | Z176: 2057129.8 | AA176: 18.39 | AC176: =(F176*G176+H176*I176+J176*K176+L176*M176+N176*O176+P176*Q176+R176*S176+T176*U176+X176*Y176+Z176*AA176)/(F176+H176+J176+L176+N176+P176+R176+T176+X176+Z176) -> 20.363861
A177: Жетинин айы | B177: Ноябрь | C177: November | D177: 16153522 | E177: 20.612511 | F177: 1438500.7 | G177: 17.11 | H177: 162485.8 | I177: 22.78 | J177: 136775.6 | K177: 19.61 | N177: 7065711.6 | O177: 22.38 | P177: 52414.1 | Q177: 13.89 | R177: 1620893.9 | S177: 21.47 | T177: 2493019.4 | U177: 17.39 | V177: 1017253 | W177: 24.77 | X177: 19412.2 | Y177: 22.95 | Z177: 2147055.7 | AA177: 18.31 | AC177: =(F177*G177+H177*I177+J177*K177+L177*M177+N177*O177+P177*Q177+R177*S177+T177*U177+X177*Y177+Z177*AA177)/(F177+H177+J177+L177+N177+P177+R177+T177+X177+Z177) -> 20.333102
A178: Бештин айы | B178: Декабрь | C178: December | D178: 15669434 | E178: 20.58971 | F178: 1248098 | G178: 16.91 | H178: 153114.6 | I178: 22.51 | J178: 138851.1 | K178: 19.99 | N178: 6923429 | O178: 22.36 | P178: 51766 | Q178: 3.7 | R178: 1569542.7 | S178: 21.35 | T178: 2443357.3 | U178: 17.53 | V178: 1008424 | W178: 24.79 | X178: 20727.8 | Y178: 23.09 | Z178: 2112123 | AA178: 18.22 | AC178: =(F178*G178+H178*I178+J178*K178+L178*M178+N178*O178+P178*Q178+R178*S178+T178*U178+X178*Y178+Z178*AA178)/(F178+H178+J178+L178+N178+P178+R178+T178+X178+Z178) -> 20.300803
A179: Үчтүн айы 2010 ж. | B179: Январь 2010 г. | C179: January 2010 | D179: 15349197 | E179: 20.300448 | F179: 1299366.3 | G179: 17.18 | H179: 147954.4 | I179: 22.57 | J179: 130436.2 | K179: 19.1 | N179: 6625440.8 | O179: 21.83 | P179: 51305.3 | Q179: 3.5 | R179: 1549837.1 | S179: 21.24 | T179: 2403694.9 | U179: 17.53 | V179: 990623.4 | W179: 24.87 | X179: 20334 | Y179: 22.88 | Z179: 2130204.9 | AA179: 18.06 | AC179: =(F179*G179+H179*I179+J179*K179+L179*M179+N179*O179+P179*Q179+R179*S179+T179*U179+X179*Y179+Z179*AA179)/(F179+H179+J179+L179+N179+P179+R179+T179+X179+Z179) -> 19.985186
A180: Бирдин айы | B180: Февраль | C180: February | D180: 15367850 | E180: 20.336686 | F180: 1221216.1 | G180: 17.34 | H180: 146382 | I180: 22.19 | J180: 130855.4 | K180: 19.09 | N180: 6800460.7 | O180: 21.84 | P180: 52006.1 | Q180: 3.65 | R180: 1540846.4 | S180: 21.25 | T180: 2364334.2 | U180: 17.48 | V180: 965203.4 | W180: 24.78 | X180: 19695.8 | Y180: 23.07 | Z180: 2126850.4 | AA180: 18.08 | AC180: =(F180*G180+H180*I180+J180*K180+L180*M180+N180*O180+P180*Q180+R180*S180+T180*U180+X180*Y180+Z180*AA180)/(F180+H180+J180+L180+N180+P180+R180+T180+X180+Z180) -> 20.038914
A181: Жалган куран | B181: Март | C181: March | D181: 15327245 | E181: 20.248863 | F181: 1129885.8 | G181: 17.5 | H181: 197547 | I181: 20.58 | J181: 136406.4 | K181: 19.04 | N181: 6765981.6 | O181: 21.74 | P181: 53203.1 | Q181: 3.86 | R181: 1597872.7 | S181: 20.61 | T181: 2322863.1 | U181: 17.51 | V181: 946596.6 | W181: 24.76 | X181: 19341.2 | Y181: 22.99 | Z181: 2157548 | AA181: 18.14 | AC181: =(F181*G181+H181*I181+J181*K181+L181*M181+N181*O181+P181*Q181+R181*S181+T181*U181+X181*Y181+Z181*AA181)/(F181+H181+J181+L181+N181+P181+R181+T181+X181+Z181) -> 19.951921
A182: Чын куран | B182: Апрель | C182: April | D182: 15082053 | E182: 20.226245 | F182: 1107574.4 | G182: 17.56 | H182: 194291.2 | I182: 20.48 | J182: 129842.6 | K182: 19.54 | N182: 6667447.2 | O182: 21.59 | P182: 12106.4 | Q182: 17.58 | R182: 1625258 | S182: 20.6 | T182: 2268315.3 | U182: 17.55 | V182: 924551.5 | W182: 24.86 | X182: 19061.6 | Y182: 23.01 | Z182: 2133604.9 | AA182: 17.91 | AC182: =(F182*G182+H182*I182+J182*K182+L182*M182+N182*O182+P182*Q182+R182*S182+T182*U182+X182*Y182+Z182*AA182)/(F182+H182+J182+L182+N182+P182+R182+T182+X182+Z182) -> 19.923639
A183: Бугу | B183: Май | C183: May | D183: 14807318 | E183: 20.212198 | F183: 1098733.4 | G183: 17.68 | H183: 141862.4 | I183: 21.19 | J183: 123955.1 | K183: 19.59 | N183: 6534181.6 | O183: 21.62 | P183: 19743.6 | Q183: 16.66 | R183: 1581861.4 | S183: 20.8 | T183: 2239954.2 | U183: 17.52 | V183: 905148.8 | W183: 24.76 | X183: 18210.3 | Y183: 22.8 | Z183: 2143667 | AA183: 17.66 | AC183: =(F183*G183+H183*I183+J183*K183+L183*M183+N183*O183+P183*Q183+R183*S183+T183*U183+X183*Y183+Z183*AA183)/(F183+H183+J183+L183+N183+P183+R183+T183+X183+Z183) -> 19.916098
A184: Кулжа | B184: Июнь | C184: June | D184: 14850034 | E184: 20.246777 | F184: 1118579 | G184: 17.76 | H184: 141882.9 | I184: 21.2 | J184: 127219.3 | K184: 19.54 | N184: 6652920.7 | O184: 21.64 | P184: 26601.6 | Q184: 17.79 | R184: 1521989.2 | S184: 21.02 | T184: 2214064.9 | U184: 17.75 | V184: 886494.3 | W184: 24.54 | X184: 26975 | Y184: 21.89 | Z184: 2133306.7 | AA184: 17.45 | AC184: =(F184*G184+H184*I184+J184*K184+L184*M184+N184*O184+P184*Q184+R184*S184+T184*U184+X184*Y184+Z184*AA184)/(F184+H184+J184+L184+N184+P184+R184+T184+X184+Z184) -> 19.974215
...

Sheet 5. сроки_общ
A2: 5-таблица. Мөөнөттөр боюнча кредиттер жана кредиттердин орточо салмактанып алынган пайыздык чендери (бир мезгилдин акырына карата) | B2: Таблица 5. Общий объем и средневзвешенные процентные ставки кредитов в разрезе срочностей (на конец периода) | C2: Table 5. Total volume and average weighted interest rates of credits by maturity (the end of period)
A4: (миң сом / пайыздар) | B4: (тыс. сомов / проценты) | C4: (ths of soms / percent)
A5: Мезгил аралыгы | B5: Период | C5: Period | D5: Жалпы улуттук валютада жана чет өлкө валютасында | F5: 0 - 1 айга | H5: 1 - 3 айга | J5: 3 - 6 айга | L5: 6 - 12 айга | N5: 1 - 3 жыл | P5: 3 жылдан ашкан мөөнөткө | R5: мөөнөтүндө төлөнбөгөн кредиттер | U5: Кыска мөөнөттү кредиттер | W5: Узак мөөнөттү кредиттер
D6: Итого в нац. и ин. валюте | F6: 0 - 1 месяца | H6: 1 - 3 месяца | J6: 3 - 6 месяцев | L6: 6 - 12 месяцев | N6: 1 - 3 года | P6: более 3 лет | R6: просроч. задол. | U6: Краткосрочные кредиты | W6: Долгосрочные кредиты
D7: Total in National and Foreign currencies | F7: 0 - 1 month | H7: 1 - 3 months | J7: 3 - 6 months | L7: 6 - 12 months | N7: 1 - 3 years | P7: more than 3 years | R7: overdue credits | U7: Short-maturity credits | W7: Long-maturity credits
D8: көлөм | E8: орточо салмактанып алынган чендер | F8: көлөм | G8: орточо салмактанып алынган чендер | H8: көлөм | I8: орточо салмактанып алынган чендер | J8: көлөм | K8: орточо салмактанып алынган чендер | L8: көлөм | M8: орточо салмактанып алынган чендер | N8: көлөм | O8: орточо салмактанып алынган чендер | P8: көлөм | Q8: орточо салмактанып алынган чендер | R8: көлөм | S8: орточо салмактанып алынган чендер | U8: көлөм | V8: орточо салмактанып алынган чендер | W8: көлөм | X8: орточо салмактанып алынган чендер
D9: объем | E9: средневзв. ставка | F9: объем | G9: средневзв. ставка | H9: объем | I9: средневзв. ставка | J9: объем | K9: средневзв. ставка | L9: объем | M9: средневзв. ставка | N9: объем | O9: средневзв. ставка | P9: объем | Q9: средневзв. ставка | R9: объем | S9: средневзв. ставка | U9: объем | V9: средневзв. ставка | W9: объем | X9: средневзв. ставка
D10: volume | E10: average weighted interest rate | F10: volume | G10: average weighted interest rate | H10: volume | I10: average weighted interest rate | J10: volume | K10: average weighted interest rate | L10: volume | M10: average weighted interest rate | N10: volume | O10: average weighted interest rate | P10: volume | Q10: average weighted interest rate | R10: volume | S10: average weighted interest rate | U10: volume | V10: average weighted interest rate | W10: volume | X10: average weighted interest rate
A11: Үчтүн айы 1996 ж. | B11: Январь 1996 г. | C11: January 1996 | D11: ='6. сроки_нац вал'!D11+'7. сроки_ин вал'!D14 -> 1047254.1 | E11: 25.649741 | F11: 13010 | G11: 54.73051 | H11: 308174.7 | I11: 49.618872 | J11: 98974.8 | K11: 63.165822 | L11: 35303 | M11: 56.78976 | N11: 520527.3 | O11: 4.9550077 | P11: 71264.3 | Q11: 0.31804143 | U11: =F11+H11+J11+L11 -> 455462.5 | V11: =(F11*G11+H11*I11+J11*K11+L11*M11)/(F11+H11+J11+L11) -> 53.264536 | W11: =N11+P11 -> 591791.6 | X11: =(N11*O11+P11*Q11)/(N11+P11) -> 4.3966183
A12: Бирдин айы | B12: Февраль | C12: February | D12: 1047687.4 | E12: 26.379245 | F12: 9186.5 | G12: 40.069134 | H12: 300854.7 | I12: 51.611984 | J12: 106978.8 | K12: 58.06232 | L12: 44767 | M12: 63.293394 | N12: 514937.5 | O12: 5.1920856 | P12: 70962.9 | Q12: 0.32123828 | U12: =F12+H12+J12+L12 -> 461787 | V12: =(F12*G12+H12*I12+J12*K12+L12*M12)/(F12+H12+J12+L12) -> 54.00909 | W12: =N12+P12 -> 585900.4 | X12: =(N12*O12+P12*Q12)/(N12+P12) -> 4.6021398
A13: Жалган куран | B13: Март | C13: March | D13: 1081388.7 | E13: 25.007032 | F13: 25622 | G13: 41.933502 | H13: 293811.2 | I13: 44.426223 | J13: 120176.9 | K13: 58.623129 | L13: 53132.1 | M13: 58.365596 | N13: 527565.8 | O13: 5.2087549 | P13: 61080.7 | Q13: 0.33770078 | U13: =F13+H13+J13+L13 -> 492742.2 | V13: =(F13*G13+H13*I13+J13*K13+L13*M13)/(F13+H13+J13+L13) -> 49.26222 | W13: =N13+P13 -> 588646.5 | X13: =(N13*O13+P13*Q13)/(N13+P13) -> 4.7033116
A14: Чын куран | B14: Апрель | C14: April | D14: 1071987.6 | E14: 24.319222 | F14: 19671 | G14: 57.020319 | H14: 282169.1 | I14: 44.060342 | J14: 126170.2 | K14: 53.636479 | L14: 57155.1 | M14: 53.935951 | N14: 526070.2 | O14: 5.0269341 | P14: 60752 | Q14: 0.3485663 | U14: =F14+H14+J14+L14 -> 485165.4 | V14: =(F14*G14+H14*I14+J14*K14+L14*M14)/(F14+H14+J14+L14) -> 48.239536 | W14: =N14+P14 -> 586822.2 | X14: =(N14*O14+P14*Q14)/(N14+P14) -> 4.5425962
A15: Бугу | B15: Май | C15: May | D15: 356693.1 | E15: 48.365826 | F15: 17345 | G15: 61.347414 | H15: 72981.6 | I15: 65.864954 | J15: 113137.5 | K15: 52.652274 | L15: 64642.6 | M15: 55.082553 | N15: 87405.4 | O15: 21.083611 | P15: 1181 | Q15: 17.274852 | U15: =F15+H15+J15+L15 -> 268106.7 | V15: =(F15*G15+H15*I15+J15*K15+L15*M15)/(F15+H15+J15+L15) -> 57.397397 | W15: =N15+P15 -> 88586.4 | X15: =(N15*O15+P15*Q15)/(N15+P15) -> 21.032834
A16: Кулжа | B16: Июнь | C16: June | D16: 377086.7 | E16: 46.530249 | F16: 17478.9 | G16: 71.725149 | H16: 92842.6 | I16: 61.587419 | J16: 108049.1 | K16: 54.134966 | L16: 68616.1 | M16: 40.67968 | N16: 88948 | O16: 21.516548 | P16: 1152 | Q16: 17.221094 | U16: =F16+H16+J16+L16 -> 286986.7 | V16: =(F16*G16+H16*I16+J16*K16+L16*M16)/(F16+H16+J16+L16) -> 54.40018 | W16: =N16+P16 -> 90100 | X16: =(N16*O16+P16*Q16)/(N16+P16) -> 21.461628
A17: Теке | B17: Июль | C17: July | D17: 371196.1 | E17: 44.74083 | F17: 19610.8 | G17: 69.385689 | H17: 80279.9 | I17: 60.19523 | J17: 119587.8 | K17: 53.014249 | L17: 59953.8 | M17: 38.263992 | N17: 90507.8 | O17: 19.448063 | P17: 1256 | Q17: 16.159076 | U17: =F17+H17+J17+L17 -> 279432.3 | V17: =(F17*G17+H17*I17+J17*K17+L17*M17)/(F17+H17+J17+L17) -> 53.061529 | W17: =N17+P17 -> 91763.8 | X17: =(N17*O17+P17*Q17)/(N17+P17) -> 19.403046
A18: Баш оона | B18: Август | C18: August | D18: 376601.8 | E18: 41.755058 | F18: 8073 | G18: 66.37826 | H18: 84890.9 | I18: 62.634879 | J18: 124617.1 | K18: 50.459466 | L18: 56959.8 | M18: 33.061152 | N18: 100815 | O18: 16.6683 | P18: 1246 | Q18: 16.311316 | U18: =F18+H18+J18+L18 -> 274540.8 | V18: =(F18*G18+H18*I18+J18*K18+L18*M18)/(F18+H18+J18+L18) -> 51.082651 | W18: =N18+P18 -> 102061 | X18: =(N18*O18+P18*Q18)/(N18+P18) -> 16.663942
A19: Аяк оона | B19: Сентябрь | C19: September | D19: 382869.9 | E19: 42.786926 | F19: 13499.4 | G19: 47.814826 | H19: 86478.6 | I19: 62.287371 | J19: 130874.6 | K19: 56.355841 | L19: 62525.3 | M19: 22.953224 | N19: 88254 | O19: 17.209722 | P19: 1238 | Q19: 16.31979 | U19: =F19+H19+J19+L19 -> 293377.9 | V19: =(F19*G19+H19*I19+J19*K19+L19*M19)/(F19+H19+J19+L19) -> 50.592432 | W19: =N19+P19 -> 89492 | X19: =(N19*O19+P19*Q19)/(N19+P19) -> 17.197411
A20: Тогуздун айы | B20: Октябрь | C20: October | D20: 393717.5 | E20: 45.42866 | F20: 32211 | G20: 71.604564 | H20: 74884 | I20: 65.61467 | J20: 125014.9 | K20: 52.891534 | L20: 48564.5 | M20: 42.042242 | N20: 107576.1 | O20: 18.011052 | P20: 5467 | Q20: 13.598134 | U20: =F20+H20+J20+L20 -> 280674.4 | V20: =(F20*G20+H20*I20+J20*K20+L20*M20)/(F20+H20+J20+L20) -> 56.556401 | W20: =N20+P20 -> 113043.1 | X20: =(N20*O20+P20*Q20)/(N20+P20) -> 17.797634
A21: Жетинин айы | B21: Ноябрь | C21: November | D21: 379745.2 | E21: 45.160148 | F21: 72777 | G21: 75.551047 | H21: 36441.3 | I21: 59.690391 | J21: 129187.2 | K21: 50.005638 | L21: 43958.3 | M21: 37.788041 | N21: 91794.4 | O21: 13.88843 | P21: 5587 | Q21: 14.304707 | U21: =F21+H21+J21+L21 -> 282363.8 | V21: =(F21*G21+H21*I21+J21*K21+L21*M21)/(F21+H21+J21+L21) -> 55.937625 | W21: =N21+P21 -> 97381.4 | X21: =(N21*O21+P21*Q21)/(N21+P21) -> 13.912312
A22: Бештин айы | B22: Декабрь | C22: December | D22: 407186.7 | E22: 50.624176 | F22: 16992 | G22: 61.869941 | H22: 80656.1 | I22: 64.589891 | J22: 179685.7 | K22: 61.788762 | L22: 42463.4 | M22: 44.800428 | N22: 81743.5 | O22: 15.552468 | P22: 5646 | Q22: 13.447574 | U22: =F22+H22+J22+L22 -> 319797.2 | V22: =(F22*G22+H22*I22+J22*K22+L22*M22)/(F22+H22+J22+L22) -> 60.243799 | W22: =N22+P22 -> 87389.5 | X22: =(N22*O22+P22*Q22)/(N22+P22) -> 15.416476
A23: Үчтүн айы 1997 ж. | B23: Январь 1997 г. | C23: January 1997 | D23: 403729.6 | E23: 52.91834 | F23: 7839 | G23: 69.955964 | H23: 99102.7 | I23: 63.154378 | J23: 169852.3 | K23: 61.655881 | L23: 46367.3 | M23: 51.673634 | N23: 73360.3 | O23: 22.041706 | P23: 7208 | Q23: 10.056118 | U23: =F23+H23+J23+L23 -> 323161.3 | V23: =(F23*G23+H23*I23+J23*K23+L23*M23)/(F23+H23+J23+L23) -> 60.8845 | W23: =N23+P23 -> 80568.3 | X23: =(N23*O23+P23*Q23)/(N23+P23) -> 20.969422
... A97: Жалган куран | B97: Март | C97: March | D97: 2034409.6 | E97: 24.379382 | F97: 80402.7 | G97: 13.732347 | H97: 157999.8 | I97: 25.708549 | J97: 341663.2 | K97: 27.301 | L97: 852580.5 | M97: 27.444071 | N97: 573627.6 | O97: 19.909331 | P97: 28135.8 | Q97: 10.130046 | U97: =F97+H97+J97+L97 -> 1432646.2 | V97: =(F97*G97+H97*I97+J97*K97+L97*M97)/(F97+H97+J97+L97) -> 26.449021 | W97: =N97+P97 -> 601763.4 | X97: =(N97*O97+P97*Q97)/(N97+P97) -> 19.452095
A98: Чын куран | B98: Апрель | C98: April | D98: 2097504.5 | E98: 23.676201 | F98: 241654.4 | G98: 20.904625 | H98: 373818.7 | I98: 26.511524 | J98: 332868.9 | K98: 26.561565 | L98: 639254.5 | M98: 25.645593 | N98: 191641.5 | O98: 20.238283 | P98: 166989.4 | Q98: 12.71835 | R98: 151277.1 | S98: 22.877467 | U98: =F98+H98+J98+L98 -> 1587596.5 | V98: =(F98*G98+H98*I98+J98*K98+L98*M98)/(F98+H98+J98+L98) -> 25.319896 | W98: =N98+P98 -> 358630.9 | X98: =(N98*O98+P98*Q98)/(N98+P98) -> 16.736775
A99: Бугу | B99: Май | C99: May | D99: 2178355.3 | E99: 23.786944 | F99: 210705.5 | G99: 21.073077 | H99: 399279.5 | I99: 25.527706 | J99: 369984.5 | K99: 25.269947 | L99: 670929.1 | M99: 25.816327 | N99: 214702.8 | O99: 19.724163 | P99: 171933.3 | Q99: 12.626971 | R99: 140820.6 | S99: 29.166679 | U99: =F99+H99+J99+L99 -> 1650898.6 | V99: =(F99*G99+H99*I99+J99*K99+L99*M99)/(F99+H99+J99+L99) -> 25.018688 | W99: =N99+P99 -> 386636.1 | X99: =(N99*O99+P99*Q99)/(N99+P99) -> 16.568111
A100: Кулжа | B100: Июнь | C100: June | D100: 2236829.6 | E100: 23.825506 | F100: 250972.04 | G100: 23.097572 | H100: 312748.17 | I100: 24.181631 | J100: 424457.2 | K100: 25.673344 | L100: 661308.4 | M100: 25.739605 | N100: 249805.4 | O100: 19.381262 | P100: 171414.47 | Q100: 13.428523 | R100: 166123.9 | S100: 29.324815 | U100: =F100+H100+J100+L100 -> 1649485.8 | V100: =(F100*G100+H100*I100+J100*K100+L100*M100)/(F100+H100+J100+L100) -> 25.025167 | W100: =N100+P100 -> 421219.87 | X100: =(N100*O100+P100*Q100)/(N100+P100) -> 16.958808
A101: Теке | B101: Июль | C101: July | D101: 2354516.8 | E101: 24.001213 | F101: 173610.8 | G101: 24.963469 | H101: 298106.13 | I101: 24.15759 | J101: 458525.5 | K101: 25.534697 | L101: 747366.32 | M101: 25.568732 | N101: 293675.26 | O101: 19.598227 | P101: 189304.71 | Q101: 13.966528 | R101: 193928.11 | S101: 29.69577 | U101: =F101+H101+J101+L101 -> 1677608.8 | V101: =(F101*G101+H101*I101+J101*K101+L101*M101)/(F101+H101+J101+L101) -> 25.246037 | W101: =N101+P101 -> 482979.97 | X101: =(N101*O101+P101*Q101)/(N101+P101) -> 17.390874
A102: Баш оона | B102: Август | C102: August | D102: 2362603 | E102: 23.833961 | F102: 190683 | G102: 22.989523 | H102: 304882.1 | I102: 25.297133 | J102: 370669.4 | K102: 25.985609 | L102: 803387.5 | M102: 25.158872 | N102: 310814 | O102: 19.852665 | P102: 204606.9 | Q102: 14.128459 | R102: 177560.1 | S102: 29.895088 | U102: =F102+H102+J102+L102 -> 1669622 | V102: =(F102*G102+H102*I102+J102*K102+L102*M102)/(F102+H102+J102+L102) -> 25.119906 | W102: =N102+P102 -> 515420.9 | X102: =(N102*O102+P102*Q102)/(N102+P102) -> 17.580324
A103: Аяк оона | B103: Сентябрь | C103: September | D103: 2486626.6 | E103: 23.310628 | F103: 114598.5 | G103: 22.527293 | H103: 336005.9 | I103: 23.936544 | J103: 477500.2 | K103: 25.18366 | L103: 820357.4 | M103: 24.734817 | N103: 350978.9 | O103: 19.701516 | P103: 219326.4 | Q103: 14.434226 | R103: 167859.3 | S103: 29.448455 | U103: =F103+H103+J103+L103 -> 1748462 | V103: =(F103*G103+H103*I103+J103*K103+L103*M103)/(F103+H103+J103+L103) -> 24.559302 | W103: =N103+P103 -> 570305.3 | X103: =(N103*O103+P103*Q103)/(N103+P103) -> 17.675837
A104: Тогуздун айы | B104: Октябрь | C104: October | D104: 2624697.8 | E104: 23.157835 | F104: 173435.7 | G104: 25.001397 | H104: 287634.2 | I104: 24.527524 | J104: 628601.5 | K104: 23.714333 | L104: 771804.1 | M104: 25.005491 | N104: 382172.6 | O104: 20.163772 | P104: 215994.9 | Q104: 14.626531 | R104: 165054.8 | S104: 26.17147 | U104: =F104+H104+J104+L104 -> 1861475.5 | V104: =(F104*G104+H104*I104+J104*K104+L104*M104)/(F104+H104+J104+L104) -> 24.495243 | W104: =N104+P104 -> 598167.5 | X104: =(N104*O104+P104*Q104)/(N104+P104) -> 18.164306
A105: Жетинин айы | B105: Ноябрь | C105: November | D105: 2842728 | E105: 22.684081 | F105: 153279 | G105: 21.624295 | H105: 433316.8 | I105: 23.171802 | J105: 654855.7 | K105: 23.824529 | L105: 824284.2 | M105: 24.430821 | N105: 376587.7 | O105: 19.853189 | P105: 232564.6 | Q105: 14.689229 | R105: 167840 | S105: 26.794331 | U105: =F105+H105+J105+L105 -> 2065735.7 | V105: =(F105*G105+H105*I105+J105*K105+L105*M105)/(F105+H105+J105+L105) -> 23.766279 | W105: =N105+P105 -> 609152.3 | X105: =(N105*O105+P105*Q105)/(N105+P105) -> 17.881672
A106: Бештин айы | B106: Декабрь | C106: December | D106: 2894550.7 | E106: 22.282342 | F106: 161752.3 | G106: 22.205427 | H106: 481340.7 | I106: 22.756216 | J106: 628955 | K106: 23.186829 | L106: 860654.1 | M106: 24.504281 | N106: 384415.9 | O106: 19.829761 | P106: 244346.3 | Q106: 14.653245 | R106: 133086.4 | S106: 23.109596 | U106: =F106+H106+J106+L106 -> 2132702.1 | V106: =(F106*G106+H106*I106+J106*K106+L106*M106)/(F106+H106+J106+L106) -> 23.546868 | W106: =N106+P106 -> 628762.2 | X106: =(N106*O106+P106*Q106)/(N106+P106) -> 17.81809
A107: Үчтүн айы 2004 ж. | B107: Январь 2004 г. | C107: January 2004 | D107: 2846298.5 | E107: 22.440435 | F107: 211349.5 | G107: 22.136302 | H107: 391421.8 | I107: 23.919964 | J107: 595603.4 | K107: 23.599171 | L107: 919986.7 | M107: 23.504378 | N107: 366214.3 | O107: 19.522676 | P107: 223422.7 | Q107: 14.790128 | R107: 138300.1 | S107: 26.735273 | U107: =F107+H107+J107+L107 -> 2118361.4 | V107: =(F107*G107+H107*I107+J107*K107+L107*M107)/(F107+H107+J107+L107) -> 23.471327 | W107: =N107+P107 -> 589637 | X107: =(N107*O107+P107*Q107)/(N107+P107) -> 17.72944
A108: Бирдин айы | B108: Февраль | C108: February | D108: 2993206.9 | E108: 22.264057 | F108: 193380.8 | G108: 22.584219 | H108: 444088.3 | I108: 22.573169 | J108: 564133.5 | K108: 23.814967 | L108: 982749.9 | M108: 23.562792 | N108: 406105.1 | O108: 19.823887 | P108: 265224.7 | Q108: 14.641933 | R108: 137524.6 | S108: 27.078481 | U108: =F108+H108+J108+L108 -> 2184352.5 | V108: =(F108*G108+H108*I108+J108*K108+L108*M108)/(F108+H108+J108+L108) -> 23.340091 | W108: =N108+P108 -> 671329.8 | X108: =(N108*O108+P108*Q108)/(N108+P108) -> 17.776634
A109: Жалган куран | B109: Март | C109: March | D109: 3337112.9 | E109: 21.886843 | F109: 192558 | G109: 23.620587 | H109: 500834.1 | I109: 22.058253 | J109: 558136.4 | K109: 23.337271 | L109: 1230594.4 | M109: 22.600187 | N109: 459066.2 | O109: 19.167331 | P109: 254995 | Q109: 15.548307 | R109: 140928.8 | S109: 27.263066 | U109: =F109+H109+J109+L109 -> 2482122.9 | V109: =(F109*G109+H109*I109+J109*K109+L109*M109)/(F109+H109+J109+L109) -> 22.73574 | W109: =N109+P109 -> 714061.2 | X109: =(N109*O109+P109*Q109)/(N109+P109) -> 17.874959
... A336: Бирдин айы | B336: Февраль | C336: February | D336: 2.0464993e+08 | E336: 15.095846 | F336: 5257481.2 | G336: 17.165629 | H336: 1994109.1 | I336: 18.202632 | J336: 5291771.5 | K336: 18.482932 | L336: 19860187 | M336: 18.694953 | N336: 87154665 | O336: 16.184276 | P336: 79182265 | Q336: 12.768425 | R336: 5909454.8 | S336: 12.210465 | U336: =F336+H336+J336+L336 -> 32403548 | V336: =(F336*G336+H336*I336+J336*K336+L336*M336)/(F336+H336+J336+L336) -> 18.381898 | W336: =N336+P336 -> 1.6633693e+08 | X336: =(N336*O336+P336*Q336)/(N336+P336) -> 14.55821
A337: Жалган куран | B337: Март | C337: March | D337: 2.0942713e+08 | E337: 15.191843 | F337: 4776110 | G337: 17.515897 | H337: 2208182.1 | I337: 18.219669 | J337: 5909647.2 | K337: 17.293154 | L337: 20275448 | M337: 19.021531 | N337: 90007769 | O337: 16.195236 | P337: 80128082 | Q337: 12.944062 | R337: 6121889.7 | S337: 12.242522 | T337: 12946377 | U337: =F337+H337+J337+L337 -> 33169387 | V337: =(F337*G337+H337*I337+J337*K337+L337*M337)/(F337+H337+J337+L337) -> 18.443413 | W337: =N337+P337 -> 1.7013585e+08 | X337: =(N337*O337+P337*Q337)/(N337+P337) -> 14.664046
A338: Чын куран | B338: Апрель | C338: April | D338: 2.1559426e+08 | E338: 15.252264 | F338: 4889546.5 | G338: 17.402152 | H338: 2499257 | I338: 16.603953 | J338: 5919389.6 | K338: 17.750262 | L338: 21494625 | M338: 19.069778 | N338: 92448681 | O338: 16.246021 | P338: 82224908 | Q338: 13.035797 | R338: 6117856.8 | S338: 11.925046 | U338: =F338+H338+J338+L338 -> 34802818 | V338: =(F338*G338+H338*I338+J338*K338+L338*M338)/(F338+H338+J338+L338) -> 18.433985 | W338: =N338+P338 -> 1.7467359e+08 | X338: =(N338*O338+P338*Q338)/(N338+P338) -> 14.734857
A339: Бугу | B339: Май | C339: May | D339: 2.2208616e+08 | E339: 15.343637 | F339: 5199350.6 | G339: 17.036597 | H339: 2799060.9 | I339: 16.69617 | J339: 7593690.1 | K339: 15.614833 | L339: 20637180 | M339: 20.163106 | N339: 94680834 | O339: 16.31881 | P339: 84956175 | Q339: 13.154276 | R339: 6219874.1 | S339: 12.057703 | U339: =F339+H339+J339+L339 -> 36229282 | V339: =(F339*G339+H339*I339+J339*K339+L339*M339)/(F339+H339+J339+L339) -> 18.493237 | W339: =N339+P339 -> 1.7963701e+08 | X339: =(N339*O339+P339*Q339)/(N339+P339) -> 14.822199
A340: Кулжа | B340: Июнь | C340: June | D340: 2.2836694e+08 | E340: 15.465957 | F340: 5485045.1 | G340: 16.956327 | H340: 2968678.5 | I340: 16.159729 | J340: 7844119.8 | K340: 15.679201 | L340: 20556214 | M340: 20.775091 | N340: 98872958 | O340: 16.368871 | P340: 86316547 | Q340: 13.257673 | R340: 6323377.1 | S340: 12.349732 | U340: =F340+H340+J340+L340 -> 36854058 | V340: =(F340*G340+H340*I340+J340*K340+L340*M340)/(F340+H340+J340+L340) -> 18.750337 | W340: =N340+P340 -> 1.851895e+08 | X340: =(N340*O340+P340*Q340)/(N340+P340) -> 14.918746
A341: Теке | B341: Июль | C341: July | D341: 2.3297739e+08 | E341: 15.595951 | F341: 5498268.5 | G341: 17.140681 | H341: 2605092.2 | I341: 16.602093 | J341: 7502454.9 | K341: 15.802978 | L341: 21140686 | M341: 21.130217 | N341: 1.0215785e+08 | O341: 16.410599 | P341: 87711221 | Q341: 13.399972 | R341: 6361820.7 | S341: 12.408742 | U341: =F341+H341+J341+L341 -> 36746501 | V341: =(F341*G341+H341*I341+J341*K341+L341*M341)/(F341+H341+J341+L341) -> 19.124609 | W341: =N341+P341 -> 1.8986907e+08 | X341: =(N341*O341+P341*Q341)/(N341+P341) -> 15.019821
A342: Баш оона | B342: Август | C342: August | D342: 2.3988659e+08 | E342: 15.705746 | F342: 5591784.2 | G342: 17.043942 | H342: 3667558.1 | I342: 14.990172 | J342: 6355912.7 | K342: 17.662357 | L342: 22493956 | M342: 21.208186 | N342: 1.0501646e+08 | O342: 16.536741 | P342: 90393690 | Q342: 13.436367 | R342: 6367229.3 | S342: 12.062568 | U342: =F342+H342+J342+L342 -> 38109211 | V342: =(F342*G342+H342*I342+J342*K342+L342*M342)/(F342+H342+J342+L342) -> 19.407376 | W342: =N342+P342 -> 1.9541015e+08 | X342: =(N342*O342+P342*Q342)/(N342+P342) -> 15.102556
A343: Аяк оона | B343: Сентябрь | C343: September | D343: 2.4429387e+08 | E343: 15.779841 | F343: 4970746.7 | G343: 17.466883 | H343: 3572930 | I343: 15.085243 | J343: 6357224.2 | K343: 17.722363 | L343: 23584470 | M343: 21.223566 | N343: 1.0683512e+08 | O343: 16.69278 | P343: 92482040 | Q343: 13.495795 | R343: 6491335.4 | S343: 10.705179 | U343: =F343+H343+J343+L343 -> 38485371 | V343: =(F343*G343+H343*I343+J343*K343+L343*M343)/(F343+H343+J343+L343) -> 19.590134 | W343: =N343+P343 -> 1.9931716e+08 | X343: =(N343*O343+P343*Q343)/(N343+P343) -> 15.209397
A344: Тогуздун айы | B344: Октябрь | C344: October | D344: 2.5050499e+08 | E344: 15.771379 | F344: 5945937.9 | G344: 16.608259 | H344: 2426891.1 | I344: 16.395535 | J344: 7233670.8 | K344: 17.517709 | L344: 24145724 | M344: 21.119958 | N344: 1.0854538e+08 | O344: 16.72822 | P344: 95605259 | Q344: 13.424568 | R344: 6602129.9 | S344: 11.566412 | U344: =F344+H344+J344+L344 -> 39752224 | V344: =(F344*G344+H344*I344+J344*K344+L344*M344)/(F344+H344+J344+L344) -> 19.501195 | W344: =N344+P344 -> 2.0415064e+08 | X344: =(N344*O344+P344*Q344)/(N344+P344) -> 15.181095
A345: Жетинин айы | B345: Ноябрь | C345: November | D345: 2.5337085e+08 | E345: 15.85339 | F345: 6673596.2 | G345: 16.439666 | H345: 2799893.8 | I345: 17.34073 | J345: 7284309.7 | K345: 18.042636 | L345: 24716327 | M345: 20.966012 | N345: 1.0757176e+08 | O345: 16.895872 | P345: 97842241 | Q345: 13.428119 | R345: 6482718.2 | S345: 11.960406 | U345: =F345+H345+J345+L345 -> 41474127 | V345: =(F345*G345+H345*I345+J345*K345+L345*M345)/(F345+H345+J345+L345) -> 19.47949 | W345: =N345+P345 -> 2.05414e+08 | X345: =(N345*O345+P345*Q345)/(N345+P345) -> 15.244121
A346: Бештин айы | B346: Декабрь | C346: December | D346: 2.5778175e+08 | E346: 15.860571 | F346: 6684692 | G346: 16.213721 | H346: 3779238.4 | I346: 15.582466 | J346: 6585013 | K346: 19.410171 | L346: 26551729 | M346: 20.483966 | N346: 1.0812955e+08 | O346: 16.940878 | P346: 99633378 | Q346: 13.463446 | R346: 6418153.5 | S346: 11.89956 | U346: =F346+H346+J346+L346 -> 43600672 | V346: =(F346*G346+H346*I346+J346*K346+L346*M346)/(F346+H346+J346+L346) -> 19.242238 | W346: =N346+P346 -> 2.0776292e+08 | X346: =(N346*O346+P346*Q346)/(N346+P346) -> 15.273264
A347: Үчтүн айы 2024 ж. | B347: Январь 2024 г. | C347: January 2024 | D347: 2.5692934e+08 | E347: 15.895268 | F347: 7227814.6 | G347: 16.128236 | H347: 3325504 | I347: 16.187946 | J347: 6666619.2 | K347: 19.728323 | L347: 25496094 | M347: 20.646224 | N347: 1.0739072e+08 | O347: 16.948631 | P347: 1.0021697e+08 | Q347: 13.539812 | R347: 6605621.1 | S347: 11.897717 | U347: =F347+H347+J347+L347 -> 42716032 | V347: =(F347*G347+H347*I347+J347*K347+L347*M347)/(F347+H347+J347+L347) -> 19.391414 | W347: =N347+P347 -> 2.0760769e+08 | X347: =(N347*O347+P347*Q347)/(N347+P347) -> 15.303116
A348: Бирдин айы | B348: Февраль | C348: February | D348: 2.5912179e+08 | E348: 15.857845 | F348: 7504478.3 | G348: 15.929364 | H348: 3101095.2 | I348: 18.791911 | J348: 6913774.5 | K348: 19.986179 | L348: 25349092 | M348: 19.478164 | N348: 1.0787077e+08 | O348: 17.055888 | P348: 1.0162776e+08 | Q348: 13.603959 | R348: 6754818.8 | S348: 11.397915 | U348: =F348+H348+J348+L348 -> 42868440 | V348: =(F348*G348+H348*I348+J348*K348+L348*M348)/(F348+H348+J348+L348) -> 18.889205 | W348: =N348+P348 -> 2.0949853e+08 | X348: =(N348*O348+P348*Q348)/(N348+P348) -> 15.381357
A349: Жалган куран | B349: Март | C349: March | D349: 2.626622e+08 | E349: 15.904957 | F349: 7399255.8 | G349: 16.023027 | H349: 3036675.6 | I349: 18.866858 | J349: 7491881.3 | K349: 19.510627 | L349: 26254630 | M349: 19.242759 | N349: 1.0847074e+08 | O349: 17.176881 | P349: 1.0307795e+08 | Q349: 13.639556 | R349: 6931064.8 | S349: 11.725568 | U349: =F349+H349+J349+L349 -> 44182442 | V349: =(F349*G349+H349*I349+J349*K349+L349*M349)/(F349+H349+J349+L349) -> 18.723134 | W349: =N349+P349 -> 2.115487e+08 | X349: =(N349*O349+P349*Q349)/(N349+P349) -> 15.453305
... A376: Кулжа* | B376: Июнь* | C376: June* | D376: 6.0263034e+08 | E376: 15.900083 | F376: 10734008 | G376: 14.986117 | H376: 6980346.5 | I376: 13.826715 | J376: 11778651 | K376: 18.904999 | L376: 38760562 | M376: 19.988104 | N376: 2.2517567e+08 | O376: 17.965662 | P376: 2.9866812e+08 | Q376: 13.778424 | R376: 10532988 | S376: 15.804108 | U376: =F376+H376+J376+L376 -> 68253567 | V376: =(F376*G376+H376*I376+J376*K376+L376*M376)/(F376+H376+J376+L376) -> 18.384415 | W376: =N376+P376 -> 5.2384379e+08 | X376: =(N376*O376+P376*Q376)/(N376+P376) -> 15.57832
A377: Теке | B377: Июль | C377: July | U377: =F377+H377+J377+L377 -> 0 | V377: =(F377*G377+H377*I377+J377*K377+L377*M377)/(F377+H377+J377+L377) -> #DIV/0! | W377: =N377+P377 -> 0 | X377: =(N377*O377+P377*Q377)/(N377+P377) -> #DIV/0!
A378: Баш оона | B378: Август | C378: August | U378: =F378+H378+J378+L378 -> 0 | V378: =(F378*G378+H378*I378+J378*K378+L378*M378)/(F378+H378+J378+L378) -> #DIV/0! | W378: =N378+P378 -> 0 | X378: =(N378*O378+P378*Q378)/(N378+P378) -> #DIV/0!
A379: Аяк оона | B379: Сентябрь | C379: September | U379: =F379+H379+J379+L379 -> 0 | V379: =(F379*G379+H379*I379+J379*K379+L379*M379)/(F379+H379+J379+L379) -> #DIV/0! | W379: =N379+P379 -> 0 | X379: =(N379*O379+P379*Q379)/(N379+P379) -> #DIV/0!
A380: Тогуздун айы | B380: Октябрь | C380: October | U380: =F380+H380+J380+L380 -> 0 | V380: =(F380*G380+H380*I380+J380*K380+L380*M380)/(F380+H380+J380+L380) -> #DIV/0! | W380: =N380+P380 -> 0 | X380: =(N380*O380+P380*Q380)/(N380+P380) -> #DIV/0!
A381: Жетинин айы | B381: Ноябрь | C381: November | U381: =F381+H381+J381+L381 -> 0 | V381: =(F381*G381+H381*I381+J381*K381+L381*M381)/(F381+H381+J381+L381) -> #DIV/0! | W381: =N381+P381 -> 0 | X381: =(N381*O381+P381*Q381)/(N381+P381) -> #DIV/0!
A382: Бештин айы | B382: Декабрь | C382: December | U382: =F382+H382+J382+L382 -> 0 | V382: =(F382*G382+H382*I382+J382*K382+L382*M382)/(F382+H382+J382+L382) -> #DIV/0! | W382: =N382+P382 -> 0 | X382: =(N382*O382+P382*Q382)/(N382+P382) -> #DIV/0!
A383: * алдын ала маалыматтар | B383: * предварительные данные | C383: *preliminary data

Sheet 6. сроки_нац вал
A2: 6-таблица. Мөөнөттөр боюнча улуттук валютадагы кредиттер жана кредиттердин орточо салмактанып алынган пайыздык чендери (бир мезгилдин акырына карата) | B2: Таблица 6. Общий объем и средневзвешенные процентные ставки кредитов в разрезе срочностей в национальной валюте (на конец периода) | C2: Table 6. Total volume and average weighted interest rates of credits by maturity in National currency (the end of period)
A4: (миң сом / пайыздар) | B4: (тыс. сомов / проценты) | C4: (ths of soms / percent)
A5: Мезгил аралыгы | B5: Период | C5: Period | D5: Жалпы улуттук валютада | F5: 0 - 1 айга | H5: 1 - 3 айга | J5: 3 - 6 айга | L5: 6 - 12 айга | N5: 1 - 3 жыл | P5: 3 жылдан ашкан мөөнөткө | R5: мөөнөтүндө төлөнбөгөн кредиттер | U5: Кыска мөөнөттү кредиттер | W5: Узак мөөнөттү кредиттер
D6: Итого в нац. валюте | F6: 0 - 1 месяца | H6: 1 - 3 месяца | J6: 3 - 6 месяцев | L6: 6 - 12 месяцев | N6: 1 - 3 года | P6: более 3 лет | R6: просроч. задол. | U6: Краткосрочные кредиты | W6: Долгосрочные кредиты
D7: Total in National currency | F7: 0 - 1 month | H7: 1 - 3 months | J7: 3 - 6 months | L7: 6 - 12 months | N7: 1 - 3 years | P7: more than 3 years | R7: overdue credits | U7: Short-maturity credits | W7: Long-maturity credits
D8: көлөм | E8: орточо салмактанып алынган чендер | F8: көлөм | G8: орточо салмактанып алынган чендер | H8: көлөм | I8: орточо салмактанып алынган чендер | J8: көлөм | K8: орточо салмактанып алынган чендер | L8: көлөм | M8: орточо салмактанып алынган чендер | N8: көлөм | O8: орточо салмактанып алынган чендер | P8: көлөм | Q8: орточо салмактанып алынган чендер | R8: көлөм | S8: орточо салмактанып алынган чендер | U8: көлөм | V8: орточо салмактанып алынган чендер | W8: көлөм | X8: орточо салмактанып алынган чендер
D9: объем | E9: средневзв. ставка | F9: объем | G9: средневзв. ставка | H9: объем | I9: средневзв. ставка | J9: объем | K9: средневзв. ставка | L9: объем | M9: средневзв. ставка | N9: объем | O9: средневзв. ставка | P9: объем | Q9: средневзв. ставка | R9: объем | S9: средневзв. ставка | U9: объем | V9: средневзв. ставка | W9: объем | X9: средневзв. ставка
D10: volume | E10: average weighted interest rate | F10: volume | G10: average weighted interest rate | H10: volume | I10: average weighted interest rate | J10: volume | K10: average weighted interest rate | L10: volume | M10: average weighted interest rate | N10: volume | O10: average weighted interest rate | P10: volume | Q10: average weighted interest rate | R10: volume | S10: average weighted interest rate | U10: volume | V10: average weighted interest rate | W10: volume | X10: average weighted interest rate
A11: Үчтүн айы 1996 ж. | B11: Январь 1996 г. | C11: January 1996 | D11: 999070.9 | E11: 24.826394 | F11: 7788 | G11: 74.484335 | H11: 301150.2 | I11: 49.684858 | J11: 80466.8 | K11: 63.456971 | L11: 26576.3 | M11: 65.806557 | N11: 511825.3 | O11: 4.6556895 | P11: 71264.3 | Q11: 0.31804143 | U11: =F11+H11+J11+L11 -> 415981.3 | V11: =(F11*G11+H11*I11+J11*K11+L11*M11)/(F11+H11+J11+L11) -> 53.843197 | W11: =N11+P11 -> 583089.6 | X11: =(N11*O11+P11*Q11)/(N11+P11) -> 4.1255489
A12: Бирдин айы | B12: Февраль | C12: February | D12: 1002789.2 | E12: 25.873153 | F12: 2765.3 | G12: 75.269594 | H12: 293859.7 | I12: 51.877207 | J12: 88912.8 | K12: 60.066224 | L12: 39297 | M12: 67.245652 | N12: 506991.5 | O12: 4.9045215 | P12: 70962.9 | Q12: 0.32123828 | U12: =F12+H12+J12+L12 -> 424834.8 | V12: =(F12*G12+H12*I12+J12*K12+L12*M12)/(F12+H12+J12+L12) -> 55.164906 | W12: =N12+P12 -> 577954.4 | X12: =(N12*O12+P12*Q12)/(N12+P12) -> 4.3417728
A13: Жалган куран | B13: Март | C13: March | D13: 1016175.2 | E13: 23.993652 | F13: 7685 | G13: 64.791802 | H13: 285202.6 | I13: 44.460518 | J13: 98494 | K13: 59.123546 | L13: 44033.1 | M13: 63.532752 | N13: 519679.8 | O13: 4.930128 | P13: 61080.7 | Q13: 0.33770078 | U13: =F13+H13+J13+L13 -> 435414.7 | V13: =(F13*G13+H13*I13+J13*K13+L13*M13)/(F13+H13+J13+L13) -> 50.065005 | W13: =N13+P13 -> 580760.5 | X13: =(N13*O13+P13*Q13)/(N13+P13) -> 4.4471257
A14: Чын куран | B14: Апрель | C14: April | D14: 999145 | E14: 22.940864 | F14: 9566 | G14: 84.675779 | H14: 266034 | I14: 42.989881 | J14: 94181.7 | K14: 57.354414 | L14: 49917.1 | M14: 56.201721 | N14: 518779.2 | O14: 4.71517 | P14: 60667 | Q14: 0.34905468 | U14: =F14+H14+J14+L14 -> 419698.8 | V14: =(F14*G14+H14*I14+J14*K14+L14*M14)/(F14+H14+J14+L14) -> 48.734811 | W14: =N14+P14 -> 579446.2 | X14: =(N14*O14+P14*Q14)/(N14+P14) -> 4.2580454
A15: Бугу | B15: Май | C15: May | D15: 279508.8 | E15: 48.463354 | F15: 10082 | G15: 83.908252 | H15: 49887.6 | I15: 65.658933 | J15: 80835.5 | K15: 54.894948 | L15: 57404.3 | M15: 57.012103 | N15: 80118.4 | O15: 21.141239 | P15: 1181 | Q15: 17.274852 | U15: =F15+H15+J15+L15 -> 198209.4 | V15: =(F15*G15+H15*I15+J15*K15+L15*M15)/(F15+H15+J15+L15) -> 59.693082 | W15: =N15+P15 -> 81299.4 | X15: =(N15*O15+P15*Q15)/(N15+P15) -> 21.085074
A16: Кулжа | B16: Июнь | C16: June | D16: 293075.5 | E16: 45.65946 | F16: 17478.9 | G16: 71.725149 | H16: 56932.5 | I16: 67.546366 | J16: 73632 | K16: 53.79607 | L16: 62369.1 | M16: 40.522394 | N16: 81511 | O16: 21.765316 | P16: 1152 | Q16: 17.221094 | U16: =F16+H16+J16+L16 -> 210412.5 | V16: =(F16*G16+H16*I16+J16*K16+L16*M16)/(F16+H16+J16+L16) -> 55.071432 | W16: =N16+P16 -> 82663 | X16: =(N16*O16+P16*Q16)/(N16+P16) -> 21.701988
A17: Теке | B17: Июль | C17: July | D17: 284640.9 | E17: 43.644115 | F17: 19000.8 | G17: 70.489604 | H17: 49915.1 | I17: 67.747774 | J17: 84341.4 | K17: 50.458468 | L17: 49262.8 | M17: 37.049548 | N17: 80864.8 | O17: 19.794845 | P17: 1256 | Q17: 16.159076 | U17: =F17+H17+J17+L17 -> 202520.1 | V17: =(F17*G17+H17*I17+J17*K17+L17*M17)/(F17+H17+J17+L17) -> 53.337412 | W17: =N17+P17 -> 82120.8 | X17: =(N17*O17+P17*Q17)/(N17+P17) -> 19.739237
A18: Баш оона | B18: Август | C18: August | D18: 291447.9 | E18: 40.715674 | F18: 6564 | G18: 72.991804 | H18: 51814.5 | I18: 69.021611 | J18: 92744.6 | K18: 50.136244 | L18: 51410.8 | M18: 32.08231 | N18: 87668 | O18: 17.012961 | P18: 1246 | Q18: 16.311316 | U18: =F18+H18+J18+L18 -> 202533.9 | V18: =(F18*G18+H18*I18+J18*K18+L18*M18)/(F18+H18+J18+L18) -> 51.125671 | W18: =N18+P18 -> 88914 | X18: =(N18*O18+P18*Q18)/(N18+P18) -> 17.003128
A19: Аяк оона | B19: Сентябрь | C19: September | D19: 272579.9 | E19: 39.777876 | F19: 6840.4 | G19: 69.38213 | H19: 50581.4 | I19: 66.784951 | J19: 81775.8 | K19: 53.735567 | L19: 54894.3 | M19: 21.398121 | N19: 77250 | O19: 18.134161 | P19: 1238 | Q19: 16.31979 | U19: =F19+H19+J19+L19 -> 194091.9 | V19: =(F19*G19+H19*I19+J19*K19+L19*M19)/(F19+H19+J19+L19) -> 48.541859 | W19: =N19+P19 -> 78488 | X19: =(N19*O19+P19*Q19)/(N19+P19) -> 18.105542
A20: Тогуздун айы | B20: Октябрь | C20: October | D20: 254283 | E20: 40.097206 | F20: 10759 | G20: 73.208755 | H20: 33489.6 | I20: 63.543899 | J20: 77775.4 | K20: 50.541892 | L20: 35997.5 | M20: 45.066296 | N20: 94644.5 | O20: 17.98387 | P20: 1617 | Q20: 15.498454 | U20: =F20+H20+J20+L20 -> 158021.5 | V20: =(F20*G20+H20*I20+J20*K20+L20*M20)/(F20+H20+J20+L20) -> 53.593356 | W20: =N20+P20 -> 96261.5 | X20: =(N20*O20+P20*Q20)/(N20+P20) -> 17.94212
A21: Жетинин айы | B21: Ноябрь | C21: November | D21: 235043.5 | E21: 38.054927 | F21: 10508 | G21: 69.512866 | H21: 26840.1 | I21: 66.093692 | J21: 84935.6 | K21: 48.961362 | L21: 34591.3 | M21: 35.26645 | N21: 76669.5 | O21: 13.487654 | P21: 1499 | Q21: 18.408272 | U21: =F21+H21+J21+L21 -> 156875 | V21: =(F21*G21+H21*I21+J21*K21+L21*M21)/(F21+H21+J21+L21) -> 50.249419 | W21: =N21+P21 -> 78168.5 | X21: =(N21*O21+P21*Q21)/(N21+P21) -> 13.582014
A22: Бештин айы | B22: Декабрь | C22: December | D22: 250134.4 | E22: 46.854354 | F22: 6905 | G22: 67.976104 | H22: 48524.1 | I22: 66.702193 | J22: 101963.4 | K22: 57.16092 | L22: 30396.4 | M22: 41.989924 | N22: 60874.5 | O22: 14.565992 | P22: 1471 | Q22: 15.28552 | U22: =F22+H22+J22+L22 -> 187788.9 | V22: =(F22*G22+H22*I22+J22*K22+L22*M22)/(F22+H22+J22+L22) -> 57.568382 | W22: =N22+P22 -> 62345.5 | X22: =(N22*O22+P22*Q22)/(N22+P22) -> 14.582969
... A97: Жалган куран | B97: Март | C97: March | D97: 809844.9 | E97: 28.019511 | F97: 25656 | G97: 21.866788 | H97: 48502.4 | I97: 33.329525 | J97: 105614.7 | K97: 34.613482 | L97: 364519 | M97: 31.067137 | N97: 263739.3 | O97: 20.979014 | P97: 1813.5 | Q97: 0.35153019 | U97: =F97+H97+J97+L97 -> 544292.1 | V97: =(F97*G97+H97*I97+J97*K97+L97*M97)/(F97+H97+J97+L97) -> 31.523203 | W97: =N97+P97 -> 265552.8 | X97: =(N97*O97+P97*Q97)/(N97+P97) -> 20.838146
A98: Чын куран | B98: Апрель | C98: April | D98: 838082.3 | E98: 27.056222 | F98: 71834 | G98: 28.005292 | H98: 147601.5 | I98: 29.857528 | J98: 170951.9 | K98: 28.145861 | L98: 283266.1 | M98: 28.073097 | N98: 78966 | O98: 23.015022 | P98: 20168.7 | Q98: 5.057027 | R98: 65294.1 | S98: 24.097883 | U98: =F98+H98+J98+L98 -> 673653.5 | V98: =(F98*G98+H98*I98+J98*K98+L98*M98)/(F98+H98+J98+L98) -> 28.475312 | W98: =N98+P98 -> 99134.7 | X98: =(N98*O98+P98*Q98)/(N98+P98) -> 19.361514
A99: Бугу | B99: Май | C99: May | D99: 937736.4 | E99: 26.885672 | F99: 65950.1 | G99: 28.880232 | H99: 193218 | I99: 26.549453 | J99: 203745 | K99: 25.274637 | L99: 308543.7 | M99: 28.524545 | N99: 79978 | O99: 21.889716 | P99: 20574.2 | Q99: 5.2187827 | R99: 65727.4 | S99: 36.034739 | U99: =F99+H99+J99+L99 -> 771456.8 | V99: =(F99*G99+H99*I99+J99*K99+L99*M99)/(F99+H99+J99+L99) -> 27.201959 | W99: =N99+P99 -> 100552.2 | X99: =(N99*O99+P99*Q99)/(N99+P99) -> 18.478641
A100: Кулжа | B100: Июнь | C100: June | D100: 972503.22 | E100: 26.758365 | F100: 101949.35 | G100: 29.070933 | H100: 170529.7 | I100: 24.057576 | J100: 241108.1 | K100: 26.389138 | L100: 288792.4 | M100: 28.570209 | N100: 89324.6 | O100: 20.747986 | P100: 10962.17 | Q100: 8.3460769 | R100: 69836.9 | S100: 34.337308 | U100: =F100+H100+J100+L100 -> 802379.55 | V100: =(F100*G100+H100*I100+J100*K100+L100*M100)/(F100+H100+J100+L100) -> 27.019367 | W100: =N100+P100 -> 100286.77 | X100: =(N100*O100+P100*Q100)/(N100+P100) -> 19.392355
A101: Теке | B101: Июль | C101: July | D101: 1007158.1 | E101: 26.862005 | F101: 87834.32 | G101: 24.784448 | H101: 157338.4 | I101: 25.162809 | J101: 255198.51 | K101: 27.288459 | L101: 352609.19 | M101: 28.151598 | N101: 63985.73 | O101: 18.72939 | P101: 13746.06 | Q101: 11.480361 | R101: 76445.9 | S101: 34.947265 | U101: =F101+H101+J101+L101 -> 852980.42 | V101: =(F101*G101+H101*I101+J101*K101+L101*M101)/(F101+H101+J101+L101) -> 26.995329 | W101: =N101+P101 -> 77731.79 | X101: =(N101*O101+P101*Q101)/(N101+P101) -> 17.447474
A102: Баш оона | B102: Август | C102: August | D102: 1038799.3 | E102: 26.347806 | F102: 139680.2 | G102: 22.171918 | H102: 147750.2 | I102: 26.611502 | J102: 201089.3 | K102: 28.158637 | L102: 394829.6 | M102: 27.365436 | N102: 72526.7 | O102: 19.279122 | P102: 24450.2 | Q102: 14.142642 | R102: 58473.1 | S102: 36.429124 | U102: =F102+H102+J102+L102 -> 883349.3 | V102: =(F102*G102+H102*I102+J102*K102+L102*M102)/(F102+H102+J102+L102) -> 26.598671 | W102: =N102+P102 -> 96976.9 | X102: =(N102*O102+P102*Q102)/(N102+P102) -> 17.984092
A103: Аяк оона | B103: Сентябрь | C103: September | D103: 1051179.3 | E103: 25.850693 | F103: 34809.7 | G103: 30.417669 | H103: 207509.5 | I103: 24.408261 | J103: 274740 | K103: 26.858836 | L103: 370335 | M103: 26.925926 | N103: 81458 | O103: 19.442994 | P103: 28090.7 | Q103: 15.90237 | R103: 54236.4 | S103: 30.765908 | U103: =F103+H103+J103+L103 -> 887394.2 | V103: =(F103*G103+H103*I103+J103*K103+L103*M103)/(F103+H103+J103+L103) -> 26.453391 | W103: =N103+P103 -> 109548.7 | X103: =(N103*O103+P103*Q103)/(N103+P103) -> 18.5351
A104: Тогуздун айы | B104: Октябрь | C104: October | D104: 1096702.1 | E104: 25.871 | F104: 120116.8 | G104: 25.095508 | H104: 140689 | I104: 27.253849 | J104: 307033.9 | K104: 25.118358 | L104: 336882.2 | M104: 28.105272 | N104: 108775.1 | O104: 20.585494 | P104: 31177.7 | Q104: 17.38555 | R104: 52027.4 | S104: 30.032015 | U104: =F104+H104+J104+L104 -> 904721.9 | V104: =(F104*G104+H104*I104+J104*K104+L104*M104)/(F104+H104+J104+L104) -> 26.559612 | W104: =N104+P104 -> 139952.8 | X104: =(N104*O104+P104*Q104)/(N104+P104) -> 19.872633
A105: Жетинин айы | B105: Ноябрь | C105: November | D105: 1165077.1 | E105: 25.068714 | F105: 103051.4 | G105: 21.030368 | H105: 178758.2 | I105: 25.17532 | J105: 306045.6 | K105: 25.731374 | L105: 372504.3 | M105: 26.589155 | N105: 97953.8 | O105: 20.921196 | P105: 30185.5 | Q105: 17.524818 | R105: 76578.3 | S105: 28.488827 | U105: =F105+H105+J105+L105 -> 960359.5 | V105: =(F105*G105+H105*I105+J105*K105+L105*M105)/(F105+H105+J105+L105) -> 25.456146 | W105: =N105+P105 -> 128139.3 | X105: =(N105*O105+P105*Q105)/(N105+P105) -> 20.121119
A106: Бештин айы | B106: Декабрь | C106: December | D106: 1127403.4 | E106: 25.171346 | F106: 40075.3 | G106: 30.607445 | H106: 230585.5 | I106: 23.543451 | J106: 283823.3 | K106: 24.432748 | L106: 395926.9 | M106: 27.124252 | N106: 91512.3 | O106: 20.435059 | P106: 31232.3 | Q106: 18.048415 | R106: 54247.8 | S106: 29.776752 | U106: =F106+H106+J106+L106 -> 950411 | V106: =(F106*G106+H106*I106+J106*K106+L106*M106)/(F106+H106+J106+L106) -> 25.598594 | W106: =N106+P106 -> 122744.6 | X106: =(N106*O106+P106*Q106)/(N106+P106) -> 19.827779
A107: Үчтүн айы 2004 ж. | B107: Январь 2004 г. | C107: January 2004 | D107: 1152520.7 | E107: 25.220593 | F107: 109290.2 | G107: 21.794549 | H107: 214309.2 | I107: 24.398989 | J107: 263615.9 | K107: 25.805257 | L107: 375565.5 | M107: 26.91076 | N107: 98359.9 | O107: 21.100154 | P107: 31285.7 | Q107: 18.280651 | R107: 60094.3 | S107: 31.610909 | U107: =F107+H107+J107+L107 -> 962780.8 | V107: =(F107*G107+H107*I107+J107*K107+L107*M107)/(F107+H107+J107+L107) -> 25.468193 | W107: =N107+P107 -> 129645.6 | X107: =(N107*O107+P107*Q107)/(N107+P107) -> 20.41976
A108: Бирдин айы | B108: Февраль | C108: February | D108: 1202617.4 | E108: 25.226635 | F108: 130339.3 | G108: 22.235758 | H108: 209800.4 | I108: 23.062425 | J108: 314793.1 | K108: 24.653532 | L108: 341400.9 | M108: 28.821999 | N108: 109762.5 | O108: 22.252187 | P108: 37064.2 | Q108: 17.994572 | R108: 59457 | S108: 31.808918 | U108: =F108+H108+J108+L108 -> 996333.7 | V108: =(F108*G108+H108*I108+J108*K108+L108*M108)/(F108+H108+J108+L108) -> 25.430553 | W108: =N108+P108 -> 146826.7 | X108: =(N108*O108+P108*Q108)/(N108+P108) -> 21.177416
A109: Жалган куран | B109: Март | C109: March | D109: 1336943.9 | E109: 24.913931 | F109: 107571.5 | G109: 23.94765 | H109: 274317.1 | I109: 21.940015 | J109: 288056.2 | K109: 25.546623 | L109: 439408.9 | M109: 27.32454 | N109: 128770.7 | O109: 21.242189 | P109: 39150.8 | Q109: 18.145488 | R109: 59668.7 | S109: 31.886578 | U109: =F109+H109+J109+L109 -> 1109353.7 | V109: =(F109*G109+H109*I109+J109*K109+L109*M109)/(F109+H109+J109+L109) -> 25.203968 | W109: =N109+P109 -> 167921.5 | X109: =(N109*O109+P109*Q109)/(N109+P109) -> 20.520195
... A376: Кулжа* | B376: Июнь* | C376: June* | D376: 4.9561439e+08 | E376: 17.533077 | F376: 9242843.5 | G376: 16.256213 | H376: 6679406.2 | I376: 14.084814 | J376: 10837072 | K376: 19.845804 | L376: 35076342 | M376: 21.2751 | N376: 1.9586877e+08 | O376: 19.423568 | P376: 2.289323e+08 | Q376: 15.540375 | R376: 8977657.8 | S376: 13.569923 | U376: =F376+H376+J376+L376 -> 61835664 | V376: =(F376*G376+H376*I376+J376*K376+L376*M376)/(F376+H376+J376+L376) -> 19.497727 | W376: =N376+P376 -> 4.2480106e+08 | X376: =(N376*O376+P376*Q376)/(N376+P376) -> 17.330851
A377: Теке | B377: Июль | C377: July | U377: =F377+H377+J377+L377 -> 0 | V377: =(F377*G377+H377*I377+J377*K377+L377*M377)/(F377+H377+J377+L377) -> #DIV/0! | W377: =N377+P377 -> 0 | X377: =(N377*O377+P377*Q377)/(N377+P377) -> #DIV/0!
A378: Баш оона | B378: Август | C378: August | U378: =F378+H378+J378+L378 -> 0 | V378: =(F378*G378+H378*I378+J378*K378+L378*M378)/(F378+H378+J378+L378) -> #DIV/0! | W378: =N378+P378 -> 0 | X378: =(N378*O378+P378*Q378)/(N378+P378) -> #DIV/0!
A379: Аяк оона | B379: Сентябрь | C379: September | U379: =F379+H379+J379+L379 -> 0 | V379: =(F379*G379+H379*I379+J379*K379+L379*M379)/(F379+H379+J379+L379) -> #DIV/0! | W379: =N379+P379 -> 0 | X379: =(N379*O379+P379*Q379)/(N379+P379) -> #DIV/0!
A380: Тогуздун айы | B380: Октябрь | C380: October | U380: =F380+H380+J380+L380 -> 0 | V380: =(F380*G380+H380*I380+J380*K380+L380*M380)/(F380+H380+J380+L380) -> #DIV/0! | W380: =N380+P380 -> 0 | X380: =(N380*O380+P380*Q380)/(N380+P380) -> #DIV/0!
A381: Жетинин айы | B381: Ноябрь | C381: November | U381: =F381+H381+J381+L381 -> 0 | V381: =(F381*G381+H381*I381+J381*K381+L381*M381)/(F381+H381+J381+L381) -> #DIV/0! | W381: =N381+P381 -> 0 | X381: =(N381*O381+P381*Q381)/(N381+P381) -> #DIV/0!
A382: Бештин айы | B382: Декабрь | C382: December | U382: =F382+H382+J382+L382 -> 0 | V382: =(F382*G382+H382*I382+J382*K382+L382*M382)/(F382+H382+J382+L382) -> #DIV/0! | W382: =N382+P382 -> 0 | X382: =(N382*O382+P382*Q382)/(N382+P382) -> #DIV/0!
A383: * алдын ала маалыматтар | B383: * предварительные данные | C383: *preliminary data

Sheet 7. сроки_ин вал
A1: Статистика/ "Банк статистикасы "/ "Коммерциялык банктардын бир мезгилдин акырына карата кредиттери"
A2: Раздел "Статистика" / "Банковская статистика" / "Кредиты коммерческих банков, на конец периода"
A3: Statistics section / "Banking statistics" / "Credits of commercial banks by the end of the period"
A5: 7-таблица. Мөөнөттөр боюнча чет өлкө валютасындагы кредиттер жана кредиттердин орточо салмактанып алынган пайыздык чендери (бир мезгилдин акырына карата) | B5: Таблица 7. Общий объем и средневзвешенные процентные ставки кредитов в разрезе срочностей в иностранной валюте (на конец периода) | C5: Table 7. Total volume and average weighted interest rates of credits by maturity in Foreign currency (the end of period)
A7: (миң сом / пайыздар) | B7: (тыс. сомов / проценты) | C7: (ths of soms / percent)
A8: Мезгил аралыгы | B8: Период | C8: Period | D8: Жалпы чет өлкө валютасында | F8: 0 - 1 айга | H8: 1 - 3 айга | J8: 3 - 6 айга | L8: 6 - 12 айга | N8: 1 - 3 жыл | P8: 3 жылдан ашкан мөөнөткө | R8: мөөнөтүндө төлөнбөгөн кредиттер | U8: Кыска мөөнөттү кредиттер | W8: Узак мөөнөттү кредиттер
D9: Итого в ин. валюте | F9: 0 - 1 месяца | H9: 1 - 3 месяца | J9: 3 - 6 месяцев | L9: 6 - 12 месяцев | N9: 1 - 3 года | P9: более 3 лет | R9: просроч. задол. | U9: Краткосрочные кредиты | W9: Долгосрочные кредиты
D10: Total in Foreign currency | F10: 0 - 1 month | H10: 1 - 3 months | J10: 3 - 6 months | L10: 6 - 12 months | N10: 1 - 3 years | P10: more than 3 years | R10: overdue credits | U10: Short-maturity credits | W10: Long-maturity credits
D11: көлөм | E11: орточо салмактанып алынган чендер | F11: көлөм | G11: орточо салмактанып алынган чендер | H11: көлөм | I11: орточо салмактанып алынган чендер | J11: көлөм | K11: орточо салмактанып алынган чендер | L11: көлөм | M11: орточо салмактанып алынган чендер | N11: көлөм | O11: орточо салмактанып алынган чендер | P11: көлөм | Q11: орточо салмактанып алынган чендер | R11: көлөм | S11: орточо салмактанып алынган чендер | U11: көлөм | V11: орточо салмактанып алынган чендер | W11: көлөм | X11: орточо салмактанып алынган чендер
D12: объем | E12: средневзв. ставка | F12: объем | G12: средневзв. ставка | H12: объем | I12: средневзв. ставка | J12: объем | K12: средневзв. ставка | L12: объем | M12: средневзв. ставка | N12: объем | O12: средневзв. ставка | P12: объем | Q12: средневзв. ставка | R12: объем | S12: средневзв. ставка | U12: объем | V12: средневзв. ставка | W12: объем | X12: средневзв. ставка
D13: volume | E13: average weighted interest rate | F13: volume | G13: average weighted interest rate | H13: volume | I13: average weighted interest rate | J13: volume | K13: average weighted interest rate | L13: volume | M13: average weighted interest rate | N13: volume | O13: average weighted interest rate | P13: volume | Q13: average weighted interest rate | R13: volume | S13: average weighted interest rate | U13: volume | V13: average weighted interest rate | W13: volume | X13: average weighted interest rate
A14: Үчтүн айы 1996 ж. | B14: Январь 1996 г. | C14: January 1996 | D14: 48183.2 | E14: 42.723454 | F14: 5222 | G14: 25.27 | H14: 7024.5 | I14: 46.79 | J14: 18508 | K14: 61.9 | L14: 8726.7 | M14: 29.33 | N14: 8702 | O14: 22.56 | U14: =F14+H14+J14+L14 -> 39481.2 | V14: =(F14*G14+H14*I14+J14*K14+L14*M14)/(F14+H14+J14+L14) -> 47.167655 | W14: =N14+P14 -> 8702 | X14: =(N14*O14+P14*Q14)/(N14+P14) -> 22.56
A15: Бирдин айы | B15: Февраль | C15: February | D15: 44898.2 | E15: 37.680192 | F15: 6421.2 | G15: 24.91 | H15: 6995 | I15: 40.47 | J15: 18066 | K15: 48.2 | L15: 5470 | M15: 34.9 | N15: 7946 | O15: 23.54 | U15: =F15+H15+J15+L15 -> 36952.2 | V15: =(F15*G15+H15*I15+J15*K15+L15*M15)/(F15+H15+J15+L15) -> 40.720822 | W15: =N15+P15 -> 7946 | X15: =(N15*O15+P15*Q15)/(N15+P15) -> 23.54
A16: Жалган куран | B16: Март | C16: March | D16: 65213.5 | E16: 40.795365 | F16: 17937 | G16: 32.14 | H16: 8608.6 | I16: 43.29 | J16: 21682.9 | K16: 56.35 | L16: 9099 | M16: 33.36 | N16: 7886 | O16: 23.57 | U16: =F16+H16+J16+L16 -> 57327.5 | V16: =(F16*G16+H16*I16+J16*K16+L16*M16)/(F16+H16+J16+L16) -> 43.164895 | W16: =N16+P16 -> 7886 | X16: =(N16*O16+P16*Q16)/(N16+P16) -> 23.57
A17: Чын куран | B17: Апрель | C17: April | D17: 72842.6 | E17: 43.224709 | F17: 10105 | G17: 30.84 | H17: 16135.1 | I17: 61.71 | J17: 31988.5 | K17: 42.69 | L17: 7238 | M17: 38.31 | N17: 7291 | O17: 27.21 | P17: 85 | Q17: 0 | U17: =F17+H17+J17+L17 -> 65466.6 | V17: =(F17*G17+H17*I17+J17*K17+L17*M17)/(F17+H17+J17+L17) -> 45.064385 | W17: =N17+P17 -> 7376 | X17: =(N17*O17+P17*Q17)/(N17+P17) -> 26.896436
A18: Бугу | B18: Май | C18: May | D18: 77184.3 | E18: 48.013856 | F18: 7263 | G18: 30.03 | H18: 23094 | I18: 66.31 | J18: 32302 | K18: 47.04 | L18: 7238.3 | M18: 39.78 | N18: 7287 | O18: 20.45 | U18: =F18+H18+J18+L18 -> 69897.3 | V18: =(F18*G18+H18*I18+J18*K18+L18*M18)/(F18+H18+J18+L18) -> 50.887469 | W18: =N18+P18 -> 7287 | X18: =(N18*O18+P18*Q18)/(N18+P18) -> 20.45
A19: Кулжа | B19: Июнь | C19: June | D19: 84011.2 | E19: 49.566626 | H19: 35910.1 | I19: 52.14 | J19: 34417.1 | K19: 54.86 | L19: 6247 | M19: 42.25 | N19: 7437 | O19: 18.79 | U19: =F19+H19+J19+L19 -> 76574.2 | V19: =(F19*G19+H19*I19+J19*K19+L19*M19)/(F19+H19+J19+L19) -> 52.555697 | W19: =N19+P19 -> 7437 | X19: =(N19*O19+P19*Q19)/(N19+P19) -> 18.79
A20: Теке | B20: Июль | C20: July | D20: 86555.2 | E20: 48.347208 | F20: 610 | G20: 35 | H20: 30364.8 | I20: 47.78 | J20: 35246.4 | K20: 59.13 | L20: 10691 | M20: 43.86 | N20: 9643 | O20: 16.54 | U20: =F20+H20+J20+L20 -> 76912.2 | V20: =(F20*G20+H20*I20+J20*K20+L20*M20)/(F20+H20+J20+L20) -> 52.335092 | W20: =N20+P20 -> 9643 | X20: =(N20*O20+P20*Q20)/(N20+P20) -> 16.54
A21: Баш оона | B21: Август | C21: August | D21: 85153.9 | E21: 45.312225 | F21: 1509 | G21: 37.61 | H21: 33076.4 | I21: 52.63 | J21: 31872.5 | K21: 51.4 | L21: 5549 | M21: 42.13 | N21: 13147 | O21: 14.37 | U21: =F21+H21+J21+L21 -> 72006.9 | V21: =(F21*G21+H21*I21+J21*K21+L21*M21)/(F21+H21+J21+L21) -> 50.961648 | W21: =N21+P21 -> 13147 | X21: =(N21*O21+P21*Q21)/(N21+P21) -> 14.37
A22: Аяк оона | B22: Сентябрь | C22: September | D22: 110290 | E22: 50.222891 | F22: 6659 | G22: 25.66 | H22: 35897.2 | I22: 55.95 | J22: 49098.8 | K22: 60.72 | L22: 7631 | M22: 34.14 | N22: 11004 | O22: 10.72 | U22: =F22+H22+J22+L22 -> 99286 | V22: =(F22*G22+H22*I22+J22*K22+L22*M22)/(F22+H22+J22+L22) -> 54.601049 | W22: =N22+P22 -> 11004 | X22: =(N22*O22+P22*Q22)/(N22+P22) -> 10.72
A23: Тогуздун айы | B23: Октябрь | C23: October | D23: 139434.5 | E23: 55.149878 | F23: 21452 | G23: 70.8 | H23: 41394.4 | I23: 67.29 | J23: 47239.5 | K23: 56.76 | L23: 12567 | M23: 33.38 | N23: 12931.6 | O23: 18.21 | P23: 3850 | Q23: 12.8 | U23: =F23+H23+J23+L23 -> 122652.9 | V23: =(F23*G23+H23*I23+J23*K23+L23*M23)/(F23+H23+J23+L23) -> 60.373878 | W23: =N23+P23 -> 16781.6 | X23: =(N23*O23+P23*Q23)/(N23+P23) -> 16.968849
A24: Жетинин айы | B24: Ноябрь | C24: November | D24: 144701.7 | E24: 56.702842 | F24: 62269 | G24: 76.57 | H24: 9601.2 | I24: 41.79 | J24: 44251.6 | K24: 52.01 | L24: 9367 | M24: 47.1 | N24: 15124.9 | O24: 15.92 | P24: 4088 | Q24: 12.8 | U24: =F24+H24+J24+L24 -> 125488.8 | V24: =(F24*G24+H24*I24+J24*K24+L24*M24)/(F24+H24+J24+L24) -> 63.048518 | W24: =N24+P24 -> 19212.9 | X24: =(N24*O24+P24*Q24)/(N24+P24) -> 15.256146
A25: Бештин айы | B25: Декабрь | C25: December | D25: 157052.3 | E25: 56.625409 | F25: 10087 | G25: 57.69 | H25: 32132 | I25: 61.4 | J25: 77722.3 | K25: 67.86 | L25: 12067 | M25: 51.88 | N25: 20869 | O25: 18.43 | P25: 4175 | Q25: 12.8 | U25: =F25+H25+J25+L25 -> 132008.3 | V25: =(F25*G25+H25*I25+J25*K25+L25*M25)/(F25+H25+J25+L25) -> 64.049723 | W25: =N25+P25 -> 25044 | X25: =(N25*O25+P25*Q25)/(N25+P25) -> 17.491442
A26: Үчтүн айы 1997 ж. | B26: Январь 1997 г. | C26: January 1997 | D26: 176134.5 | E26: 55.350748 | F26: 4170 | G26: 78.64 | H26: 36257.5 | I26: 63.84 | J26: 83799.4 | K26: 66.99 | L26: 15180 | M26: 50.32 | N26: 32440.6 | O26: 20.78 | P26: 4287 | Q26: 12.8 | U26: =F26+H26+J26+L26 -> 139406.9 | V26: =(F26*G26+H26*I26+J26*K26+L26*M26)/(F26+H26+J26+L26) -> 64.704021 | W26: =N26+P26 -> 36727.6 | X26: =(N26*O26+P26*Q26)/(N26+P26) -> 19.848541
A27: Бирдин айы | B27: Февраль | C27: February | D27: 182584.3 | E27: 51.239416 | F27: 290 | G27: 41.59 | H27: 30643.6 | I27: 61.32 | J27: 85275.9 | K27: 59.78 | L27: 24177 | M27: 67.74 | N27: 37893.8 | O27: 17.78 | P27: 4304 | Q27: 12.8 | U27: =F27+H27+J27+L27 -> 140386.5 | V27: =(F27*G27+H27*I27+J27*K27+L27*M27)/(F27+H27+J27+L27) -> 61.449427 | W27: =N27+P27 -> 42197.8 | X27: =(N27*O27+P27*Q27)/(N27+P27) -> 17.272061
A28: Жалган куран | B28: Март | C28: March | D28: 208492 | E28: 51.168857 | F28: 312 | G28: 36.08 | H28: 35719 | I28: 68.51 | J28: 96714 | K28: 62.34 | L28: 23643 | M28: 54.49 | N28: 45842 | O28: 17.72 | P28: 6262 | Q28: 12.8 | U28: =F28+H28+J28+L28 -> 156388 | V28: =(F28*G28+H28*I28+J28*K28+L28*M28)/(F28+H28+J28+L28) -> 62.510061 | W28: =N28+P28 -> 52104 | X28: =(N28*O28+P28*Q28)/(N28+P28) -> 17.128701
A29: Чын куран | B29: Апрель | C29: April | D29: 224503.9 | E29: 51.332003 | F29: 718 | G29: 40.2 | H29: 19320.5 | I29: 41.29 | J29: 49224 | K29: 42.82 | L29: 102603.4 | M29: 75.2 | N29: 46369 | O29: 17.12 | P29: 6269 | Q29: 12.8 | U29: =F29+H29+J29+L29 -> 171865.9 | V29: =(F29*G29+H29*I29+J29*K29+L29*M29)/(F29+H29+J29+L29) -> 61.967816 | W29: =N29+P29 -> 52638 | X29: =(N29*O29+P29*Q29)/(N29+P29) -> 16.605503
A30: Бугу | B30: Май | C30: May | D30: 253169.3 | E30: 49.747547 | F30: 2872 | G30: 39.9 | H30: 23121 | I30: 43.3 | J30: 52798.3 | K30: 43.58 | L30: 108084 | M30: 75.16 | N30: 54324 | O30: 16.6 | P30: 11970 | Q30: 12.74 | U30: =F30+H30+J30+L30 -> 186875.3 | V30: =(F30*G30+H30*I30+J30*K30+L30*M30)/(F30+H30+J30+L30) -> 61.753883 | W30: =N30+P30 -> 66294 | X30: =(N30*O30+P30*Q30)/(N30+P30) -> 15.903041
A31: Кулжа | B31: Июнь | C31: June | D31: 276075.3 | E31: 49.268527 | F31: 70 | G31: 90 | H31: 30947.1 | I31: 44.22 | J31: 56266.2 | K31: 43.5 | L31: 113792 | M31: 75.78 | N31: 53140 | O31: 16.49 | P31: 21860 | Q31: 12.81 | U31: =F31+H31+J31+L31 -> 201075.3 | V31: =(F31*G31+H31*I31+J31*K31+L31*M31)/(F31+H31+J31+L31) -> 61.894814 | W31: =N31+P31 -> 75000 | X31: =(N31*O31+P31*Q31)/(N31+P31) -> 15.417403
A32: Теке | B32: Июль | C32: July | D32: 309629.5 | E32: 38.62833 | F32: 3898 | G32: 27.12 | H32: 29988.6 | I32: 54.99 | J32: 169811 | K32: 46.6 | L32: 23937.9 | M32: 45.48 | N32: 60397 | O32: 15.34 | P32: 21597 | Q32: 12.84 | U32: =F32+H32+J32+L32 -> 227635.5 | V32: =(F32*G32+H32*I32+J32*K32+L32*M32)/(F32+H32+J32+L32) -> 47.253944 | W32: =N32+P32 -> 81994 | X32: =(N32*O32+P32*Q32)/(N32+P32) -> 14.681507
A33: Баш оона | B33: Август | C33: August | D33: 350195.6 | E33: 40.866106 | F33: 9007 | G33: 31.15 | H33: 29963.6 | I33: 48.61 | J33: 217448 | K33: 50.02 | L33: 15106 | M33: 42.27 | N33: 57196 | O33: 13.69 | P33: 21475 | Q33: 12.84 | U33: =F33+H33+J33+L33 -> 271524.6 | V33: =(F33*G33+H33*I33+J33*K33+L33*M33)/(F33+H33+J33+L33) -> 48.807284 | W33: =N33+P33 -> 78671 | X33: =(N33*O33+P33*Q33)/(N33+P33) -> 13.457974
A34: Аяк оона | B34: Сентябрь | C34: September | D34: 393386.2 | E34: 45.029899 | F34: 10232.4 | G34: 27.39 | H34: 23209 | I34: 46.28 | J34: 237212.2 | K34: 58.21 | L34: 28897.6 | M34: 42.44 | N34: 72087 | O34: 14.51 | P34: 21748 | Q34: 12.84 | U34: =F34+H34+J34+L34 -> 299551.2 | V34: =(F34*G34+H34*I34+J34*K34+L34*M34)/(F34+H34+J34+L34) -> 54.711563 | W34: =N34+P34 -> 93835 | X34: =(N34*O34+P34*Q34)/(N34+P34) -> 14.122947
... A36: Жетинин айы | B36: Ноябрь | C36: November | D36: 459747.2 | E36: 47.559687 | F36: 11757.9 | G36: 28.6 | H36: 26452.8 | I36: 48.57 | J36: 271371.7 | K36: 61.24 | L36: 45666.2 | M36: 41.51 | N36: 79052.6 | O36: 17.76 | P36: 25446 | Q36: 12.81 | U36: =F36+H36+J36+L36 -> 355248.6 | V36: =(F36*G36+H36*I36+J36*K36+L36*M36)/(F36+H36+J36+L36) -> 56.680013 | W36: =N36+P36 -> 104498.6 | X36: =(N36*O36+P36*Q36)/(N36+P36) -> 16.554647
A37: Бештин айы | B37: Декабрь | C37: December | D37: 524598 | E37: 46.347613 | F37: 4201.8 | G37: 39.37 | H37: 52954.5 | I37: 49.81 | J37: 307135 | K37: 55.72 | L37: 66421.7 | M37: 41.07 | N37: 93885 | O37: 17.78 | U37: =F37+H37+J37+L37 -> 430713 | V37: =(F37*G37+H37*I37+J37*K37+L37*M37)/(F37+H37+J37+L37) -> 52.574661 | W37: =N37+P37 -> 93885 | X37: =(N37*O37+P37*Q37)/(N37+P37) -> 17.78
A38: Үчтүн айы 1998 ж. | B38: Январь 1998 г. | C38: January 1998 | D38: 564093 | E38: 43.363522 | F38: 12994.9 | G38: 33.03 | H38: 70118.6 | I38: 34.86 | J38: 323307.6 | K38: 55.56 | L38: 45832.9 | M38: 41.43 | N38: 111839 | O38: 15.43 | U38: =F38+H38+J38+L38 -> 452254 | V38: =(F38*G38+H38*I38+J38*K38+L38*M38)/(F38+H38+J38+L38) -> 50.271271 | W38: =N38+P38 -> 111839 | X38: =(N38*O38+P38*Q38)/(N38+P38) -> 15.43
A39: Бирдин айы | B39: Февраль | C39: February | D39: 626792.1 | E39: 43.304861 | F39: 11729 | G39: 38.8 | H39: 79760.9 | I39: 38.65 | J39: 287885 | K39: 56.45 | L39: 100018.4 | M39: 51.01 | N39: 147398.8 | O39: 15.28 | U39: =F39+H39+J39+L39 -> 479393.3 | V39: =(F39*G39+H39*I39+J39*K39+L39*M39)/(F39+H39+J39+L39) -> 51.921649 | W39: =N39+P39 -> 147398.8 | X39: =(N39*O39+P39*Q39)/(N39+P39) -> 15.28
A40: Жалган куран | B40: Март | C40: March | D40: 720630.9 | E40: 42.280902 | F40: 11822.7 | G40: 43.12 | H40: 79877.8 | I40: 41.22 | J40: 350736.1 | K40: 54.06 | L40: 105826.3 | M40: 47.39 | N40: 172368 | O40: 15.61 | U40: =F40+H40+J40+L40 -> 548262.9 | V40: =(F40*G40+H40*I40+J40*K40+L40*M40)/(F40+H40+J40+L40) -> 50.665948 | W40: =N40+P40 -> 172368 | X40: =(N40*O40+P40*Q40)/(N40+P40) -> 15.61
A41: Чын куран | B41: Апрель | C41: April | D41: 779274.8 | E41: 38.850574 | F41: 8671 | G41: 55.87 | H41: 101400.9 | I41: 40.07 | J41: 359683.8 | K41: 51.67 | L41: 109137 | M41: 37.43 | N41: 200382.1 | O41: 15.26 | U41: =F41+H41+J41+L41 -> 578892.7 | V41: =(F41*G41+H41*I41+J41*K41+L41*M41)/(F41+H41+J41+L41) -> 47.016386 | W41: =N41+P41 -> 200382.1 | X41: =(N41*O41+P41*Q41)/(N41+P41) -> 15.26
A42: Бугу | B42: Май | C42: May | D42: 850670 | E42: 37.205552 | F42: 39262.8 | G42: 35.57 | H42: 154264.7 | I42: 49 | J42: 213310.4 | K42: 39.01 | L42: 229254.3 | M42: 48.57 | N42: 214577.8 | O42: 15.09 | U42: =F42+H42+J42+L42 -> 636092.2 | V42: =(F42*G42+H42*I42+J42*K42+L42*M42)/(F42+H42+J42+L42) -> 44.665959 | W42: =N42+P42 -> 214577.8 | X42: =(N42*O42+P42*Q42)/(N42+P42) -> 15.09
A43: Кулжа | B43: Июнь | C43: June | D43: 825282.5 | E43: 36.713729 | F43: 54293 | G43: 35.4 | H43: 96765.5 | I43: 44.83 | J43: 188074 | K43: 39.74 | L43: 271234.1 | M43: 48.76 | N43: 214915.9 | O43: 15.54 | U43: =F43+H43+J43+L43 -> 610366.6 | V43: =(F43*G43+H43*I43+J43*K43+L43*M43)/(F43+H43+J43+L43) -> 44.169201 | W43: =N43+P43 -> 214915.9 | X43: =(N43*O43+P43*Q43)/(N43+P43) -> 15.54
A44: Теке | B44: Июль | C44: July | D44: 833067.1 | E44: 36.759921 | F44: 19717.6 | G44: 45.38 | H44: 89077.7 | I44: 45.08 | J44: 225358.2 | K44: 39.69 | L44: 264576.8 | M44: 48.57 | N44: 234336.8 | O44: 16.72 | U44: =F44+H44+J44+L44 -> 598730.3 | V44: =(F44*G44+H44*I44+J44*K44+L44*M44)/(F44+H44+J44+L44) -> 44.603337 | W44: =N44+P44 -> 234336.8 | X44: =(N44*O44+P44*Q44)/(N44+P44) -> 16.72
A45: Баш оона | B45: Август | C45: August | D45: 892081.7 | E45: 37.602398 | F45: 28841.9 | G45: 39.98 | H45: 88128.2 | I45: 44 | J45: 366417.4 | K45: 48.67 | L45: 160562.2 | M45: 39.21 | N45: 248132 | O45: 17.67 | U45: =F45+H45+J45+L45 -> 643949.7 | V45: =(F45*G45+H45*I45+J45*K45+L45*M45)/(F45+H45+J45+L45) -> 45.282914 | W45: =N45+P45 -> 248132 | X45: =(N45*O45+P45*Q45)/(N45+P45) -> 17.67
A46: Аяк оона | B46: Сентябрь | C46: September | D46: 951355.5 | E46: 36.911525 | F46: 35247.4 | G46: 28.96 | H46: 73727 | I46: 46.7 | J46: 370155.7 | K46: 48.99 | L46: 174648.5 | M46: 38.69 | N46: 297576.9 | O46: 19.36 | U46: =F46+H46+J46+L46 -> 653778.6 | V46: =(F46*G46+H46*I46+J46*K46+L46*M46)/(F46+H46+J46+L46) -> 44.900359 | W46: =N46+P46 -> 297576.9 | X46: =(N46*O46+P46*Q46)/(N46+P46) -> 19.36
A47: Тогуздун айы | B47: Октябрь | C47: October | D47: 1116437.1 | E47: 36.861836 | F47: 4177.5 | G47: 44.86 | H47: 115339 | I47: 37.33 | J47: 482672.4 | K47: 46.92 | L47: 203263.7 | M47: 39.6 | N47: 310984.5 | O47: 19.18 | U47: =F47+H47+J47+L47 -> 805452.6 | V47: =(F47*G47+H47*I47+J47*K47+L47*M47)/(F47+H47+J47+L47) -> 43.688777 | W47: =N47+P47 -> 310984.5 | X47: =(N47*O47+P47*Q47)/(N47+P47) -> 19.18
A48: Жетинин айы | B48: Ноябрь | C48: November | D48: 1475346.5 | E48: 37.718323 | F48: 13895.2 | G48: 28.78 | H48: 96313.5 | I48: 41.28 | J48: 729981.8 | K48: 46.1 | L48: 250884 | M48: 41.19 | N48: 384272 | O48: 18.96 | U48: =F48+H48+J48+L48 -> 1091074.5 | V48: =(F48*G48+H48*I48+J48*K48+L48*M48)/(F48+H48+J48+L48) -> 44.324927 | W48: =N48+P48 -> 384272 | X48: =(N48*O48+P48*Q48)/(N48+P48) -> 18.96
... A55: Кулжа | B55: Июнь | C55: June | D55: 1031021.6 | E55: 28.260363 | F55: 40865.3 | G55: 18.83 | H55: 100934.5 | I55: 30.83 | J55: 279313.4 | K55: 42.92 | L55: 224300.3 | M55: 27.02 | N55: 385608.1 | O55: 18.69 | U55: =F55+H55+J55+L55 -> 645413.5 | V55: =(F55*G55+H55*I55+J55*K55+L55*M55)/(F55+H55+J55+L55) -> 33.978263 | W55: =N55+P55 -> 385608.1 | X55: =(N55*O55+P55*Q55)/(N55+P55) -> 18.69
A56: Теке | B56: Июль | C56: July | D56: 981341.4 | E56: 26.835507 | F56: 15635.6 | G56: 47.09 | H56: 82390.5 | I56: 31.61 | J56: 252773.9 | K56: 41.88 | L56: 252346.5 | M56: 24.75 | N56: 315409.9 | O56: 16.95 | P56: 62785 | Q56: 13 | U56: =F56+H56+J56+L56 -> 603146.5 | V56: =(F56*G56+H56*I56+J56*K56+L56*M56)/(F56+H56+J56+L56) -> 33.445259 | W56: =N56+P56 -> 378194.9 | X56: =(N56*O56+P56*Q56)/(N56+P56) -> 16.294251
A57: Баш оона | B57: Август | C57: August | D57: 1058641.4 | E57: 26.855487 | F57: 38315 | G57: 26.63 | H57: 113282.2 | I57: 38.58 | J57: 266421.2 | K57: 40.32 | L57: 244235 | M57: 24.09 | N57: 330583.1 | O57: 16.79 | P57: 65804.9 | Q57: 13.12 | U57: =F57+H57+J57+L57 -> 662253.4 | V57: =(F57*G57+H57*I57+J57*K57+L57*M57)/(F57+H57+J57+L57) -> 33.244797 | W57: =N57+P57 -> 396388 | X57: =(N57*O57+P57*Q57)/(N57+P57) -> 16.180738
A58: Аяк оона | B58: Сентябрь | C58: September | D58: 1086456 | E58: 26.766133 | F58: 46734.3 | G58: 36.78 | H58: 131112.1 | I58: 36.71 | J58: 268763.9 | K58: 39.13 | L58: 238807.1 | M58: 23.19 | N58: 336853.6 | O58: 16.8 | P58: 64185 | Q58: 13 | U58: =F58+H58+J58+L58 -> 685417.4 | V58: =(F58*G58+H58*I58+J58*K58+L58*M58)/(F58+H58+J58+L58) -> 32.953177 | W58: =N58+P58 -> 401038.6 | X58: =(N58*O58+P58*Q58)/(N58+P58) -> 16.191822
A59: Тогуздун айы | B59: Октябрь | C59: October | D59: 1082063.2 | E59: 26.342127 | F59: 31435.1 | G59: 34.05 | H59: 132544.2 | I59: 37.53 | J59: 297270.6 | K59: 37.09 | L59: 221943.1 | M59: 23.53 | N59: 384156.2 | O59: 15.67 | P59: 14714 | Q59: 13 | U59: =F59+H59+J59+L59 -> 683193 | V59: =(F59*G59+H59*I59+J59*K59+L59*M59)/(F59+H59+J59+L59) -> 32.630365 | W59: =N59+P59 -> 398870.2 | X59: =(N59*O59+P59*Q59)/(N59+P59) -> 15.571506
A60: Жетинин айы | B60: Ноябрь | C60: November | D60: 1149101.3 | E60: 26.300397 | F60: 32024.9 | G60: 43.73 | H60: 140401.4 | I60: 34.84 | J60: 322666.7 | K60: 37.55 | L60: 233109.5 | M60: 24.18 | N60: 405390.8 | O60: 14.74 | P60: 15508 | Q60: 13 | U60: =F60+H60+J60+L60 -> 728202.5 | V60: =(F60*G60+H60*I60+J60*K60+L60*M60)/(F60+H60+J60+L60) -> 33.019326 | W60: =N60+P60 -> 420898.8 | X60: =(N60*O60+P60*Q60)/(N60+P60) -> 14.67589
A61: Бештин айы | B61: Декабрь | C61: December | D61: 1084354.9 | E61: 26.19776 | F61: 24742.1 | G61: 39.82 | H61: 140816.4 | I61: 37.4 | J61: 330189.2 | K61: 37.28 | L61: 193737.7 | M61: 24.21 | N61: 379316.5 | O61: 13.06 | P61: 15553 | Q61: 13 | U61: =F61+H61+J61+L61 -> 689485.4 | V61: =(F61*G61+H61*I61+J61*K61+L61*M61)/(F61+H61+J61+L61) -> 33.723132 | W61: =N61+P61 -> 394869.5 | X61: =(N61*O61+P61*Q61)/(N61+P61) -> 13.057637
A62: Үчтүн айы 2000 ж. | B62: Январь 2000 г. | C62: January 2000 | D62: 1082067.8 | E62: 24.22635 | F62: 37362.1 | G62: 34.42 | H62: 162912.3 | I62: 35.61 | J62: 252644.7 | K62: 33.19 | L62: 209083.8 | M62: 24.64 | N62: 404051.9 | O62: 13.32 | P62: 16013 | Q62: 13 | U62: =F62+H62+J62+L62 -> 662002.9 | V62: =(F62*G62+H62*I62+J62*K62+L62*M62)/(F62+H62+J62+L62) -> 31.154566 | W62: =N62+P62 -> 420064.9 | X62: =(N62*O62+P62*Q62)/(N62+P62) -> 13.307802
A63: Бирдин айы | B63: Февраль | C63: February | D63: 1039739.1 | E63: 22.615207 | F63: 35225.3 | G63: 32.11 | H63: 165782.6 | I63: 34.52 | J63: 237216.4 | K63: 32.75 | L63: 205737.6 | M63: 22.95 | N63: 379612.2 | O63: 10.43 | P63: 16165 | Q63: 13 | U63: =F63+H63+J63+L63 -> 643961.9 | V63: =(F63*G63+H63*I63+J63*K63+L63*M63)/(F63+H63+J63+L63) -> 30.039688 | W63: =N63+P63 -> 395777.2 | X63: =(N63*O63+P63*Q63)/(N63+P63) -> 10.534968
A64: Жалган куран | B64: Март | C64: March | D64: 1064621.1 | E64: 22.694795 | F64: 38907.8 | G64: 33.75 | H64: 166014.7 | I64: 35.06 | J64: 231891.4 | K64: 33.17 | L64: 246677.7 | M64: 22.85 | N64: 368141.5 | O64: 9.59 | P64: 12988 | Q64: 13 | U64: =F64+H64+J64+L64 -> 683491.6 | V64: =(F64*G64+H64*I64+J64*K64+L64*M64)/(F64+H64+J64+L64) -> 29.93751 | W64: =N64+P64 -> 381129.5 | X64: =(N64*O64+P64*Q64)/(N64+P64) -> 9.7062048
A65: Чын куран | B65: Апрель | C65: April | D65: 1053468.9 | E65: 22.322242 | F65: 20443.7 | G65: 37.3 | H65: 167272.5 | I65: 33.53 | J65: 229449.1 | K65: 31.93 | L65: 259839.3 | M65: 22.44 | N65: 349373.3 | O65: 10.33 | P65: 27091 | Q65: 13.97 | U65: =F65+H65+J65+L65 -> 677004.6 | V65: =(F65*G65+H65*I65+J65*K65+L65*M65)/(F65+H65+J65+L65) -> 28.845152 | W65: =N65+P65 -> 376464.3 | X65: =(N65*O65+P65*Q65)/(N65+P65) -> 10.59194
A66: Бугу | B66: Май | C66: May | D66: 1030787.8 | E66: 23.13527 | F66: 20572 | G66: 40.56 | H66: 133063 | I66: 34.32 | J66: 243213.3 | K66: 31.96 | L66: 248110.4 | M66: 27.52 | N66: 360642.1 | O66: 9.39 | P66: 25187 | Q66: 18.22 | U66: =F66+H66+J66+L66 -> 644958.7 | V66: =(F66*G66+H66*I66+J66*K66+L66*M66)/(F66+H66+J66+L66) -> 31.013176 | W66: =N66+P66 -> 385829.1 | X66: =(N66*O66+P66*Q66)/(N66+P66) -> 9.9664241
A67: Кулжа | B67: Июнь | C67: June | D67: 961972.5 | E67: 24.112638 | F67: 19541.8 | G67: 40.4 | H67: 129723.2 | I67: 33.79 | J67: 241218.5 | K67: 31.9 | L67: 233404.6 | M67: 28.6 | N67: 313562.4 | O67: 10.55 | P67: 24522 | Q67: 14.05 | U67: =F67+H67+J67+L67 -> 623888.1 | V67: =(F67*G67+H67*I67+J67*K67+L67*M67)/(F67+H67+J67+L67) -> 31.324652 | W67: =N67+P67 -> 338084.4 | X67: =(N67*O67+P67*Q67)/(N67+P67) -> 10.803863
... A100: Жалган куран | B100: Март | C100: March | D100: 1224564.7 | E100: 21.972045 | F100: 54746.7 | G100: 9.9202957 | H100: 109497.4 | I100: 22.3328 | J100: 236048.5 | K100: 24.029191 | L100: 488061.5 | M100: 24.738108 | N100: 309888.3 | O100: 18.998948 | P100: 26322.3 | Q100: 10.803746 | U100: =F100+H100+J100+L100 -> 888354.1 | V100: =(F100*G100+H100*I100+J100*K100+L100*M100)/(F100+H100+J100+L100) -> 23.340084 | W100: =N100+P100 -> 336210.6 | X100: =(N100*O100+P100*Q100)/(N100+P100) -> 18.357336
A101: Чын куран | B101: Апрель | C101: April | D101: 1259422.2 | E101: 21.426967 | F101: 169820.4 | G101: 17.901044 | H101: 226217.2 | I101: 24.328334 | J101: 161917 | K101: 24.888866 | L101: 355988.4 | M101: 23.713986 | N101: 112675.5 | O101: 18.292271 | P101: 146820.7 | Q101: 13.770783 | R101: 85983 | S101: 21.950702 | U101: =F101+H101+J101+L101 -> 913943 | V101: =(F101*G101+H101*I101+J101*K101+L101*M101)/(F101+H101+J101+L101) -> 22.994086 | W101: =N101+P101 -> 259496.2 | X101: =(N101*O101+P101*Q101)/(N101+P101) -> 15.734052
A102: Бугу | B102: Май | C102: May | D102: 1240618.9 | E102: 21.444734 | F102: 144755.4 | G102: 17.516163 | H102: 206061.5 | I102: 24.569644 | J102: 166239.5 | K102: 25.264199 | L102: 362385.4 | M102: 23.510485 | N102: 134724.8 | O102: 18.438604 | P102: 151359.1 | Q102: 13.633963 | R102: 75093.2 | S102: 23.155219 | U102: =F102+H102+J102+L102 -> 879441.8 | V102: =(F102*G102+H102*I102+J102*K102+L102*M102)/(F102+H102+J102+L102) -> 23.103497 | W102: =N102+P102 -> 286083.9 | X102: =(N102*O102+P102*Q102)/(N102+P102) -> 15.896601
A103: Кулжа | B103: Июнь | C103: June | D103: 1264326.4 | E103: 21.569591 | F103: 149022.69 | G103: 19.011078 | H103: 142218.47 | I103: 24.330382 | J103: 183349.1 | K103: 24.732059 | L103: 372516 | M103: 23.545184 | N103: 160480.8 | O103: 18.620535 | P103: 160452.3 | Q103: 13.775758 | R103: 96287 | S103: 25.689257 | U103: =F103+H103+J103+L103 -> 847106.26 | V103: =(F103*G103+H103*I103+J103*K103+L103*M103)/(F103+H103+J103+L103) -> 23.136259 | W103: =N103+P103 -> 320933.1 | X103: =(N103*O103+P103*Q103)/(N103+P103) -> 16.198361
A104: Теке | B104: Июль | C104: July | D104: 1347358.7 | E104: 21.862756 | F104: 85776.48 | G104: 25.146784 | H104: 140767.73 | I104: 23.03404 | J104: 203326.99 | K104: 23.333525 | L104: 394757.13 | M104: 23.261636 | N104: 229689.53 | O104: 19.840263 | P104: 175558.65 | Q104: 14.161192 | R104: 117482.21 | S104: 26.278613 | U104: =F104+H104+J104+L104 -> 824628.33 | V104: =(F104*G104+H104*I104+J104*K104+L104*M104)/(F104+H104+J104+L104) -> 23.4366 | W104: =N104+P104 -> 405248.18 | X104: =(N104*O104+P104*Q104)/(N104+P104) -> 17.380017
A105: Баш оона | B105: Август | C105: August | D105: 1323803.7 | E105: 21.861327 | F105: 51002.8 | G105: 25.22868 | H105: 157131.9 | I105: 24.061239 | J105: 169580.1 | K105: 23.408816 | L105: 408557.9 | M105: 23.026453 | N105: 238287.3 | O105: 20.027232 | P105: 180156.7 | Q105: 14.126535 | R105: 119087 | S105: 26.6868 | U105: =F105+H105+J105+L105 -> 786272.7 | V105: =(F105*G105+H105*I105+J105*K105+L105*M105)/(F105+H105+J105+L105) -> 23.458566 | W105: =N105+P105 -> 418444 | X105: =(N105*O105+P105*Q105)/(N105+P105) -> 17.486748
A106: Аяк оона | B106: Сентябрь | C106: September | D106: 1435447.3 | E106: 21.450536 | F106: 79788.8 | G106: 19.084935 | H106: 128496.4 | I106: 23.174766 | J106: 202760.2 | K106: 22.913796 | L106: 450022.4 | M106: 22.931697 | N106: 269520.9 | O106: 19.77965 | P106: 191235.7 | Q106: 14.218569 | R106: 113622.9 | S106: 28.819586 | U106: =F106+H106+J106+L106 -> 861067.8 | V106: =(F106*G106+H106*I106+J106*K106+L106*M106)/(F106+H106+J106+L106) -> 22.607304 | W106: =N106+P106 -> 460756.6 | X106: =(N106*O106+P106*Q106)/(N106+P106) -> 17.47154
A107: Тогуздун айы | B107: Октябрь | C107: October | D107: 1527995.7 | E107: 21.210491 | F107: 53318.9 | G107: 24.789383 | H107: 146945.2 | I107: 21.917273 | J107: 321567.6 | K107: 22.373764 | L107: 434921.9 | M107: 22.604459 | N107: 273397.5 | O107: 19.995984 | P107: 184817.2 | Q107: 14.161099 | R107: 113027.4 | S107: 24.394431 | U107: =F107+H107+J107+L107 -> 956753.6 | V107: =(F107*G107+H107*I107+J107*K107+L107*M107)/(F107+H107+J107+L107) -> 22.543143 | W107: =N107+P107 -> 458214.7 | X107: =(N107*O107+P107*Q107)/(N107+P107) -> 17.64253
A108: Жетинин айы | B108: Ноябрь | C108: November | D108: 1677650.9 | E108: 21.028027 | F108: 50227.6 | G108: 22.84285 | H108: 254558.6 | I108: 21.764876 | J108: 348810.1 | K108: 22.151466 | L108: 451779.9 | M108: 22.651218 | N108: 278633.9 | O108: 19.477731 | P108: 202379.1 | Q108: 14.266291 | R108: 91261.7 | S108: 25.372469 | U108: =F108+H108+J108+L108 -> 1105376.2 | V108: =(F108*G108+H108*I108+J108*K108+L108*M108)/(F108+H108+J108+L108) -> 22.298108 | W108: =N108+P108 -> 481013 | X108: =(N108*O108+P108*Q108)/(N108+P108) -> 17.285095
A109: Бештин айы | B109: Декабрь | C109: December | D109: 1767147.3 | E109: 20.439217 | F109: 121677 | G109: 19.438154 | H109: 250755.2 | I109: 22.032304 | J109: 345131.7 | K109: 22.162232 | L109: 464727.2 | M109: 22.272183 | N109: 292903.6 | O109: 19.640647 | P109: 213114 | Q109: 14.155675 | R109: 78838.6 | S109: 18.522014 | U109: =F109+H109+J109+L109 -> 1182291.1 | V109: =(F109*G109+H109*I109+J109*K109+L109*M109)/(F109+H109+J109+L109) -> 21.897542 | W109: =N109+P109 -> 506017.6 | X109: =(N109*O109+P109*Q109)/(N109+P109) -> 17.3306
A110: Үчтүн айы 2004 ж. | B110: Январь 2004 г. | C110: January 2004 | D110: 1693777.8 | E110: 20.548695 | F110: 102059.3 | G110: 22.502267 | H110: 177112.6 | I110: 23.340335 | J110: 331987.5 | K110: 21.84742 | L110: 544421.2 | M110: 21.154508 | N110: 267854.4 | O110: 18.943404 | P110: 192137 | Q110: 14.221766 | R110: 78205.8 | S110: 22.988774 | U110: =F110+H110+J110+L110 -> 1155580.6 | V110: =(F110*G110+H110*I110+J110*K110+L110*M110)/(F110+H110+J110+L110) -> 21.807623 | W110: =N110+P110 -> 459991.4 | X110: =(N110*O110+P110*Q110)/(N110+P110) -> 16.97119
A111: Бирдин айы | B111: Февраль | C111: February | D111: 1790589.5 | E111: 20.274294 | F111: 63041.5 | G111: 23.304668 | H111: 234287.9 | I111: 22.135049 | J111: 249340.4 | K111: 22.756277 | L111: 641349 | M111: 20.763227 | N111: 296342.6 | O111: 18.924467 | P111: 228160.5 | Q111: 14.097304 | R111: 78067.6 | S111: 23.475737 | U111: =F111+H111+J111+L111 -> 1188018.8 | V111: =(F111*G111+H111*I111+J111*K111+L111*M111)/(F111+H111+J111+L111) -> 21.586922 | W111: =N111+P111 -> 524503.1 | X111: =(N111*O111+P111*Q111)/(N111+P111) -> 16.824636
A112: Жалган куран | B112: Март | C112: March | D112: 2000169 | E112: 19.863491 | F112: 84986.5 | G112: 23.206606 | H112: 226517 | I112: 22.201442 | J112: 270080.2 | K112: 20.980868 | L112: 791185.5 | M112: 19.976374 | N112: 330295.5 | O112: 18.358416 | P112: 215844.2 | Q112: 15.077219 | R112: 81260.1 | S112: 23.868054 | U112: =F112+H112+J112+L112 -> 1372769.2 | V112: =(F112*G112+H112*I112+J112*K112+L112*M112)/(F112+H112+J112+L112) -> 20.741132 | W112: =N112+P112 -> 546139.7 | X112: =(N112*O112+P112*Q112)/(N112+P112) -> 17.061628
... A379: Кулжа* | B379: Июнь* | C379: June* | D379: 1.0701596e+08 | E379: 8.3373296 | F379: 1491164.9 | G379: 7.1135479 | H379: 300940.27 | I379: 8.0981804 | J379: 941578.52 | K379: 8.0768285 | L379: 3684219.8 | M379: 7.7350039 | N379: 29306902 | O379: 8.2219432 | P379: 69735821 | Q379: 7.9942029 | R379: 1555329.9 | S379: 28.700247 | U379: =F379+H379+J379+L379 -> 6417903.5 | V379: =(F379*G379+H379*I379+J379*K379+L379*M379)/(F379+H379+J379+L379) -> 7.6577911 | W379: =N379+P379 -> 99042724 | X379: =(N379*O379+P379*Q379)/(N379+P379) -> 8.0615917
A380: Теке | B380: Июль | C380: July | U380: =F380+H380+J380+L380 -> 0 | V380: =(F380*G380+H380*I380+J380*K380+L380*M380)/(F380+H380+J380+L380) -> #DIV/0! | W380: =N380+P380 -> 0 | X380: =(N380*O380+P380*Q380)/(N380+P380) -> #DIV/0!
A381: Баш оона | B381: Август | C381: August | U381: =F381+H381+J381+L381 -> 0 | V381: =(F381*G381+H381*I381+J381*K381+L381*M381)/(F381+H381+J381+L381) -> #DIV/0! | W381: =N381+P381 -> 0 | X381: =(N381*O381+P381*Q381)/(N381+P381) -> #DIV/0!
A382: Аяк оона | B382: Сентябрь | C382: September | U382: =F382+H382+J382+L382 -> 0 | V382: =(F382*G382+H382*I382+J382*K382+L382*M382)/(F382+H382+J382+L382) -> #DIV/0! | W382: =N382+P382 -> 0 | X382: =(N382*O382+P382*Q382)/(N382+P382) -> #DIV/0!
A383: Тогуздун айы | B383: Октябрь | C383: October | U383: =F383+H383+J383+L383 -> 0 | V383: =(F383*G383+H383*I383+J383*K383+L383*M383)/(F383+H383+J383+L383) -> #DIV/0! | W383: =N383+P383 -> 0 | X383: =(N383*O383+P383*Q383)/(N383+P383) -> #DIV/0!
A384: Жетинин айы | B384: Ноябрь | C384: November | U384: =F384+H384+J384+L384 -> 0 | V384: =(F384*G384+H384*I384+J384*K384+L384*M384)/(F384+H384+J384+L384) -> #DIV/0! | W384: =N384+P384 -> 0 | X384: =(N384*O384+P384*Q384)/(N384+P384) -> #DIV/0!
A385: Бештин айы | B385: Декабрь | C385: December | U385: =F385+H385+J385+L385 -> 0 | V385: =(F385*G385+H385*I385+J385*K385+L385*M385)/(F385+H385+J385+L385) -> #DIV/0! | W385: =N385+P385 -> 0 | X385: =(N385*O385+P385*Q385)/(N385+P385) -> #DIV/0!
A386: * алдын ала маалыматтар | B386: * предварительные данные | C386: *preliminary data
