Workbook

Sheet 1. общая
A2: 1-таблица. Коммерциялык банктардын кредиттери жана кредиттеринин орточо салмактанып алынган пайыздык чендери (бир мезгилдин акырына карата) | B2: Таблица 1. Общий объем и средневзвешенные процентные ставки кредитов действующих коммерческих банков (на конец периода) | C2: Table 1. Total volume and average weighted interest rates of credits in acting commercial banks (the end of period)
A4: (миң сом / пайыздар) | B4: (тыс. сомов / проценты) | C4: (ths of soms / percent)
A5: Мезгил аралыгы | B5: Период | C5: Period | D5: Жалпы улуттук валютада жана чет өлкө валютасында | F5: Жалпы улуттук валютада | H5: Жалпы чет өлкө валютасында
D6: Итого в нац. и ин. валюте | F6: Итого в нац. валюте | H6: Итого в ин. валюте
D7: Total in National and Foreign currencies | F7: Total in National currency | H7: Total in Foreign currency
D8: көлөм | E8: орточо салмактанып алынган чендер | F8: көлөм | G8: орточо салмактанып алынган чендер | H8: көлөм | I8: орточо салмактанып алынган чендер
D9: объем | E9: средневзв. ставка | F9: объем | G9: средневзв. ставка | H9: объем | I9: средневзв. ставка
D10: volume | E10: average weighted interest rate | F10: volume | G10: average weighted interest rate | H10: volume | I10: average weighted interest rate
A11: Үчтүн айы 1996 ж. | B11: Январь 1996 г. | C11: January 1996 | D11: ='2. отрасли_общ'!D11 -> 1047254.1 | E11: ='2. отрасли_общ'!E11 -> 25.649741 | F11: ='3. отрасли_нац вал'!D11 -> 999070.9 | G11: ='3. отрасли_нац вал'!E11 -> 24.826394 | H11: ='4. отрасли_ин вал'!D11 -> 48183.2 | I11: ='4. отрасли_ин вал'!E11 -> 42.721718
A12: Бирдин айы | B12: Февраль | C12: February | D12: ='2. отрасли_общ'!D12 -> 1047687.4 | E12: ='2. отрасли_общ'!E12 -> 26.379245 | F12: ='3. отрасли_нац вал'!D12 -> 1002789.2 | G12: ='3. отрасли_нац вал'!E12 -> 25.873153 | H12: ='4. отрасли_ин вал'!D12 -> 44898.2 | I12: ='4. отрасли_ин вал'!E12 -> 37.682677
A13: Жалган куран | B13: Март | C13: March | D13: ='2. отрасли_общ'!D13 -> 1081388.7 | E13: ='2. отрасли_общ'!E13 -> 25.007032 | F13: ='3. отрасли_нац вал'!D13 -> 1016175.2 | G13: ='3. отрасли_нац вал'!E13 -> 23.993652 | H13: ='4. отрасли_ин вал'!D13 -> 65213.5 | I13: ='4. отрасли_ин вал'!E13 -> 40.797804
A14: Чын куран | B14: Апрель | C14: April | D14: ='2. отрасли_общ'!D14 -> 1071987.6 | E14: ='2. отрасли_общ'!E14 -> 24.319222 | F14: ='3. отрасли_нац вал'!D14 -> 999145 | G14: ='3. отрасли_нац вал'!E14 -> 22.940864 | H14: ='4. отрасли_ин вал'!D14 -> 72842.6 | I14: ='4. отрасли_ин вал'!E14 -> 43.225455
A15: Бугу | B15: Май | C15: May | D15: ='2. отрасли_общ'!D15 -> 356693.1 | E15: ='2. отрасли_общ'!E15 -> 48.365826 | F15: ='3. отрасли_нац вал'!D15 -> 279508.8 | G15: ='3. отрасли_нац вал'!E15 -> 48.463354 | H15: ='4. отрасли_ин вал'!D15 -> 77184.3 | I15: ='4. отрасли_ин вал'!E15 -> 48.012647
A16: Кулжа | B16: Июнь | C16: June | D16: ='2. отрасли_общ'!D16 -> 377086.7 | E16: ='2. отрасли_общ'!E16 -> 46.530249 | F16: ='3. отрасли_нац вал'!D16 -> 293075.5 | G16: ='3. отрасли_нац вал'!E16 -> 45.65946 | H16: ='4. отрасли_ин вал'!D16 -> 84011.2 | I16: ='4. отрасли_ин вал'!E16 -> 49.568022
A17: Теке | B17: Июль | C17: July | D17: ='2. отрасли_общ'!D17 -> 371196.1 | E17: ='2. отрасли_общ'!E17 -> 44.74083 | F17: ='3. отрасли_нац вал'!D17 -> 284640.9 | G17: ='3. отрасли_нац вал'!E17 -> 43.644115 | H17: ='4. отрасли_ин вал'!D17 -> 86555.2 | I17: ='4. отрасли_ин вал'!E17 -> 48.34743
A18: Баш оона | B18: Август | C18: August | D18: ='2. отрасли_общ'!D18 -> 376601.8 | E18: ='2. отрасли_общ'!E18 -> 41.755058 | F18: ='3. отрасли_нац вал'!D18 -> 291447.9 | G18: ='3. отрасли_нац вал'!E18 -> 40.715674 | H18: ='4. отрасли_ин вал'!D18 -> 85153.9 | I18: ='4. отрасли_ин вал'!E18 -> 45.312454
A19: Аяк оона | B19: Сентябрь | C19: September | D19: ='2. отрасли_общ'!D19 -> 382869.9 | E19: ='2. отрасли_общ'!E19 -> 42.786926 | F19: ='3. отрасли_нац вал'!D19 -> 272579.9 | G19: ='3. отрасли_нац вал'!E19 -> 39.777876 | H19: ='4. отрасли_ин вал'!D19 -> 110290 | I19: ='4. отрасли_ин вал'!E19 -> 50.223743
A20: Тогуздун айы | B20: Октябрь | C20: October | D20: ='2. отрасли_общ'!D20 -> 393717.5 | E20: ='2. отрасли_общ'!E20 -> 45.42866 | F20: ='3. отрасли_нац вал'!D20 -> 254283 | G20: ='3. отрасли_нац вал'!E20 -> 40.097206 | H20: ='4. отрасли_ин вал'!D20 -> 139434.5 | I20: ='4. отрасли_ин вал'!E20 -> 55.15149
A21: Жетинин айы | B21: Ноябрь | C21: November | D21: ='2. отрасли_общ'!D21 -> 379745.2 | E21: ='2. отрасли_общ'!E21 -> 45.160148 | F21: ='3. отрасли_нац вал'!D21 -> 235043.5 | G21: ='3. отрасли_нац вал'!E21 -> 38.054927 | H21: ='4. отрасли_ин вал'!D21 -> 144701.7 | I21: ='4. отрасли_ин вал'!E21 -> 56.70138
A22: Бештин айы | B22: Декабрь | C22: December | D22: ='2. отрасли_общ'!D22 -> 407186.7 | E22: ='2. отрасли_общ'!E22 -> 50.624176 | F22: ='3. отрасли_нац вал'!D22 -> 250134.4 | G22: ='3. отрасли_нац вал'!E22 -> 46.854354 | H22: ='4. отрасли_ин вал'!D22 -> 157052.3 | I22: ='4. отрасли_ин вал'!E22 -> 56.628306
... A382: Бештин айы | B382: Декабрь | C382: December | D382: ='2. отрасли_общ'!D382 -> 0 | E382: ='2. отрасли_общ'!E382 -> 0 | F382: ='3. отрасли_нац вал'!D382 -> 0 | G382: ='3. отрасли_нац вал'!E382 -> 0 | H382: ='4. отрасли_ин вал'!D382 -> 0 | I382: ='4. отрасли_ин вал'!E382 -> 0
A383: * алдын ала маалыматтар | B383: * предварительные данные | C383: *preliminary data

Sheet 2. отрасли_общ
A2: 2-таблица. Тармактар боюнча кредиттер жана кредиттердин орточо салмактанып алынган пайыздык чендери (бир мезгилдин акырына карата) | B2: Таблица 2. Общий объем и средневзвешенные процентные ставки кредитов в разрезе отраслей (на конец периода) | C2: Table 2. Total volume and average weighted interest rates of credits by sectors (the end of period)
A4: (миң сом / пайыздар) | B4: (тыс. сомов / проценты) | C4: (ths of soms / percent)
A5: Мезгил аралыгы | B5: Период | C5: Period | D5: Жалпы улуттук валютада жана чет өлкө валютасында | F5: Өнөр жайы | H5: Айыл чарбасы | J5: Транспорт | L5: Байланыш | N5: Cоода | P5: Даярдоо жана кайра иштетүү ишканалары | R5: Курулуш | T5: Ипотека | V5: Керектөө кредиттери | X5: Социалдык кызмат көрсөтүүлөр | Z5: Жана башкалаp
D6: Итого в нац. и ин. валюте | F6: Промышленность | H6: Сельское хоз-во | J6: Транспорт | L6: Связь | N6: Торговля и коммерческие операции | P6: Заготовка и переработка | R6: Строительство | T6: Ипотека | V6: Потребительские кредиты | X6: Социальные услуги | Z6: Прочие
D7: Total in National and Foreign currencies | F7: Industry | H7: Agriculture | J7: Transport | L7: Communication | N7: Trade | P7: Procurement and processing | R7: Construction | T7: Mortgage | V7: Consumer loans | X7: Social services | Z7: Others
D8: көлөм | E8: орточо салмактанып алынган чендер | F8: көлөм | G8: орточо салмактанып алынган чендер | H8: көлөм | I8: орточо салмактанып алынган чендер | J8: көлөм | K8: орточо салмактанып алынган чендер | L8: көлөм | M8: орточо салмактанып алынган чендер | N8: көлөм | O8: орточо салмактанып алынган чендер | P8: көлөм | Q8: орточо салмактанып алынган чендер | R8: көлөм | S8: орточо салмактанып алынган чендер | T8: көлөм | U8: орточо салмактанып алынган чендер | V8: көлөм | W8: орточо салмактанып алынган чендер | X8: көлөм | Y8: орточо салмактанып алынган чендер | Z8: көлөм | AA8: орточо салмактанып алынган чендер
D9: объем | E9: средневзв. ставка | F9: объем | G9: средневзв. ставка | H9: объем | I9: средневзв. ставка | J9: объем | K9: средневзв. ставка | L9: объем | M9: средневзв. ставка | N9: объем | O9: средневзв. ставка | P9: объем | Q9: средневзв. ставка | R9: объем | S9: средневзв. ставка | T9: объем | U9: средневзв. ставка | V9: объем | W9: средневзв. ставка | X9: объем | Y9: средневзв. ставка | Z9: объем | AA9: средневзв. ставка
D10: volume | E10: average weighted interest rate | F10: volume | G10: average weighted interest rate | H10: volume | I10: average weighted interest rate | J10: volume | K10: average weighted interest rate | L10: volume | M10: average weighted interest rate | N10: volume | O10: average weighted interest rate | P10: volume | Q10: average weighted interest rate | R10: volume | S10: average weighted interest rate | T10: volume | U10: average weighted interest rate | V10: volume | W10: average weighted interest rate | X10: volume | Y10: average weighted interest rate | Z10: volume | AA10: average weighted interest rate
A11: Үчтүн айы 1996 ж. | B11: Январь 1996 г. | C11: January 1996 | D11: 1047254.1 | E11: 25.649741 | F11: 138787.6 | G11: 16.254945 | H11: 188595.9 | I11: 17.225242 | J11: 8092 | K11: 60.773109 | L11: 13 | M11: 31 | N11: 183788.3 | O11: 28.722859 | P11: 185428 | Q11: 19.587265 | R11: 21426.3 | S11: 66.403266 | V11: 25359.3 | W11: 58.403355 | Z11: 295763.7 | AA11: 30.599515
A12: Бирдин айы | B12: Февраль | C12: February | D12: 1047687.4 | E12: 26.379245 | F12: 143696.6 | G12: 17.219793 | H12: 200534.8 | I12: 19.778383 | J12: 6375 | K12: 62.36 | L12: 703 | M12: 12.3 | N12: 185951.4 | O12: 32.121892 | P12: 181673.2 | Q12: 20.718446 | R12: 21542.7 | S12: 65.441217 | V12: 27836.2 | W12: 54.210406 | Z12: 279374.5 | AA12: 29.116623
A13: Жалган куран | B13: Март | C13: March | D13: 1081388.7 | E13: 25.007032 | F13: 153639 | G13: 19.465121 | H13: 226918.4 | I13: 15.863876 | J13: 4843 | K13: 58.077431 | L13: 708 | M13: 12.725989 | N13: 188519.4 | O13: 31.231804 | P13: 171785.6 | Q13: 17.261607 | R13: 22660.1 | S13: 61.772556 | V13: 33320.2 | W13: 57.308235 | Z13: 278995 | AA13: 28.671643
A14: Чын куран | B14: Апрель | C14: April | D14: 1071987.6 | E14: 24.319222 | F14: 146396 | G14: 17.462211 | H14: 225478.4 | I14: 13.523039 | J14: 2560 | K14: 60.2625 | L14: 718 | M14: 12.5 | N14: 195786.9 | O14: 31.635201 | P14: 167932.7 | Q14: 16.608578 | R14: 25863.4 | S14: 56.486962 | V14: 33352.9 | W14: 59.442672 | Z14: 273899.3 | AA14: 28.750327
A15: Бугу | B15: Май | C15: May | D15: 356693.1 | E15: 48.365826 | F15: 45857.5 | G15: 42.30465 | H15: 15434.7 | I15: 56.494114 | J15: 4045 | K15: 56.720643 | L15: 1378 | M15: 12.5 | N15: 96693.7 | O15: 51.03505 | P15: 2258.3 | Q15: 69.663021 | R15: 14705 | S15: 36.028435 | V15: 38531.1 | W15: 61.44057 | Z15: 137789.8 | AA15: 45.024252
A16: Кулжа | B16: Июнь | C16: June | D16: 377086.7 | E16: 46.530249 | F16: 44527.1 | G16: 41.761613 | H16: 16455.7 | I16: 23.479153 | J16: 3587 | K16: 64.759409 | L16: 1345 | M16: 12.5 | N16: 106862.3 | O16: 49.619737 | P16: 1678.3 | Q16: 68.265507 | R16: 12455 | S16: 33.491642 | V16: 47228.2 | W16: 59.904352 | Z16: 142948.1 | AA16: 44.684622
A17: Теке | B17: Июль | C17: July | D17: 371196.1 | E17: 44.74083 | F17: 40972 | G17: 40.172036 | H17: 14503.7 | I17: 21.424692 | J17: 3247 | K17: 63.721281 | L17: 16365 | M17: 26.313138 | N17: 83109.5 | O17: 47.457993 | P17: 2258.3 | Q17: 50.22362 | R17: 14377.8 | S17: 34.781104 | V17: 52320.8 | W17: 61.192758 | Z17: 144042 | AA17: 43.418435
A18: Баш оона | B18: Август | C18: August | D18: 376601.8 | E18: 41.755058 | F18: 37429 | G18: 34.205513 | H18: 13402.7 | I18: 25.491473 | J18: 5166 | K18: 33.528455 | L18: 590 | M18: 12.5 | N18: 102554 | O18: 34.648328 | P18: 1558.3 | Q18: 72.014375 | R18: 12924 | S18: 29.955559 | V18: 67906 | W18: 56.265627 | Z18: 135071.8 | AA18: 44.783961
A19: Аяк оона | B19: Сентябрь | C19: September | D19: 382869.9 | E19: 42.786926 | F19: 38113.7 | G19: 33.131727 | H19: 10932.7 | I19: 13.350462 | J19: 4792 | K19: 26.54591 | L19: 644 | M19: 12 | N19: 100624 | O19: 36.125078 | P19: 1004.3 | Q19: 12.30708 | R19: 12345 | S19: 40.690231 | V19: 61746 | W19: 52.417112 | Z19: 152668.2 | AA19: 48.810971
A20: Тогуздун айы | B20: Октябрь | C20: October | D20: 393717.5 | E20: 45.42866 | F20: 36700.8 | G20: 29.823892 | H20: 9013.7 | I20: 14.677291 | J20: 4850 | K20: 19.927835 | L20: 748 | M20: 12.5 | N20: 102127.8 | O20: 37.93549 | P20: 992 | Q20: 11.471774 | R20: 13066 | S20: 44.324231 | V20: 45466.6 | W20: 54.834468 | Z20: 180752.6 | AA20: 53.085132
A21: Жетинин айы | B21: Ноябрь | C21: November | D21: 379745.2 | E21: 45.160148 | F21: 25278.3 | G21: 25.712754 | H21: 8025.7 | I21: 15.39847 | J21: 5262 | K21: 21.238693 | N21: 96993.4 | O21: 36.131627 | P21: 992 | Q21: 11.169355 | R21: 18480 | S21: 40.76974 | V21: 43534.8 | W21: 49.506681 | Z21: 181179 | AA21: 54.30947
A22: Бештин айы | B22: Декабрь | C22: December | D22: 407186.7 | E22: 50.624176 | F22: 21737 | G22: 33.194432 | H22: 6697.2 | I22: 17.511467 | J22: 6134 | K22: 21.467395 | L22: 450 | M22: 45 | N22: 90522.8 | O22: 39.757573 | P22: 934 | Q22: 12.633833 | R22: 16009 | S22: 38.951297 | V22: 76655.3 | W22: 63.777499 | Z22: 188047.4 | AA22: 55.8344
A23: Үчтүн айы 1997 ж. | B23: Январь 1997 г. | C23: January 1997 | D23: 403729.6 | E23: 52.91834 | F23: 26336.6 | G23: 30.827897 | H23: 8223.7 | I23: 28.152559 | J23: 6240 | K23: 25.712019 | L23: 60 | M23: 65 | N23: 99795.6 | O23: 42.055846 | P23: 1704 | Q23: 29.694836 | R23: 19728 | S23: 34.464756 | V23: 79536.7 | W23: 61.214731 | Z23: 162105 | AA23: 63.912961
A24: Бирдин айы | B24: Февраль | C24: February | D24: 420926.9 | E24: 52.446386 | F24: 27479.6 | G24: 29.238753 | H24: 7737.7 | I24: 30.518113 | J24: 7856 | K24: 16.933045 | L24: 60 | M24: 65 | N24: 100833.7 | O24: 42.3394 | P24: 3328 | Q24: 45.252404 | R24: 21067 | S24: 31.063558 | V24: 168992 | W24: 70.703917 | Z24: 83572.9 | AA24: 46.389547
A25: Жалган куран | B25: Март | C25: March | D25: 465718.1 | E25: 53.69589 | F25: 31278 | G25: 28.488757 | H25: 7488.7 | I25: 30.618492 | J25: 7881 | K25: 22.58216 | L25: 4522 | M25: 11.913843 | N25: 103349 | O25: 49.396758 | P25: 1284 | Q25: 22.040498 | R25: 22015 | S25: 30.317412 | V25: 171803 | W25: 68.577355 | Z25: 116097.4 | AA25: 52.303506
A26: Чын куран | B26: Апрель | C26: April | D26: 489356 | E26: 54.828584 | F26: 32777 | G26: 27.726826 | H26: 6933.7 | I26: 32.667032 | J26: 7973 | K26: 22.889502 | L26: 60 | M26: 65 | N26: 107179 | O26: 46.499964 | P26: 1254 | Q26: 22.567783 | R26: 20853 | S26: 26.517185 | V26: 164309.6 | W26: 65.673587 | Z26: 148016.7 | AA26: 61.838356
A27: Бугу | B27: Май | C27: May | D27: 549041.3 | E27: 56.420732 | F27: 35759 | G27: 31.937889 | H27: 7489.7 | I27: 34.786226 | J27: 9550 | K27: 31.985487 | L27: 60 | M27: 65 | N27: 123374 | O27: 46.808826 | P27: 754 | Q27: 1.061008 | R27: 20692 | S27: 30.107453 | V27: 182099.6 | W27: 70.852555 | Z27: 169263 | AA27: 58.869027
A28: Кулжа | B28: Июнь | C28: June | D28: 590085.7 | E28: 54.542461 | F28: 41663.1 | G28: 34.731549 | H28: 7760.7 | I28: 36.26361 | J28: 24431 | K28: 27.204875 | L28: 60 | M28: 65 | N28: 124721.3 | O28: 47.421072 | P28: 749 | Q28: 1.0680908 | R28: 17071.6 | S28: 28.896137 | V28: 174588.7 | W28: 59.769405 | Z28: 199040.3 | AA28: 65.032786
A29: Теке | B29: Июль | C29: July | D29: 662549.5 | E29: 49.244655 | F29: 40765.9 | G29: 30.935773 | H29: 8552.7 | I29: 37.418125 | J29: 22107 | K29: 24.338404 | L29: 60 | M29: 65 | N29: 128850.4 | O29: 47.957882 | P29: 743 | Q29: 0.80753701 | R29: 19151.6 | S29: 28.398943 | V29: 187054.4 | W29: 54.742068 | Z29: 255264.5 | AA29: 53.044195
A30: Баш оона | B30: Август | C30: August | D30: 700302.5 | E30: 49.707098 | F30: 41339.8 | G30: 30.810211 | H30: 9710.7 | I30: 36.856663 | J30: 21450 | K30: 24.329371 | L30: 60 | M30: 65 | N30: 133020.1 | O30: 47.384754 | P30: 740.5 | Q30: 0.81026334 | R30: 18860 | S30: 27.976768 | V30: 161968.8 | W30: 61.133853 | Z30: 313152.6 | AA30: 50.836253
A31: Аяк оона | B31: Сентябрь | C31: September | D31: 737318.7 | E31: 51.497448 | F31: 42639.5 | G31: 30.64321 | H31: 10663.7 | I31: 40.224312 | J31: 17708.8 | K31: 21.548162 | N31: 144695.9 | O31: 46.700456 | P31: 737.5 | Q31: 0.6779661 | R31: 20878.9 | S31: 28.066084 | V31: 126043.3 | W31: 56.796302 | Z31: 373951.1 | AA31: 57.093671
A32: Тогуздун айы | B32: Октябрь | C32: October | D32: 781993.3 | E32: 50.594021 | F32: 41816.3 | G32: 33.699644 | H32: 11023.7 | I32: 41.849923 | J32: 18316 | K32: 23.223073 | N32: 138878.4 | O32: 45.790876 | P32: 733 | Q32: 0 | R32: 13941.6 | S32: 35.2304 | V32: 147177.5 | W32: 54.59577 | Z32: 410106.8 | AA32: 54.577236
A33: Жетинин айы | B33: Ноябрь | C33: November | D33: 845868 | E33: 53.01456 | F33: 46160.1 | G33: 33.737798 | H33: 11647 | I33: 42.2714 | J33: 18801.4 | K33: 25.582504 | N33: 166156 | O33: 45.3524 | P33: 732.5 | Q33: 0 | R33: 14852.6 | S33: 34.206587 | V33: 141232.4 | W33: 54.788583 | Z33: 446286 | AA33: 59.448659
A34: Бештин айы | B34: Декабрь | C34: December | D34: 1000948.6 | E34: 51.906095 | F34: 58787.1 | G34: 35.963219 | H34: 8879 | I34: 50.710102 | J34: 34338.3 | K34: 32.159289 | N34: 160927.9 | O34: 44.68457 | P34: 661.9 | Q34: 0 | R34: 24925.5 | S34: 31.167656 | V34: 201310.1 | W34: 53.60169 | Z34: 511118.8 | AA34: 57.771665
A35: Үчтүн айы 1998 ж. | B35: Январь 1998 г. | C35: January 1998 | D35: 1067591.5 | E35: 49.266486 | F35: 59972 | G35: 36.835733 | H35: 7759 | I35: 52.360485 | J35: 36974.8 | K35: 33.700044 | N35: 170756.8 | O35: 42.733145 | P35: 661.9 | Q35: 0 | R35: 25916.6 | S35: 31.228583 | V35: 187923.1 | W35: 50.154205 | Z35: 577627.3 | AA35: 54.020308
A36: Бирдин айы | B36: Февраль | C36: February | D36: 1166745.1 | E36: 48.041038 | F36: 58221.4 | G36: 36.646413 | H36: 12524 | I36: 44.959677 | J36: 31431.9 | K36: 31.69579 | N36: 202440.9 | O36: 43.358181 | P36: 4635.2 | Q36: 34.288057 | R36: 29010.8 | S36: 34.637218 | V36: 196411.9 | W36: 52.766909 | Z36: 632069 | AA36: 50.711873
A37: Жалган куран | B37: Март | C37: March | D37: 1299595.1 | E37: 46.967972 | F37: 64125.6 | G37: 35.304921 | H37: 12717 | I37: 44.338602 | J37: 21746 | K37: 30.660471 | L37: 1248.1 | M37: 55 | N37: 214002.7 | O37: 40.725502 | P37: 4723.2 | Q37: 34.394478 | R37: 36766.1 | S37: 32.377435 | V37: 218118 | W37: 51.346845 | Z37: 726148.4 | AA37: 49.863461
A38: Чын куран | B38: Апрель | C38: April | D38: 1445039.4 | E38: 45.040741 | F38: 110083.3 | G38: 40.056505 | H38: 13842.6 | I38: 43.591926 | J38: 24449 | K38: 32.405301 | N38: 614085.2 | O38: 52.131709 | P38: 5469.2 | Q38: 35.561325 | R38: 66165 | S38: 25.941096 | V38: 233328.7 | W38: 45.305909 | Z38: 377616.4 | AA38: 39.153557
A39: Бугу | B39: Май | C39: May | D39: 1577111.7 | E39: 43.330451 | F39: 115835.6 | G39: 40.458091 | H39: 15772 | I39: 43.911299 | J39: 24202 | K39: 29.930642 | L39: 996 | M39: 40 | N39: 674653.4 | O39: 50.571271 | P39: 2748.9 | Q39: 31.168831 | R39: 85872.2 | S39: 25.852936 | V39: 261114 | W39: 45.040589 | Z39: 395917.6 | AA39: 35.383996
A40: Кулжа | B40: Июнь | C40: June | D40: 1525319.1 | E40: 43.042639 | F40: 136288.8 | G40: 41.713116 | H40: 15435.7 | I40: 44.685048 | J40: 21809 | K40: 32.116094 | L40: 957.5 | M40: 40 | N40: 658545 | O40: 50.414514 | P40: 3905.6 | Q40: 37.738632 | R40: 80528.3 | S40: 23.76323 | V40: 260267.7 | W40: 44.871931 | Z40: 347581.5 | AA40: 33.374386
A41: Теке | B41: Июль | C41: July | D41: 1549347 | E41: 43.3617 | F41: 141897.9 | G41: 42.773775 | H41: 16516.8 | I41: 42.191817 | J41: 27140 | K41: 29.388511 | L41: 1948.1 | M41: 40 | N41: 646975 | O41: 50.936238 | P41: 3625 | Q41: 37.572414 | R41: 88294.4 | S41: 25.710451 | V41: 273430.8 | W41: 45.237714 | Z41: 349519 | AA41: 33.790047
A42: Баш оона | B42: Август | C42: August | D42: 1578585.9 | E42: 42.687029 | F42: 135976.6 | G42: 41.432372 | H42: 14943.8 | I42: 51.354508 | J42: 27706.8 | K42: 29.361267 | L42: 3571.4 | M42: 44.443636 | N42: 636746 | O42: 48.90245 | P42: 3725 | Q42: 38.174497 | R42: 89865.3 | S42: 25.607865 | V42: 256551.9 | W42: 46.940555 | Z42: 409499.1 | AA42: 35.13331
...

Sheet 3. отрасли_нац вал
A2: 3-таблица. Тармактар боюнча улуттук валютадагы кредиттер жана кредиттердин орточо салмактанып алынган пайыздык чендери (бир мезгилдин акырына карата) | B2: Таблица 3. Общий объем и средневзвешенные процентные ставки кредитов в разрезе отраслей в национальной валюте (на конец периода) | C2: Table 3. Total volume and average weighted interest rates of credits by sectors in National currency (the end of period)
A4: (миң сом / пайыздар) | B4: (тыс. сомов / проценты) | C4: (ths of soms / percent)
A5: Мезгил аралыгы | B5: Период | C5: Period | D5: Жалпы улуттук валютада | F5: Өнөр жайы | H5: Айыл чарбасы | J5: Транспорт | L5: Байланыш | N5: Cоода | P5: Даярдоо жана кайра иштетүү ишканалары | R5: Курулуш | T5: Ипотека | V5: Керектөө кредиттери | X5: Социалдык кызмат көрсөтүүлөр | Z5: Жана башкалаp | AC5: Керектөө кредиттерин эске албагандагы орточо салмактанып алынган чендер
D6: Итого в нац. валюте | F6: Промышленность | H6: Сельское хоз-во | J6: Транспорт | L6: Связь | N6: Торговля и коммерческие операции | P6: Заготовка и переработка | R6: Строительство | T6: Ипотека | V6: Потребительские кредиты | X6: Социальные услуги | Z6: Прочие
D7: Total in National currency | F7: Industry | H7: Agriculture | J7: Transport | L7: Communication | N7: Trade | P7: Procurement and processing | R7: Construction | T7: Mortgage | V7: Consumer loans | X7: Social services | Z7: Others | AC7: Средневзв. ставка без учета потребительских кредитов
D8: көлөм | E8: орточо салмактанып алынган чендер | F8: көлөм | G8: орточо салмактанып алынган чендер | H8: көлөм | I8: орточо салмактанып алынган чендер | J8: көлөм | K8: орточо салмактанып алынган чендер | L8: көлөм | M8: орточо салмактанып алынган чендер | N8: көлөм | O8: орточо салмактанып алынган чендер | P8: көлөм | Q8: орточо салмактанып алынган чендер | R8: көлөм | S8: орточо салмактанып алынган чендер | T8: көлөм | U8: орточо салмактанып алынган чендер | V8: көлөм | W8: орточо салмактанып алынган чендер | X8: көлөм | Y8: орточо салмактанып алынган чендер | Z8: көлөм | AA8: орточо салмактанып алынган чендер
D9: объем | E9: средневзв. ставка | F9: объем | G9: средневзв. ставка | H9: объем | I9: средневзв. ставка | J9: объем | K9: средневзв. ставка | L9: объем | M9: средневзв. ставка | N9: объем | O9: средневзв. ставка | P9: объем | Q9: средневзв. ставка | R9: объем | S9: средневзв. ставка | T9: объем | U9: средневзв. ставка | V9: объем | W9: средневзв. ставка | X9: объем | Y9: средневзв. ставка | Z9: объем | AA9: средневзв. ставка | AC9: Average weighted interest rate excluding consumer loans
D10: volume | E10: average weighted interest rate | F10: volume | G10: average weighted interest rate | H10: volume | I10: average weighted interest rate | J10: volume | K10: average weighted interest rate | L10: volume | M10: average weighted interest rate | N10: volume | O10: average weighted interest rate | P10: volume | Q10: average weighted interest rate | R10: volume | S10: average weighted interest rate | T10: volume | U10: average weighted interest rate | V10: volume | W10: average weighted interest rate | X10: volume | Y10: average weighted interest rate | Z10: volume | AA10: average weighted interest rate
A11: Үчтүн айы 1996 ж. | B11: Январь 1996 г. | C11: January 1996 | D11: 999070.9 | E11: 24.826394 | F11: 135277.6 | G11: 16.072855 | H11: 188595.9 | I11: 17.225242 | J11: 8092 | K11: 60.773109 | L11: 13 | M11: 31 | N11: 174591.1 | O11: 28.365125 | P11: 185428 | Q11: 19.587265 | R11: 21426.3 | S11: 66.403266 | V11: 18986.3 | W11: 59.828413 | Z11: 266660.7 | AA11: 29.045221 | AC11: =(F11*G11+H11*I11+J11*K11+L11*M11+N11*O11+P11*Q11+R11*S11+T11*U11+X11*Y11+Z11*AA11)/(F11+H11+J11+L11+N11+P11+R11+T11+X11+Z11) -> 24.148331
A12: Бирдин айы | B12: Февраль | C12: February | D12: 1002789.2 | E12: 25.873153 | F12: 140120.6 | G12: 17.068123 | H12: 200534.8 | I12: 19.778383 | J12: 6375 | K12: 62.36 | N12: 177318.4 | O12: 31.766544 | P12: 181673.2 | Q12: 20.718446 | R12: 21542.7 | S12: 65.441217 | V12: 23254 | W12: 57.737001 | Z12: 251970.5 | AA12: 27.942747 | AC12: =(F12*G12+H12*I12+J12*K12+L12*M12+N12*O12+P12*Q12+R12*S12+T12*U12+X12*Y12+Z12*AA12)/(F12+H12+J12+L12+N12+P12+R12+T12+X12+Z12) -> 25.116711
A13: Жалган куран | B13: Март | C13: March | D13: 1016175.2 | E13: 23.993652 | F13: 150045 | G13: 19.371757 | H13: 226918.4 | I13: 15.863876 | J13: 4843 | K13: 58.077431 | L13: 8 | M13: 50 | N13: 176820.4 | O13: 30.553793 | P13: 171785.6 | Q13: 17.261607 | R13: 22660.1 | S13: 61.772556 | V13: 25021.5 | W13: 59.064505 | Z13: 238073.2 | AA13: 26.66474 | AC13: =(F13*G13+H13*I13+J13*K13+L13*M13+N13*O13+P13*Q13+R13*S13+T13*U13+X13*Y13+Z13*AA13)/(F13+H13+J13+L13+N13+P13+R13+T13+X13+Z13) -> 23.108294
A14: Чын куран | B14: Апрель | C14: April | D14: 999145 | E14: 22.940864 | F14: 142708 | G14: 17.315762 | H14: 225478.4 | I14: 13.523039 | J14: 2560 | K14: 60.2625 | N14: 176463.4 | O14: 30.83787 | P14: 167932.7 | Q14: 16.608578 | R14: 25863.4 | S14: 56.486962 | V14: 26347 | W14: 59.746669 | Z14: 231792.1 | AA14: 25.802249 | AC14: =(F14*G14+H14*I14+J14*K14+L14*M14+N14*O14+P14*Q14+R14*S14+T14*U14+X14*Y14+Z14*AA14)/(F14+H14+J14+L14+N14+P14+R14+T14+X14+Z14) -> 21.944026
A15: Бугу | B15: Май | C15: May | D15: 279508.8 | E15: 48.463354 | F15: 41900.5 | G15: 44.116012 | H15: 15434.7 | I15: 56.494114 | J15: 4045 | K15: 56.720643 | N15: 80282.9 | O15: 52.626609 | P15: 2258.3 | Q15: 69.663021 | R15: 14705 | S15: 36.028435 | V15: 25347.1 | W15: 62.032296 | Z15: 95535.3 | AA15: 43.037207 | AC15: =(F15*G15+H15*I15+J15*K15+L15*M15+N15*O15+P15*Q15+R15*S15+T15*U15+X15*Y15+Z15*AA15)/(F15+H15+J15+L15+N15+P15+R15+T15+X15+Z15) -> 47.110147
A16: Кулжа | B16: Июнь | C16: June | D16: 293075.5 | E16: 45.65946 | F16: 40664.1 | G16: 43.531604 | H16: 16455.7 | I16: 23.479153 | J16: 3587 | K16: 64.759409 | N16: 91533.3 | O16: 50.498957 | P16: 1678.3 | Q16: 68.265507 | R16: 12455 | S16: 33.491642 | V16: 29851.4 | W16: 56.107936 | Z16: 96850.7 | AA16: 42.992902 | AC16: =(F16*G16+H16*I16+J16*K16+L16*M16+N16*O16+P16*Q16+R16*S16+T16*U16+X16*Y16+Z16*AA16)/(F16+H16+J16+L16+N16+P16+R16+T16+X16+Z16) -> 44.474532
A17: Теке | B17: Июль | C17: July | D17: 284640.9 | E17: 43.644115 | F17: 37110 | G17: 41.946205 | H17: 14503.7 | I17: 21.424692 | J17: 3247 | K17: 63.721281 | L17: 12114 | M17: 32 | N17: 67780.5 | O17: 48.46332 | P17: 2258.3 | Q17: 50.22362 | R17: 14377.8 | S17: 34.781104 | V17: 34709.7 | W17: 58.528728 | Z17: 98539.9 | AA17: 40.9084 | AC17: =(F17*G17+H17*I17+J17*K17+L17*M17+N17*O17+P17*Q17+R17*S17+T17*U17+X17*Y17+Z17*AA17)/(F17+H17+J17+L17+N17+P17+R17+T17+X17+Z17) -> 41.576984
A18: Баш оона | B18: Август | C18: August | D18: 291447.9 | E18: 40.715674 | F18: 30847 | G18: 39.145805 | H18: 13359.7 | I18: 25.428682 | J18: 2128 | K18: 68.546053 | N18: 84437 | O18: 32.871059 | P18: 1558.3 | Q18: 72.014375 | R18: 12924 | S18: 29.955559 | V18: 41930 | W18: 61.440889 | Z18: 104263.9 | AA18: 41.455056 | AC18: =(F18*G18+H18*I18+J18*K18+L18*M18+N18*O18+P18*Q18+R18*S18+T18*U18+X18*Y18+Z18*AA18)/(F18+H18+J18+L18+N18+P18+R18+T18+X18+Z18) -> 37.232925
A19: Аяк оона | B19: Сентябрь | C19: September | D19: 272579.9 | E19: 39.777876 | F19: 28845.7 | G19: 40.124376 | H19: 10932.7 | I19: 13.350462 | J19: 1480 | K19: 65.810811 | N19: 80656 | O19: 34.862364 | P19: 1004.3 | Q19: 12.30708 | R19: 12345 | S19: 40.690231 | V19: 41666 | W19: 55.177608 | Z19: 95650.2 | AA19: 39.898581 | AC19: =(F19*G19+H19*I19+J19*K19+L19*M19+N19*O19+P19*Q19+R19*S19+T19*U19+X19*Y19+Z19*AA19)/(F19+H19+J19+L19+N19+P19+R19+T19+X19+Z19) -> 36.999155
A20: Тогуздун айы | B20: Октябрь | C20: October | D20: 254283 | E20: 40.097206 | F20: 25552.4 | G20: 37.549612 | H20: 9013.7 | I20: 14.677291 | J20: 1000 | K20: 62 | N20: 83017.2 | O20: 37.36456 | P20: 992 | Q20: 11.471774 | R20: 13066 | S20: 44.324231 | V20: 38058.1 | W20: 58.578392 | Z20: 83583.6 | AA20: 37.333336 | AC20: =(F20*G20+H20*I20+J20*K20+L20*M20+N20*O20+P20*Q20+R20*S20+T20*U20+X20*Y20+Z20*AA20)/(F20+H20+J20+L20+N20+P20+R20+T20+X20+Z20) -> 36.844302
A21: Жетинин айы | B21: Ноябрь | C21: November | D21: 235043.5 | E21: 38.054927 | F21: 14943.6 | G21: 32.652393 | H21: 8025.7 | I21: 15.39847 | J21: 1175 | K21: 63.808511 | N21: 74389 | O21: 33.950575 | P21: 992 | Q21: 11.169355 | R21: 18480 | S21: 40.76974 | V21: 33822.2 | W21: 55.234454 | Z21: 83216 | AA21: 37.250715 | AC21: =(F21*G21+H21*I21+J21*K21+L21*M21+N21*O21+P21*Q21+R21*S21+T21*U21+X21*Y21+Z21*AA21)/(F21+H21+J21+L21+N21+P21+R21+T21+X21+Z21) -> 35.167313
A22: Бештин айы | B22: Декабрь | C22: December | D22: 250134.4 | E22: 46.854354 | F22: 10209 | G22: 48.268819 | H22: 6697.2 | I22: 17.511467 | J22: 1959 | K22: 48.037774 | N22: 63088.8 | O22: 38.820977 | P22: 934 | Q22: 12.633833 | R22: 16009 | S22: 38.951297 | V22: 66726 | W22: 67.315084 | Z22: 84511.4 | AA22: 40.698876 | AC22: =(F22*G22+H22*I22+J22*K22+L22*M22+N22*O22+P22*Q22+R22*S22+T22*U22+X22*Y22+Z22*AA22)/(F22+H22+J22+L22+N22+P22+R22+T22+X22+Z22) -> 39.410514
A23: Үчтүн айы 1997 ж. | B23: Январь 1997 г. | C23: January 1997 | D23: 227595.1 | E23: 51.037117 | F23: 10634.6 | G23: 43.61 | H23: 6003.7 | I23: 16.38 | J23: 1953 | K23: 62.4 | L23: 60 | M23: 65 | N23: 64011 | O23: 42.65 | P23: 1704 | Q23: 29.69 | R23: 16202 | S23: 39.22 | V23: 69245.8 | W23: 63.93 | Z23: 57781 | AA23: 53.39 | AC23: =(F23*G23+H23*I23+J23*K23+L23*M23+N23*O23+P23*Q23+R23*S23+T23*U23+X23*Y23+Z23*AA23)/(F23+H23+J23+L23+N23+P23+R23+T23+X23+Z23) -> 45.399087
A24: Бирдин айы | B24: Февраль | C24: February | D24: 238342.6 | E24: 53.372458 | F24: 9485.6 | G24: 45.74 | H24: 7737.7 | I24: 30.52 | J24: 3552 | K24: 26.55 | L24: 60 | M24: 65 | N24: 63621.9 | O24: 42.68 | P24: 3328 | Q24: 45.25 | R24: 14181 | S24: 40.03 | V24: 85679.5 | W24: 68.43 | Z24: 50696.9 | AA24: 52.39 | AC24: =(F24*G24+H24*I24+J24*K24+L24*M24+N24*O24+P24*Q24+R24*S24+T24*U24+X24*Y24+Z24*AA24)/(F24+H24+J24+L24+N24+P24+R24+T24+X24+Z24) -> 44.921676
A25: Жалган куран | B25: Март | C25: March | D25: 257226.1 | E25: 55.746446 | F25: 9864 | G25: 49.01 | H25: 7488.7 | I25: 30.62 | J25: 3471 | K25: 39.84 | L25: 4522 | M25: 11.91 | N25: 61819 | O25: 53.33 | P25: 1284 | Q25: 22.04 | R25: 14246 | S25: 38.56 | V25: 103804 | W25: 66.31 | Z25: 50727.4 | AA25: 52.77 | AC25: =(F25*G25+H25*I25+J25*K25+L25*M25+N25*O25+P25*Q25+R25*S25+T25*U25+X25*Y25+Z25*AA25)/(F25+H25+J25+L25+N25+P25+R25+T25+X25+Z25) -> 48.599241
A26: Чын куран | B26: Апрель | C26: April | D26: 264852.1 | E26: 57.792919 | F26: 10279 | G26: 50.04 | H26: 6933.7 | I26: 32.67 | J26: 3558 | K26: 40.12 | L26: 60 | M26: 65 | N26: 66460 | O26: 47.82 | P26: 1254 | Q26: 22.57 | R26: 13077 | S26: 32.86 | V26: 104475.4 | W26: 68.05 | Z26: 58755 | AA26: 62.52 | AC26: =(F26*G26+H26*I26+J26*K26+L26*M26+N26*O26+P26*Q26+R26*S26+T26*U26+X26*Y26+Z26*AA26)/(F26+H26+J26+L26+N26+P26+R26+T26+X26+Z26) -> 51.111071
A27: Бугу | B27: Май | C27: May | D27: 295872 | E27: 62.132553 | F27: 11618 | G27: 54.17 | H27: 7489.7 | I27: 34.79 | J27: 3684 | K27: 50.5 | L27: 60 | M27: 65 | N27: 82555 | O27: 49.14 | P27: 754 | Q27: 1.06 | R27: 11254 | S27: 37.51 | V27: 122448.3 | W27: 76.19 | Z27: 56009 | AA27: 62.39 | AC27: =(F27*G27+H27*I27+J27*K27+L27*M27+N27*O27+P27*Q27+R27*S27+T27*U27+X27*Y27+Z27*AA27)/(F27+H27+J27+L27+N27+P27+R27+T27+X27+Z27) -> 52.20709
A28: Кулжа | B28: Июнь | C28: June | D28: 314010.4 | E28: 59.179754 | F28: 16964.3 | G28: 54.53 | H28: 7760.7 | I28: 36.26 | J28: 3221 | K28: 53.96 | L28: 60 | M28: 65 | N28: 88878.8 | O28: 49.49 | P28: 749 | Q28: 1.07 | R28: 7821.6 | S28: 37.76 | V28: 115336.7 | W28: 61.45 | Z28: 73218.3 | AA28: 73.98 | AC28: =(F28*G28+H28*I28+J28*K28+L28*M28+N28*O28+P28*Q28+R28*S28+T28*U28+X28*Y28+Z28*AA28)/(F28+H28+J28+L28+N28+P28+R28+T28+X28+Z28) -> 57.861801
A29: Теке | B29: Июль | C29: July | D29: 352920 | E29: 58.557473 | F29: 15647.9 | G29: 53.99 | H29: 7688.7 | I29: 34.88 | J29: 2839 | K29: 52.36 | L29: 60 | M29: 65 | N29: 85419 | O29: 51.3 | P29: 743 | Q29: 0.81 | R29: 6141.6 | S29: 34.19 | V29: 123659.3 | W29: 55.29 | Z29: 110721.5 | AA29: 71.99 | AC29: =(F29*G29+H29*I29+J29*K29+L29*M29+N29*O29+P29*Q29+R29*S29+T29*U29+X29*Y29+Z29*AA29)/(F29+H29+J29+L29+N29+P29+R29+T29+X29+Z29) -> 60.319892
A30: Баш оона | B30: Август | C30: August | D30: 350106.9 | E30: 58.551146 | F30: 17077.6 | G30: 52.95 | H30: 8405.7 | I30: 35.97 | J30: 3150 | K30: 56.25 | L30: 60 | M30: 65 | N30: 86269.5 | O30: 50.5 | P30: 740.5 | Q30: 0.81 | R30: 5975 | S30: 33.1 | V30: 102433 | W30: 66.03 | Z30: 125995.6 | AA30: 61.85 | AC30: =(F30*G30+H30*I30+J30*K30+L30*M30+N30*O30+P30*Q30+R30*S30+T30*U30+X30*Y30+Z30*AA30)/(F30+H30+J30+L30+N30+P30+R30+T30+X30+Z30) -> 55.458041
A31: Аяк оона | B31: Сентябрь | C31: September | D31: 343932.5 | E31: 58.897177 | F31: 16108.6 | G31: 53.34 | H31: 10386.7 | I31: 41.06 | J31: 2708 | K31: 53.86 | N31: 86360.2 | O31: 50.49 | P31: 737.5 | Q31: 0.68 | R31: 6265 | S31: 35.22 | V31: 83006.1 | W31: 58.65 | Z31: 138360.4 | AA31: 67.76 | AC31: =(F31*G31+H31*I31+J31*K31+L31*M31+N31*O31+P31*Q31+R31*S31+T31*U31+X31*Y31+Z31*AA31)/(F31+H31+J31+L31+N31+P31+R31+T31+X31+Z31) -> 58.975809
A32: Тогуздун айы | B32: Октябрь | C32: October | D32: 365774.8 | E32: 57.584705 | F32: 15899.6 | G32: 53.63 | H32: 10745.7 | I32: 42.54 | J32: 2800 | K32: 53.03 | N32: 83601.4 | O32: 49.42 | P32: 733 | Q32: 0 | R32: 6101 | S32: 33.68 | V32: 97370.3 | W32: 56.31 | Z32: 148523.8 | AA32: 65.88 | AC32: =(F32*G32+H32*I32+J32*K32+L32*M32+N32*O32+P32*Q32+R32*S32+T32*U32+X32*Y32+Z32*AA32)/(F32+H32+J32+L32+N32+P32+R32+T32+X32+Z32) -> 58.047136
A33: Жетинин айы | B33: Ноябрь | C33: November | D33: 386120.8 | E33: 59.512619 | F33: 18724.8 | G33: 52.56 | H33: 11347 | I33: 42.99 | J33: 3407 | K33: 54.57 | N33: 85030.9 | O33: 51.17 | P33: 732.5 | Q33: 0 | R33: 6110 | S33: 30.57 | V33: 85274.6 | W33: 57.86 | Z33: 175494 | AA33: 67.52 | AC33: =(F33*G33+H33*I33+J33*K33+L33*M33+N33*O33+P33*Q33+R33*S33+T33*U33+X33*Y33+Z33*AA33)/(F33+H33+J33+L33+N33+P33+R33+T33+X33+Z33) -> 59.981053
A34: Бештин айы | B34: Декабрь | C34: December | D34: 476350.6 | E34: 58.030651 | F34: 26923.7 | G34: 50.27 | H34: 8445 | I34: 52.55 | J34: 5246.2 | K34: 58 | N34: 81488.2 | O34: 49.25 | P34: 661.9 | Q34: 0 | R34: 7120.5 | S34: 35.13 | V34: 96879.3 | W34: 58.18 | Z34: 249585.8 | AA34: 62.67 | AC34: =(F34*G34+H34*I34+J34*K34+L34*M34+N34*O34+P34*Q34+R34*S34+T34*U34+X34*Y34+Z34*AA34)/(F34+H34+J34+L34+N34+P34+R34+T34+X34+Z34) -> 57.992522
A35: Үчтүн айы 1998 ж. | B35: Январь 1998 г. | C35: January 1998 | D35: 503498.5 | E35: 55.879025 | F35: 29444.4 | G35: 51.2 | H35: 7313 | I35: 54.64 | J35: 10976.9 | K35: 55.67 | N35: 92504.5 | O35: 46.81 | P35: 661.9 | Q35: 0 | R35: 6223 | S35: 36.88 | V35: 83851.5 | W35: 55.21 | Z35: 272523.3 | AA35: 60.28 | AC35: =(F35*G35+H35*I35+J35*K35+L35*M35+N35*O35+P35*Q35+R35*S35+T35*U35+X35*Y35+Z35*AA35)/(F35+H35+J35+L35+N35+P35+R35+T35+X35+Z35) -> 56.012706
A36: Бирдин айы | B36: Февраль | C36: February | D36: 539953 | E36: 53.539028 | F36: 27147.7 | G36: 51.65 | H36: 7137 | I36: 57.18 | J36: 10933.9 | K36: 51.27 | N36: 115059.4 | O36: 46.44 | P36: 3310.8 | Q36: 32 | R36: 6411 | S36: 47.7 | V36: 90690.5 | W36: 52.87 | Z36: 279262.7 | AA36: 57.25 | AC36: =(F36*G36+H36*I36+J36*K36+L36*M36+N36*O36+P36*Q36+R36*S36+T36*U36+X36*Y36+Z36*AA36)/(F36+H36+J36+L36+N36+P36+R36+T36+X36+Z36) -> 53.674081
A37: Жалган куран | B37: Март | C37: March | D37: 578964.2 | E37: 52.803813 | F37: 27620.7 | G37: 50.45 | H37: 7030 | I37: 56.83 | J37: 7618 | K37: 57.16 | L37: 1248.1 | M37: 55 | N37: 126922.1 | O37: 43.18 | P37: 661.9 | Q37: 0 | R37: 7311 | S37: 47.42 | V37: 97774 | W37: 51.46 | Z37: 302778.4 | AA37: 57.52 | AC37: =(F37*G37+H37*I37+J37*K37+L37*M37+N37*O37+P37*Q37+R37*S37+T37*U37+X37*Y37+Z37*AA37)/(F37+H37+J37+L37+N37+P37+R37+T37+X37+Z37) -> 53.076865
A38: Чын куран | B38: Апрель | C38: April | D38: 665764.6 | E38: 52.280209 | F38: 61459.7 | G38: 53.3 | H38: 12841 | I38: 45.1 | J38: 7068 | K38: 56.62 | N38: 280591.2 | O38: 53.83 | P38: 756.9 | Q38: 7.93 | R38: 6774 | S38: 46.34 | V38: 108335 | W38: 50.62 | Z38: 187938.8 | AA38: 51.31 | AC38: =(F38*G38+H38*I38+J38*K38+L38*M38+N38*O38+P38*Q38+R38*S38+T38*U38+X38*Y38+Z38*AA38)/(F38+H38+J38+L38+N38+P38+R38+T38+X38+Z38) -> 52.602866
A39: Бугу | B39: Май | C39: May | D39: 726441.7 | E39: 50.502178 | F39: 63768.4 | G39: 54.86 | H39: 8749 | I39: 55.44 | J39: 6026 | K39: 53.94 | N39: 348388.8 | O39: 53.29 | P39: 756.9 | Q39: 7.93 | R39: 7309 | S39: 51.34 | V39: 117177.9 | W39: 49.68 | Z39: 174265.7 | AA39: 43.67 | AC39: =(F39*G39+H39*I39+J39*K39+L39*M39+N39*O39+P39*Q39+R39*S39+T39*U39+X39*Y39+Z39*AA39)/(F39+H39+J39+L39+N39+P39+R39+T39+X39+Z39) -> 50.660305
A40: Кулжа | B40: Июнь | C40: June | D40: 700036.6 | E40: 50.503066 | F40: 81475.9 | G40: 53.02 | H40: 9109.7 | I40: 55.69 | J40: 7388 | K40: 59.3 | N40: 341790.6 | O40: 53.36 | P40: 2301.3 | Q40: 36.16 | R40: 6670 | S40: 43.12 | V40: 112325.6 | W40: 50.25 | Z40: 138975.5 | AA40: 41.99 | AC40: =(F40*G40+H40*I40+J40*K40+L40*M40+N40*O40+P40*Q40+R40*S40+T40*U40+X40*Y40+Z40*AA40)/(F40+H40+J40+L40+N40+P40+R40+T40+X40+Z40) -> 50.551432
A41: Теке | B41: Июль | C41: July | D41: 716279.9 | E41: 51.040459 | F41: 80138 | G41: 55.8 | H41: 15542.8 | I41: 43.43 | J41: 5651 | K41: 57.86 | N41: 345806.3 | O41: 53.89 | P41: 3625 | Q41: 37.57 | R41: 10194.9 | S41: 47.01 | V41: 118914.4 | W41: 49.6 | Z41: 136407.5 | AA41: 43.52 | AC41: =(F41*G41+H41*I41+J41*K41+L41*M41+N41*O41+P41*Q41+R41*S41+T41*U41+X41*Y41+Z41*AA41)/(F41+H41+J41+L41+N41+P41+R41+T41+X41+Z41) -> 51.327203
A42: Баш оона | B42: Август | C42: August | D42: 686504.2 | E42: 49.295267 | F42: 73991 | G42: 54.65 | H42: 13005.8 | I42: 54.27 | J42: 5680 | K42: 58.68 | N42: 314118.2 | O42: 49.62 | P42: 3725 | Q42: 38.17 | R42: 9298.3 | S42: 46.94 | V42: 124903.5 | W42: 48.95 | Z42: 141782.4 | AA42: 45.7 | AC42: =(F42*G42+H42*I42+J42*K42+L42*M42+N42*O42+P42*Q42+R42*S42+T42*U42+X42*Y42+Z42*AA42)/(F42+H42+J42+L42+N42+P42+R42+T42+X42+Z42) -> 49.372057
...

Sheet 4. отрасли_ин вал
A2: 4-таблица. Тармактар боюнча чет өлкө валютасындагы кредиттер жана кредиттердин орточо салмактанып алынган пайыздык чендери (бир мезгилдин акырына карата) | B2: Таблица 4. Общий объем и средневзвешенные процентные ставки кредитов в разрезе отраслей в иностранной валюте (на конец периода) | C2: Table 4. Total volume and average weighted interest rates of credits by sectors in Foreign currency (the end of period)
A4: (миң сом / пайыздар) | B4: (тыс. сомов / проценты) | C4: (ths of soms / percent)
A5: Мезгил аралыгы | B5: Период | C5: Period | D5: Жалпы чет өлкө валютасында | F5: Өнөр жайы | H5: Айыл чарбасы | J5: Транспорт | L5: Байланыш | N5: Cоода | P5: Даярдоо жана кайра иштетүү ишканалары | R5: Курулуш | T5: Ипотека | V5: Керектөө кредиттери | X5: Социалдык кызмат көрсөтүүлөр | Z5: Жана башкалаp | AC5: Керектөө кредиттерин эске албагандагы орточо салмактанып алынган чендер
D6: Итого в ин. валюте | F6: Промышленность | H6: Сельское хоз-во | J6: Транспорт | L6: Связь | N6: Торговля и коммерческие операции | P6: Заготовка и переработка | R6: Строительство | T6: Ипотека | V6: Потребительские кредиты | X6: Социальные услуги | Z6: Прочие
D7: Total in Foreign currency | F7: Industry | H7: Agriculture | J7: Transport | L7: Communication | N7: Trade | P7: Procurement and processing | R7: Construction | T7: Mortgage | V7: Consumer loans | X7: Social services | Z7: Others | AC7: Средневзв. ставка без учета потребительских кредитов
D8: көлөм | E8: орточо салмактанып алынган чендер | F8: көлөм | G8: орточо салмактанып алынган чендер | H8: көлөм | I8: орточо салмактанып алынган чендер | J8: көлөм | K8: орточо салмактанып алынган чендер | L8: көлөм | M8: орточо салмактанып алынган чендер | N8: көлөм | O8: орточо салмактанып алынган чендер | P8: көлөм | Q8: орточо салмактанып алынган чендер | R8: көлөм | S8: орточо салмактанып алынган чендер | T8: көлөм | U8: орточо салмактанып алынган чендер | V8: көлөм | W8: орточо салмактанып алынган чендер | X8: көлөм | Y8: орточо салмактанып алынган чендер | Z8: көлөм | AA8: орточо салмактанып алынган чендер
D9: объем | E9: средневзв. ставка | F9: объем | G9: средневзв. ставка | H9: объем | I9: средневзв. ставка | J9: объем | K9: средневзв. ставка | L9: объем | M9: средневзв. ставка | N9: объем | O9: средневзв. ставка | P9: объем | Q9: средневзв. ставка | R9: объем | S9: средневзв. ставка | T9: объем | U9: средневзв. ставка | V9: объем | W9: средневзв. ставка | X9: объем | Y9: средневзв. ставка | Z9: объем | AA9: средневзв. ставка | AC9: Average weighted interest rate excluding consumer loans
D10: volume | E10: average weighted interest rate | F10: volume | G10: average weighted interest rate | H10: volume | I10: average weighted interest rate | J10: volume | K10: average weighted interest rate | L10: volume | M10: average weighted interest rate | N10: volume | O10: average weighted interest rate | P10: volume | Q10: average weighted interest rate | R10: volume | S10: average weighted interest rate | T10: volume | U10: average weighted interest rate | V10: volume | W10: average weighted interest rate | X10: volume | Y10: average weighted interest rate | Z10: volume | AA10: average weighted interest rate
A11: Үчтүн айы 1996 ж. | B11: Январь 1996 г. | C11: January 1996 | D11: 48183.2 | E11: 42.721718 | F11: 3510 | G11: 23.272792 | N11: 9197.2 | O11: 35.513743 | V11: 6373 | W11: 54.157853 | Z11: 29103 | AA11: 44.840965 | AC11: =(F11*G11+H11*I11+J11*K11+L11*M11+N11*O11+P11*Q11+R11*S11+T11*U11+X11*Y11+Z11*AA11)/(F11+H11+J11+L11+N11+P11+R11+T11+X11+Z11) -> 40.978544
A12: Бирдин айы | B12: Февраль | C12: February | D12: 44898.2 | E12: 37.682677 | F12: 3576 | G12: 23.162752 | L12: 703 | M12: 12.3 | N12: 8633 | O12: 39.420595 | V12: 4582.2 | W12: 36.313452 | Z12: 27404 | AA12: 39.910012 | AC12: =(F12*G12+H12*I12+J12*K12+L12*M12+N12*O12+P12*Q12+R12*S12+T12*U12+X12*Y12+Z12*AA12)/(F12+H12+J12+L12+N12+P12+R12+T12+X12+Z12) -> 37.838299
A13: Жалган куран | B13: Март | C13: March | D13: 65213.5 | E13: 40.797804 | F13: 3594 | G13: 23.362938 | L13: 700 | M13: 12.3 | N13: 11699 | O13: 41.479357 | V13: 8298.7 | W13: 52.012888 | Z13: 40921.8 | AA13: 40.347317 | AC13: =(F13*G13+H13*I13+J13*K13+L13*M13+N13*O13+P13*Q13+R13*S13+T13*U13+X13*Y13+Z13*AA13)/(F13+H13+J13+L13+N13+P13+R13+T13+X13+Z13) -> 39.162542
A14: Чын куран | B14: Апрель | C14: April | D14: 72842.6 | E14: 43.225455 | F14: 3688 | G14: 23.129067 | L14: 718 | M14: 12.5 | N14: 19323.5 | O14: 38.916475 | V14: 7005.9 | W14: 58.29943 | Z14: 42107.2 | AA14: 44.978935 | AC14: =(F14*G14+H14*I14+J14*K14+L14*M14+N14*O14+P14*Q14+R14*S14+T14*U14+X14*Y14+Z14*AA14)/(F14+H14+J14+L14+N14+P14+R14+T14+X14+Z14) -> 41.621383
A15: Бугу | B15: Май | C15: May | D15: 77184.3 | E15: 48.012647 | F15: 3957 | G15: 23.12421 | L15: 1378 | M15: 12.5 | N15: 16410.8 | O15: 43.249019 | V15: 13184 | W15: 60.302937 | Z15: 42254.5 | AA15: 49.516859 | AC15: =(F15*G15+H15*I15+J15*K15+L15*M15+N15*O15+P15*Q15+R15*S15+T15*U15+X15*Y15+Z15*AA15)/(F15+H15+J15+L15+N15+P15+R15+T15+X15+Z15) -> 45.480859
A16: Кулжа | B16: Июнь | C16: June | D16: 84011.2 | E16: 49.568022 | F16: 3863 | G16: 23.129692 | L16: 1345 | M16: 12.5 | N16: 15329 | O16: 44.369691 | V16: 17376.8 | W16: 66.426172 | Z16: 46097.4 | AA16: 48.23893 | AC16: =(F16*G16+H16*I16+J16*K16+L16*M16+N16*O16+P16*Q16+R16*S16+T16*U16+X16*Y16+Z16*AA16)/(F16+H16+J16+L16+N16+P16+R16+T16+X16+Z16) -> 45.171784
A17: Теке | B17: Июль | C17: July | D17: 86555.2 | E17: 48.34743 | F17: 3862 | G17: 23.124029 | L17: 4251 | M17: 10.107386 | N17: 15329 | O17: 43.012721 | V17: 17611.1 | W17: 66.443292 | Z17: 45502.1 | AA17: 48.854196 | AC17: =(F17*G17+H17*I17+J17*K17+L17*M17+N17*O17+P17*Q17+R17*S17+T17*U17+X17*Y17+Z17*AA17)/(F17+H17+J17+L17+N17+P17+R17+T17+X17+Z17) -> 43.725018
A18: Баш оона | B18: Август | C18: August | D18: 85153.9 | E18: 45.312454 | F18: 6582 | G18: 11.052492 | H18: 43 | I18: 45 | J18: 3038 | K18: 9 | L18: 590 | M18: 12.5 | N18: 18117 | O18: 42.931556 | V18: 25976 | W18: 47.911811 | Z18: 30807.9 | AA18: 56.050056 | AC18: =(F18*G18+H18*I18+J18*K18+L18*M18+N18*O18+P18*Q18+R18*S18+T18*U18+X18*Y18+Z18*AA18)/(F18+H18+J18+L18+N18+P18+R18+T18+X18+Z18) -> 44.171473
A19: Аяк оона | B19: Сентябрь | C19: September | D19: 110290 | E19: 50.223743 | F19: 9268 | G19: 11.367825 | J19: 3312 | K19: 9 | L19: 644 | M19: 12 | N19: 19968 | O19: 41.225511 | V19: 20080 | W19: 46.689084 | Z19: 57018 | AA19: 63.761897 | AC19: =(F19*G19+H19*I19+J19*K19+L19*M19+N19*O19+P19*Q19+R19*S19+T19*U19+X19*Y19+Z19*AA19)/(F19+H19+J19+L19+N19+P19+R19+T19+X19+Z19) -> 51.010529
A20: Тогуздун айы | B20: Октябрь | C20: October | D20: 139434.5 | E20: 55.15149 | F20: 11148.4 | G20: 12.116358 | J20: 3850 | K20: 9 | L20: 748 | M20: 12.5 | N20: 19110.6 | O20: 40.415633 | V20: 7408.5 | W20: 35.601606 | Z20: 97169 | AA20: 66.634637 | AC20: =(F20*G20+H20*I20+J20*K20+L20*M20+N20*O20+P20*Q20+R20*S20+T20*U20+X20*Y20+Z20*AA20)/(F20+H20+J20+L20+N20+P20+R20+T20+X20+Z20) -> 56.248512
A21: Жетинин айы | B21: Ноябрь | C21: November | D21: 144701.7 | E21: 56.70138 | F21: 10334.7 | G21: 15.678288 | J21: 4087 | K21: 9 | N21: 22604.4 | O21: 43.309267 | V21: 9712.6 | W21: 29.560849 | Z21: 97963 | AA21: 68.800261 | AC21: =(F21*G21+H21*I21+J21*K21+L21*M21+N21*O21+P21*Q21+R21*S21+T21*U21+X21*Y21+Z21*AA21)/(F21+H21+J21+L21+N21+P21+R21+T21+X21+Z21) -> 58.654168
A22: Бештин айы | B22: Декабрь | C22: December | D22: 157052.3 | E22: 56.628306 | F22: 11528 | G22: 19.844813 | J22: 4175 | K22: 9 | L22: 450 | M22: 45 | N22: 27434 | O22: 41.911424 | V22: 9929.3 | W22: 40.004532 | Z22: 103536 | AA22: 68.188791 | AC22: =(F22*G22+H22*I22+J22*K22+L22*M22+N22*O22+P22*Q22+R22*S22+T22*U22+X22*Y22+Z22*AA22)/(F22+H22+J22+L22+N22+P22+R22+T22+X22+Z22) -> 57.750241
A23: Үчтүн айы 1997 ж. | B23: Январь 1997 г. | C23: January 1997 | D23: 176134.5 | E23: 55.348819 | F23: 15702 | G23: 22.17 | H23: 2220 | I23: 60 | J23: 4287 | K23: 9 | N23: 35784.6 | O23: 41 | R23: 3526 | S23: 12.6 | V23: 10290.9 | W23: 42.93 | Z23: 104324 | AA23: 69.74 | AC23: =(F23*G23+H23*I23+J23*K23+L23*M23+N23*O23+P23*Q23+R23*S23+T23*U23+X23*Y23+Z23*AA23)/(F23+H23+J23+L23+N23+P23+R23+T23+X23+Z23) -> 56.11943
A24: Бирдин айы | B24: Февраль | C24: February | D24: 182584.3 | E24: 51.240578 | F24: 17994 | G24: 20.54 | J24: 4304 | K24: 9 | N24: 37211.8 | O24: 41.76 | R24: 6886 | S24: 12.6 | V24: 83312.5 | W24: 73.05 | Z24: 32876 | AA24: 37.13 | AC24: =(F24*G24+H24*I24+J24*K24+L24*M24+N24*O24+P24*Q24+R24*S24+T24*U24+X24*Y24+Z24*AA24)/(F24+H24+J24+L24+N24+P24+R24+T24+X24+Z24) -> 32.93732
A25: Жалган куран | B25: Март | C25: March | D25: 208492 | E25: 51.166285 | F25: 21414 | G25: 19.04 | J25: 4410 | K25: 9 | N25: 41530 | O25: 43.54 | R25: 7769 | S25: 15.21 | V25: 67999 | W25: 72.04 | Z25: 65370 | AA25: 51.94 | AC25: =(F25*G25+H25*I25+J25*K25+L25*M25+N25*O25+P25*Q25+R25*S25+T25*U25+X25*Y25+Z25*AA25)/(F25+H25+J25+L25+N25+P25+R25+T25+X25+Z25) -> 41.063349
A26: Чын куран | B26: Апрель | C26: April | D26: 224503.9 | E26: 51.331126 | F26: 22498 | G26: 17.53 | J26: 4415 | K26: 9 | N26: 40719 | O26: 44.35 | R26: 7776 | S26: 15.85 | V26: 59834.2 | W26: 61.52 | Z26: 89261.7 | AA26: 61.39 | AC26: =(F26*G26+H26*I26+J26*K26+L26*M26+N26*O26+P26*Q26+R26*S26+T26*U26+X26*Y26+Z26*AA26)/(F26+H26+J26+L26+N26+P26+R26+T26+X26+Z26) -> 47.628908
A27: Бугу | B27: Май | C27: May | D27: 253169.3 | E27: 49.746999 | F27: 24141 | G27: 21.24 | J27: 5866 | K27: 20.36 | N27: 40819 | O27: 42.09 | R27: 9438 | S27: 21.28 | V27: 59651.3 | W27: 59.9 | Z27: 113254 | AA27: 57.13 | AC27: =(F27*G27+H27*I27+J27*K27+L27*M27+N27*O27+P27*Q27+R27*S27+T27*U27+X27*Y27+Z27*AA27)/(F27+H27+J27+L27+N27+P27+R27+T27+X27+Z27) -> 46.617369
A28: Кулжа | B28: Июнь | C28: June | D28: 276075.3 | E28: 49.270764 | F28: 24698.8 | G28: 21.13 | J28: 21210 | K28: 23.14 | N28: 35842.5 | O28: 42.3 | R28: 9250 | S28: 21.4 | V28: 59252 | W28: 56.5 | Z28: 125822 | AA28: 59.83 | AC28: =(F28*G28+H28*I28+J28*K28+L28*M28+N28*O28+P28*Q28+R28*S28+T28*U28+X28*Y28+Z28*AA28)/(F28+H28+J28+L28+N28+P28+R28+T28+X28+Z28) -> 47.295208
A29: Теке | B29: Июль | C29: July | D29: 309629.5 | E29: 38.627671 | F29: 25118 | G29: 16.57 | H29: 864 | I29: 60 | J29: 19268 | K29: 20.21 | N29: 43431.4 | O29: 41.38 | R29: 13010 | S29: 25.67 | V29: 63395.1 | W29: 53.67 | Z29: 144543 | AA29: 38.53 | AC29: =(F29*G29+H29*I29+J29*K29+L29*M29+N29*O29+P29*Q29+R29*S29+T29*U29+X29*Y29+Z29*AA29)/(F29+H29+J29+L29+N29+P29+R29+T29+X29+Z29) -> 34.754898
A30: Баш оона | B30: Август | C30: August | D30: 350195.6 | E30: 40.864053 | F30: 24262.2 | G30: 15.23 | H30: 1305 | I30: 42.57 | J30: 18300 | K30: 18.84 | N30: 46750.6 | O30: 41.63 | R30: 12885 | S30: 25.6 | V30: 59535.8 | W30: 52.71 | Z30: 187157 | AA30: 43.42 | AC30: =(F30*G30+H30*I30+J30*K30+L30*M30+N30*O30+P30*Q30+R30*S30+T30*U30+X30*Y30+Z30*AA30)/(F30+H30+J30+L30+N30+P30+R30+T30+X30+Z30) -> 38.43765
A31: Аяк оона | B31: Сентябрь | C31: September | D31: 393386.2 | E31: 45.029346 | F31: 26530.9 | G31: 16.86 | H31: 277 | I31: 9 | J31: 15000.8 | K31: 15.72 | N31: 58335.7 | O31: 41.09 | R31: 14613.9 | S31: 25 | V31: 43037.2 | W31: 53.23 | Z31: 235590.7 | AA31: 50.83 | AC31: =(F31*G31+H31*I31+J31*K31+L31*M31+N31*O31+P31*Q31+R31*S31+T31*U31+X31*Y31+Z31*AA31)/(F31+H31+J31+L31+N31+P31+R31+T31+X31+Z31) -> 44.02197
A32: Тогуздун айы | B32: Октябрь | C32: October | D32: 416218.5 | E32: 44.450782 | F32: 25916.7 | G32: 21.47 | H32: 278 | I32: 15 | J32: 15516 | K32: 17.84 | N32: 55277 | O32: 40.3 | R32: 7840.6 | S32: 36.44 | V32: 49807.2 | W32: 51.25 | Z32: 261583 | AA32: 48.16 | AC32: =(F32*G32+H32*I32+J32*K32+L32*M32+N32*O32+P32*Q32+R32*S32+T32*U32+X32*Y32+Z32*AA32)/(F32+H32+J32+L32+N32+P32+R32+T32+X32+Z32) -> 43.526547
A33: Жетинин айы | B33: Ноябрь | C33: November | D33: 459747.2 | E33: 47.557815 | F33: 27435.3 | G33: 20.89 | H33: 300 | I33: 15 | J33: 15394.4 | K33: 19.17 | N33: 81125.1 | O33: 39.25 | R33: 8742.6 | S33: 36.75 | V33: 55957.8 | W33: 50.11 | Z33: 270792 | AA33: 54.22 | AC33: =(F33*G33+H33*I33+J33*K33+L33*M33+N33*O33+P33*Q33+R33*S33+T33*U33+X33*Y33+Z33*AA33)/(F33+H33+J33+L33+N33+P33+R33+T33+X33+Z33) -> 47.204129
A34: Бештин айы | B34: Декабрь | C34: December | D34: 524598 | E34: 46.346895 | F34: 31863.4 | G34: 23.87 | H34: 434 | I34: 15 | J34: 29092.1 | K34: 27.5 | N34: 79439.7 | O34: 40 | R34: 17805 | S34: 29.58 | V34: 104430.8 | W34: 49.36 | Z34: 261533 | AA34: 53.1 | AC34: =(F34*G34+H34*I34+J34*K34+L34*M34+N34*O34+P34*Q34+R34*S34+T34*U34+X34*Y34+Z34*AA34)/(F34+H34+J34+L34+N34+P34+R34+T34+X34+Z34) -> 45.598001
A35: Үчтүн айы 1998 ж. | B35: Январь 1998 г. | C35: January 1998 | D35: 564093 | E35: 43.365182 | F35: 30527.6 | G35: 22.98 | H35: 446 | I35: 15 | J35: 25997.9 | K35: 24.42 | N35: 78252.3 | O35: 37.92 | R35: 19693.6 | S35: 29.44 | V35: 104071.6 | W35: 46.08 | Z35: 305104 | AA35: 48.43 | AC35: =(F35*G35+H35*I35+J35*K35+L35*M35+N35*O35+P35*Q35+R35*S35+T35*U35+X35*Y35+Z35*AA35)/(F35+H35+J35+L35+N35+P35+R35+T35+X35+Z35) -> 42.751004
A36: Бирдин айы | B36: Февраль | C36: February | D36: 626792.1 | E36: 43.301114 | F36: 31073.7 | G36: 23.54 | H36: 5387 | I36: 28.77 | J36: 20498 | K36: 21.25 | N36: 87381.5 | O36: 39.3 | P36: 1324.4 | Q36: 40 | R36: 22599.8 | S36: 30.93 | V36: 105721.4 | W36: 52.68 | Z36: 352806.3 | AA36: 45.53 | AC36: =(F36*G36+H36*I36+J36*K36+L36*M36+N36*O36+P36*Q36+R36*S36+T36*U36+X36*Y36+Z36*AA36)/(F36+H36+J36+L36+N36+P36+R36+T36+X36+Z36) -> 41.398208
A37: Жалган куран | B37: Март | C37: March | D37: 720630.9 | E37: 42.279648 | F37: 36504.9 | G37: 23.84 | H37: 5687 | I37: 28.9 | J37: 14128 | K37: 16.37 | N37: 87080.6 | O37: 37.15 | P37: 4061.3 | Q37: 40 | R37: 29455.1 | S37: 28.64 | V37: 120344 | W37: 51.25 | Z37: 423370 | AA37: 44.39 | AC37: =(F37*G37+H37*I37+J37*K37+L37*M37+N37*O37+P37*Q37+R37*S37+T37*U37+X37*Y37+Z37*AA37)/(F37+H37+J37+L37+N37+P37+R37+T37+X37+Z37) -> 40.481295
A38: Чын куран | B38: Апрель | C38: April | D38: 779274.8 | E38: 38.851681 | F38: 48623.6 | G38: 23.31 | H38: 1001.6 | I38: 24.2 | J38: 17381 | K38: 22.56 | N38: 333494 | O38: 50.7 | P38: 4712.3 | Q38: 40 | R38: 59391 | S38: 23.61 | V38: 124993.7 | W38: 40.7 | Z38: 189677.6 | AA38: 27.1 | AC38: =(F38*G38+H38*I38+J38*K38+L38*M38+N38*O38+P38*Q38+R38*S38+T38*U38+X38*Y38+Z38*AA38)/(F38+H38+J38+L38+N38+P38+R38+T38+X38+Z38) -> 38.498579
A39: Бугу | B39: Май | C39: May | D39: 850670 | E39: 37.20399 | F39: 52067.2 | G39: 22.82 | H39: 7023 | I39: 29.55 | J39: 18176 | K39: 21.97 | L39: 996 | M39: 40 | N39: 326264.6 | O39: 47.66 | P39: 1992 | Q39: 40 | R39: 78563.2 | S39: 23.48 | V39: 143936.1 | W39: 41.27 | Z39: 221651.9 | AA39: 28.87 | AC39: =(F39*G39+H39*I39+J39*K39+L39*M39+N39*O39+P39*Q39+R39*S39+T39*U39+X39*Y39+Z39*AA39)/(F39+H39+J39+L39+N39+P39+R39+T39+X39+Z39) -> 36.375891
A40: Кулжа | B40: Июнь | C40: June | D40: 825282.5 | E40: 36.711833 | F40: 54812.9 | G40: 24.91 | H40: 6326 | I40: 28.84 | J40: 14421 | K40: 18.19 | L40: 957.5 | M40: 40 | N40: 316754.4 | O40: 47.23 | P40: 1604.3 | Q40: 40 | R40: 73858.3 | S40: 22.02 | V40: 147942.1 | W40: 40.79 | Z40: 208606 | AA40: 27.63 | AC40: =(F40*G40+H40*I40+J40*K40+L40*M40+N40*O40+P40*Q40+R40*S40+T40*U40+X40*Y40+Z40*AA40)/(F40+H40+J40+L40+N40+P40+R40+T40+X40+Z40) -> 35.821095
A41: Теке | B41: Июль | C41: July | D41: 833067.1 | E41: 36.760628 | F41: 61759.9 | G41: 25.87 | H41: 974 | I41: 22.5 | J41: 21489 | K41: 21.9 | L41: 1948.1 | M41: 40 | N41: 301168.7 | O41: 47.55 | R41: 78099.5 | S41: 22.93 | V41: 154516.4 | W41: 41.88 | Z41: 213111.5 | AA41: 27.56 | AC41: =(F41*G41+H41*I41+J41*K41+L41*M41+N41*O41+P41*Q41+R41*S41+T41*U41+X41*Y41+Z41*AA41)/(F41+H41+J41+L41+N41+P41+R41+T41+X41+Z41) -> 35.594868
A42: Баш оона | B42: Август | C42: August | D42: 892081.7 | E42: 37.602609 | F42: 61985.6 | G42: 25.66 | H42: 1938 | I42: 31.77 | J42: 22026.8 | K42: 21.8 | L42: 3571.4 | M42: 44.44 | N42: 322627.8 | O42: 48.2 | R42: 80567 | S42: 23.15 | V42: 131648.4 | W42: 45.04 | Z42: 267716.7 | AA42: 29.54 | AC42: =(F42*G42+H42*I42+J42*K42+L42*M42+N42*O42+P42*Q42+R42*S42+T42*U42+X42*Y42+Z42*AA42)/(F42+H42+J42+L42+N42+P42+R42+T42+X42+Z42) -> 36.315026
...

Sheet 5. сроки_общ
A2: 5-таблица. Мөөнөттөр боюнча кредиттер жана кредиттердин орточо салмактанып алынган пайыздык чендери (бир мезгилдин акырына карата) | B2: Таблица 5. Общий объем и средневзвешенные процентные ставки кредитов в разрезе срочностей (на конец периода) | C2: Table 5. Total volume and average weighted interest rates of credits by maturity (the end of period)
A4: (миң сом / пайыздар) | B4: (тыс. сомов / проценты) | C4: (ths of soms / percent)
A5: Мезгил аралыгы | B5: Период | C5: Period | D5: Жалпы улуттук валютада жана чет өлкө валютасында | F5: 0 - 1 айга | H5: 1 - 3 айга | J5: 3 - 6 айга | L5: 6 - 12 айга | N5: 1 - 3 жыл | P5: 3 жылдан ашкан мөөнөткө | R5: мөөнөтүндө төлөнбөгөн кредиттер | U5: Кыска мөөнөттү кредиттер | W5: Узак мөөнөттү кредиттер
D6: Итого в нац. и ин. валюте | F6: 0 - 1 месяца | H6: 1 - 3 месяца | J6: 3 - 6 месяцев | L6: 6 - 12 месяцев | N6: 1 - 3 года | P6: более 3 лет | R6: просроч. задол. | U6: Краткосрочные кредиты | W6: Долгосрочные кредиты
D7: Total in National and Foreign currencies | F7: 0 - 1 month | H7: 1 - 3 months | J7: 3 - 6 months | L7: 6 - 12 months | N7: 1 - 3 years | P7: more than 3 years | R7: overdue credits | U7: Short-maturity credits | W7: Long-maturity credits
D8: көлөм | E8: орточо салмактанып алынган чендер | F8: көлөм | G8: орточо салмактанып алынган чендер | H8: көлөм | I8: орточо салмактанып алынган чендер | J8: көлөм | K8: орточо салмактанып алынган чендер | L8: көлөм | M8: орточо салмактанып алынган чендер | N8: көлөм | O8: орточо салмактанып алынган чендер | P8: көлөм | Q8: орточо салмактанып алынган чендер | R8: көлөм | S8: орточо салмактанып алынган чендер | U8: көлөм | V8: орточо салмактанып алынган чендер | W8: көлөм | X8: орточо салмактанып алынган чендер
D9: объем | E9: средневзв. ставка | F9: объем | G9: средневзв. ставка | H9: объем | I9: средневзв. ставка | J9: объем | K9: средневзв. ставка | L9: объем | M9: средневзв. ставка | N9: объем | O9: средневзв. ставка | P9: объем | Q9: средневзв. ставка | R9: объем | S9: средневзв. ставка | U9: объем | V9: средневзв. ставка | W9: объем | X9: средневзв. ставка
D10: volume | E10: average weighted interest rate | F10: volume | G10: average weighted interest rate | H10: volume | I10: average weighted interest rate | J10: volume | K10: average weighted interest rate | L10: volume | M10: average weighted interest rate | N10: volume | O10: average weighted interest rate | P10: volume | Q10: average weighted interest rate | R10: volume | S10: average weighted interest rate | U10: volume | V10: average weighted interest rate | W10: volume | X10: average weighted interest rate
A11: Үчтүн айы 1996 ж. | B11: Январь 1996 г. | C11: January 1996 | D11: ='6. сроки_нац вал'!D11+'7. сроки_ин вал'!D14 -> 1047254.1 | E11: 25.649741 | F11: 13010 | G11: 54.73051 | H11: 308174.7 | I11: 49.618872 | J11: 98974.8 | K11: 63.165822 | L11: 35303 | M11: 56.78976 | N11: 520527.3 | O11: 4.9550077 | P11: 71264.3 | Q11: 0.31804143 | U11: =F11+H11+J11+L11 -> 455462.5 | V11: =(F11*G11+H11*I11+J11*K11+L11*M11)/(F11+H11+J11+L11) -> 53.264536 | W11: =N11+P11 -> 591791.6 | X11: =(N11*O11+P11*Q11)/(N11+P11) -> 4.3966183
A12: Бирдин айы | B12: Февраль | C12: February | D12: 1047687.4 | E12: 26.379245 | F12: 9186.5 | G12: 40.069134 | H12: 300854.7 | I12: 51.611984 | J12: 106978.8 | K12: 58.06232 | L12: 44767 | M12: 63.293394 | N12: 514937.5 | O12: 5.1920856 | P12: 70962.9 | Q12: 0.32123828 | U12: =F12+H12+J12+L12 -> 461787 | V12: =(F12*G12+H12*I12+J12*K12+L12*M12)/(F12+H12+J12+L12) -> 54.00909 | W12: =N12+P12 -> 585900.4 | X12: =(N12*O12+P12*Q12)/(N12+P12) -> 4.6021398
A13: Жалган куран | B13: Март | C13: March | D13: 1081388.7 | E13: 25.007032 | F13: 25622 | G13: 41.933502 | H13: 293811.2 | I13: 44.426223 | J13: 120176.9 | K13: 58.623129 | L13: 53132.1 | M13: 58.365596 | N13: 527565.8 | O13: 5.2087549 | P13: 61080.7 | Q13: 0.33770078 | U13: =F13+H13+J13+L13 -> 492742.2 | V13: =(F13*G13+H13*I13+J13*K13+L13*M13)/(F13+H13+J13+L13) -> 49.26222 | W13: =N13+P13 -> 588646.5 | X13: =(N13*O13+P13*Q13)/(N13+P13) -> 4.7033116
A14: Чын куран | B14: Апрель | C14: April | D14: 1071987.6 | E14: 24.319222 | F14: 19671 | G14: 57.020319 | H14: 282169.1 | I14: 44.060342 | J14: 126170.2 | K14: 53.636479 | L14: 57155.1 | M14: 53.935951 | N14: 526070.2 | O14: 5.0269341 | P14: 60752 | Q14: 0.3485663 | U14: =F14+H14+J14+L14 -> 485165.4 | V14: =(F14*G14+H14*I14+J14*K14+L14*M14)/(F14+H14+J14+L14) -> 48.239536 | W14: =N14+P14 -> 586822.2 | X14: =(N14*O14+P14*Q14)/(N14+P14) -> 4.5425962
A15: Бугу | B15: Май | C15: May | D15: 356693.1 | E15: 48.365826 | F15: 17345 | G15: 61.347414 | H15: 72981.6 | I15: 65.864954 | J15: 113137.5 | K15: 52.652274 | L15: 64642.6 | M15: 55.082553 | N15: 87405.4 | O15: 21.083611 | P15: 1181 | Q15: 17.274852 | U15: =F15+H15+J15+L15 -> 268106.7 | V15: =(F15*G15+H15*I15+J15*K15+L15*M15)/(F15+H15+J15+L15) -> 57.397397 | W15: =N15+P15 -> 88586.4 | X15: =(N15*O15+P15*Q15)/(N15+P15) -> 21.032834
A16: Кулжа | B16: Июнь | C16: June | D16: 377086.7 | E16: 46.530249 | F16: 17478.9 | G16: 71.725149 | H16: 92842.6 | I16: 61.587419 | J16: 108049.1 | K16: 54.134966 | L16: 68616.1 | M16: 40.67968 | N16: 88948 | O16: 21.516548 | P16: 1152 | Q16: 17.221094 | U16: =F16+H16+J16+L16 -> 286986.7 | V16: =(F16*G16+H16*I16+J16*K16+L16*M16)/(F16+H16+J16+L16) -> 54.40018 | W16: =N16+P16 -> 90100 | X16: =(N16*O16+P16*Q16)/(N16+P16) -> 21.461628
A17: Теке | B17: Июль | C17: July | D17: 371196.1 | E17: 44.74083 | F17: 19610.8 | G17: 69.385689 | H17: 80279.9 | I17: 60.19523 | J17: 119587.8 | K17: 53.014249 | L17: 59953.8 | M17: 38.263992 | N17: 90507.8 | O17: 19.448063 | P17: 1256 | Q17: 16.159076 | U17: =F17+H17+J17+L17 -> 279432.3 | V17: =(F17*G17+H17*I17+J17*K17+L17*M17)/(F17+H17+J17+L17) -> 53.061529 | W17: =N17+P17 -> 91763.8 | X17: =(N17*O17+P17*Q17)/(N17+P17) -> 19.403046
A18: Баш оона | B18: Август | C18: August | D18: 376601.8 | E18: 41.755058 | F18: 8073 | G18: 66.37826 | H18: 84890.9 | I18: 62.634879 | J18: 124617.1 | K18: 50.459466 | L18: 56959.8 | M18: 33.061152 | N18: 100815 | O18: 16.6683 | P18: 1246 | Q18: 16.311316 | U18: =F18+H18+J18+L18 -> 274540.8 | V18: =(F18*G18+H18*I18+J18*K18+L18*M18)/(F18+H18+J18+L18) -> 51.082651 | W18: =N18+P18 -> 102061 | X18: =(N18*O18+P18*Q18)/(N18+P18) -> 16.663942
A19: Аяк оона | B19: Сентябрь | C19: September | D19: 382869.9 | E19: 42.786926 | F19: 13499.4 | G19: 47.814826 | H19: 86478.6 | I19: 62.287371 | J19: 130874.6 | K19: 56.355841 | L19: 62525.3 | M19: 22.953224 | N19: 88254 | O19: 17.209722 | P19: 1238 | Q19: 16.31979 | U19: =F19+H19+J19+L19 -> 293377.9 | V19: =(F19*G19+H19*I19+J19*K19+L19*M19)/(F19+H19+J19+L19) -> 50.592432 | W19: =N19+P19 -> 89492 | X19: =(N19*O19+P19*Q19)/(N19+P19) -> 17.197411
